{"text_format":"1","workbook":"xlsx","n_sheets":5,"sheets":["PWS Records (System Entry)","PWS SL Inventory (System Entry)","Permitted Values","SLs To Be Replaced (Auto Calc)","SL Summary (Auto Calc)"],"not_rendered":{"charts":0,"images":0,"macros":1,"external_links":0,"defined_names":1,"comments":0,"pivot_tables":0},"unopened":[],"bounds":{"document_bytes":16777216,"sheet_cells":100000,"rows_first":2000,"rows_last":500,"rows_between":2000,"halvings":0,"cell_chars":16384,"cell_head_chars":4096},"cells_cut":0,"cells_raw":0,"read":"whole","date_system":"1900"}

{"sheet":"PWS Records (System Entry)","index":0,"n_rows":66,"n_cols":6,"rows_kept":66,"cut":false,"hidden":false,"merged":[[65,1,65,4],[66,1,66,4],[58,1,58,2],[59,1,59,2],[60,1,60,2],[61,1,61,2],[62,1,62,2],[63,1,63,4],[64,1,64,4],[1,1,1,2],[11,1,11,2],[12,1,12,2],[13,1,13,2],[14,1,14,2],[6,1,8,1],[2,1,2,2],[3,1,3,2],[4,1,4,2],[5,1,5,2],[10,1,10,4],[11,3,11,4],[12,3,12,4],[13,3,13,4],[57,1,57,4],[50,3,50,4],[51,1,51,4],[53,1,53,5],[54,1,54,5],[56,1,56,4],[47,1,47,2],[48,1,48,2],[49,1,49,2],[50,1,50,2],[45,1,45,5],[46,1,46,2],[46,3,46,4],[47,3,47,4],[48,3,48,4],[49,3,49,4],[28,1,28,4],[29,1,29,4],[30,1,30,4],[31,1,31,4],[32,1,32,4],[38,1,38,4],[39,1,39,4],[40,1,40,4],[41,1,41,4],[33,1,33,2],[34,1,34,2],[35,1,35,2],[36,1,36,2],[37,1,37,2],[26,1,26,4],[25,1,25,4],[14,3,14,4],[15,3,15,4],[16,3,16,4],[18,1,18,4],[19,1,19,4],[24,1,24,4],[15,1,15,2],[16,1,16,2],[20,1,20,2],[21,1,21,2],[22,1,22,2],[23,1,23,2]]}
[]
[null,"Public Water Supply (PWS) & Inventory Information"]
[null,"PWS Name:",null,"MT. OLIVE WATERWORK DISTRICT"]
[null,"PWSID:",null,"LA1061014"]
[null,"Enter Date Planned to Report to LDH:",null,"OCT. , 2024"]
[null,"Is this the Initial Inventory or an Inventory Update?",null,"Initial inventory"]
[null,"PWS's Preferred Point of Contact","Name:","OSCAR EPPS, JR"]
[null,null,"Phone:","318-243-1288"]
[null,null,"Email Address:","mtolivewaterwork@bellsouth.net"]
[]
[null,"Part 1: Historical Records Review "]
[null,"Type of Record",null,"Describe the Records Reviewed for Your Inventory"]
[null,"1. Previous Materials Evaluation\nExample: Locations of Tier 1 lead tap sampling locations that are served by a lead service line."]
[null,"2. Construction Records, Ordinances,  and Plumbing Codes\nExamples: Codes, Ordinances or rules of services that prohibited lead piping, permits for installing or replacing service lines."]
[null,"3. Water System Records\nExamples: Capital improvement plans. Standard operating procedures. Engineering standards."]
[null,"4. Distribution System Inspections and Records\nExamples: Distribution system maps. Tap cards. Service line repair/replacement records. Inspection records. Meter installation records. "]
[null,"5. Other Records"]
[]
[null,"Part 2: Identifying Service Line Material During Normal Operations"]
[null,"1. During which normal operating activities are you collecting information on service line material? Check all that apply. "]
[null,"          Water meter reading",null,"          Water main repair or replacement"]
[null,"          Water meter repair or replacement",null,"          Backflow prevention device inspection"]
[null,"          Service line repair or replacement",null,"          Other"]
[]
[null,"If \"Other\", please explain:"]
[null,"LEAD AND COPPER SAMPLE REPORT RESULTS    PHYSICALLY DIGGING UP LINES CLOSE TO METER BOXES; CHECKING LINES WHERE THERE IS NO SERVICES/VACANT."]
[null,"2. Did you develop a policy or standard operating procedure to collect service line materials during routine activities?"]
[null,"           Yes","             No"]
[null,"    If \"Yes\", please describe:"]
[]
[]
[null,"Part 3:  Service Line Investigations"]
[null,"1. Identify the service line investigation methods your system used to prepare the inventory (check all that apply). If a water system chooses an investigation method not specified by the state under 40 CFR §141.84(a)(3)(iv), state approval is required. Note that investigations are not required by the LCRR but can be used by systems to assess accuracy of historical records and gather information when service line material is unknown. "]
[null,"          Visual Inspection",null,"          Predictive Modeling"]
[null,"          Customer Self-Identification",null,"          Statistical Analysis"]
[null,"          Mechanical Excavation",null,"          Other"]
[null,"          Vacuum Excavation"]
[]
[null,"If \"Other\", please explain:"]
[null,"Information from the previous System Operators"]
[null,"2. If the system utilized Predictive Modeling or Statistical Analysis, please briefly describe the process below:"]
[]
[]
[]
[null,"Part 4.  Inventory Summary Table 1 "]
[null,"When you are using the Service Line Information worksheet, the classifications in the Column \"Material Classification for the Entire Service Line\" (Column M) will be used to calculate the total number of service lines for each of the four material classifications below. "]
[null,"Service Line Material Classification",null,"Definition",null,"Total Number of Service Lines\n(REQUIRED to be reported under the LCRR)"]
[null,"Lead",null,"Any portion of the service line is known to be made of lead.2",null,{"$f":"COUNTIF('PWS SL Inventory (System Entry)'!U:U,\"Lead\")","v":1}]
[null,"Galvanized Requiring Replacement (GRR)",null,"The service line is not made of lead, but a portion is galvanized and the system is unable to demonstrate that the galvanized line was never downstream of a lead service line.",null,{"$f":"COUNTIF('PWS SL Inventory (System Entry)'!U:U,\"Galvanized Requiring Replacement\")","v":0}]
[null,"Non-Lead",null,"All portions of the service line are known NOT to be lead or GRR through an evidence-based record, method, or technique.",null,{"$f":"COUNTIF('PWS SL Inventory (System Entry)'!U:U,\"Non-Lead\")","v":391}]
[null,"Lead Status Unknown",null,"The service line material is not known to be lead or GRR. For the entire service line or a portion of it (in cases of split ownership), there is not enough evidence to support material classification.",null,{"$f":"COUNTIF('PWS SL Inventory (System Entry)'!U:U,\"Lead Status Unknown\")","v":0}]
[null,"TOTAL",null,null,null,{"$f":"SUM(F48:F51)","v":392}]
[null,"Notes"]
[null,"1 This summary table is for reporting material for the entire service line connecting the water main to the customer's plumbing. Remember that systems must track the system-owned and customer-owned portions separately in their inventory."]
[null,"2 A lead-lined galvanized service line is consistent with the definition of an LSL under the LCRR (“a portion of pipe that is made of lead, which connects the water main to the building inlet”) (40 CFR §141.2) and must therefore be classified in the inventory as an LSL. Do NOT, however, count non-lead service lines with a lead gooseneck or pigtail as lead service lines."]
[]
[null,"Part 5. Public Accessibility"]
[null,"How are you making your inventory publicly accessible? Check all that apply. Remember that if your system serves > 50,000 people, you must provide the inventory online."]
[null,"          Interactive online map",null,"          Printed tabular data"]
[null,"          Static online map",null,"          Information on water utility mailings or newsletter"]
[null,"          Online spreadsheet",null,"          Hard copy information available in water system office"]
[null,"          Printed service line map",null,"          Other"]
[]
[null,"If \"Other\", please describe:"]
[]
[null,"If the inventory is available online (i.e., system’s website, etc.), provide a link to the website below:"]

{"sheet":"PWS SL Inventory (System Entry)","index":1,"n_rows":10000,"n_cols":22,"rows_kept":4500,"cut":true,"hidden":false,"merged":[[0,0,0,1],[0,2,0,9],[0,10,0,15],[0,16,0,19]],"bounds":{"rows_first":2000,"rows_last":500,"rows_between":2000,"halvings":0}}
["System Info",null,"Location Information",null,null,null,null,null,null,null,"System-Owned Portion",null,null,null,null,null,"Customer-Owned Portion",null,null,null,"Entire Service Line"]
["PWSID\n(Autofill)","System Name\n(Autofill)","Street Address","City","State","Zip","Unique Service Line ID","Latitude \n(Recommended)","Longitude (Recommended)","Additional Location Identifier (e.g., subdivision, \nbuilding number, building name, etc.)","System-Owned Service Line Material","Basis of Material Classification \n(System)","Was Service Line Material\nEver Previously Lead?","Is there a \nLead Connector?","Service Line Installation Date\n(System)","Comments \n(System-Owned Portion)","Customer-Owned Service Line Material","Basis of Material Classification\n(Customer)","Service Line Installation Date\n(Customer)","Comments  \n(Customer-Owned Portion)","Material Classification for the Entire Service Line\n(Autofill)","Additional Comments"]
[{"$f":"IF(AND(ISBLANK(INDEX($G:$G,)), ISBLANK(INDEX($C:$C,))), \"\", 'PWS Records (System Entry)'!$D$4)","v":"LA1061014"},{"$f":"IF(AND(ISBLANK(INDEX($G:$G,)), ISBLANK(INDEX($C:$C,))), \"\", 'PWS Records (System Entry)'!$D$3)","v":"MT. OLIVE WATERWORK DISTRICT"},"106 WHITE OAK DR","Ruston","LA",71270,"METER NUMBER",null,null,"INDIVIDUAL NAME & SUBDIVISION (HOME NUMBER)","Non-Lead - Plastic","Visual Inspection (for example, visual confirmation at meter pit)","No","No",null,null,"Non-Lead - Plastic","Visual Inspection (for example, visual confirmation at meter pit)",null,null,{"$f":"IF(AND(INDEX($K:$K,)=\"\", INDEX($L:$L,)=\"\", INDEX($M:$M,)=\"\", INDEX($Q:$Q,)=\"\", INDEX($R:$R,)=\"\"), \"\", IF(OR(INDEX($K:$K,)=\"Lead\",INDEX($Q:$Q,)=\"Lead\"),\"Lead\",IF(OR(AND(OR(INDEX($M:$M,)=\"Yes\", INDEX($M:$M,)=\"Don't Know\", INDEX($M:$M,)=\"\"), INDEX($Q:$Q,)=\"Galvanized Iron/Steel\"), AND(INDEX($K:$K,)=\"Unknown\", INDEX($M:$M,)=\"No\", INDEX($Q:$Q,)=\"Galvanized Iron/Steel\")), \"Galvanized Requiring Replacement\", IF(OR(AND(OR(INDEX($K:$K,)=\"Galvanized Iron/Steel\", INDEX($K:$K,)=\"Non-Lead - Copper\", INDEX($K:$K,)=\"Non-Lead - Plastic\", INDEX($K:$K,)=\"Non-Lead - Other\", INDEX($K:$K,)=\"Non-Lead - Material Unknown\", INDEX($K:$K,)=\"No System Owned Portion\"), OR(INDEX($Q:$Q,)=\"Galvanized Iron/Steel\", INDEX($Q:$Q,)=\"Non-Lead - Copper\", INDEX($Q:$Q,)=\"Non-Lead - Plastic\", INDEX($Q:$Q,)=\"Non-Lead - Other\", INDEX($Q:$Q,)=\"Non-Lead - Predictive Model\", INDEX($Q:$Q,)=\"No Customer Owned Portion\")), AND(OR( INDEX($K:$K,)=\"Galvanized Iron/Steel\", INDEX($K:$K,)=\"Non-Lead - Copper\", INDEX($K:$K,)=\"Non-Lead - Plastic\", INDEX($K:$K,)=\"Non-Lead - Other\", INDEX($K:$K,)=\"Non-Lead - Material Unknown\", INDEX($K:$K,)=\"No System Owned Portion\"), INDEX($M:$M,)=\"No\", INDEX($Q:$Q,)=\"Non-Lead - Material Unknown\")), \"Non-Lead\", \"Lead Status Unknown\"))))","v":"Non-Lead"}]
[{"$f":"IF(AND(ISBLANK(INDEX($G:$G,)), ISBLANK(INDEX($C:$C,))), \"\", 'PWS Records (System Entry)'!$D$4)","v":"LA1061014"},{"$f":"IF(AND(ISBLANK(INDEX($G:$G,)), ISBLANK(INDEX($C:$C,))), \"\", 'PWS Records (System Entry)'!$D$3)","v":"MT. OLIVE WATERWORK DISTRICT"},"103 WHITE OAK DR","Ruston","LA",71270,null,null,null,"INDIVIDUAL NAME & SUBDIVISION (HOME NUMBER)","Non-Lead - Plastic","Visual Inspection (for example, visual confirmation at meter pit)","No","No",null,null,"Non-Lead - Plastic","Visual Inspection (for example, visual confirmation at meter pit)",null,null,"Non-Lead"]
[{"$f":"IF(AND(ISBLANK(INDEX($G:$G,)), ISBLANK(INDEX($C:$C,))), \"\", 'PWS Records (System Entry)'!$D$4)","v":"LA1061014"},{"$f":"IF(AND(ISBLANK(INDEX($G:$G,)), ISBLANK(INDEX($C:$C,))), \"\", 'PWS Records (System Entry)'!$D$3)","v":"MT. OLIVE WATERWORK DISTRICT"},"236 TARBUTTON","Ruston","LA",71270,null,null,null,"INDIVIDUAL NAME & SUBDIVISION (HOME NUMBER)","Non-Lead - Plastic","Visual Inspection (for example, visual confirmation at meter pit)","No","No",null,null,"Non-Lead - Plastic","Visual Inspection (for example, visual confirmation at meter pit)",null,null,"Non-Lead"]
[{"$f":"IF(AND(ISBLANK(INDEX($G:$G,)), ISBLANK(INDEX($C:$C,))), \"\", 'PWS Records (System Entry)'!$D$4)","v":"LA1061014"},{"$f":"IF(AND(ISBLANK(INDEX($G:$G,)), ISBLANK(INDEX($C:$C,))), \"\", 'PWS Records (System Entry)'!$D$3)","v":"MT. OLIVE WATERWORK DISTRICT"},"104 WHITE OAK DR","Ruston","LA",71270,null,null,null,"INDIVIDUAL NAME & SUBDIVISION (HOME NUMBER)","Non-Lead - Plastic","Visual Inspection (for example, visual confirmation at meter pit)","No","No",null,null,"Non-Lead - Plastic","Visual Inspection (for example, visual confirmation at meter pit)",null,null,"Non-Lead"]
[{"$f":"IF(AND(ISBLANK(INDEX($G:$G,)), ISBLANK(INDEX($C:$C,))), \"\", 'PWS Records (System Entry)'!$D$4)","v":"LA1061014"},{"$f":"IF(AND(ISBLANK(INDEX($G:$G,)), ISBLANK(INDEX($C:$C,))), \"\", 'PWS Records (System Entry)'!$D$3)","v":"MT. OLIVE WATERWORK DISTRICT"},"108 WHITE OAK DR","Ruston","LA",71270,null,null,null,"INDIVIDUAL NAME & SUBDIVISION (HOME NUMBER)","Non-Lead - Plastic","Visual Inspection (for example, visual confirmation at meter pit)","No","No",null,null,"Non-Lead - Plastic","Visual Inspection (for example, visual confirmation at meter pit)",null,null,"Non-Lead"]
[{"$f":"IF(AND(ISBLANK(INDEX($G:$G,)), ISBLANK(INDEX($C:$C,))), \"\", 'PWS Records (System Entry)'!$D$4)","v":"LA1061014"},{"$f":"IF(AND(ISBLANK(INDEX($G:$G,)), ISBLANK(INDEX($C:$C,))), \"\", 'PWS Records (System Entry)'!$D$3)","v":"MT. OLIVE WATERWORK DISTRICT"},"105 WHITE OAK DR","Ruston","LA",71270,null,null,null,"INDIVIDUAL NAME & SUBDIVISION (HOME NUMBER)","Non-Lead - Plastic","Visual Inspection (for example, visual confirmation at meter pit)","No","No",null,null,"Non-Lead - Plastic","Visual Inspection (for example, visual confirmation at meter pit)",null,null,"Non-Lead"]
[{"$f":"IF(AND(ISBLANK(INDEX($G:$G,)), ISBLANK(INDEX($C:$C,))), \"\", 'PWS Records (System Entry)'!$D$4)","v":"LA1061014"},{"$f":"IF(AND(ISBLANK(INDEX($G:$G,)), ISBLANK(INDEX($C:$C,))), \"\", 'PWS Records (System Entry)'!$D$3)","v":"MT. OLIVE WATERWORK DISTRICT"},"1199 HWY 544","Ruston","LA",71270,null,null,null,"INDIVIDUAL NAME & SUBDIVISION (HOME NUMBER)","Non-Lead - Plastic","Visual Inspection (for example, visual confirmation at meter pit)","No","No",null,null,"Non-Lead - Plastic","Visual Inspection (for example, visual confirmation at meter pit)",null,null,"Non-Lead"]
[{"$f":"IF(AND(ISBLANK(INDEX($G:$G,)), ISBLANK(INDEX($C:$C,))), \"\", 'PWS Records (System Entry)'!$D$4)","v":"LA1061014"},{"$f":"IF(AND(ISBLANK(INDEX($G:$G,)), ISBLANK(INDEX($C:$C,))), \"\", 'PWS Records (System Entry)'!$D$3)","v":"MT. OLIVE WATERWORK DISTRICT"},"124 WHITE OAK DR","Ruston","LA",71270,null,null,null,"INDIVIDUAL NAME & SUBDIVISION (HOME NUMBER)","Non-Lead - Plastic","Visual Inspection (for example, visual confirmation at meter pit)","No","No",null,null,"Non-Lead - Plastic","Visual Inspection (for example, visual confirmation at meter pit)",null,null,"Non-Lead"]
[{"$f":"IF(AND(ISBLANK(INDEX($G:$G,)), ISBLANK(INDEX($C:$C,))), \"\", 'PWS Records (System Entry)'!$D$4)","v":"LA1061014"},{"$f":"IF(AND(ISBLANK(INDEX($G:$G,)), ISBLANK(INDEX($C:$C,))), \"\", 'PWS Records (System Entry)'!$D$3)","v":"MT. OLIVE WATERWORK DISTRICT"},"1195 HWY 544","Ruston","LA",71270,null,null,null,"INDIVIDUAL NAME & SUBDIVISION (HOME NUMBER)","Non-Lead - Plastic","Visual Inspection (for example, visual confirmation at meter pit)","No","No",null,null,"Non-Lead - Plastic","Visual Inspection (for example, visual confirmation at meter pit)",null,null,"Non-Lead"]
[{"$f":"IF(AND(ISBLANK(INDEX($G:$G,)), ISBLANK(INDEX($C:$C,))), \"\", 'PWS Records (System Entry)'!$D$4)","v":"LA1061014"},{"$f":"IF(AND(ISBLANK(INDEX($G:$G,)), ISBLANK(INDEX($C:$C,))), \"\", 'PWS Records (System Entry)'!$D$3)","v":"MT. OLIVE WATERWORK DISTRICT"},"102 WHITE OAK DR","Ruston","LA",71270,null,null,null,"INDIVIDUAL NAME & SUBDIVISION (HOME NUMBER)","Non-Lead - Plastic","Visual Inspection (for example, visual confirmation at meter pit)","No","No",null,null,"Non-Lead - Plastic","Visual Inspection (for example, visual confirmation at meter pit)",null,null,"Non-Lead"]
[{"$f":"IF(AND(ISBLANK(INDEX($G:$G,)), ISBLANK(INDEX($C:$C,))), \"\", 'PWS Records (System Entry)'!$D$4)","v":"LA1061014"},{"$f":"IF(AND(ISBLANK(INDEX($G:$G,)), ISBLANK(INDEX($C:$C,))), \"\", 'PWS Records (System Entry)'!$D$3)","v":"MT. OLIVE WATERWORK DISTRICT"},"1214 HWY 544","Ruston","LA",71270,null,null,null,"INDIVIDUAL NAME & SUBDIVISION (HOME NUMBER)","Non-Lead - Plastic","Visual Inspection (for example, visual confirmation at meter pit)","No","No",null,null,"Non-Lead - Plastic","Visual Inspection (for example, visual confirmation at meter pit)",null,null,"Non-Lead"]
[{"$f":"IF(AND(ISBLANK(INDEX($G:$G,)), ISBLANK(INDEX($C:$C,))), \"\", 'PWS Records (System Entry)'!$D$4)","v":"LA1061014"},{"$f":"IF(AND(ISBLANK(INDEX($G:$G,)), ISBLANK(INDEX($C:$C,))), \"\", 'PWS Records (System Entry)'!$D$3)","v":"MT. OLIVE WATERWORK DISTRICT"},"1229 HWY 544","Ruston","LA",71270,null,null,null,"INDIVIDUAL NAME & SUBDIVISION (HOME NUMBER)","Non-Lead - Plastic","Visual Inspection (for example, visual confirmation at meter pit)","No","No",null,null,"Non-Lead - Plastic","Visual Inspection (for example, visual confirmation at meter pit)",null,null,"Non-Lead"]
[{"$f":"IF(AND(ISBLANK(INDEX($G:$G,)), ISBLANK(INDEX($C:$C,))), \"\", 'PWS Records (System Entry)'!$D$4)","v":"LA1061014"},{"$f":"IF(AND(ISBLANK(INDEX($G:$G,)), ISBLANK(INDEX($C:$C,))), \"\", 'PWS Records (System Entry)'!$D$3)","v":"MT. OLIVE WATERWORK DISTRICT"},"1239 HWY 544","Ruston","LA",71270,null,null,null,"INDIVIDUAL NAME & SUBDIVISION (HOME NUMBER)","Non-Lead - Plastic","Visual Inspection (for example, visual confirmation at meter pit)","No","No",null,null,"Non-Lead - Plastic","Visual Inspection (for example, visual confirmation at meter pit)",null,null,"Non-Lead"]
[{"$f":"IF(AND(ISBLANK(INDEX($G:$G,)), ISBLANK(INDEX($C:$C,))), \"\", 'PWS Records (System Entry)'!$D$4)","v":"LA1061014"},{"$f":"IF(AND(ISBLANK(INDEX($G:$G,)), ISBLANK(INDEX($C:$C,))), \"\", 'PWS Records (System Entry)'!$D$3)","v":"MT. OLIVE WATERWORK DISTRICT"},"1245 HWY 544","Ruston","LA",71270,null,null,null,"INDIVIDUAL NAME & SUBDIVISION (HOME NUMBER)","Non-Lead - Plastic","Visual Inspection (for example, visual confirmation at meter pit)","No","No",null,null,"Non-Lead - Plastic","Visual Inspection (for example, visual confirmation at meter pit)",null,null,"Non-Lead"]
[{"$f":"IF(AND(ISBLANK(INDEX($G:$G,)), ISBLANK(INDEX($C:$C,))), \"\", 'PWS Records (System Entry)'!$D$4)","v":"LA1061014"},{"$f":"IF(AND(ISBLANK(INDEX($G:$G,)), ISBLANK(INDEX($C:$C,))), \"\", 'PWS Records (System Entry)'!$D$3)","v":"MT. OLIVE WATERWORK DISTRICT"},"1270 HWY 544","Ruston","LA",71270,null,null,null,"INDIVIDUAL NAME & SUBDIVISION (HOME NUMBER)","Non-Lead - Plastic","Visual Inspection (for example, visual confirmation at meter pit)","No","No",null,null,"Non-Lead - Plastic","Visual Inspection (for example, visual confirmation at meter pit)",null,null,"Non-Lead"]
[{"$f":"IF(AND(ISBLANK(INDEX($G:$G,)), ISBLANK(INDEX($C:$C,))), \"\", 'PWS Records (System Entry)'!$D$4)","v":"LA1061014"},{"$f":"IF(AND(ISBLANK(INDEX($G:$G,)), ISBLANK(INDEX($C:$C,))), \"\", 'PWS Records (System Entry)'!$D$3)","v":"MT. OLIVE WATERWORK DISTRICT"},"1368 HWY 544","Ruston","LA",71270,null,null,null,"INDIVIDUAL NAME & SUBDIVISION (HOME NUMBER)","Non-Lead - Plastic","Visual Inspection (for example, visual confirmation at meter pit)","No","No",null,null,"Non-Lead - Plastic","Visual Inspection (for example, visual confirmation at meter pit)",null,null,"Non-Lead"]
[{"$f":"IF(AND(ISBLANK(INDEX($G:$G,)), ISBLANK(INDEX($C:$C,))), \"\", 'PWS Records (System Entry)'!$D$4)","v":"LA1061014"},{"$f":"IF(AND(ISBLANK(INDEX($G:$G,)), ISBLANK(INDEX($C:$C,))), \"\", 'PWS Records (System Entry)'!$D$3)","v":"MT. OLIVE WATERWORK DISTRICT"},"1297 HWY 544","Ruston","LA",71270,null,null,null,"INDIVIDUAL NAME & SUBDIVISION (HOME NUMBER)","Non-Lead - Plastic","Visual Inspection (for example, visual confirmation at meter pit)","No","No",null,null,"Non-Lead - Plastic","Visual Inspection (for example, visual confirmation at meter pit)",null,null,"Non-Lead"]
[{"$f":"IF(AND(ISBLANK(INDEX($G:$G,)), ISBLANK(INDEX($C:$C,))), \"\", 'PWS Records (System Entry)'!$D$4)","v":"LA1061014"},{"$f":"IF(AND(ISBLANK(INDEX($G:$G,)), ISBLANK(INDEX($C:$C,))), \"\", 'PWS Records (System Entry)'!$D$3)","v":"MT. OLIVE WATERWORK DISTRICT"},"1325 HWY 544","Ruston","LA",71270,null,null,null,"INDIVIDUAL NAME & SUBDIVISION (HOME NUMBER)","Non-Lead - Plastic","Visual Inspection (for example, visual confirmation at meter pit)","No","No",null,null,"Non-Lead - Plastic","Visual Inspection (for example, visual confirmation at meter pit)",null,null,"Non-Lead"]
[{"$f":"IF(AND(ISBLANK(INDEX($G:$G,)), ISBLANK(INDEX($C:$C,))), \"\", 'PWS Records (System Entry)'!$D$4)","v":"LA1061014"},{"$f":"IF(AND(ISBLANK(INDEX($G:$G,)), ISBLANK(INDEX($C:$C,))), \"\", 'PWS Records (System Entry)'!$D$3)","v":"MT. OLIVE WATERWORK DISTRICT"},"1367 HWY 544","Ruston","LA",71270,null,null,null,"INDIVIDUAL NAME & SUBDIVISION (HOME NUMBER)","Non-Lead - Plastic","Visual Inspection (for example, visual confirmation at meter pit)","No","No",null,null,"Non-Lead - Plastic","Visual Inspection (for example, visual confirmation at meter pit)",null,null,"Non-Lead"]
[{"$f":"IF(AND(ISBLANK(INDEX($G:$G,)), ISBLANK(INDEX($C:$C,))), \"\", 'PWS Records (System Entry)'!$D$4)","v":"LA1061014"},{"$f":"IF(AND(ISBLANK(INDEX($G:$G,)), ISBLANK(INDEX($C:$C,))), \"\", 'PWS Records (System Entry)'!$D$3)","v":"MT. OLIVE WATERWORK DISTRICT"},"1378 HWY 544","Ruston","LA",71270,null,null,null,"INDIVIDUAL NAME & SUBDIVISION (HOME NUMBER)","Non-Lead - Plastic","Visual Inspection (for example, visual confirmation at meter pit)","No","No",null,null,"Non-Lead - Plastic","Visual Inspection (for example, visual confirmation at meter pit)",null,null,"Non-Lead"]
[{"$f":"IF(AND(ISBLANK(INDEX($G:$G,)), ISBLANK(INDEX($C:$C,))), \"\", 'PWS Records (System Entry)'!$D$4)","v":"LA1061014"},{"$f":"IF(AND(ISBLANK(INDEX($G:$G,)), ISBLANK(INDEX($C:$C,))), \"\", 'PWS Records (System Entry)'!$D$3)","v":"MT. OLIVE WATERWORK DISTRICT"},"1219 HWY 544","Ruston","LA",71270,null,null,null,"INDIVIDUAL NAME & SUBDIVISION (HOME NUMBER)","Non-Lead - Plastic","Visual Inspection (for example, visual confirmation at meter pit)","No","No",null,null,"Non-Lead - Plastic","Visual Inspection (for example, visual confirmation at meter pit)",null,null,"Non-Lead"]
[{"$f":"IF(AND(ISBLANK(INDEX($G:$G,)), ISBLANK(INDEX($C:$C,))), \"\", 'PWS Records (System Entry)'!$D$4)","v":"LA1061014"},{"$f":"IF(AND(ISBLANK(INDEX($G:$G,)), ISBLANK(INDEX($C:$C,))), \"\", 'PWS Records (System Entry)'!$D$3)","v":"MT. OLIVE WATERWORK DISTRICT"},"1398 HWY 544","Ruston","LA",71270,null,null,null,"INDIVIDUAL NAME & SUBDIVISION (HOME NUMBER)","Non-Lead - Plastic","Visual Inspection (for example, visual confirmation at meter pit)","No","No",null,null,"Non-Lead - Plastic","Visual Inspection (for example, visual confirmation at meter pit)",null,null,"Non-Lead"]
[{"$f":"IF(AND(ISBLANK(INDEX($G:$G,)), ISBLANK(INDEX($C:$C,))), \"\", 'PWS Records (System Entry)'!$D$4)","v":"LA1061014"},{"$f":"IF(AND(ISBLANK(INDEX($G:$G,)), ISBLANK(INDEX($C:$C,))), \"\", 'PWS Records (System Entry)'!$D$3)","v":"MT. OLIVE WATERWORK DISTRICT"},"127 TARBUTTON","Ruston","LA",71270,null,null,null,"INDIVIDUAL NAME & SUBDIVISION (HOME NUMBER)","Non-Lead - Plastic","Visual Inspection (for example, visual confirmation at meter pit)","No","No",null,null,"Non-Lead - Plastic","Visual Inspection (for example, visual confirmation at meter pit)",null,null,"Non-Lead"]
[{"$f":"IF(AND(ISBLANK(INDEX($G:$G,)), ISBLANK(INDEX($C:$C,))), \"\", 'PWS Records (System Entry)'!$D$4)","v":"LA1061014"},{"$f":"IF(AND(ISBLANK(INDEX($G:$G,)), ISBLANK(INDEX($C:$C,))), \"\", 'PWS Records (System Entry)'!$D$3)","v":"MT. OLIVE WATERWORK DISTRICT"},"224 TARBUTTON","Ruston","LA",71270,null,null,null,"INDIVIDUAL NAME & SUBDIVISION (HOME NUMBER)","Non-Lead - Plastic","Visual Inspection (for example, visual confirmation at meter pit)","No","No",null,null,"Non-Lead - Plastic","Visual Inspection (for example, visual confirmation at meter pit)",null,null,"Non-Lead"]
[{"$f":"IF(AND(ISBLANK(INDEX($G:$G,)), ISBLANK(INDEX($C:$C,))), \"\", 'PWS Records (System Entry)'!$D$4)","v":"LA1061014"},{"$f":"IF(AND(ISBLANK(INDEX($G:$G,)), ISBLANK(INDEX($C:$C,))), \"\", 'PWS Records (System Entry)'!$D$3)","v":"MT. OLIVE WATERWORK DISTRICT"},"220 TARBUTTON","Ruston","LA",71270,null,null,null,"INDIVIDUAL NAME & SUBDIVISION (HOME NUMBER)","Non-Lead - Plastic","Visual Inspection (for example, visual confirmation at meter pit)","No","No",null,null,"Non-Lead - Plastic","Visual Inspection (for example, visual confirmation at meter pit)",null,null,"Non-Lead"]
[{"$f":"IF(AND(ISBLANK(INDEX($G:$G,)), ISBLANK(INDEX($C:$C,))), \"\", 'PWS Records (System Entry)'!$D$4)","v":"LA1061014"},{"$f":"IF(AND(ISBLANK(INDEX($G:$G,)), ISBLANK(INDEX($C:$C,))), \"\", 'PWS Records (System Entry)'!$D$3)","v":"MT. OLIVE WATERWORK DISTRICT"},"2171 MITCHAM ORCH RD","Ruston","LA",71270,null,null,null,"INDIVIDUAL NAME & SUBDIVISION (HOME NUMBER)","Non-Lead - Plastic","Visual Inspection (for example, visual confirmation at meter pit)","No","No",null,null,"Non-Lead - Plastic","Visual Inspection (for example, visual confirmation at meter pit)",null,null,"Non-Lead"]
[{"$f":"IF(AND(ISBLANK(INDEX($G:$G,)), ISBLANK(INDEX($C:$C,))), \"\", 'PWS Records (System Entry)'!$D$4)","v":"LA1061014"},{"$f":"IF(AND(ISBLANK(INDEX($G:$G,)), ISBLANK(INDEX($C:$C,))), \"\", 'PWS Records (System Entry)'!$D$3)","v":"MT. OLIVE WATERWORK DISTRICT"},"905 WOODS RD","Ruston","LA",71270,null,null,null,"INDIVIDUAL NAME & SUBDIVISION (HOME NUMBER)","Non-Lead - Plastic","Visual Inspection (for example, visual confirmation at meter pit)","No","No",null,null,"Non-Lead - Plastic","Visual Inspection (for example, visual confirmation at meter pit)",null,null,"Non-Lead"]
[{"$f":"IF(AND(ISBLANK(INDEX($G:$G,)), ISBLANK(INDEX($C:$C,))), \"\", 'PWS Records (System Entry)'!$D$4)","v":"LA1061014"},{"$f":"IF(AND(ISBLANK(INDEX($G:$G,)), ISBLANK(INDEX($C:$C,))), \"\", 'PWS Records (System Entry)'!$D$3)","v":"MT. OLIVE WATERWORK DISTRICT"},"895 WOODS RD LOT","Ruston","LA",71270,null,null,null,"INDIVIDUAL NAME & SUBDIVISION (HOME NUMBER)","Non-Lead - Plastic","Visual Inspection (for example, visual confirmation at meter pit)","No","No",null,null,"Non-Lead - Plastic","Visual Inspection (for example, visual confirmation at meter pit)",null,null,"Non-Lead"]
[{"$f":"IF(AND(ISBLANK(INDEX($G:$G,)), ISBLANK(INDEX($C:$C,))), \"\", 'PWS Records (System Entry)'!$D$4)","v":"LA1061014"},{"$f":"IF(AND(ISBLANK(INDEX($G:$G,)), ISBLANK(INDEX($C:$C,))), \"\", 'PWS Records (System Entry)'!$D$3)","v":"MT. OLIVE WATERWORK DISTRICT"},"WOODS RD LOT # 8","Ruston","LA",71270,null,null,null,"INDIVIDUAL NAME & SUBDIVISION (HOME NUMBER)","Non-Lead - Plastic","Visual Inspection (for example, visual confirmation at meter pit)","No","No",null,null,"Non-Lead - Plastic","Visual Inspection (for example, visual confirmation at meter pit)",null,null,"Non-Lead"]
[{"$f":"IF(AND(ISBLANK(INDEX($G:$G,)), ISBLANK(INDEX($C:$C,))), \"\", 'PWS Records (System Entry)'!$D$4)","v":"LA1061014"},{"$f":"IF(AND(ISBLANK(INDEX($G:$G,)), ISBLANK(INDEX($C:$C,))), \"\", 'PWS Records (System Entry)'!$D$3)","v":"MT. OLIVE WATERWORK DISTRICT"},"915 WOODS RD LOT # 1","Ruston","LA",71270,null,null,null,"INDIVIDUAL NAME & SUBDIVISION (HOME NUMBER)","Non-Lead - Plastic","Visual Inspection (for example, visual confirmation at meter pit)","No","No",null,null,"Non-Lead - Plastic","Visual Inspection (for example, visual confirmation at meter pit)",null,null,"Non-Lead"]
[{"$f":"IF(AND(ISBLANK(INDEX($G:$G,)), ISBLANK(INDEX($C:$C,))), \"\", 'PWS Records (System Entry)'!$D$4)","v":"LA1061014"},{"$f":"IF(AND(ISBLANK(INDEX($G:$G,)), ISBLANK(INDEX($C:$C,))), \"\", 'PWS Records (System Entry)'!$D$3)","v":"MT. OLIVE WATERWORK DISTRICT"},"857 WOODS RD LOT # 7","Ruston","LA",71270,null,null,null,"INDIVIDUAL NAME & SUBDIVISION (HOME NUMBER)","Non-Lead - Plastic","Visual Inspection (for example, visual confirmation at meter pit)","No","No",null,null,"Non-Lead - Plastic","Visual Inspection (for example, visual confirmation at meter pit)",null,null,"Non-Lead"]
[{"$f":"IF(AND(ISBLANK(INDEX($G:$G,)), ISBLANK(INDEX($C:$C,))), \"\", 'PWS Records (System Entry)'!$D$4)","v":"LA1061014"},{"$f":"IF(AND(ISBLANK(INDEX($G:$G,)), ISBLANK(INDEX($C:$C,))), \"\", 'PWS Records (System Entry)'!$D$3)","v":"MT. OLIVE WATERWORK DISTRICT"},"887 WOODS RD","Ruston","LA",71270,null,null,null,"INDIVIDUAL NAME & SUBDIVISION (HOME NUMBER)","Non-Lead - Plastic","Visual Inspection (for example, visual confirmation at meter pit)","No","No",null,null,"Non-Lead - Plastic","Visual Inspection (for example, visual confirmation at meter pit)",null,null,"Non-Lead"]
[{"$f":"IF(AND(ISBLANK(INDEX($G:$G,)), ISBLANK(INDEX($C:$C,))), \"\", 'PWS Records (System Entry)'!$D$4)","v":"LA1061014"},{"$f":"IF(AND(ISBLANK(INDEX($G:$G,)), ISBLANK(INDEX($C:$C,))), \"\", 'PWS Records (System Entry)'!$D$3)","v":"MT. OLIVE WATERWORK DISTRICT"},"877 WOODS RE LOT","Ruston","LA",71270,null,null,null,"INDIVIDUAL NAME & SUBDIVISION (HOME NUMBER)","Non-Lead - Plastic","Visual Inspection (for example, visual confirmation at meter pit)","No","No",null,null,"Non-Lead - Plastic","Visual Inspection (for example, visual confirmation at meter pit)",null,null,"Non-Lead"]
[{"$f":"IF(AND(ISBLANK(INDEX($G:$G,)), ISBLANK(INDEX($C:$C,))), \"\", 'PWS Records (System Entry)'!$D$4)","v":"LA1061014"},{"$f":"IF(AND(ISBLANK(INDEX($G:$G,)), ISBLANK(INDEX($C:$C,))), \"\", 'PWS Records (System Entry)'!$D$3)","v":"MT. OLIVE WATERWORK DISTRICT"},"849 WOODS RD LOT # 8","Ruston","LA",71270,null,null,null,"INDIVIDUAL NAME & SUBDIVISION (HOME NUMBER)","Non-Lead - Plastic","Visual Inspection (for example, visual confirmation at meter pit)","No","No",null,null,"Non-Lead - Plastic","Visual Inspection (for example, visual confirmation at meter pit)",null,null,"Non-Lead"]
[{"$f":"IF(AND(ISBLANK(INDEX($G:$G,)), ISBLANK(INDEX($C:$C,))), \"\", 'PWS Records (System Entry)'!$D$4)","v":"LA1061014"},{"$f":"IF(AND(ISBLANK(INDEX($G:$G,)), ISBLANK(INDEX($C:$C,))), \"\", 'PWS Records (System Entry)'!$D$3)","v":"MT. OLIVE WATERWORK DISTRICT"},"155 LP[&L ROAD                   ","Ruston","LA",71270,null,null,null,"INDIVIDUAL NAME & SUBDIVISION (HOME NUMBER)","Non-Lead - Plastic","Visual Inspection (for example, visual confirmation at meter pit)","No","No",null,null,"Non-Lead - Plastic","Visual Inspection (for example, visual confirmation at meter pit)",null,null,"Non-Lead"]
[{"$f":"IF(AND(ISBLANK(INDEX($G:$G,)), ISBLANK(INDEX($C:$C,))), \"\", 'PWS Records (System Entry)'!$D$4)","v":"LA1061014"},{"$f":"IF(AND(ISBLANK(INDEX($G:$G,)), ISBLANK(INDEX($C:$C,))), \"\", 'PWS Records (System Entry)'!$D$3)","v":"MT. OLIVE WATERWORK DISTRICT"},"867 WOODS RD LOT","Ruston","LA",71270,null,null,null,"INDIVIDUAL NAME & SUBDIVISION (HOME NUMBER)","Non-Lead - Plastic","Visual Inspection (for example, visual confirmation at meter pit)","No","No",null,null,"Non-Lead - Plastic","Visual Inspection (for example, visual confirmation at meter pit)",null,null,"Non-Lead"]
[{"$f":"IF(AND(ISBLANK(INDEX($G:$G,)), ISBLANK(INDEX($C:$C,))), \"\", 'PWS Records (System Entry)'!$D$4)","v":"LA1061014"},{"$f":"IF(AND(ISBLANK(INDEX($G:$G,)), ISBLANK(INDEX($C:$C,))), \"\", 'PWS Records (System Entry)'!$D$3)","v":"MT. OLIVE WATERWORK DISTRICT"},"216 TARBUTTON RD","Ruston","LA",71270,null,null,null,"INDIVIDUAL NAME & SUBDIVISION (HOME NUMBER)","Non-Lead - Plastic","Visual Inspection (for example, visual confirmation at meter pit)","No","No",null,null,"Non-Lead - Plastic","Visual Inspection (for example, visual confirmation at meter pit)",null,null,"Non-Lead"]
[{"$f":"IF(AND(ISBLANK(INDEX($G:$G,)), ISBLANK(INDEX($C:$C,))), \"\", 'PWS Records (System Entry)'!$D$4)","v":"LA1061014"},{"$f":"IF(AND(ISBLANK(INDEX($G:$G,)), ISBLANK(INDEX($C:$C,))), \"\", 'PWS Records (System Entry)'!$D$3)","v":"MT. OLIVE WATERWORK DISTRICT"},"190 LP&L ROAD","Ruston","LA",71270,null,null,null,"INDIVIDUAL NAME & SUBDIVISION (HOME NUMBER)","Non-Lead - Plastic","Visual Inspection (for example, visual confirmation at meter pit)","No","No",null,null,"Non-Lead - Plastic","Visual Inspection (for example, visual confirmation at meter pit)",null,null,"Non-Lead"]
[{"$f":"IF(AND(ISBLANK(INDEX($G:$G,)), ISBLANK(INDEX($C:$C,))), \"\", 'PWS Records (System Entry)'!$D$4)","v":"LA1061014"},{"$f":"IF(AND(ISBLANK(INDEX($G:$G,)), ISBLANK(INDEX($C:$C,))), \"\", 'PWS Records (System Entry)'!$D$3)","v":"MT. OLIVE WATERWORK DISTRICT"},"2171 MITCHAM ORCH RD","Ruston","LA",71270,null,null,null,"INDIVIDUAL NAME & SUBDIVISION (HOME NUMBER)","Non-Lead - Plastic","Visual Inspection (for example, visual confirmation at meter pit)","No","No",null,null,"Non-Lead - Plastic","Visual Inspection (for example, visual confirmation at meter pit)",null,null,"Non-Lead"]
[{"$f":"IF(AND(ISBLANK(INDEX($G:$G,)), ISBLANK(INDEX($C:$C,))), \"\", 'PWS Records (System Entry)'!$D$4)","v":"LA1061014"},{"$f":"IF(AND(ISBLANK(INDEX($G:$G,)), ISBLANK(INDEX($C:$C,))), \"\", 'PWS Records (System Entry)'!$D$3)","v":"MT. OLIVE WATERWORK DISTRICT"},"2174 MITCHAM ORCH RD","Ruston","LA",71270,null,null,null,"INDIVIDUAL NAME & SUBDIVISION (HOME NUMBER)","Non-Lead - Plastic","Visual Inspection (for example, visual confirmation at meter pit)","No","No",null,null,"Non-Lead - Plastic","Visual Inspection (for example, visual confirmation at meter pit)",null,null,"Non-Lead"]
[{"$f":"IF(AND(ISBLANK(INDEX($G:$G,)), ISBLANK(INDEX($C:$C,))), \"\", 'PWS Records (System Entry)'!$D$4)","v":"LA1061014"},{"$f":"IF(AND(ISBLANK(INDEX($G:$G,)), ISBLANK(INDEX($C:$C,))), \"\", 'PWS Records (System Entry)'!$D$3)","v":"MT. OLIVE WATERWORK DISTRICT"},"2147 MITCHAM ORCH RD","Ruston","LA",71270,null,null,null,"INDIVIDUAL NAME & SUBDIVISION (HOME NUMBER)","Non-Lead - Plastic","Visual Inspection (for example, visual confirmation at meter pit)","No","No",null,null,"Non-Lead - Plastic","Visual Inspection (for example, visual confirmation at meter pit)",null,null,"Non-Lead"]
[{"$f":"IF(AND(ISBLANK(INDEX($G:$G,)), ISBLANK(INDEX($C:$C,))), \"\", 'PWS Records (System Entry)'!$D$4)","v":"LA1061014"},{"$f":"IF(AND(ISBLANK(INDEX($G:$G,)), ISBLANK(INDEX($C:$C,))), \"\", 'PWS Records (System Entry)'!$D$3)","v":"MT. OLIVE WATERWORK DISTRICT"},"949 WOODS RD","Ruston","LA",71270,null,null,null,"INDIVIDUAL NAME & SUBDIVISION (HOME NUMBER)","Non-Lead - Plastic","Visual Inspection (for example, visual confirmation at meter pit)","No","No",null,null,"Non-Lead - Plastic","Visual Inspection (for example, visual confirmation at meter pit)",null,null,"Non-Lead"]
[{"$f":"IF(AND(ISBLANK(INDEX($G:$G,)), ISBLANK(INDEX($C:$C,))), \"\", 'PWS Records (System Entry)'!$D$4)","v":"LA1061014"},{"$f":"IF(AND(ISBLANK(INDEX($G:$G,)), ISBLANK(INDEX($C:$C,))), \"\", 'PWS Records (System Entry)'!$D$3)","v":"MT. OLIVE WATERWORK DISTRICT"},"221 PEACHVIEW DR","Ruston","LA",71270,null,null,null,"INDIVIDUAL NAME & SUBDIVISION (HOME NUMBER)","Non-Lead - Plastic","Visual Inspection (for example, visual confirmation at meter pit)","No","No",null,null,"Non-Lead - Plastic","Visual Inspection (for example, visual confirmation at meter pit)",null,null,"Non-Lead"]
[{"$f":"IF(AND(ISBLANK(INDEX($G:$G,)), ISBLANK(INDEX($C:$C,))), \"\", 'PWS Records (System Entry)'!$D$4)","v":"LA1061014"},{"$f":"IF(AND(ISBLANK(INDEX($G:$G,)), ISBLANK(INDEX($C:$C,))), \"\", 'PWS Records (System Entry)'!$D$3)","v":"MT. OLIVE WATERWORK DISTRICT"},"207 GAAR WOOD RD","Ruston","LA",71270,null,null,null,"INDIVIDUAL NAME & SUBDIVISION (HOME NUMBER)","Non-Lead - Plastic","Visual Inspection (for example, visual confirmation at meter pit)","No","No",null,null,"Non-Lead - Plastic","Visual Inspection (for example, visual confirmation at meter pit)",null,null,"Non-Lead"]
[{"$f":"IF(AND(ISBLANK(INDEX($G:$G,)), ISBLANK(INDEX($C:$C,))), \"\", 'PWS Records (System Entry)'!$D$4)","v":"LA1061014"},{"$f":"IF(AND(ISBLANK(INDEX($G:$G,)), ISBLANK(INDEX($C:$C,))), \"\", 'PWS Records (System Entry)'!$D$3)","v":"MT. OLIVE WATERWORK DISTRICT"},"2180 MITCHAM ORCH RD","Ruston","LA",71270,null,null,null,"INDIVIDUAL NAME & SUBDIVISION (HOME NUMBER)","Non-Lead - Plastic","Visual Inspection (for example, visual confirmation at meter pit)","No","No",null,null,"Non-Lead - Plastic","Visual Inspection (for example, visual confirmation at meter pit)",null,null,"Non-Lead"]
[{"$f":"IF(AND(ISBLANK(INDEX($G:$G,)), ISBLANK(INDEX($C:$C,))), \"\", 'PWS Records (System Entry)'!$D$4)","v":"LA1061014"},{"$f":"IF(AND(ISBLANK(INDEX($G:$G,)), ISBLANK(INDEX($C:$C,))), \"\", 'PWS Records (System Entry)'!$D$3)","v":"MT. OLIVE WATERWORK DISTRICT"},"152 ORCH VALLEY CIRCLE","Ruston","LA",71270,null,null,null,"INDIVIDUAL NAME & SUBDIVISION (HOME NUMBER)","Non-Lead - Plastic","Visual Inspection (for example, visual confirmation at meter pit)","No","No",null,null,"Non-Lead - Plastic","Visual Inspection (for example, visual confirmation at meter pit)",null,null,"Non-Lead"]
[{"$f":"IF(AND(ISBLANK(INDEX($G:$G,)), ISBLANK(INDEX($C:$C,))), \"\", 'PWS Records (System Entry)'!$D$4)","v":"LA1061014"},{"$f":"IF(AND(ISBLANK(INDEX($G:$G,)), ISBLANK(INDEX($C:$C,))), \"\", 'PWS Records (System Entry)'!$D$3)","v":"MT. OLIVE WATERWORK DISTRICT"},"248 ORCH VALLEY CIRCLE","Ruston","LA",71270,null,null,null,"INDIVIDUAL NAME & SUBDIVISION (HOME NUMBER)","Non-Lead - Plastic","Visual Inspection (for example, visual confirmation at meter pit)","No","No",null,null,"Non-Lead - Plastic","Visual Inspection (for example, visual confirmation at meter pit)",null,null,"Non-Lead"]
[{"$f":"IF(AND(ISBLANK(INDEX($G:$G,)), ISBLANK(INDEX($C:$C,))), \"\", 'PWS Records (System Entry)'!$D$4)","v":"LA1061014"},{"$f":"IF(AND(ISBLANK(INDEX($G:$G,)), ISBLANK(INDEX($C:$C,))), \"\", 'PWS Records (System Entry)'!$D$3)","v":"MT. OLIVE WATERWORK DISTRICT"},"192 ORCH VALLEY CIRCLE #37","Ruston","LA",71270,null,null,null,"INDIVIDUAL NAME & SUBDIVISION (HOME NUMBER)","Non-Lead - Plastic","Visual Inspection (for example, visual confirmation at meter pit)","No","No",null,null,"Non-Lead - Plastic","Visual Inspection (for example, visual confirmation at meter pit)",null,null,"Non-Lead"]
[{"$f":"IF(AND(ISBLANK(INDEX($G:$G,)), ISBLANK(INDEX($C:$C,))), \"\", 'PWS Records (System Entry)'!$D$4)","v":"LA1061014"},{"$f":"IF(AND(ISBLANK(INDEX($G:$G,)), ISBLANK(INDEX($C:$C,))), \"\", 'PWS Records (System Entry)'!$D$3)","v":"MT. OLIVE WATERWORK DISTRICT"},"164 ORCH VALLEY CIRCLE #24","Ruston","LA",71270,null,null,null,"INDIVIDUAL NAME & SUBDIVISION (HOME NUMBER)","Non-Lead - Plastic","Visual Inspection (for example, visual confirmation at meter pit)","No","No",null,null,"Non-Lead - Plastic","Visual Inspection (for example, visual confirmation at meter pit)",null,null,"Non-Lead"]
[{"$f":"IF(AND(ISBLANK(INDEX($G:$G,)), ISBLANK(INDEX($C:$C,))), \"\", 'PWS Records (System Entry)'!$D$4)","v":"LA1061014"},{"$f":"IF(AND(ISBLANK(INDEX($G:$G,)), ISBLANK(INDEX($C:$C,))), \"\", 'PWS Records (System Entry)'!$D$3)","v":"MT. OLIVE WATERWORK DISTRICT"},"249 ORCH VALLEY CIRCLE #40","Ruston","LA",71270,null,null,null,"INDIVIDUAL NAME & SUBDIVISION (HOME NUMBER)","Non-Lead - Plastic","Visual Inspection (for example, visual confirmation at meter pit)","No","No",null,null,"Non-Lead - Plastic","Visual Inspection (for example, visual confirmation at meter pit)",null,null,"Non-Lead"]
[{"$f":"IF(AND(ISBLANK(INDEX($G:$G,)), ISBLANK(INDEX($C:$C,))), \"\", 'PWS Records (System Entry)'!$D$4)","v":"LA1061014"},{"$f":"IF(AND(ISBLANK(INDEX($G:$G,)), ISBLANK(INDEX($C:$C,))), \"\", 'PWS Records (System Entry)'!$D$3)","v":"MT. OLIVE WATERWORK DISTRICT"},"ORCHARD VALLEY CIRCLE","Ruston","LA",71270,null,null,null,"INDIVIDUAL NAME & SUBDIVISION (HOME NUMBER)","Non-Lead - Plastic","Visual Inspection (for example, visual confirmation at meter pit)","No","No",null,null,"Non-Lead - Plastic","Visual Inspection (for example, visual confirmation at meter pit)",null,null,"Non-Lead"]
[{"$f":"IF(AND(ISBLANK(INDEX($G:$G,)), ISBLANK(INDEX($C:$C,))), \"\", 'PWS Records (System Entry)'!$D$4)","v":"LA1061014"},{"$f":"IF(AND(ISBLANK(INDEX($G:$G,)), ISBLANK(INDEX($C:$C,))), \"\", 'PWS Records (System Entry)'!$D$3)","v":"MT. OLIVE WATERWORK DISTRICT"},"291 ORCH VALLEY CIRCLE","Ruston","LA",71270,null,null,null,"INDIVIDUAL NAME & SUBDIVISION (HOME NUMBER)","Non-Lead - Plastic","Visual Inspection (for example, visual confirmation at meter pit)","No","No",null,null,"Non-Lead - Plastic","Visual Inspection (for example, visual confirmation at meter pit)",null,null,"Non-Lead"]
[{"$f":"IF(AND(ISBLANK(INDEX($G:$G,)), ISBLANK(INDEX($C:$C,))), \"\", 'PWS Records (System Entry)'!$D$4)","v":"LA1061014"},{"$f":"IF(AND(ISBLANK(INDEX($G:$G,)), ISBLANK(INDEX($C:$C,))), \"\", 'PWS Records (System Entry)'!$D$3)","v":"MT. OLIVE WATERWORK DISTRICT"},"201 ORCH VALLEY CIRCLE #20","Ruston","LA",71270,null,null,null,"INDIVIDUAL NAME & SUBDIVISION (HOME NUMBER)","Non-Lead - Plastic","Visual Inspection (for example, visual confirmation at meter pit)","No","No",null,null,"Non-Lead - Plastic","Visual Inspection (for example, visual confirmation at meter pit)",null,null,"Non-Lead"]
[{"$f":"IF(AND(ISBLANK(INDEX($G:$G,)), ISBLANK(INDEX($C:$C,))), \"\", 'PWS Records (System Entry)'!$D$4)","v":"LA1061014"},{"$f":"IF(AND(ISBLANK(INDEX($G:$G,)), ISBLANK(INDEX($C:$C,))), \"\", 'PWS Records (System Entry)'!$D$3)","v":"MT. OLIVE WATERWORK DISTRICT"},"ORCHARD VALLEY CIRCLE #3","Ruston","LA",71270,null,null,null,"INDIVIDUAL NAME & SUBDIVISION (HOME NUMBER)","Non-Lead - Plastic","Visual Inspection (for example, visual confirmation at meter pit)","No","No",null,null,"Non-Lead - Plastic","Visual Inspection (for example, visual confirmation at meter pit)",null,null,"Non-Lead"]
[{"$f":"IF(AND(ISBLANK(INDEX($G:$G,)), ISBLANK(INDEX($C:$C,))), \"\", 'PWS Records (System Entry)'!$D$4)","v":"LA1061014"},{"$f":"IF(AND(ISBLANK(INDEX($G:$G,)), ISBLANK(INDEX($C:$C,))), \"\", 'PWS Records (System Entry)'!$D$3)","v":"MT. OLIVE WATERWORK DISTRICT"},"LOT #18 ORCH VALLEY CIRCLE","Ruston","LA",71270,null,null,null,"INDIVIDUAL NAME & SUBDIVISION (HOME NUMBER)","Non-Lead - Plastic","Visual Inspection (for example, visual confirmation at meter pit)","No","No",null,null,"Non-Lead - Plastic","Visual Inspection (for example, visual confirmation at meter pit)",null,null,"Non-Lead"]
[{"$f":"IF(AND(ISBLANK(INDEX($G:$G,)), ISBLANK(INDEX($C:$C,))), \"\", 'PWS Records (System Entry)'!$D$4)","v":"LA1061014"},{"$f":"IF(AND(ISBLANK(INDEX($G:$G,)), ISBLANK(INDEX($C:$C,))), \"\", 'PWS Records (System Entry)'!$D$3)","v":"MT. OLIVE WATERWORK DISTRICT"},"218 ORCH VALLEY CIRCLE #35","Ruston","LA",71270,null,null,null,"INDIVIDUAL NAME & SUBDIVISION (HOME NUMBER)","Non-Lead - Plastic","Visual Inspection (for example, visual confirmation at meter pit)","No","No",null,null,"Non-Lead - Plastic","Visual Inspection (for example, visual confirmation at meter pit)",null,null,"Non-Lead"]
[{"$f":"IF(AND(ISBLANK(INDEX($G:$G,)), ISBLANK(INDEX($C:$C,))), \"\", 'PWS Records (System Entry)'!$D$4)","v":"LA1061014"},{"$f":"IF(AND(ISBLANK(INDEX($G:$G,)), ISBLANK(INDEX($C:$C,))), \"\", 'PWS Records (System Entry)'!$D$3)","v":"MT. OLIVE WATERWORK DISTRICT"},"358 ORCH VAL CLE LOT","Ruston","LA",71270,null,null,null,"INDIVIDUAL NAME & SUBDIVISION (HOME NUMBER)","Non-Lead - Plastic","Visual Inspection (for example, visual confirmation at meter pit)","No","No",null,null,"Non-Lead - Plastic","Visual Inspection (for example, visual confirmation at meter pit)",null,null,"Non-Lead"]
[{"$f":"IF(AND(ISBLANK(INDEX($G:$G,)), ISBLANK(INDEX($C:$C,))), \"\", 'PWS Records (System Entry)'!$D$4)","v":"LA1061014"},{"$f":"IF(AND(ISBLANK(INDEX($G:$G,)), ISBLANK(INDEX($C:$C,))), \"\", 'PWS Records (System Entry)'!$D$3)","v":"MT. OLIVE WATERWORK DISTRICT"},"303 ORCH VAL CLE LOT #9","Ruston","LA",71270,null,null,null,"INDIVIDUAL NAME & SUBDIVISION (HOME NUMBER)","Non-Lead - Plastic","Visual Inspection (for example, visual confirmation at meter pit)","No","No",null,null,"Non-Lead - Plastic","Visual Inspection (for example, visual confirmation at meter pit)",null,null,"Non-Lead"]
[{"$f":"IF(AND(ISBLANK(INDEX($G:$G,)), ISBLANK(INDEX($C:$C,))), \"\", 'PWS Records (System Entry)'!$D$4)","v":"LA1061014"},{"$f":"IF(AND(ISBLANK(INDEX($G:$G,)), ISBLANK(INDEX($C:$C,))), \"\", 'PWS Records (System Entry)'!$D$3)","v":"MT. OLIVE WATERWORK DISTRICT"},"163 ORCH VALLEY CIRCLE #19","Ruston","LA",71270,null,null,null,"INDIVIDUAL NAME & SUBDIVISION (HOME NUMBER)","Non-Lead - Plastic","Visual Inspection (for example, visual confirmation at meter pit)","No","No",null,null,"Non-Lead - Plastic","Visual Inspection (for example, visual confirmation at meter pit)",null,null,"Non-Lead"]
[{"$f":"IF(AND(ISBLANK(INDEX($G:$G,)), ISBLANK(INDEX($C:$C,))), \"\", 'PWS Records (System Entry)'!$D$4)","v":"LA1061014"},{"$f":"IF(AND(ISBLANK(INDEX($G:$G,)), ISBLANK(INDEX($C:$C,))), \"\", 'PWS Records (System Entry)'!$D$3)","v":"MT. OLIVE WATERWORK DISTRICT"},"204 ORCHARD VALLEY CIRCLE","Ruston","LA",71270,null,null,null,"INDIVIDUAL NAME & SUBDIVISION (HOME NUMBER)","Non-Lead - Plastic","Visual Inspection (for example, visual confirmation at meter pit)","No","No",null,null,"Non-Lead - Plastic","Visual Inspection (for example, visual confirmation at meter pit)",null,null,"Non-Lead"]
[{"$f":"IF(AND(ISBLANK(INDEX($G:$G,)), ISBLANK(INDEX($C:$C,))), \"\", 'PWS Records (System Entry)'!$D$4)","v":"LA1061014"},{"$f":"IF(AND(ISBLANK(INDEX($G:$G,)), ISBLANK(INDEX($C:$C,))), \"\", 'PWS Records (System Entry)'!$D$3)","v":"MT. OLIVE WATERWORK DISTRICT"},"140 ORCH VALLEY CIRCLE #40","Ruston","LA",71270,null,null,null,"INDIVIDUAL NAME & SUBDIVISION (HOME NUMBER)","Non-Lead - Plastic","Visual Inspection (for example, visual confirmation at meter pit)","No","No",null,null,"Non-Lead - Plastic","Visual Inspection (for example, visual confirmation at meter pit)",null,null,"Non-Lead"]
[{"$f":"IF(AND(ISBLANK(INDEX($G:$G,)), ISBLANK(INDEX($C:$C,))), \"\", 'PWS Records (System Entry)'!$D$4)","v":"LA1061014"},{"$f":"IF(AND(ISBLANK(INDEX($G:$G,)), ISBLANK(INDEX($C:$C,))), \"\", 'PWS Records (System Entry)'!$D$3)","v":"MT. OLIVE WATERWORK DISTRICT"},"235 ORCH VALLEY CIRCLE","Ruston","LA",71270,null,null,null,"INDIVIDUAL NAME & SUBDIVISION (HOME NUMBER)","Non-Lead - Plastic","Visual Inspection (for example, visual confirmation at meter pit)","No","No",null,null,"Non-Lead - Plastic","Visual Inspection (for example, visual confirmation at meter pit)",null,null,"Non-Lead"]
[{"$f":"IF(AND(ISBLANK(INDEX($G:$G,)), ISBLANK(INDEX($C:$C,))), \"\", 'PWS Records (System Entry)'!$D$4)","v":"LA1061014"},{"$f":"IF(AND(ISBLANK(INDEX($G:$G,)), ISBLANK(INDEX($C:$C,))), \"\", 'PWS Records (System Entry)'!$D$3)","v":"MT. OLIVE WATERWORK DISTRICT"},"302 ORCH VALLEY CIRCLE","Ruston","LA",71270,null,null,null,"INDIVIDUAL NAME & SUBDIVISION (HOME NUMBER)","Non-Lead - Plastic","Visual Inspection (for example, visual confirmation at meter pit)","No","No",null,null,"Non-Lead - Plastic","Visual Inspection (for example, visual confirmation at meter pit)",null,null,"Non-Lead"]
[{"$f":"IF(AND(ISBLANK(INDEX($G:$G,)), ISBLANK(INDEX($C:$C,))), \"\", 'PWS Records (System Entry)'!$D$4)","v":"LA1061014"},{"$f":"IF(AND(ISBLANK(INDEX($G:$G,)), ISBLANK(INDEX($C:$C,))), \"\", 'PWS Records (System Entry)'!$D$3)","v":"MT. OLIVE WATERWORK DISTRICT"},"249 ORCH VALLEY CIRCLE #20","Ruston","LA",71270,null,null,null,"INDIVIDUAL NAME & SUBDIVISION (HOME NUMBER)","Non-Lead - Plastic","Visual Inspection (for example, visual confirmation at meter pit)","No","No",null,null,"Non-Lead - Plastic","Visual Inspection (for example, visual confirmation at meter pit)",null,null,"Non-Lead"]
[{"$f":"IF(AND(ISBLANK(INDEX($G:$G,)), ISBLANK(INDEX($C:$C,))), \"\", 'PWS Records (System Entry)'!$D$4)","v":"LA1061014"},{"$f":"IF(AND(ISBLANK(INDEX($G:$G,)), ISBLANK(INDEX($C:$C,))), \"\", 'PWS Records (System Entry)'!$D$3)","v":"MT. OLIVE WATERWORK DISTRICT"},"110 ORCHARD VALLEY CIRCLE","Ruston","LA",71270,null,null,null,"INDIVIDUAL NAME & SUBDIVISION (HOME NUMBER)","Non-Lead - Plastic","Visual Inspection (for example, visual confirmation at meter pit)","No","No",null,null,"Non-Lead - Plastic","Visual Inspection (for example, visual confirmation at meter pit)",null,null,{"$f":"IF(AND(INDEX($K:$K,)=\"\", INDEX($L:$L,)=\"\", INDEX($M:$M,)=\"\", INDEX($Q:$Q,)=\"\", INDEX($R:$R,)=\"\"), \"\", IF(OR(INDEX($K:$K,)=\"Lead\",INDEX($Q:$Q,)=\"Lead\"),\"Lead\",IF(OR(AND(OR(INDEX($M:$M,)=\"Yes\", INDEX($M:$M,)=\"Don't Know\", INDEX($M:$M,)=\"\"), INDEX($Q:$Q,)=\"Galvanized Iron/Steel\"), AND(INDEX($K:$K,)=\"Unknown\", INDEX($M:$M,)=\"No\", INDEX($Q:$Q,)=\"Galvanized Iron/Steel\")), \"Galvanized Requiring Replacement\", IF(OR(AND(OR(INDEX($K:$K,)=\"Galvanized Iron/Steel\", INDEX($K:$K,)=\"Non-Lead - Copper\", INDEX($K:$K,)=\"Non-Lead - Plastic\", INDEX($K:$K,)=\"Non-Lead - Other\", INDEX($K:$K,)=\"Non-Lead - Material Unknown\", INDEX($K:$K,)=\"No System Owned Portion\"), OR(INDEX($Q:$Q,)=\"Galvanized Iron/Steel\", INDEX($Q:$Q,)=\"Non-Lead - Copper\", INDEX($Q:$Q,)=\"Non-Lead - Plastic\", INDEX($Q:$Q,)=\"Non-Lead - Other\", INDEX($Q:$Q,)=\"Non-Lead - Predictive Model\", INDEX($Q:$Q,)=\"No Customer Owned Portion\")), AND(OR( INDEX($K:$K,)=\"Galvanized Iron/Steel\", INDEX($K:$K,)=\"Non-Lead - Copper\", INDEX($K:$K,)=\"Non-Lead - Plastic\", INDEX($K:$K,)=\"Non-Lead - Other\", INDEX($K:$K,)=\"Non-Lead - Material Unknown\", INDEX($K:$K,)=\"No System Owned Portion\"), INDEX($M:$M,)=\"No\", INDEX($Q:$Q,)=\"Non-Lead - Material Unknown\")), \"Non-Lead\", \"Lead Status Unknown\"))))","v":"Non-Lead"}]
[{"$f":"IF(AND(ISBLANK(INDEX($G:$G,)), ISBLANK(INDEX($C:$C,))), \"\", 'PWS Records (System Entry)'!$D$4)","v":"LA1061014"},{"$f":"IF(AND(ISBLANK(INDEX($G:$G,)), ISBLANK(INDEX($C:$C,))), \"\", 'PWS Records (System Entry)'!$D$3)","v":"MT. OLIVE WATERWORK DISTRICT"},"184 ORCH VALLEY CIRCLE","Ruston","LA",71270,null,null,null,"INDIVIDUAL NAME & SUBDIVISION (HOME NUMBER)","Non-Lead - Plastic","Visual Inspection (for example, visual confirmation at meter pit)","No","No",null,null,"Non-Lead - Plastic","Visual Inspection (for example, visual confirmation at meter pit)",null,null,"Non-Lead"]
[{"$f":"IF(AND(ISBLANK(INDEX($G:$G,)), ISBLANK(INDEX($C:$C,))), \"\", 'PWS Records (System Entry)'!$D$4)","v":"LA1061014"},{"$f":"IF(AND(ISBLANK(INDEX($G:$G,)), ISBLANK(INDEX($C:$C,))), \"\", 'PWS Records (System Entry)'!$D$3)","v":"MT. OLIVE WATERWORK DISTRICT"},"258 ORCH VALLEY CIRCLE","Ruston","LA",71270,null,null,null,"INDIVIDUAL NAME & SUBDIVISION (HOME NUMBER)","Non-Lead - Plastic","Visual Inspection (for example, visual confirmation at meter pit)","No","No",null,null,"Non-Lead - Plastic","Visual Inspection (for example, visual confirmation at meter pit)",null,null,"Non-Lead"]
[{"$f":"IF(AND(ISBLANK(INDEX($G:$G,)), ISBLANK(INDEX($C:$C,))), \"\", 'PWS Records (System Entry)'!$D$4)","v":"LA1061014"},{"$f":"IF(AND(ISBLANK(INDEX($G:$G,)), ISBLANK(INDEX($C:$C,))), \"\", 'PWS Records (System Entry)'!$D$3)","v":"MT. OLIVE WATERWORK DISTRICT"},"100 ORCH VALLEY CIRCLE","Ruston","LA",71270,null,null,null,"INDIVIDUAL NAME & SUBDIVISION (HOME NUMBER)","Non-Lead - Plastic","Visual Inspection (for example, visual confirmation at meter pit)","No","No",null,null,"Non-Lead - Plastic","Visual Inspection (for example, visual confirmation at meter pit)",null,null,"Non-Lead"]
[{"$f":"IF(AND(ISBLANK(INDEX($G:$G,)), ISBLANK(INDEX($C:$C,))), \"\", 'PWS Records (System Entry)'!$D$4)","v":"LA1061014"},{"$f":"IF(AND(ISBLANK(INDEX($G:$G,)), ISBLANK(INDEX($C:$C,))), \"\", 'PWS Records (System Entry)'!$D$3)","v":"MT. OLIVE WATERWORK DISTRICT"},"188 ORCH VALLEY CIRCLE","Ruston","LA",71270,null,null,null,"INDIVIDUAL NAME & SUBDIVISION (HOME NUMBER)","Non-Lead - Plastic","Visual Inspection (for example, visual confirmation at meter pit)","No","No",null,null,"Non-Lead - Plastic","Visual Inspection (for example, visual confirmation at meter pit)",null,null,"Non-Lead"]
[{"$f":"IF(AND(ISBLANK(INDEX($G:$G,)), ISBLANK(INDEX($C:$C,))), \"\", 'PWS Records (System Entry)'!$D$4)","v":"LA1061014"},{"$f":"IF(AND(ISBLANK(INDEX($G:$G,)), ISBLANK(INDEX($C:$C,))), \"\", 'PWS Records (System Entry)'!$D$3)","v":"MT. OLIVE WATERWORK DISTRICT"},"122 ORCH VALLEY CIRCLE","Ruston","LA",71270,null,null,null,"INDIVIDUAL NAME & SUBDIVISION (HOME NUMBER)","Non-Lead - Plastic","Visual Inspection (for example, visual confirmation at meter pit)","No","No",null,null,"Non-Lead - Plastic","Visual Inspection (for example, visual confirmation at meter pit)",null,null,"Non-Lead"]
[{"$f":"IF(AND(ISBLANK(INDEX($G:$G,)), ISBLANK(INDEX($C:$C,))), \"\", 'PWS Records (System Entry)'!$D$4)","v":"LA1061014"},{"$f":"IF(AND(ISBLANK(INDEX($G:$G,)), ISBLANK(INDEX($C:$C,))), \"\", 'PWS Records (System Entry)'!$D$3)","v":"MT. OLIVE WATERWORK DISTRICT"},"278 ORCH VALLEY CIRCLE","Ruston","LA",71270,null,null,null,"INDIVIDUAL NAME & SUBDIVISION (HOME NUMBER)","Non-Lead - Plastic","Visual Inspection (for example, visual confirmation at meter pit)","No","No",null,null,"Non-Lead - Plastic","Visual Inspection (for example, visual confirmation at meter pit)",null,null,"Non-Lead"]
[{"$f":"IF(AND(ISBLANK(INDEX($G:$G,)), ISBLANK(INDEX($C:$C,))), \"\", 'PWS Records (System Entry)'!$D$4)","v":"LA1061014"},{"$f":"IF(AND(ISBLANK(INDEX($G:$G,)), ISBLANK(INDEX($C:$C,))), \"\", 'PWS Records (System Entry)'!$D$3)","v":"MT. OLIVE WATERWORK DISTRICT"},"384 VALLEY CIRCLE #6","Ruston","LA",71270,null,null,null,"INDIVIDUAL NAME & SUBDIVISION (HOME NUMBER)","Non-Lead - Plastic","Visual Inspection (for example, visual confirmation at meter pit)","No","No",null,null,"Non-Lead - Plastic","Visual Inspection (for example, visual confirmation at meter pit)",null,null,"Non-Lead"]
[{"$f":"IF(AND(ISBLANK(INDEX($G:$G,)), ISBLANK(INDEX($C:$C,))), \"\", 'PWS Records (System Entry)'!$D$4)","v":"LA1061014"},{"$f":"IF(AND(ISBLANK(INDEX($G:$G,)), ISBLANK(INDEX($C:$C,))), \"\", 'PWS Records (System Entry)'!$D$3)","v":"MT. OLIVE WATERWORK DISTRICT"},"344 VALLEY CIRCLE","Ruston","LA",71270,null,null,null,"INDIVIDUAL NAME & SUBDIVISION (HOME NUMBER)","Non-Lead - Plastic","Visual Inspection (for example, visual confirmation at meter pit)","No","No",null,null,"Non-Lead - Plastic","Visual Inspection (for example, visual confirmation at meter pit)",null,null,"Non-Lead"]
[{"$f":"IF(AND(ISBLANK(INDEX($G:$G,)), ISBLANK(INDEX($C:$C,))), \"\", 'PWS Records (System Entry)'!$D$4)","v":"LA1061014"},{"$f":"IF(AND(ISBLANK(INDEX($G:$G,)), ISBLANK(INDEX($C:$C,))), \"\", 'PWS Records (System Entry)'!$D$3)","v":"MT. OLIVE WATERWORK DISTRICT"},"2190 MITCHAM ORCH RD","Ruston","LA",71270,null,null,null,"INDIVIDUAL NAME & SUBDIVISION (HOME NUMBER)","Non-Lead - Plastic","Visual Inspection (for example, visual confirmation at meter pit)","No","No",null,null,"Non-Lead - Plastic","Visual Inspection (for example, visual confirmation at meter pit)",null,null,"Non-Lead"]
[{"$f":"IF(AND(ISBLANK(INDEX($G:$G,)), ISBLANK(INDEX($C:$C,))), \"\", 'PWS Records (System Entry)'!$D$4)","v":"LA1061014"},{"$f":"IF(AND(ISBLANK(INDEX($G:$G,)), ISBLANK(INDEX($C:$C,))), \"\", 'PWS Records (System Entry)'!$D$3)","v":"MT. OLIVE WATERWORK DISTRICT"},"2204MITCHAM ORCH RD","Ruston","LA",71270,null,null,null,"INDIVIDUAL NAME & SUBDIVISION (HOME NUMBER)","Non-Lead - Plastic","Visual Inspection (for example, visual confirmation at meter pit)","No","No",null,null,"Non-Lead - Plastic","Visual Inspection (for example, visual confirmation at meter pit)",null,null,"Non-Lead"]
[{"$f":"IF(AND(ISBLANK(INDEX($G:$G,)), ISBLANK(INDEX($C:$C,))), \"\", 'PWS Records (System Entry)'!$D$4)","v":"LA1061014"},{"$f":"IF(AND(ISBLANK(INDEX($G:$G,)), ISBLANK(INDEX($C:$C,))), \"\", 'PWS Records (System Entry)'!$D$3)","v":"MT. OLIVE WATERWORK DISTRICT"},"236 HAPPY TRAILS LN","Ruston","LA",71270,null,null,null,"INDIVIDUAL NAME & SUBDIVISION (HOME NUMBER)","Non-Lead - Plastic","Visual Inspection (for example, visual confirmation at meter pit)","No","No",null,null,"Non-Lead - Plastic","Visual Inspection (for example, visual confirmation at meter pit)",null,null,"Non-Lead"]
[{"$f":"IF(AND(ISBLANK(INDEX($G:$G,)), ISBLANK(INDEX($C:$C,))), \"\", 'PWS Records (System Entry)'!$D$4)","v":"LA1061014"},{"$f":"IF(AND(ISBLANK(INDEX($G:$G,)), ISBLANK(INDEX($C:$C,))), \"\", 'PWS Records (System Entry)'!$D$3)","v":"MT. OLIVE WATERWORK DISTRICT"},"370 VALLEY CIRCLE #6","Ruston","LA",71270,null,null,null,"INDIVIDUAL NAME & SUBDIVISION (HOME NUMBER)","Non-Lead - Plastic","Visual Inspection (for example, visual confirmation at meter pit)","No","No",null,null,"Non-Lead - Plastic","Visual Inspection (for example, visual confirmation at meter pit)",null,null,"Non-Lead"]
[{"$f":"IF(AND(ISBLANK(INDEX($G:$G,)), ISBLANK(INDEX($C:$C,))), \"\", 'PWS Records (System Entry)'!$D$4)","v":"LA1061014"},{"$f":"IF(AND(ISBLANK(INDEX($G:$G,)), ISBLANK(INDEX($C:$C,))), \"\", 'PWS Records (System Entry)'!$D$3)","v":"MT. OLIVE WATERWORK DISTRICT"},"264 ORCH VALLEY CIRCLE","Ruston","LA",71270,null,null,null,"INDIVIDUAL NAME & SUBDIVISION (HOME NUMBER)","Non-Lead - Plastic","Visual Inspection (for example, visual confirmation at meter pit)","No","No",null,null,"Non-Lead - Plastic","Visual Inspection (for example, visual confirmation at meter pit)",null,null,"Non-Lead"]
[{"$f":"IF(AND(ISBLANK(INDEX($G:$G,)), ISBLANK(INDEX($C:$C,))), \"\", 'PWS Records (System Entry)'!$D$4)","v":"LA1061014"},{"$f":"IF(AND(ISBLANK(INDEX($G:$G,)), ISBLANK(INDEX($C:$C,))), \"\", 'PWS Records (System Entry)'!$D$3)","v":"MT. OLIVE WATERWORK DISTRICT"},"290 ORCH VALLEY CIRCLE","Ruston","LA",71270,null,null,null,"INDIVIDUAL NAME & SUBDIVISION (HOME NUMBER)","Non-Lead - Plastic","Visual Inspection (for example, visual confirmation at meter pit)","No","No",null,null,"Non-Lead - Plastic","Visual Inspection (for example, visual confirmation at meter pit)",null,null,"Non-Lead"]
[{"$f":"IF(AND(ISBLANK(INDEX($G:$G,)), ISBLANK(INDEX($C:$C,))), \"\", 'PWS Records (System Entry)'!$D$4)","v":"LA1061014"},{"$f":"IF(AND(ISBLANK(INDEX($G:$G,)), ISBLANK(INDEX($C:$C,))), \"\", 'PWS Records (System Entry)'!$D$3)","v":"MT. OLIVE WATERWORK DISTRICT"},"316 ORCH VALLEY CIRCLE #23","Ruston","LA",71270,null,null,null,"INDIVIDUAL NAME & SUBDIVISION (HOME NUMBER)","Non-Lead - Plastic","Visual Inspection (for example, visual confirmation at meter pit)","No","No",null,null,"Non-Lead - Plastic","Visual Inspection (for example, visual confirmation at meter pit)",null,null,"Non-Lead"]
[{"$f":"IF(AND(ISBLANK(INDEX($G:$G,)), ISBLANK(INDEX($C:$C,))), \"\", 'PWS Records (System Entry)'!$D$4)","v":"LA1061014"},{"$f":"IF(AND(ISBLANK(INDEX($G:$G,)), ISBLANK(INDEX($C:$C,))), \"\", 'PWS Records (System Entry)'!$D$3)","v":"MT. OLIVE WATERWORK DISTRICT"},"178 ORCH VALLEY CIRCLE #23","Ruston","LA",71270,null,null,null,"INDIVIDUAL NAME & SUBDIVISION (HOME NUMBER)","Non-Lead - Plastic","Visual Inspection (for example, visual confirmation at meter pit)","No","No",null,null,"Non-Lead - Plastic","Visual Inspection (for example, visual confirmation at meter pit)",null,null,"Non-Lead"]
[{"$f":"IF(AND(ISBLANK(INDEX($G:$G,)), ISBLANK(INDEX($C:$C,))), \"\", 'PWS Records (System Entry)'!$D$4)","v":"LA1061014"},{"$f":"IF(AND(ISBLANK(INDEX($G:$G,)), ISBLANK(INDEX($C:$C,))), \"\", 'PWS Records (System Entry)'!$D$3)","v":"MT. OLIVE WATERWORK DISTRICT"},"340 ORCHARD VALLEY CIRCLE","Ruston","LA",71270,null,null,null,"INDIVIDUAL NAME & SUBDIVISION (HOME NUMBER)","Non-Lead - Plastic","Visual Inspection (for example, visual confirmation at meter pit)","No","No",null,null,"Non-Lead - Plastic","Visual Inspection (for example, visual confirmation at meter pit)",null,null,"Non-Lead"]
[{"$f":"IF(AND(ISBLANK(INDEX($G:$G,)), ISBLANK(INDEX($C:$C,))), \"\", 'PWS Records (System Entry)'!$D$4)","v":"LA1061014"},{"$f":"IF(AND(ISBLANK(INDEX($G:$G,)), ISBLANK(INDEX($C:$C,))), \"\", 'PWS Records (System Entry)'!$D$3)","v":"MT. OLIVE WATERWORK DISTRICT"},"135 ORCH VALLEY CIRCLE #17","Ruston","LA",71270,null,null,null,"INDIVIDUAL NAME & SUBDIVISION (HOME NUMBER)","Non-Lead - Plastic","Visual Inspection (for example, visual confirmation at meter pit)","No","No",null,null,"Non-Lead - Plastic","Visual Inspection (for example, visual confirmation at meter pit)",null,null,"Non-Lead"]
[{"$f":"IF(AND(ISBLANK(INDEX($G:$G,)), ISBLANK(INDEX($C:$C,))), \"\", 'PWS Records (System Entry)'!$D$4)","v":"LA1061014"},{"$f":"IF(AND(ISBLANK(INDEX($G:$G,)), ISBLANK(INDEX($C:$C,))), \"\", 'PWS Records (System Entry)'!$D$3)","v":"MT. OLIVE WATERWORK DISTRICT"},"234 ORCH VALLEY CIRCLE #37","Ruston","LA",71270,null,null,null,"INDIVIDUAL NAME & SUBDIVISION (HOME NUMBER)","Non-Lead - Plastic","Visual Inspection (for example, visual confirmation at meter pit)","No","No",null,null,"Non-Lead - Plastic","Visual Inspection (for example, visual confirmation at meter pit)",null,null,"Non-Lead"]
[{"$f":"IF(AND(ISBLANK(INDEX($G:$G,)), ISBLANK(INDEX($C:$C,))), \"\", 'PWS Records (System Entry)'!$D$4)","v":"LA1061014"},{"$f":"IF(AND(ISBLANK(INDEX($G:$G,)), ISBLANK(INDEX($C:$C,))), \"\", 'PWS Records (System Entry)'!$D$3)","v":"MT. OLIVE WATERWORK DISTRICT"},"121 ORCH VALLEY CIRCLE","Ruston","LA",71270,null,null,null,"INDIVIDUAL NAME & SUBDIVISION (HOME NUMBER)","Non-Lead - Plastic","Visual Inspection (for example, visual confirmation at meter pit)","No","No",null,null,"Non-Lead - Plastic","Visual Inspection (for example, visual confirmation at meter pit)",null,null,"Non-Lead"]
[{"$f":"IF(AND(ISBLANK(INDEX($G:$G,)), ISBLANK(INDEX($C:$C,))), \"\", 'PWS Records (System Entry)'!$D$4)","v":"LA1061014"},{"$f":"IF(AND(ISBLANK(INDEX($G:$G,)), ISBLANK(INDEX($C:$C,))), \"\", 'PWS Records (System Entry)'!$D$3)","v":"MT. OLIVE WATERWORK DISTRICT"},"256 ORCH VALLEY CIRCLE","Ruston","LA",71270,null,null,null,"INDIVIDUAL NAME & SUBDIVISION (HOME NUMBER)","Non-Lead - Plastic","Visual Inspection (for example, visual confirmation at meter pit)","No","No",null,null,"Non-Lead - Plastic","Visual Inspection (for example, visual confirmation at meter pit)",null,null,"Non-Lead"]
[{"$f":"IF(AND(ISBLANK(INDEX($G:$G,)), ISBLANK(INDEX($C:$C,))), \"\", 'PWS Records (System Entry)'!$D$4)","v":"LA1061014"},{"$f":"IF(AND(ISBLANK(INDEX($G:$G,)), ISBLANK(INDEX($C:$C,))), \"\", 'PWS Records (System Entry)'!$D$3)","v":"MT. OLIVE WATERWORK DISTRICT"},"330 ORCH VALLEY CIRCLE","Ruston","LA",71270,null,null,null,"INDIVIDUAL NAME & SUBDIVISION (HOME NUMBER)","Non-Lead - Plastic","Visual Inspection (for example, visual confirmation at meter pit)","No","No",null,null,"Non-Lead - Plastic","Visual Inspection (for example, visual confirmation at meter pit)",null,null,"Non-Lead"]
[{"$f":"IF(AND(ISBLANK(INDEX($G:$G,)), ISBLANK(INDEX($C:$C,))), \"\", 'PWS Records (System Entry)'!$D$4)","v":"LA1061014"},{"$f":"IF(AND(ISBLANK(INDEX($G:$G,)), ISBLANK(INDEX($C:$C,))), \"\", 'PWS Records (System Entry)'!$D$3)","v":"MT. OLIVE WATERWORK DISTRICT"},"331 ORCH VALLEY CIRCLE","Ruston","LA",71270,null,null,null,"INDIVIDUAL NAME & SUBDIVISION (HOME NUMBER)","Non-Lead - Plastic","Visual Inspection (for example, visual confirmation at meter pit)","No","No",null,null,"Non-Lead - Plastic","Visual Inspection (for example, visual confirmation at meter pit)",null,null,"Non-Lead"]
[{"$f":"IF(AND(ISBLANK(INDEX($G:$G,)), ISBLANK(INDEX($C:$C,))), \"\", 'PWS Records (System Entry)'!$D$4)","v":"LA1061014"},{"$f":"IF(AND(ISBLANK(INDEX($G:$G,)), ISBLANK(INDEX($C:$C,))), \"\", 'PWS Records (System Entry)'!$D$3)","v":"MT. OLIVE WATERWORK DISTRICT"},"223 ORCH VALLEY CIRCLE #38","Ruston","LA",71270,null,null,null,"INDIVIDUAL NAME & SUBDIVISION (HOME NUMBER)","Non-Lead - Plastic","Visual Inspection (for example, visual confirmation at meter pit)","No","No",null,null,"Non-Lead - Plastic","Visual Inspection (for example, visual confirmation at meter pit)",null,null,"Non-Lead"]
[{"$f":"IF(AND(ISBLANK(INDEX($G:$G,)), ISBLANK(INDEX($C:$C,))), \"\", 'PWS Records (System Entry)'!$D$4)","v":"LA1061014"},{"$f":"IF(AND(ISBLANK(INDEX($G:$G,)), ISBLANK(INDEX($C:$C,))), \"\", 'PWS Records (System Entry)'!$D$3)","v":"MT. OLIVE WATERWORK DISTRICT"},"338 ORCH VALLEY CIRCLE","Ruston","LA",71270,null,null,null,"INDIVIDUAL NAME & SUBDIVISION (HOME NUMBER)","Non-Lead - Plastic","Visual Inspection (for example, visual confirmation at meter pit)","No","No",null,null,"Non-Lead - Plastic","Visual Inspection (for example, visual confirmation at meter pit)",null,null,"Non-Lead"]
[{"$f":"IF(AND(ISBLANK(INDEX($G:$G,)), ISBLANK(INDEX($C:$C,))), \"\", 'PWS Records (System Entry)'!$D$4)","v":"LA1061014"},{"$f":"IF(AND(ISBLANK(INDEX($G:$G,)), ISBLANK(INDEX($C:$C,))), \"\", 'PWS Records (System Entry)'!$D$3)","v":"MT. OLIVE WATERWORK DISTRICT"},"1483 HWY 544","Ruston","LA",71270,null,null,null,"INDIVIDUAL NAME & SUBDIVISION (HOME NUMBER)","Non-Lead - Plastic","Visual Inspection (for example, visual confirmation at meter pit)","No","No",null,null,"Non-Lead - Plastic","Visual Inspection (for example, visual confirmation at meter pit)",null,null,"Non-Lead"]
[{"$f":"IF(AND(ISBLANK(INDEX($G:$G,)), ISBLANK(INDEX($C:$C,))), \"\", 'PWS Records (System Entry)'!$D$4)","v":"LA1061014"},{"$f":"IF(AND(ISBLANK(INDEX($G:$G,)), ISBLANK(INDEX($C:$C,))), \"\", 'PWS Records (System Entry)'!$D$3)","v":"MT. OLIVE WATERWORK DISTRICT"},"1509 HWY 544","Ruston","LA",71270,null,null,null,"INDIVIDUAL NAME & SUBDIVISION (HOME NUMBER)","Non-Lead - Plastic","Visual Inspection (for example, visual confirmation at meter pit)","No","No",null,null,"Non-Lead - Plastic","Visual Inspection (for example, visual confirmation at meter pit)",null,null,"Non-Lead"]
[{"$f":"IF(AND(ISBLANK(INDEX($G:$G,)), ISBLANK(INDEX($C:$C,))), \"\", 'PWS Records (System Entry)'!$D$4)","v":"LA1061014"},{"$f":"IF(AND(ISBLANK(INDEX($G:$G,)), ISBLANK(INDEX($C:$C,))), \"\", 'PWS Records (System Entry)'!$D$3)","v":"MT. OLIVE WATERWORK DISTRICT"},"1501 HWY 544","Ruston","LA",71270,null,null,null,"INDIVIDUAL NAME & SUBDIVISION (HOME NUMBER)","Non-Lead - Plastic","Visual Inspection (for example, visual confirmation at meter pit)","No","No",null,null,"Non-Lead - Plastic","Visual Inspection (for example, visual confirmation at meter pit)",null,null,"Non-Lead"]
[{"$f":"IF(AND(ISBLANK(INDEX($G:$G,)), ISBLANK(INDEX($C:$C,))), \"\", 'PWS Records (System Entry)'!$D$4)","v":"LA1061014"},{"$f":"IF(AND(ISBLANK(INDEX($G:$G,)), ISBLANK(INDEX($C:$C,))), \"\", 'PWS Records (System Entry)'!$D$3)","v":"MT. OLIVE WATERWORK DISTRICT"},"189 FOWLER RD","Ruston","LA",71270,null,null,null,"INDIVIDUAL NAME & SUBDIVISION (HOME NUMBER)","Non-Lead - Plastic","Visual Inspection (for example, visual confirmation at meter pit)","No","No",null,null,"Non-Lead - Plastic","Visual Inspection (for example, visual confirmation at meter pit)",null,null,"Non-Lead"]
[{"$f":"IF(AND(ISBLANK(INDEX($G:$G,)), ISBLANK(INDEX($C:$C,))), \"\", 'PWS Records (System Entry)'!$D$4)","v":"LA1061014"},{"$f":"IF(AND(ISBLANK(INDEX($G:$G,)), ISBLANK(INDEX($C:$C,))), \"\", 'PWS Records (System Entry)'!$D$3)","v":"MT. OLIVE WATERWORK DISTRICT"},"170 MEADOWVIEW LANE","Ruston","LA",71270,null,null,null,"INDIVIDUAL NAME & SUBDIVISION (HOME NUMBER)","Non-Lead - Plastic","Visual Inspection (for example, visual confirmation at meter pit)","No","No",null,null,"Non-Lead - Plastic","Visual Inspection (for example, visual confirmation at meter pit)",null,null,"Non-Lead"]
[{"$f":"IF(AND(ISBLANK(INDEX($G:$G,)), ISBLANK(INDEX($C:$C,))), \"\", 'PWS Records (System Entry)'!$D$4)","v":"LA1061014"},{"$f":"IF(AND(ISBLANK(INDEX($G:$G,)), ISBLANK(INDEX($C:$C,))), \"\", 'PWS Records (System Entry)'!$D$3)","v":"MT. OLIVE WATERWORK DISTRICT"},"1529 HWY 544","Ruston","LA",71270,null,null,null,"INDIVIDUAL NAME & SUBDIVISION (HOME NUMBER)","Non-Lead - Plastic","Visual Inspection (for example, visual confirmation at meter pit)","No","No",null,null,"Non-Lead - Plastic","Visual Inspection (for example, visual confirmation at meter pit)",null,null,"Non-Lead"]
[{"$f":"IF(AND(ISBLANK(INDEX($G:$G,)), ISBLANK(INDEX($C:$C,))), \"\", 'PWS Records (System Entry)'!$D$4)","v":"LA1061014"},{"$f":"IF(AND(ISBLANK(INDEX($G:$G,)), ISBLANK(INDEX($C:$C,))), \"\", 'PWS Records (System Entry)'!$D$3)","v":"MT. OLIVE WATERWORK DISTRICT"},"1598 HWY 544","Ruston","LA",71270,null,null,null,"INDIVIDUAL NAME & SUBDIVISION (HOME NUMBER)","Non-Lead - Plastic","Visual Inspection (for example, visual confirmation at meter pit)","No","No",null,null,"Non-Lead - Plastic","Visual Inspection (for example, visual confirmation at meter pit)",null,null,"Non-Lead"]
[{"$f":"IF(AND(ISBLANK(INDEX($G:$G,)), ISBLANK(INDEX($C:$C,))), \"\", 'PWS Records (System Entry)'!$D$4)","v":"LA1061014"},{"$f":"IF(AND(ISBLANK(INDEX($G:$G,)), ISBLANK(INDEX($C:$C,))), \"\", 'PWS Records (System Entry)'!$D$3)","v":"MT. OLIVE WATERWORK DISTRICT"},"1589 HWY 544","Ruston","LA",71270,null,null,null,"INDIVIDUAL NAME & SUBDIVISION (HOME NUMBER)","Non-Lead - Plastic","Visual Inspection (for example, visual confirmation at meter pit)","No","No",null,null,"Non-Lead - Plastic","Visual Inspection (for example, visual confirmation at meter pit)",null,null,"Non-Lead"]
[{"$f":"IF(AND(ISBLANK(INDEX($G:$G,)), ISBLANK(INDEX($C:$C,))), \"\", 'PWS Records (System Entry)'!$D$4)","v":"LA1061014"},{"$f":"IF(AND(ISBLANK(INDEX($G:$G,)), ISBLANK(INDEX($C:$C,))), \"\", 'PWS Records (System Entry)'!$D$3)","v":"MT. OLIVE WATERWORK DISTRICT"},"1602 HWY 544","Ruston","LA",71270,null,null,null,"INDIVIDUAL NAME & SUBDIVISION (HOME NUMBER)","Non-Lead - Plastic","Visual Inspection (for example, visual confirmation at meter pit)","No","No",null,null,"Non-Lead - Plastic","Visual Inspection (for example, visual confirmation at meter pit)",null,null,"Non-Lead"]
[{"$f":"IF(AND(ISBLANK(INDEX($G:$G,)), ISBLANK(INDEX($C:$C,))), \"\", 'PWS Records (System Entry)'!$D$4)","v":"LA1061014"},{"$f":"IF(AND(ISBLANK(INDEX($G:$G,)), ISBLANK(INDEX($C:$C,))), \"\", 'PWS Records (System Entry)'!$D$3)","v":"MT. OLIVE WATERWORK DISTRICT"},"1600 HWY 544","Ruston","LA",71270,null,null,null,"INDIVIDUAL NAME & SUBDIVISION (HOME NUMBER)","Non-Lead - Plastic","Visual Inspection (for example, visual confirmation at meter pit)","No","No",null,null,"Non-Lead - Plastic","Visual Inspection (for example, visual confirmation at meter pit)",null,null,"Non-Lead"]
[{"$f":"IF(AND(ISBLANK(INDEX($G:$G,)), ISBLANK(INDEX($C:$C,))), \"\", 'PWS Records (System Entry)'!$D$4)","v":"LA1061014"},{"$f":"IF(AND(ISBLANK(INDEX($G:$G,)), ISBLANK(INDEX($C:$C,))), \"\", 'PWS Records (System Entry)'!$D$3)","v":"MT. OLIVE WATERWORK DISTRICT"},"1612 HWY 544","Ruston","LA",71270,null,null,null,"INDIVIDUAL NAME & SUBDIVISION (HOME NUMBER)","Non-Lead - Plastic","Visual Inspection (for example, visual confirmation at meter pit)","No","No",null,null,"Non-Lead - Plastic","Visual Inspection (for example, visual confirmation at meter pit)",null,null,"Non-Lead"]
[{"$f":"IF(AND(ISBLANK(INDEX($G:$G,)), ISBLANK(INDEX($C:$C,))), \"\", 'PWS Records (System Entry)'!$D$4)","v":"LA1061014"},{"$f":"IF(AND(ISBLANK(INDEX($G:$G,)), ISBLANK(INDEX($C:$C,))), \"\", 'PWS Records (System Entry)'!$D$3)","v":"MT. OLIVE WATERWORK DISTRICT"},"1612 HWY 544","Ruston","LA",71270,null,null,null,"INDIVIDUAL NAME & SUBDIVISION (HOME NUMBER)","Non-Lead - Plastic","Visual Inspection (for example, visual confirmation at meter pit)","No","No",null,null,"Non-Lead - Plastic","Visual Inspection (for example, visual confirmation at meter pit)",null,null,"Non-Lead"]
[{"$f":"IF(AND(ISBLANK(INDEX($G:$G,)), ISBLANK(INDEX($C:$C,))), \"\", 'PWS Records (System Entry)'!$D$4)","v":"LA1061014"},{"$f":"IF(AND(ISBLANK(INDEX($G:$G,)), ISBLANK(INDEX($C:$C,))), \"\", 'PWS Records (System Entry)'!$D$3)","v":"MT. OLIVE WATERWORK DISTRICT"},"1654 HWY 544","Ruston","LA",71270,null,null,null,"INDIVIDUAL NAME & SUBDIVISION (HOME NUMBER)","Non-Lead - Plastic","Visual Inspection (for example, visual confirmation at meter pit)","No","No",null,null,"Non-Lead - Plastic","Visual Inspection (for example, visual confirmation at meter pit)",null,null,"Non-Lead"]
[{"$f":"IF(AND(ISBLANK(INDEX($G:$G,)), ISBLANK(INDEX($C:$C,))), \"\", 'PWS Records (System Entry)'!$D$4)","v":"LA1061014"},{"$f":"IF(AND(ISBLANK(INDEX($G:$G,)), ISBLANK(INDEX($C:$C,))), \"\", 'PWS Records (System Entry)'!$D$3)","v":"MT. OLIVE WATERWORK DISTRICT"},"1924 HWY 544","Ruston","LA",71270,null,null,null,"INDIVIDUAL NAME & SUBDIVISION (HOME NUMBER)","Non-Lead - Plastic","Visual Inspection (for example, visual confirmation at meter pit)","No","No",null,null,"Non-Lead - Plastic","Visual Inspection (for example, visual confirmation at meter pit)",null,null,"Non-Lead"]
[{"$f":"IF(AND(ISBLANK(INDEX($G:$G,)), ISBLANK(INDEX($C:$C,))), \"\", 'PWS Records (System Entry)'!$D$4)","v":"LA1061014"},{"$f":"IF(AND(ISBLANK(INDEX($G:$G,)), ISBLANK(INDEX($C:$C,))), \"\", 'PWS Records (System Entry)'!$D$3)","v":"MT. OLIVE WATERWORK DISTRICT"},"1689 HWY 544","Ruston","LA",71270,null,null,null,"INDIVIDUAL NAME & SUBDIVISION (HOME NUMBER)","Non-Lead - Plastic","Visual Inspection (for example, visual confirmation at meter pit)","No","No",null,null,"Non-Lead - Plastic","Visual Inspection (for example, visual confirmation at meter pit)",null,null,"Non-Lead"]
[{"$f":"IF(AND(ISBLANK(INDEX($G:$G,)), ISBLANK(INDEX($C:$C,))), \"\", 'PWS Records (System Entry)'!$D$4)","v":"LA1061014"},{"$f":"IF(AND(ISBLANK(INDEX($G:$G,)), ISBLANK(INDEX($C:$C,))), \"\", 'PWS Records (System Entry)'!$D$3)","v":"MT. OLIVE WATERWORK DISTRICT"},"160 GARR RD","Ruston","LA",71270,null,null,null,"INDIVIDUAL NAME & SUBDIVISION (HOME NUMBER)","Non-Lead - Plastic","Visual Inspection (for example, visual confirmation at meter pit)","No","No",null,null,"Non-Lead - Plastic","Visual Inspection (for example, visual confirmation at meter pit)",null,null,"Non-Lead"]
[{"$f":"IF(AND(ISBLANK(INDEX($G:$G,)), ISBLANK(INDEX($C:$C,))), \"\", 'PWS Records (System Entry)'!$D$4)","v":"LA1061014"},{"$f":"IF(AND(ISBLANK(INDEX($G:$G,)), ISBLANK(INDEX($C:$C,))), \"\", 'PWS Records (System Entry)'!$D$3)","v":"MT. OLIVE WATERWORK DISTRICT"},"214 GARR RD","Ruston","LA",71270,null,null,null,"INDIVIDUAL NAME & SUBDIVISION (HOME NUMBER)","Non-Lead - Plastic","Visual Inspection (for example, visual confirmation at meter pit)","No","No",null,null,"Non-Lead - Plastic","Visual Inspection (for example, visual confirmation at meter pit)",null,null,"Non-Lead"]
[{"$f":"IF(AND(ISBLANK(INDEX($G:$G,)), ISBLANK(INDEX($C:$C,))), \"\", 'PWS Records (System Entry)'!$D$4)","v":"LA1061014"},{"$f":"IF(AND(ISBLANK(INDEX($G:$G,)), ISBLANK(INDEX($C:$C,))), \"\", 'PWS Records (System Entry)'!$D$3)","v":"MT. OLIVE WATERWORK DISTRICT"},"190 GARR RD","Ruston","LA",71270,null,null,null,"INDIVIDUAL NAME & SUBDIVISION (HOME NUMBER)","Non-Lead - Plastic","Visual Inspection (for example, visual confirmation at meter pit)","No","No",null,null,"Non-Lead - Plastic","Visual Inspection (for example, visual confirmation at meter pit)",null,null,"Non-Lead"]
[{"$f":"IF(AND(ISBLANK(INDEX($G:$G,)), ISBLANK(INDEX($C:$C,))), \"\", 'PWS Records (System Entry)'!$D$4)","v":"LA1061014"},{"$f":"IF(AND(ISBLANK(INDEX($G:$G,)), ISBLANK(INDEX($C:$C,))), \"\", 'PWS Records (System Entry)'!$D$3)","v":"MT. OLIVE WATERWORK DISTRICT"},"172 GARR RD","Ruston","LA",71270,null,null,null,"INDIVIDUAL NAME & SUBDIVISION (HOME NUMBER)","Non-Lead - Plastic","Visual Inspection (for example, visual confirmation at meter pit)","No","No",null,null,"Non-Lead - Plastic","Visual Inspection (for example, visual confirmation at meter pit)",null,null,"Non-Lead"]
[{"$f":"IF(AND(ISBLANK(INDEX($G:$G,)), ISBLANK(INDEX($C:$C,))), \"\", 'PWS Records (System Entry)'!$D$4)","v":"LA1061014"},{"$f":"IF(AND(ISBLANK(INDEX($G:$G,)), ISBLANK(INDEX($C:$C,))), \"\", 'PWS Records (System Entry)'!$D$3)","v":"MT. OLIVE WATERWORK DISTRICT"},"222 GARR RD","Ruston","LA",71270,null,null,null,"INDIVIDUAL NAME & SUBDIVISION (HOME NUMBER)","Non-Lead - Plastic","Visual Inspection (for example, visual confirmation at meter pit)","No","No",null,null,"Non-Lead - Plastic","Visual Inspection (for example, visual confirmation at meter pit)",null,null,"Non-Lead"]
[{"$f":"IF(AND(ISBLANK(INDEX($G:$G,)), ISBLANK(INDEX($C:$C,))), \"\", 'PWS Records (System Entry)'!$D$4)","v":"LA1061014"},{"$f":"IF(AND(ISBLANK(INDEX($G:$G,)), ISBLANK(INDEX($C:$C,))), \"\", 'PWS Records (System Entry)'!$D$3)","v":"MT. OLIVE WATERWORK DISTRICT"},"204 GARR RD","Ruston","LA",71270,null,null,null,"INDIVIDUAL NAME & SUBDIVISION (HOME NUMBER)","Non-Lead - Plastic","Visual Inspection (for example, visual confirmation at meter pit)","No","No",null,null,"Non-Lead - Plastic","Visual Inspection (for example, visual confirmation at meter pit)",null,null,"Non-Lead"]
[{"$f":"IF(AND(ISBLANK(INDEX($G:$G,)), ISBLANK(INDEX($C:$C,))), \"\", 'PWS Records (System Entry)'!$D$4)","v":"LA1061014"},{"$f":"IF(AND(ISBLANK(INDEX($G:$G,)), ISBLANK(INDEX($C:$C,))), \"\", 'PWS Records (System Entry)'!$D$3)","v":"MT. OLIVE WATERWORK DISTRICT"},"180 GARR RD","Ruston","LA",71270,null,null,null,"INDIVIDUAL NAME & SUBDIVISION (HOME NUMBER)","Non-Lead - Plastic","Visual Inspection (for example, visual confirmation at meter pit)","No","No",null,null,"Non-Lead - Plastic","Visual Inspection (for example, visual confirmation at meter pit)",null,null,"Non-Lead"]
[{"$f":"IF(AND(ISBLANK(INDEX($G:$G,)), ISBLANK(INDEX($C:$C,))), \"\", 'PWS Records (System Entry)'!$D$4)","v":"LA1061014"},{"$f":"IF(AND(ISBLANK(INDEX($G:$G,)), ISBLANK(INDEX($C:$C,))), \"\", 'PWS Records (System Entry)'!$D$3)","v":"MT. OLIVE WATERWORK DISTRICT"},"190 GARR RD","Ruston","LA",71270,null,null,null,"INDIVIDUAL NAME & SUBDIVISION (HOME NUMBER)","Non-Lead - Plastic","Visual Inspection (for example, visual confirmation at meter pit)","No","No",null,null,"Non-Lead - Plastic","Visual Inspection (for example, visual confirmation at meter pit)",null,null,"Non-Lead"]
[{"$f":"IF(AND(ISBLANK(INDEX($G:$G,)), ISBLANK(INDEX($C:$C,))), \"\", 'PWS Records (System Entry)'!$D$4)","v":"LA1061014"},{"$f":"IF(AND(ISBLANK(INDEX($G:$G,)), ISBLANK(INDEX($C:$C,))), \"\", 'PWS Records (System Entry)'!$D$3)","v":"MT. OLIVE WATERWORK DISTRICT"},"220 GARR RD","Ruston","LA",71270,null,null,null,"INDIVIDUAL NAME & SUBDIVISION (HOME NUMBER)","Non-Lead - Plastic","Visual Inspection (for example, visual confirmation at meter pit)","No","No",null,null,"Non-Lead - Plastic","Visual Inspection (for example, visual confirmation at meter pit)",null,null,"Non-Lead"]
[{"$f":"IF(AND(ISBLANK(INDEX($G:$G,)), ISBLANK(INDEX($C:$C,))), \"\", 'PWS Records (System Entry)'!$D$4)","v":"LA1061014"},{"$f":"IF(AND(ISBLANK(INDEX($G:$G,)), ISBLANK(INDEX($C:$C,))), \"\", 'PWS Records (System Entry)'!$D$3)","v":"MT. OLIVE WATERWORK DISTRICT"},"206 GARR RD","Ruston","LA",71270,null,null,null,"INDIVIDUAL NAME & SUBDIVISION (HOME NUMBER)","Non-Lead - Plastic","Visual Inspection (for example, visual confirmation at meter pit)","No","No",null,null,"Non-Lead - Plastic","Visual Inspection (for example, visual confirmation at meter pit)",null,null,"Non-Lead"]
[{"$f":"IF(AND(ISBLANK(INDEX($G:$G,)), ISBLANK(INDEX($C:$C,))), \"\", 'PWS Records (System Entry)'!$D$4)","v":"LA1061014"},{"$f":"IF(AND(ISBLANK(INDEX($G:$G,)), ISBLANK(INDEX($C:$C,))), \"\", 'PWS Records (System Entry)'!$D$3)","v":"MT. OLIVE WATERWORK DISTRICT"},"210 GARR RD","Ruston","LA",71270,null,null,null,"INDIVIDUAL NAME & SUBDIVISION (HOME NUMBER)","Non-Lead - Plastic","Visual Inspection (for example, visual confirmation at meter pit)","No","No",null,null,"Non-Lead - Plastic","Visual Inspection (for example, visual confirmation at meter pit)",null,null,"Non-Lead"]
[{"$f":"IF(AND(ISBLANK(INDEX($G:$G,)), ISBLANK(INDEX($C:$C,))), \"\", 'PWS Records (System Entry)'!$D$4)","v":"LA1061014"},{"$f":"IF(AND(ISBLANK(INDEX($G:$G,)), ISBLANK(INDEX($C:$C,))), \"\", 'PWS Records (System Entry)'!$D$3)","v":"MT. OLIVE WATERWORK DISTRICT"},"206 GARR RD","Ruston","LA",71270,null,null,null,"INDIVIDUAL NAME & SUBDIVISION (HOME NUMBER)","Non-Lead - Plastic","Visual Inspection (for example, visual confirmation at meter pit)","No","No",null,null,"Non-Lead - Plastic","Visual Inspection (for example, visual confirmation at meter pit)",null,null,"Non-Lead"]
[{"$f":"IF(AND(ISBLANK(INDEX($G:$G,)), ISBLANK(INDEX($C:$C,))), \"\", 'PWS Records (System Entry)'!$D$4)","v":"LA1061014"},{"$f":"IF(AND(ISBLANK(INDEX($G:$G,)), ISBLANK(INDEX($C:$C,))), \"\", 'PWS Records (System Entry)'!$D$3)","v":"MT. OLIVE WATERWORK DISTRICT"},"213 GARR RD","Ruston","LA",71270,null,null,null,"INDIVIDUAL NAME & SUBDIVISION (HOME NUMBER)","Non-Lead - Plastic","Visual Inspection (for example, visual confirmation at meter pit)","No","No",null,null,"Non-Lead - Plastic","Visual Inspection (for example, visual confirmation at meter pit)",null,null,"Non-Lead"]
[{"$f":"IF(AND(ISBLANK(INDEX($G:$G,)), ISBLANK(INDEX($C:$C,))), \"\", 'PWS Records (System Entry)'!$D$4)","v":"LA1061014"},{"$f":"IF(AND(ISBLANK(INDEX($G:$G,)), ISBLANK(INDEX($C:$C,))), \"\", 'PWS Records (System Entry)'!$D$3)","v":"MT. OLIVE WATERWORK DISTRICT"},"212 GARR RD","Ruston","LA",71270,null,null,null,"INDIVIDUAL NAME & SUBDIVISION (HOME NUMBER)","Non-Lead - Plastic","Visual Inspection (for example, visual confirmation at meter pit)","No","No",null,null,"Non-Lead - Plastic","Visual Inspection (for example, visual confirmation at meter pit)",null,null,"Non-Lead"]
[{"$f":"IF(AND(ISBLANK(INDEX($G:$G,)), ISBLANK(INDEX($C:$C,))), \"\", 'PWS Records (System Entry)'!$D$4)","v":"LA1061014"},{"$f":"IF(AND(ISBLANK(INDEX($G:$G,)), ISBLANK(INDEX($C:$C,))), \"\", 'PWS Records (System Entry)'!$D$3)","v":"MT. OLIVE WATERWORK DISTRICT"},"214 GARR RD","Ruston","LA",71270,null,null,null,"INDIVIDUAL NAME & SUBDIVISION (HOME NUMBER)","Non-Lead - Plastic","Visual Inspection (for example, visual confirmation at meter pit)","No","No",null,null,"Non-Lead - Plastic","Visual Inspection (for example, visual confirmation at meter pit)",null,null,"Non-Lead"]
[{"$f":"IF(AND(ISBLANK(INDEX($G:$G,)), ISBLANK(INDEX($C:$C,))), \"\", 'PWS Records (System Entry)'!$D$4)","v":"LA1061014"},{"$f":"IF(AND(ISBLANK(INDEX($G:$G,)), ISBLANK(INDEX($C:$C,))), \"\", 'PWS Records (System Entry)'!$D$3)","v":"MT. OLIVE WATERWORK DISTRICT"},"216 GARR RD","Ruston","LA",71270,null,null,null,"INDIVIDUAL NAME & SUBDIVISION (HOME NUMBER)","Non-Lead - Plastic","Visual Inspection (for example, visual confirmation at meter pit)","No","No",null,null,"Non-Lead - Plastic","Visual Inspection (for example, visual confirmation at meter pit)",null,null,"Non-Lead"]
[{"$f":"IF(AND(ISBLANK(INDEX($G:$G,)), ISBLANK(INDEX($C:$C,))), \"\", 'PWS Records (System Entry)'!$D$4)","v":"LA1061014"},{"$f":"IF(AND(ISBLANK(INDEX($G:$G,)), ISBLANK(INDEX($C:$C,))), \"\", 'PWS Records (System Entry)'!$D$3)","v":"MT. OLIVE WATERWORK DISTRICT"},"218 GARR RD","Ruston","LA",71270,null,null,null,"INDIVIDUAL NAME & SUBDIVISION (HOME NUMBER)","Non-Lead - Plastic","Visual Inspection (for example, visual confirmation at meter pit)","No","No",null,null,"Non-Lead - Plastic","Visual Inspection (for example, visual confirmation at meter pit)",null,null,"Non-Lead"]
[{"$f":"IF(AND(ISBLANK(INDEX($G:$G,)), ISBLANK(INDEX($C:$C,))), \"\", 'PWS Records (System Entry)'!$D$4)","v":"LA1061014"},{"$f":"IF(AND(ISBLANK(INDEX($G:$G,)), ISBLANK(INDEX($C:$C,))), \"\", 'PWS Records (System Entry)'!$D$3)","v":"MT. OLIVE WATERWORK DISTRICT"},"224 GARR RD","Ruston","LA",71270,null,null,null,"INDIVIDUAL NAME & SUBDIVISION (HOME NUMBER)","Non-Lead - Plastic","Visual Inspection (for example, visual confirmation at meter pit)","No","No",null,null,"Non-Lead - Plastic","Visual Inspection (for example, visual confirmation at meter pit)",null,null,"Non-Lead"]
[{"$f":"IF(AND(ISBLANK(INDEX($G:$G,)), ISBLANK(INDEX($C:$C,))), \"\", 'PWS Records (System Entry)'!$D$4)","v":"LA1061014"},{"$f":"IF(AND(ISBLANK(INDEX($G:$G,)), ISBLANK(INDEX($C:$C,))), \"\", 'PWS Records (System Entry)'!$D$3)","v":"MT. OLIVE WATERWORK DISTRICT"},"268 VIOLA RD","Ruston","LA",71270,null,null,null,"INDIVIDUAL NAME & SUBDIVISION (HOME NUMBER)","Non-Lead - Plastic","Visual Inspection (for example, visual confirmation at meter pit)","No","No",null,null,"Non-Lead - Plastic","Visual Inspection (for example, visual confirmation at meter pit)",null,null,"Non-Lead"]
[{"$f":"IF(AND(ISBLANK(INDEX($G:$G,)), ISBLANK(INDEX($C:$C,))), \"\", 'PWS Records (System Entry)'!$D$4)","v":"LA1061014"},{"$f":"IF(AND(ISBLANK(INDEX($G:$G,)), ISBLANK(INDEX($C:$C,))), \"\", 'PWS Records (System Entry)'!$D$3)","v":"MT. OLIVE WATERWORK DISTRICT"},"154 VIOLA RD","Ruston","LA",71270,null,null,null,"INDIVIDUAL NAME & SUBDIVISION (HOME NUMBER)","Non-Lead - Plastic","Visual Inspection (for example, visual confirmation at meter pit)","No","No",null,null,"Non-Lead - Plastic","Visual Inspection (for example, visual confirmation at meter pit)",null,null,"Non-Lead"]
[{"$f":"IF(AND(ISBLANK(INDEX($G:$G,)), ISBLANK(INDEX($C:$C,))), \"\", 'PWS Records (System Entry)'!$D$4)","v":"LA1061014"},{"$f":"IF(AND(ISBLANK(INDEX($G:$G,)), ISBLANK(INDEX($C:$C,))), \"\", 'PWS Records (System Entry)'!$D$3)","v":"MT. OLIVE WATERWORK DISTRICT"},"225 GARR RD","Ruston","LA",71270,null,null,null,"INDIVIDUAL NAME & SUBDIVISION (HOME NUMBER)","Non-Lead - Plastic","Visual Inspection (for example, visual confirmation at meter pit)","No","No",null,null,"Non-Lead - Plastic","Visual Inspection (for example, visual confirmation at meter pit)",null,null,"Non-Lead"]
[{"$f":"IF(AND(ISBLANK(INDEX($G:$G,)), ISBLANK(INDEX($C:$C,))), \"\", 'PWS Records (System Entry)'!$D$4)","v":"LA1061014"},{"$f":"IF(AND(ISBLANK(INDEX($G:$G,)), ISBLANK(INDEX($C:$C,))), \"\", 'PWS Records (System Entry)'!$D$3)","v":"MT. OLIVE WATERWORK DISTRICT"},"253 GARR RD","Ruston","LA",71270,null,null,null,"INDIVIDUAL NAME & SUBDIVISION (HOME NUMBER)","Non-Lead - Plastic","Visual Inspection (for example, visual confirmation at meter pit)","No","No",null,null,"Non-Lead - Plastic","Visual Inspection (for example, visual confirmation at meter pit)",null,null,"Non-Lead"]
[{"$f":"IF(AND(ISBLANK(INDEX($G:$G,)), ISBLANK(INDEX($C:$C,))), \"\", 'PWS Records (System Entry)'!$D$4)","v":"LA1061014"},{"$f":"IF(AND(ISBLANK(INDEX($G:$G,)), ISBLANK(INDEX($C:$C,))), \"\", 'PWS Records (System Entry)'!$D$3)","v":"MT. OLIVE WATERWORK DISTRICT"},"269 GARR RD","Ruston","LA",71270,null,null,null,"INDIVIDUAL NAME & SUBDIVISION (HOME NUMBER)","Non-Lead - Plastic","Visual Inspection (for example, visual confirmation at meter pit)","No","No",null,null,"Non-Lead - Plastic","Visual Inspection (for example, visual confirmation at meter pit)",null,null,"Non-Lead"]
[{"$f":"IF(AND(ISBLANK(INDEX($G:$G,)), ISBLANK(INDEX($C:$C,))), \"\", 'PWS Records (System Entry)'!$D$4)","v":"LA1061014"},{"$f":"IF(AND(ISBLANK(INDEX($G:$G,)), ISBLANK(INDEX($C:$C,))), \"\", 'PWS Records (System Entry)'!$D$3)","v":"MT. OLIVE WATERWORK DISTRICT"},"272 GARR RD","Ruston","LA",71270,null,null,null,"INDIVIDUAL NAME & SUBDIVISION (HOME NUMBER)","Non-Lead - Plastic","Visual Inspection (for example, visual confirmation at meter pit)","No","No",null,null,"Non-Lead - Plastic","Visual Inspection (for example, visual confirmation at meter pit)",null,null,{"$f":"IF(AND(INDEX($K:$K,)=\"\", INDEX($L:$L,)=\"\", INDEX($M:$M,)=\"\", INDEX($Q:$Q,)=\"\", INDEX($R:$R,)=\"\"), \"\", IF(OR(INDEX($K:$K,)=\"Lead\",INDEX($Q:$Q,)=\"Lead\"),\"Lead\",IF(OR(AND(OR(INDEX($M:$M,)=\"Yes\", INDEX($M:$M,)=\"Don't Know\", INDEX($M:$M,)=\"\"), INDEX($Q:$Q,)=\"Galvanized Iron/Steel\"), AND(INDEX($K:$K,)=\"Unknown\", INDEX($M:$M,)=\"No\", INDEX($Q:$Q,)=\"Galvanized Iron/Steel\")), \"Galvanized Requiring Replacement\", IF(OR(AND(OR(INDEX($K:$K,)=\"Galvanized Iron/Steel\", INDEX($K:$K,)=\"Non-Lead - Copper\", INDEX($K:$K,)=\"Non-Lead - Plastic\", INDEX($K:$K,)=\"Non-Lead - Other\", INDEX($K:$K,)=\"Non-Lead - Material Unknown\", INDEX($K:$K,)=\"No System Owned Portion\"), OR(INDEX($Q:$Q,)=\"Galvanized Iron/Steel\", INDEX($Q:$Q,)=\"Non-Lead - Copper\", INDEX($Q:$Q,)=\"Non-Lead - Plastic\", INDEX($Q:$Q,)=\"Non-Lead - Other\", INDEX($Q:$Q,)=\"Non-Lead - Predictive Model\", INDEX($Q:$Q,)=\"No Customer Owned Portion\")), AND(OR( INDEX($K:$K,)=\"Galvanized Iron/Steel\", INDEX($K:$K,)=\"Non-Lead - Copper\", INDEX($K:$K,)=\"Non-Lead - Plastic\", INDEX($K:$K,)=\"Non-Lead - Other\", INDEX($K:$K,)=\"Non-Lead - Material Unknown\", INDEX($K:$K,)=\"No System Owned Portion\"), INDEX($M:$M,)=\"No\", INDEX($Q:$Q,)=\"Non-Lead - Material Unknown\")), \"Non-Lead\", \"Lead Status Unknown\"))))","v":"Non-Lead"}]
[{"$f":"IF(AND(ISBLANK(INDEX($G:$G,)), ISBLANK(INDEX($C:$C,))), \"\", 'PWS Records (System Entry)'!$D$4)","v":"LA1061014"},{"$f":"IF(AND(ISBLANK(INDEX($G:$G,)), ISBLANK(INDEX($C:$C,))), \"\", 'PWS Records (System Entry)'!$D$3)","v":"MT. OLIVE WATERWORK DISTRICT"},"283 GARR RD","Ruston","LA",71270,null,null,null,"INDIVIDUAL NAME & SUBDIVISION (HOME NUMBER)","Non-Lead - Plastic","Visual Inspection (for example, visual confirmation at meter pit)","No","No",null,null,"Non-Lead - Plastic","Visual Inspection (for example, visual confirmation at meter pit)",null,null,"Non-Lead"]
[{"$f":"IF(AND(ISBLANK(INDEX($G:$G,)), ISBLANK(INDEX($C:$C,))), \"\", 'PWS Records (System Entry)'!$D$4)","v":"LA1061014"},{"$f":"IF(AND(ISBLANK(INDEX($G:$G,)), ISBLANK(INDEX($C:$C,))), \"\", 'PWS Records (System Entry)'!$D$3)","v":"MT. OLIVE WATERWORK DISTRICT"},"294 GARR RD","Ruston","LA",71270,null,null,null,"INDIVIDUAL NAME & SUBDIVISION (HOME NUMBER)","Non-Lead - Plastic","Visual Inspection (for example, visual confirmation at meter pit)","No","No",null,null,"Non-Lead - Plastic","Visual Inspection (for example, visual confirmation at meter pit)",null,null,"Non-Lead"]
[{"$f":"IF(AND(ISBLANK(INDEX($G:$G,)), ISBLANK(INDEX($C:$C,))), \"\", 'PWS Records (System Entry)'!$D$4)","v":"LA1061014"},{"$f":"IF(AND(ISBLANK(INDEX($G:$G,)), ISBLANK(INDEX($C:$C,))), \"\", 'PWS Records (System Entry)'!$D$3)","v":"MT. OLIVE WATERWORK DISTRICT"},"131 DUNN RD","Ruston","LA",71270,null,null,null,"INDIVIDUAL NAME & SUBDIVISION (HOME NUMBER)","Non-Lead - Plastic","Visual Inspection (for example, visual confirmation at meter pit)","No","No",null,null,"Non-Lead - Plastic","Visual Inspection (for example, visual confirmation at meter pit)",null,null,"Non-Lead"]
[{"$f":"IF(AND(ISBLANK(INDEX($G:$G,)), ISBLANK(INDEX($C:$C,))), \"\", 'PWS Records (System Entry)'!$D$4)","v":"LA1061014"},{"$f":"IF(AND(ISBLANK(INDEX($G:$G,)), ISBLANK(INDEX($C:$C,))), \"\", 'PWS Records (System Entry)'!$D$3)","v":"MT. OLIVE WATERWORK DISTRICT"},"173 DUNN RD","Ruston","LA",71270,null,null,null,"INDIVIDUAL NAME & SUBDIVISION (HOME NUMBER)","Non-Lead - Plastic","Visual Inspection (for example, visual confirmation at meter pit)","No","No",null,null,"Non-Lead - Plastic","Visual Inspection (for example, visual confirmation at meter pit)",null,null,"Non-Lead"]
[{"$f":"IF(AND(ISBLANK(INDEX($G:$G,)), ISBLANK(INDEX($C:$C,))), \"\", 'PWS Records (System Entry)'!$D$4)","v":"LA1061014"},{"$f":"IF(AND(ISBLANK(INDEX($G:$G,)), ISBLANK(INDEX($C:$C,))), \"\", 'PWS Records (System Entry)'!$D$3)","v":"MT. OLIVE WATERWORK DISTRICT"},"178 DUNN RD","Ruston","LA",71270,null,null,null,"INDIVIDUAL NAME & SUBDIVISION (HOME NUMBER)","Non-Lead - Plastic","Visual Inspection (for example, visual confirmation at meter pit)","No","No",null,null,"Non-Lead - Plastic","Visual Inspection (for example, visual confirmation at meter pit)",null,null,"Non-Lead"]
[{"$f":"IF(AND(ISBLANK(INDEX($G:$G,)), ISBLANK(INDEX($C:$C,))), \"\", 'PWS Records (System Entry)'!$D$4)","v":"LA1061014"},{"$f":"IF(AND(ISBLANK(INDEX($G:$G,)), ISBLANK(INDEX($C:$C,))), \"\", 'PWS Records (System Entry)'!$D$3)","v":"MT. OLIVE WATERWORK DISTRICT"},"188 DUNN RD","Ruston","LA",71270,null,null,null,"INDIVIDUAL NAME & SUBDIVISION (HOME NUMBER)","Non-Lead - Plastic","Visual Inspection (for example, visual confirmation at meter pit)","No","No",null,null,"Non-Lead - Plastic","Visual Inspection (for example, visual confirmation at meter pit)",null,null,"Non-Lead"]
[{"$f":"IF(AND(ISBLANK(INDEX($G:$G,)), ISBLANK(INDEX($C:$C,))), \"\", 'PWS Records (System Entry)'!$D$4)","v":"LA1061014"},{"$f":"IF(AND(ISBLANK(INDEX($G:$G,)), ISBLANK(INDEX($C:$C,))), \"\", 'PWS Records (System Entry)'!$D$3)","v":"MT. OLIVE WATERWORK DISTRICT"},"209 DUNN RD","Ruston","LA",71270,null,null,null,"INDIVIDUAL NAME & SUBDIVISION (HOME NUMBER)","Non-Lead - Plastic","Visual Inspection (for example, visual confirmation at meter pit)","No","No",null,null,"Non-Lead - Plastic","Visual Inspection (for example, visual confirmation at meter pit)",null,null,"Non-Lead"]
[{"$f":"IF(AND(ISBLANK(INDEX($G:$G,)), ISBLANK(INDEX($C:$C,))), \"\", 'PWS Records (System Entry)'!$D$4)","v":"LA1061014"},{"$f":"IF(AND(ISBLANK(INDEX($G:$G,)), ISBLANK(INDEX($C:$C,))), \"\", 'PWS Records (System Entry)'!$D$3)","v":"MT. OLIVE WATERWORK DISTRICT"},"209 DUNN RD","Ruston","LA",71270,null,null,null,"INDIVIDUAL NAME & SUBDIVISION (HOME NUMBER)","Non-Lead - Plastic","Visual Inspection (for example, visual confirmation at meter pit)","No","No",null,null,"Non-Lead - Plastic","Visual Inspection (for example, visual confirmation at meter pit)",null,null,"Non-Lead"]
[{"$f":"IF(AND(ISBLANK(INDEX($G:$G,)), ISBLANK(INDEX($C:$C,))), \"\", 'PWS Records (System Entry)'!$D$4)","v":"LA1061014"},{"$f":"IF(AND(ISBLANK(INDEX($G:$G,)), ISBLANK(INDEX($C:$C,))), \"\", 'PWS Records (System Entry)'!$D$3)","v":"MT. OLIVE WATERWORK DISTRICT"},"255 DUNN RD","Ruston","LA",71270,null,null,null,"INDIVIDUAL NAME & SUBDIVISION (HOME NUMBER)","Non-Lead - Plastic","Visual Inspection (for example, visual confirmation at meter pit)","No","No",null,null,"Non-Lead - Plastic","Visual Inspection (for example, visual confirmation at meter pit)",null,null,"Non-Lead"]
[{"$f":"IF(AND(ISBLANK(INDEX($G:$G,)), ISBLANK(INDEX($C:$C,))), \"\", 'PWS Records (System Entry)'!$D$4)","v":"LA1061014"},{"$f":"IF(AND(ISBLANK(INDEX($G:$G,)), ISBLANK(INDEX($C:$C,))), \"\", 'PWS Records (System Entry)'!$D$3)","v":"MT. OLIVE WATERWORK DISTRICT"},"245 DUNN RD","Ruston","LA",71270,null,null,null,"INDIVIDUAL NAME & SUBDIVISION (HOME NUMBER)","Non-Lead - Plastic","Visual Inspection (for example, visual confirmation at meter pit)","No","No",null,null,"Non-Lead - Plastic","Visual Inspection (for example, visual confirmation at meter pit)",null,null,"Non-Lead"]
[{"$f":"IF(AND(ISBLANK(INDEX($G:$G,)), ISBLANK(INDEX($C:$C,))), \"\", 'PWS Records (System Entry)'!$D$4)","v":"LA1061014"},{"$f":"IF(AND(ISBLANK(INDEX($G:$G,)), ISBLANK(INDEX($C:$C,))), \"\", 'PWS Records (System Entry)'!$D$3)","v":"MT. OLIVE WATERWORK DISTRICT"},"241 DUNN RD","Ruston","LA",71270,null,null,null,"INDIVIDUAL NAME & SUBDIVISION (HOME NUMBER)","Non-Lead - Plastic","Visual Inspection (for example, visual confirmation at meter pit)","No","No",null,null,"Non-Lead - Plastic","Visual Inspection (for example, visual confirmation at meter pit)",null,null,"Non-Lead"]
[{"$f":"IF(AND(ISBLANK(INDEX($G:$G,)), ISBLANK(INDEX($C:$C,))), \"\", 'PWS Records (System Entry)'!$D$4)","v":"LA1061014"},{"$f":"IF(AND(ISBLANK(INDEX($G:$G,)), ISBLANK(INDEX($C:$C,))), \"\", 'PWS Records (System Entry)'!$D$3)","v":"MT. OLIVE WATERWORK DISTRICT"},"243 DUNN RD","Ruston","LA",71270,null,null,null,"INDIVIDUAL NAME & SUBDIVISION (HOME NUMBER)","Non-Lead - Plastic","Visual Inspection (for example, visual confirmation at meter pit)","No","No",null,null,"Non-Lead - Plastic","Visual Inspection (for example, visual confirmation at meter pit)",null,null,"Non-Lead"]
[{"$f":"IF(AND(ISBLANK(INDEX($G:$G,)), ISBLANK(INDEX($C:$C,))), \"\", 'PWS Records (System Entry)'!$D$4)","v":"LA1061014"},{"$f":"IF(AND(ISBLANK(INDEX($G:$G,)), ISBLANK(INDEX($C:$C,))), \"\", 'PWS Records (System Entry)'!$D$3)","v":"MT. OLIVE WATERWORK DISTRICT"},"244 DUNN RD","Ruston","LA",71270,null,null,null,"INDIVIDUAL NAME & SUBDIVISION (HOME NUMBER)","Non-Lead - Plastic","Visual Inspection (for example, visual confirmation at meter pit)","No","No",null,null,"Non-Lead - Plastic","Visual Inspection (for example, visual confirmation at meter pit)",null,null,"Non-Lead"]
[{"$f":"IF(AND(ISBLANK(INDEX($G:$G,)), ISBLANK(INDEX($C:$C,))), \"\", 'PWS Records (System Entry)'!$D$4)","v":"LA1061014"},{"$f":"IF(AND(ISBLANK(INDEX($G:$G,)), ISBLANK(INDEX($C:$C,))), \"\", 'PWS Records (System Entry)'!$D$3)","v":"MT. OLIVE WATERWORK DISTRICT"},"329 DUNN RD","Ruston","LA",71270,null,null,null,"INDIVIDUAL NAME & SUBDIVISION (HOME NUMBER)","Non-Lead - Plastic","Visual Inspection (for example, visual confirmation at meter pit)","No","No",null,null,"Non-Lead - Plastic","Visual Inspection (for example, visual confirmation at meter pit)",null,null,"Non-Lead"]
[{"$f":"IF(AND(ISBLANK(INDEX($G:$G,)), ISBLANK(INDEX($C:$C,))), \"\", 'PWS Records (System Entry)'!$D$4)","v":"LA1061014"},{"$f":"IF(AND(ISBLANK(INDEX($G:$G,)), ISBLANK(INDEX($C:$C,))), \"\", 'PWS Records (System Entry)'!$D$3)","v":"MT. OLIVE WATERWORK DISTRICT"},"325 DUNN RD","Ruston","LA",71270,null,null,null,"INDIVIDUAL NAME & SUBDIVISION (HOME NUMBER)","Non-Lead - Plastic","Visual Inspection (for example, visual confirmation at meter pit)","No","No",null,null,"Non-Lead - Plastic","Visual Inspection (for example, visual confirmation at meter pit)",null,null,"Non-Lead"]
[{"$f":"IF(AND(ISBLANK(INDEX($G:$G,)), ISBLANK(INDEX($C:$C,))), \"\", 'PWS Records (System Entry)'!$D$4)","v":"LA1061014"},{"$f":"IF(AND(ISBLANK(INDEX($G:$G,)), ISBLANK(INDEX($C:$C,))), \"\", 'PWS Records (System Entry)'!$D$3)","v":"MT. OLIVE WATERWORK DISTRICT"},"310 DUNN RD","Ruston","LA",71270,null,null,null,"INDIVIDUAL NAME & SUBDIVISION (HOME NUMBER)","Non-Lead - Plastic","Visual Inspection (for example, visual confirmation at meter pit)","No","No",null,null,"Non-Lead - Plastic","Visual Inspection (for example, visual confirmation at meter pit)",null,null,"Non-Lead"]
[{"$f":"IF(AND(ISBLANK(INDEX($G:$G,)), ISBLANK(INDEX($C:$C,))), \"\", 'PWS Records (System Entry)'!$D$4)","v":"LA1061014"},{"$f":"IF(AND(ISBLANK(INDEX($G:$G,)), ISBLANK(INDEX($C:$C,))), \"\", 'PWS Records (System Entry)'!$D$3)","v":"MT. OLIVE WATERWORK DISTRICT"},"286 DUNN RD","Ruston","LA",71270,null,null,null,"INDIVIDUAL NAME & SUBDIVISION (HOME NUMBER)","Non-Lead - Plastic","Visual Inspection (for example, visual confirmation at meter pit)","No","No",null,null,"Non-Lead - Plastic","Visual Inspection (for example, visual confirmation at meter pit)",null,null,"Non-Lead"]
[{"$f":"IF(AND(ISBLANK(INDEX($G:$G,)), ISBLANK(INDEX($C:$C,))), \"\", 'PWS Records (System Entry)'!$D$4)","v":"LA1061014"},{"$f":"IF(AND(ISBLANK(INDEX($G:$G,)), ISBLANK(INDEX($C:$C,))), \"\", 'PWS Records (System Entry)'!$D$3)","v":"MT. OLIVE WATERWORK DISTRICT"},"316 DUNN RD","Ruston","LA",71270,null,null,null,"INDIVIDUAL NAME & SUBDIVISION (HOME NUMBER)","Non-Lead - Plastic","Visual Inspection (for example, visual confirmation at meter pit)","No","No",null,null,"Non-Lead - Plastic","Visual Inspection (for example, visual confirmation at meter pit)",null,null,"Non-Lead"]
[{"$f":"IF(AND(ISBLANK(INDEX($G:$G,)), ISBLANK(INDEX($C:$C,))), \"\", 'PWS Records (System Entry)'!$D$4)","v":"LA1061014"},{"$f":"IF(AND(ISBLANK(INDEX($G:$G,)), ISBLANK(INDEX($C:$C,))), \"\", 'PWS Records (System Entry)'!$D$3)","v":"MT. OLIVE WATERWORK DISTRICT"},"320 DUNN RD","Ruston","LA",71270,null,null,null,"INDIVIDUAL NAME & SUBDIVISION (HOME NUMBER)","Non-Lead - Plastic","Visual Inspection (for example, visual confirmation at meter pit)","No","No",null,null,"Non-Lead - Plastic","Visual Inspection (for example, visual confirmation at meter pit)",null,null,"Non-Lead"]
[{"$f":"IF(AND(ISBLANK(INDEX($G:$G,)), ISBLANK(INDEX($C:$C,))), \"\", 'PWS Records (System Entry)'!$D$4)","v":"LA1061014"},{"$f":"IF(AND(ISBLANK(INDEX($G:$G,)), ISBLANK(INDEX($C:$C,))), \"\", 'PWS Records (System Entry)'!$D$3)","v":"MT. OLIVE WATERWORK DISTRICT"},"290 DUNN RD","Ruston","LA",71270,null,null,null,"INDIVIDUAL NAME & SUBDIVISION (HOME NUMBER)","Non-Lead - Plastic","Visual Inspection (for example, visual confirmation at meter pit)","No","No",null,null,"Non-Lead - Plastic","Visual Inspection (for example, visual confirmation at meter pit)",null,null,"Non-Lead"]
[{"$f":"IF(AND(ISBLANK(INDEX($G:$G,)), ISBLANK(INDEX($C:$C,))), \"\", 'PWS Records (System Entry)'!$D$4)","v":"LA1061014"},{"$f":"IF(AND(ISBLANK(INDEX($G:$G,)), ISBLANK(INDEX($C:$C,))), \"\", 'PWS Records (System Entry)'!$D$3)","v":"MT. OLIVE WATERWORK DISTRICT"},"339 DUNN RD","Ruston","LA",71270,null,null,null,"INDIVIDUAL NAME & SUBDIVISION (HOME NUMBER)","Non-Lead - Plastic","Visual Inspection (for example, visual confirmation at meter pit)","No","No",null,null,"Non-Lead - Plastic","Visual Inspection (for example, visual confirmation at meter pit)",null,null,"Non-Lead"]
[{"$f":"IF(AND(ISBLANK(INDEX($G:$G,)), ISBLANK(INDEX($C:$C,))), \"\", 'PWS Records (System Entry)'!$D$4)","v":"LA1061014"},{"$f":"IF(AND(ISBLANK(INDEX($G:$G,)), ISBLANK(INDEX($C:$C,))), \"\", 'PWS Records (System Entry)'!$D$3)","v":"MT. OLIVE WATERWORK DISTRICT"},"326 DUNN RD","Ruston","LA",71270,null,null,null,"INDIVIDUAL NAME & SUBDIVISION (HOME NUMBER)","Non-Lead - Plastic","Visual Inspection (for example, visual confirmation at meter pit)","No","No",null,null,"Non-Lead - Plastic","Visual Inspection (for example, visual confirmation at meter pit)",null,null,"Non-Lead"]
[{"$f":"IF(AND(ISBLANK(INDEX($G:$G,)), ISBLANK(INDEX($C:$C,))), \"\", 'PWS Records (System Entry)'!$D$4)","v":"LA1061014"},{"$f":"IF(AND(ISBLANK(INDEX($G:$G,)), ISBLANK(INDEX($C:$C,))), \"\", 'PWS Records (System Entry)'!$D$3)","v":"MT. OLIVE WATERWORK DISTRICT"},"324 DUNN RD","Ruston","LA",71270,null,null,null,"INDIVIDUAL NAME & SUBDIVISION (HOME NUMBER)","Non-Lead - Plastic","Visual Inspection (for example, visual confirmation at meter pit)","No","No",null,null,"Non-Lead - Plastic","Visual Inspection (for example, visual confirmation at meter pit)",null,null,"Non-Lead"]
[{"$f":"IF(AND(ISBLANK(INDEX($G:$G,)), ISBLANK(INDEX($C:$C,))), \"\", 'PWS Records (System Entry)'!$D$4)","v":"LA1061014"},{"$f":"IF(AND(ISBLANK(INDEX($G:$G,)), ISBLANK(INDEX($C:$C,))), \"\", 'PWS Records (System Entry)'!$D$3)","v":"MT. OLIVE WATERWORK DISTRICT"},"313 DUNN RD","Ruston","LA",71270,null,null,null,"INDIVIDUAL NAME & SUBDIVISION (HOME NUMBER)","Non-Lead - Plastic","Visual Inspection (for example, visual confirmation at meter pit)","No","No",null,null,"Non-Lead - Plastic","Visual Inspection (for example, visual confirmation at meter pit)",null,null,"Non-Lead"]
[{"$f":"IF(AND(ISBLANK(INDEX($G:$G,)), ISBLANK(INDEX($C:$C,))), \"\", 'PWS Records (System Entry)'!$D$4)","v":"LA1061014"},{"$f":"IF(AND(ISBLANK(INDEX($G:$G,)), ISBLANK(INDEX($C:$C,))), \"\", 'PWS Records (System Entry)'!$D$3)","v":"MT. OLIVE WATERWORK DISTRICT"},"312 DUNN RD","Ruston","LA",71270,null,null,null,"INDIVIDUAL NAME & SUBDIVISION (HOME NUMBER)","Non-Lead - Plastic","Visual Inspection (for example, visual confirmation at meter pit)","No","No",null,null,"Non-Lead - Plastic","Visual Inspection (for example, visual confirmation at meter pit)",null,null,"Non-Lead"]
[{"$f":"IF(AND(ISBLANK(INDEX($G:$G,)), ISBLANK(INDEX($C:$C,))), \"\", 'PWS Records (System Entry)'!$D$4)","v":"LA1061014"},{"$f":"IF(AND(ISBLANK(INDEX($G:$G,)), ISBLANK(INDEX($C:$C,))), \"\", 'PWS Records (System Entry)'!$D$3)","v":"MT. OLIVE WATERWORK DISTRICT"},"319 DUNN RD","Ruston","LA",71270,null,null,null,"INDIVIDUAL NAME & SUBDIVISION (HOME NUMBER)","Non-Lead - Plastic","Visual Inspection (for example, visual confirmation at meter pit)","No","No",null,null,"Non-Lead - Plastic","Visual Inspection (for example, visual confirmation at meter pit)",null,null,"Non-Lead"]
[{"$f":"IF(AND(ISBLANK(INDEX($G:$G,)), ISBLANK(INDEX($C:$C,))), \"\", 'PWS Records (System Entry)'!$D$4)","v":"LA1061014"},{"$f":"IF(AND(ISBLANK(INDEX($G:$G,)), ISBLANK(INDEX($C:$C,))), \"\", 'PWS Records (System Entry)'!$D$3)","v":"MT. OLIVE WATERWORK DISTRICT"},"374 DUNN RD","Ruston","LA",71270,null,null,null,"INDIVIDUAL NAME & SUBDIVISION (HOME NUMBER)","Non-Lead - Plastic","Visual Inspection (for example, visual confirmation at meter pit)","No","No",null,null,"Non-Lead - Plastic","Visual Inspection (for example, visual confirmation at meter pit)",null,null,"Non-Lead"]
[{"$f":"IF(AND(ISBLANK(INDEX($G:$G,)), ISBLANK(INDEX($C:$C,))), \"\", 'PWS Records (System Entry)'!$D$4)","v":"LA1061014"},{"$f":"IF(AND(ISBLANK(INDEX($G:$G,)), ISBLANK(INDEX($C:$C,))), \"\", 'PWS Records (System Entry)'!$D$3)","v":"MT. OLIVE WATERWORK DISTRICT"},"378 DUNN RD","Ruston","LA",71270,null,null,null,"INDIVIDUAL NAME & SUBDIVISION (HOME NUMBER)","Non-Lead - Plastic","Visual Inspection (for example, visual confirmation at meter pit)","No","No",null,null,"Non-Lead - Plastic","Visual Inspection (for example, visual confirmation at meter pit)",null,null,"Non-Lead"]
[{"$f":"IF(AND(ISBLANK(INDEX($G:$G,)), ISBLANK(INDEX($C:$C,))), \"\", 'PWS Records (System Entry)'!$D$4)","v":"LA1061014"},{"$f":"IF(AND(ISBLANK(INDEX($G:$G,)), ISBLANK(INDEX($C:$C,))), \"\", 'PWS Records (System Entry)'!$D$3)","v":"MT. OLIVE WATERWORK DISTRICT"},"309 DUNN RD","Ruston","LA",71270,null,null,null,"INDIVIDUAL NAME & SUBDIVISION (HOME NUMBER)","Non-Lead - Plastic","Visual Inspection (for example, visual confirmation at meter pit)","No","No",null,null,"Non-Lead - Plastic","Visual Inspection (for example, visual confirmation at meter pit)",null,null,"Non-Lead"]
[{"$f":"IF(AND(ISBLANK(INDEX($G:$G,)), ISBLANK(INDEX($C:$C,))), \"\", 'PWS Records (System Entry)'!$D$4)","v":"LA1061014"},{"$f":"IF(AND(ISBLANK(INDEX($G:$G,)), ISBLANK(INDEX($C:$C,))), \"\", 'PWS Records (System Entry)'!$D$3)","v":"MT. OLIVE WATERWORK DISTRICT"},"278 DUNN RD","Ruston","LA",71270,null,null,null,"INDIVIDUAL NAME & SUBDIVISION (HOME NUMBER)","Non-Lead - Plastic","Visual Inspection (for example, visual confirmation at meter pit)","No","No",null,null,"Non-Lead - Plastic","Visual Inspection (for example, visual confirmation at meter pit)",null,null,"Non-Lead"]
[{"$f":"IF(AND(ISBLANK(INDEX($G:$G,)), ISBLANK(INDEX($C:$C,))), \"\", 'PWS Records (System Entry)'!$D$4)","v":"LA1061014"},{"$f":"IF(AND(ISBLANK(INDEX($G:$G,)), ISBLANK(INDEX($C:$C,))), \"\", 'PWS Records (System Entry)'!$D$3)","v":"MT. OLIVE WATERWORK DISTRICT"},"353 DUNN RD","Ruston","LA",71270,null,null,null,"INDIVIDUAL NAME & SUBDIVISION (HOME NUMBER)","Non-Lead - Plastic","Visual Inspection (for example, visual confirmation at meter pit)","No","No",null,null,"Non-Lead - Plastic","Visual Inspection (for example, visual confirmation at meter pit)",null,null,"Non-Lead"]
[{"$f":"IF(AND(ISBLANK(INDEX($G:$G,)), ISBLANK(INDEX($C:$C,))), \"\", 'PWS Records (System Entry)'!$D$4)","v":"LA1061014"},{"$f":"IF(AND(ISBLANK(INDEX($G:$G,)), ISBLANK(INDEX($C:$C,))), \"\", 'PWS Records (System Entry)'!$D$3)","v":"MT. OLIVE WATERWORK DISTRICT"},"353 DUNN RD K","Ruston","LA",71270,null,null,null,"INDIVIDUAL NAME & SUBDIVISION (HOME NUMBER)","Non-Lead - Plastic","Visual Inspection (for example, visual confirmation at meter pit)","No","No",null,null,"Non-Lead - Plastic","Visual Inspection (for example, visual confirmation at meter pit)",null,null,"Non-Lead"]
[{"$f":"IF(AND(ISBLANK(INDEX($G:$G,)), ISBLANK(INDEX($C:$C,))), \"\", 'PWS Records (System Entry)'!$D$4)","v":"LA1061014"},{"$f":"IF(AND(ISBLANK(INDEX($G:$G,)), ISBLANK(INDEX($C:$C,))), \"\", 'PWS Records (System Entry)'!$D$3)","v":"MT. OLIVE WATERWORK DISTRICT"},"353 DUNN RD K","Ruston","LA",71270,null,null,null,"INDIVIDUAL NAME & SUBDIVISION (HOME NUMBER)","Non-Lead - Plastic","Visual Inspection (for example, visual confirmation at meter pit)","No","No",null,null,"Non-Lead - Plastic","Visual Inspection (for example, visual confirmation at meter pit)",null,null,"Non-Lead"]
[{"$f":"IF(AND(ISBLANK(INDEX($G:$G,)), ISBLANK(INDEX($C:$C,))), \"\", 'PWS Records (System Entry)'!$D$4)","v":"LA1061014"},{"$f":"IF(AND(ISBLANK(INDEX($G:$G,)), ISBLANK(INDEX($C:$C,))), \"\", 'PWS Records (System Entry)'!$D$3)","v":"MT. OLIVE WATERWORK DISTRICT"},"353 DUNN RD K","Ruston","LA",71270,null,null,null,"INDIVIDUAL NAME & SUBDIVISION (HOME NUMBER)","Non-Lead - Plastic","Visual Inspection (for example, visual confirmation at meter pit)","No","No",null,null,"Non-Lead - Plastic","Visual Inspection (for example, visual confirmation at meter pit)",null,null,"Non-Lead"]
[{"$f":"IF(AND(ISBLANK(INDEX($G:$G,)), ISBLANK(INDEX($C:$C,))), \"\", 'PWS Records (System Entry)'!$D$4)","v":"LA1061014"},{"$f":"IF(AND(ISBLANK(INDEX($G:$G,)), ISBLANK(INDEX($C:$C,))), \"\", 'PWS Records (System Entry)'!$D$3)","v":"MT. OLIVE WATERWORK DISTRICT"},"353 DUNN RD K","Ruston","LA",71270,null,null,null,"INDIVIDUAL NAME & SUBDIVISION (HOME NUMBER)","Non-Lead - Plastic","Visual Inspection (for example, visual confirmation at meter pit)","No","No",null,null,"Non-Lead - Plastic","Visual Inspection (for example, visual confirmation at meter pit)",null,null,"Non-Lead"]
[{"$f":"IF(AND(ISBLANK(INDEX($G:$G,)), ISBLANK(INDEX($C:$C,))), \"\", 'PWS Records (System Entry)'!$D$4)","v":"LA1061014"},{"$f":"IF(AND(ISBLANK(INDEX($G:$G,)), ISBLANK(INDEX($C:$C,))), \"\", 'PWS Records (System Entry)'!$D$3)","v":"MT. OLIVE WATERWORK DISTRICT"},"363 DUNN RD L.P. 136","Ruston","LA",71270,null,null,null,"INDIVIDUAL NAME & SUBDIVISION (HOME NUMBER)","Non-Lead - Plastic","Visual Inspection (for example, visual confirmation at meter pit)","No","No",null,null,"Non-Lead - Plastic","Visual Inspection (for example, visual confirmation at meter pit)",null,null,"Non-Lead"]
[{"$f":"IF(AND(ISBLANK(INDEX($G:$G,)), ISBLANK(INDEX($C:$C,))), \"\", 'PWS Records (System Entry)'!$D$4)","v":"LA1061014"},{"$f":"IF(AND(ISBLANK(INDEX($G:$G,)), ISBLANK(INDEX($C:$C,))), \"\", 'PWS Records (System Entry)'!$D$3)","v":"MT. OLIVE WATERWORK DISTRICT"},"379 DUNN RD","Ruston","LA",71270,null,null,null,"INDIVIDUAL NAME & SUBDIVISION (HOME NUMBER)","Non-Lead - Plastic","Visual Inspection (for example, visual confirmation at meter pit)","No","No",null,null,"Non-Lead - Plastic","Visual Inspection (for example, visual confirmation at meter pit)",null,null,"Non-Lead"]
[{"$f":"IF(AND(ISBLANK(INDEX($G:$G,)), ISBLANK(INDEX($C:$C,))), \"\", 'PWS Records (System Entry)'!$D$4)","v":"LA1061014"},{"$f":"IF(AND(ISBLANK(INDEX($G:$G,)), ISBLANK(INDEX($C:$C,))), \"\", 'PWS Records (System Entry)'!$D$3)","v":"MT. OLIVE WATERWORK DISTRICT"},"380 DUNN RD","Ruston","LA",71270,null,null,null,"INDIVIDUAL NAME & SUBDIVISION (HOME NUMBER)","Non-Lead - Plastic","Visual Inspection (for example, visual confirmation at meter pit)","No","No",null,null,"Non-Lead - Plastic","Visual Inspection (for example, visual confirmation at meter pit)",null,null,"Non-Lead"]
[{"$f":"IF(AND(ISBLANK(INDEX($G:$G,)), ISBLANK(INDEX($C:$C,))), \"\", 'PWS Records (System Entry)'!$D$4)","v":"LA1061014"},{"$f":"IF(AND(ISBLANK(INDEX($G:$G,)), ISBLANK(INDEX($C:$C,))), \"\", 'PWS Records (System Entry)'!$D$3)","v":"MT. OLIVE WATERWORK DISTRICT"},"348 DUNN RD","Ruston","LA",71270,null,null,null,"INDIVIDUAL NAME & SUBDIVISION (HOME NUMBER)","Non-Lead - Plastic","Visual Inspection (for example, visual confirmation at meter pit)","No","No",null,null,"Non-Lead - Plastic","Visual Inspection (for example, visual confirmation at meter pit)",null,null,"Non-Lead"]
[{"$f":"IF(AND(ISBLANK(INDEX($G:$G,)), ISBLANK(INDEX($C:$C,))), \"\", 'PWS Records (System Entry)'!$D$4)","v":"LA1061014"},{"$f":"IF(AND(ISBLANK(INDEX($G:$G,)), ISBLANK(INDEX($C:$C,))), \"\", 'PWS Records (System Entry)'!$D$3)","v":"MT. OLIVE WATERWORK DISTRICT"},"353 DUNN RD K","Ruston","LA",71270,null,null,null,"INDIVIDUAL NAME & SUBDIVISION (HOME NUMBER)","Non-Lead - Plastic","Visual Inspection (for example, visual confirmation at meter pit)","No","No",null,null,"Non-Lead - Plastic","Visual Inspection (for example, visual confirmation at meter pit)",null,null,"Non-Lead"]
[{"$f":"IF(AND(ISBLANK(INDEX($G:$G,)), ISBLANK(INDEX($C:$C,))), \"\", 'PWS Records (System Entry)'!$D$4)","v":"LA1061014"},{"$f":"IF(AND(ISBLANK(INDEX($G:$G,)), ISBLANK(INDEX($C:$C,))), \"\", 'PWS Records (System Entry)'!$D$3)","v":"MT. OLIVE WATERWORK DISTRICT"},"353 DUNN RD K","Ruston","LA",71270,null,null,null,"INDIVIDUAL NAME & SUBDIVISION (HOME NUMBER)","Non-Lead - Plastic","Visual Inspection (for example, visual confirmation at meter pit)","No","No",null,null,"Non-Lead - Plastic","Visual Inspection (for example, visual confirmation at meter pit)",null,null,"Non-Lead"]
[{"$f":"IF(AND(ISBLANK(INDEX($G:$G,)), ISBLANK(INDEX($C:$C,))), \"\", 'PWS Records (System Entry)'!$D$4)","v":"LA1061014"},{"$f":"IF(AND(ISBLANK(INDEX($G:$G,)), ISBLANK(INDEX($C:$C,))), \"\", 'PWS Records (System Entry)'!$D$3)","v":"MT. OLIVE WATERWORK DISTRICT"},"353 DUNN RD K","Ruston","LA",71270,null,null,null,"INDIVIDUAL NAME & SUBDIVISION (HOME NUMBER)","Non-Lead - Plastic","Visual Inspection (for example, visual confirmation at meter pit)","No","No",null,null,"Non-Lead - Plastic","Visual Inspection (for example, visual confirmation at meter pit)",null,null,"Non-Lead"]
[{"$f":"IF(AND(ISBLANK(INDEX($G:$G,)), ISBLANK(INDEX($C:$C,))), \"\", 'PWS Records (System Entry)'!$D$4)","v":"LA1061014"},{"$f":"IF(AND(ISBLANK(INDEX($G:$G,)), ISBLANK(INDEX($C:$C,))), \"\", 'PWS Records (System Entry)'!$D$3)","v":"MT. OLIVE WATERWORK DISTRICT"},"269 DUNN RD","Ruston","LA",71270,null,null,null,"INDIVIDUAL NAME & SUBDIVISION (HOME NUMBER)","Non-Lead - Plastic","Visual Inspection (for example, visual confirmation at meter pit)","No","No",null,null,"Non-Lead - Plastic","Visual Inspection (for example, visual confirmation at meter pit)",null,null,"Non-Lead"]
[{"$f":"IF(AND(ISBLANK(INDEX($G:$G,)), ISBLANK(INDEX($C:$C,))), \"\", 'PWS Records (System Entry)'!$D$4)","v":"LA1061014"},{"$f":"IF(AND(ISBLANK(INDEX($G:$G,)), ISBLANK(INDEX($C:$C,))), \"\", 'PWS Records (System Entry)'!$D$3)","v":"MT. OLIVE WATERWORK DISTRICT"},"269 DUNN RD","Ruston","LA",71270,null,null,null,"INDIVIDUAL NAME & SUBDIVISION (HOME NUMBER)","Non-Lead - Plastic","Visual Inspection (for example, visual confirmation at meter pit)","No","No",null,null,"Non-Lead - Plastic","Visual Inspection (for example, visual confirmation at meter pit)",null,null,"Non-Lead"]
[{"$f":"IF(AND(ISBLANK(INDEX($G:$G,)), ISBLANK(INDEX($C:$C,))), \"\", 'PWS Records (System Entry)'!$D$4)","v":"LA1061014"},{"$f":"IF(AND(ISBLANK(INDEX($G:$G,)), ISBLANK(INDEX($C:$C,))), \"\", 'PWS Records (System Entry)'!$D$3)","v":"MT. OLIVE WATERWORK DISTRICT"},"269 DUNN RD","Ruston","LA",71270,null,null,null,"INDIVIDUAL NAME & SUBDIVISION (HOME NUMBER)","Non-Lead - Plastic","Visual Inspection (for example, visual confirmation at meter pit)","No","No",null,null,"Non-Lead - Plastic","Visual Inspection (for example, visual confirmation at meter pit)",null,null,"Non-Lead"]
[{"$f":"IF(AND(ISBLANK(INDEX($G:$G,)), ISBLANK(INDEX($C:$C,))), \"\", 'PWS Records (System Entry)'!$D$4)","v":"LA1061014"},{"$f":"IF(AND(ISBLANK(INDEX($G:$G,)), ISBLANK(INDEX($C:$C,))), \"\", 'PWS Records (System Entry)'!$D$3)","v":"MT. OLIVE WATERWORK DISTRICT"},"269 DUNN RD","Ruston","LA",71270,null,null,null,"INDIVIDUAL NAME & SUBDIVISION (HOME NUMBER)","Non-Lead - Plastic","Visual Inspection (for example, visual confirmation at meter pit)","No","No",null,null,"Non-Lead - Plastic","Visual Inspection (for example, visual confirmation at meter pit)",null,null,"Non-Lead"]
[{"$f":"IF(AND(ISBLANK(INDEX($G:$G,)), ISBLANK(INDEX($C:$C,))), \"\", 'PWS Records (System Entry)'!$D$4)","v":"LA1061014"},{"$f":"IF(AND(ISBLANK(INDEX($G:$G,)), ISBLANK(INDEX($C:$C,))), \"\", 'PWS Records (System Entry)'!$D$3)","v":"MT. OLIVE WATERWORK DISTRICT"},"269 DUNN RD","Ruston","LA",71270,null,null,null,"INDIVIDUAL NAME & SUBDIVISION (HOME NUMBER)","Non-Lead - Plastic","Visual Inspection (for example, visual confirmation at meter pit)","No","No",null,null,"Non-Lead - Plastic","Visual Inspection (for example, visual confirmation at meter pit)",null,null,"Non-Lead"]
[{"$f":"IF(AND(ISBLANK(INDEX($G:$G,)), ISBLANK(INDEX($C:$C,))), \"\", 'PWS Records (System Entry)'!$D$4)","v":"LA1061014"},{"$f":"IF(AND(ISBLANK(INDEX($G:$G,)), ISBLANK(INDEX($C:$C,))), \"\", 'PWS Records (System Entry)'!$D$3)","v":"MT. OLIVE WATERWORK DISTRICT"},"269 DUNN RD","Ruston","LA",71270,null,null,null,"INDIVIDUAL NAME & SUBDIVISION (HOME NUMBER)","Non-Lead - Plastic","Visual Inspection (for example, visual confirmation at meter pit)","No","No",null,null,"Non-Lead - Plastic","Visual Inspection (for example, visual confirmation at meter pit)",null,null,"Non-Lead"]
[{"$f":"IF(AND(ISBLANK(INDEX($G:$G,)), ISBLANK(INDEX($C:$C,))), \"\", 'PWS Records (System Entry)'!$D$4)","v":"LA1061014"},{"$f":"IF(AND(ISBLANK(INDEX($G:$G,)), ISBLANK(INDEX($C:$C,))), \"\", 'PWS Records (System Entry)'!$D$3)","v":"MT. OLIVE WATERWORK DISTRICT"},"269 DUNN RD","Ruston","LA",71270,null,null,null,"INDIVIDUAL NAME & SUBDIVISION (HOME NUMBER)","Non-Lead - Plastic","Visual Inspection (for example, visual confirmation at meter pit)","No","No",null,null,"Non-Lead - Plastic","Visual Inspection (for example, visual confirmation at meter pit)",null,null,"Non-Lead"]
[{"$f":"IF(AND(ISBLANK(INDEX($G:$G,)), ISBLANK(INDEX($C:$C,))), \"\", 'PWS Records (System Entry)'!$D$4)","v":"LA1061014"},{"$f":"IF(AND(ISBLANK(INDEX($G:$G,)), ISBLANK(INDEX($C:$C,))), \"\", 'PWS Records (System Entry)'!$D$3)","v":"MT. OLIVE WATERWORK DISTRICT"},"269 DUNN RD","Ruston","LA",71270,null,null,null,"INDIVIDUAL NAME & SUBDIVISION (HOME NUMBER)","Non-Lead - Plastic","Visual Inspection (for example, visual confirmation at meter pit)","No","No",null,null,"Non-Lead - Plastic","Visual Inspection (for example, visual confirmation at meter pit)",null,null,"Non-Lead"]
[{"$f":"IF(AND(ISBLANK(INDEX($G:$G,)), ISBLANK(INDEX($C:$C,))), \"\", 'PWS Records (System Entry)'!$D$4)","v":"LA1061014"},{"$f":"IF(AND(ISBLANK(INDEX($G:$G,)), ISBLANK(INDEX($C:$C,))), \"\", 'PWS Records (System Entry)'!$D$3)","v":"MT. OLIVE WATERWORK DISTRICT"},"269 DUNN RD","Ruston","LA",71270,null,null,null,"INDIVIDUAL NAME & SUBDIVISION (HOME NUMBER)","Non-Lead - Plastic","Visual Inspection (for example, visual confirmation at meter pit)","No","No",null,null,"Non-Lead - Plastic","Visual Inspection (for example, visual confirmation at meter pit)",null,null,"Non-Lead"]
[{"$f":"IF(AND(ISBLANK(INDEX($G:$G,)), ISBLANK(INDEX($C:$C,))), \"\", 'PWS Records (System Entry)'!$D$4)","v":"LA1061014"},{"$f":"IF(AND(ISBLANK(INDEX($G:$G,)), ISBLANK(INDEX($C:$C,))), \"\", 'PWS Records (System Entry)'!$D$3)","v":"MT. OLIVE WATERWORK DISTRICT"},"269 DUNN RD","Ruston","LA",71270,null,null,null,"INDIVIDUAL NAME & SUBDIVISION (HOME NUMBER)","Non-Lead - Plastic","Visual Inspection (for example, visual confirmation at meter pit)","No","No",null,null,"Non-Lead - Plastic","Visual Inspection (for example, visual confirmation at meter pit)",null,null,"Non-Lead"]
[{"$f":"IF(AND(ISBLANK(INDEX($G:$G,)), ISBLANK(INDEX($C:$C,))), \"\", 'PWS Records (System Entry)'!$D$4)","v":"LA1061014"},{"$f":"IF(AND(ISBLANK(INDEX($G:$G,)), ISBLANK(INDEX($C:$C,))), \"\", 'PWS Records (System Entry)'!$D$3)","v":"MT. OLIVE WATERWORK DISTRICT"},"269 DUNN RD","Ruston","LA",71270,null,null,null,"INDIVIDUAL NAME & SUBDIVISION (HOME NUMBER)","Non-Lead - Plastic","Visual Inspection (for example, visual confirmation at meter pit)","No","No",null,null,"Non-Lead - Plastic","Visual Inspection (for example, visual confirmation at meter pit)",null,null,"Non-Lead"]
[{"$f":"IF(AND(ISBLANK(INDEX($G:$G,)), ISBLANK(INDEX($C:$C,))), \"\", 'PWS Records (System Entry)'!$D$4)","v":"LA1061014"},{"$f":"IF(AND(ISBLANK(INDEX($G:$G,)), ISBLANK(INDEX($C:$C,))), \"\", 'PWS Records (System Entry)'!$D$3)","v":"MT. OLIVE WATERWORK DISTRICT"},"269 DUNN RD","Ruston","LA",71270,null,null,null,"INDIVIDUAL NAME & SUBDIVISION (HOME NUMBER)","Non-Lead - Plastic","Visual Inspection (for example, visual confirmation at meter pit)","No","No",null,null,"Non-Lead - Plastic","Visual Inspection (for example, visual confirmation at meter pit)",null,null,"Non-Lead"]
[{"$f":"IF(AND(ISBLANK(INDEX($G:$G,)), ISBLANK(INDEX($C:$C,))), \"\", 'PWS Records (System Entry)'!$D$4)","v":"LA1061014"},{"$f":"IF(AND(ISBLANK(INDEX($G:$G,)), ISBLANK(INDEX($C:$C,))), \"\", 'PWS Records (System Entry)'!$D$3)","v":"MT. OLIVE WATERWORK DISTRICT"},"269 DUNN RD","Ruston","LA",71270,null,null,null,"INDIVIDUAL NAME & SUBDIVISION (HOME NUMBER)","Non-Lead - Plastic","Visual Inspection (for example, visual confirmation at meter pit)","No","No",null,null,"Non-Lead - Plastic","Visual Inspection (for example, visual confirmation at meter pit)",null,null,"Non-Lead"]
[{"$f":"IF(AND(ISBLANK(INDEX($G:$G,)), ISBLANK(INDEX($C:$C,))), \"\", 'PWS Records (System Entry)'!$D$4)","v":"LA1061014"},{"$f":"IF(AND(ISBLANK(INDEX($G:$G,)), ISBLANK(INDEX($C:$C,))), \"\", 'PWS Records (System Entry)'!$D$3)","v":"MT. OLIVE WATERWORK DISTRICT"},"114 DUNN RD","Ruston","LA",71270,null,null,null,"INDIVIDUAL NAME & SUBDIVISION (HOME NUMBER)","Non-Lead - Plastic","Visual Inspection (for example, visual confirmation at meter pit)","No","No",null,null,"Non-Lead - Plastic","Visual Inspection (for example, visual confirmation at meter pit)",null,null,"Non-Lead"]
[{"$f":"IF(AND(ISBLANK(INDEX($G:$G,)), ISBLANK(INDEX($C:$C,))), \"\", 'PWS Records (System Entry)'!$D$4)","v":"LA1061014"},{"$f":"IF(AND(ISBLANK(INDEX($G:$G,)), ISBLANK(INDEX($C:$C,))), \"\", 'PWS Records (System Entry)'!$D$3)","v":"MT. OLIVE WATERWORK DISTRICT"},"356 GARR RD","Ruston","LA",71270,null,null,null,"INDIVIDUAL NAME & SUBDIVISION (HOME NUMBER)","Non-Lead - Plastic","Visual Inspection (for example, visual confirmation at meter pit)","No","No",null,null,"Non-Lead - Plastic","Visual Inspection (for example, visual confirmation at meter pit)",null,null,"Non-Lead"]
[{"$f":"IF(AND(ISBLANK(INDEX($G:$G,)), ISBLANK(INDEX($C:$C,))), \"\", 'PWS Records (System Entry)'!$D$4)","v":"LA1061014"},{"$f":"IF(AND(ISBLANK(INDEX($G:$G,)), ISBLANK(INDEX($C:$C,))), \"\", 'PWS Records (System Entry)'!$D$3)","v":"MT. OLIVE WATERWORK DISTRICT"},"358 GARR RD","Ruston","LA",71270,null,null,null,"INDIVIDUAL NAME & SUBDIVISION (HOME NUMBER)","Non-Lead - Plastic","Visual Inspection (for example, visual confirmation at meter pit)","No","No",null,null,"Non-Lead - Plastic","Visual Inspection (for example, visual confirmation at meter pit)",null,null,"Non-Lead"]
[{"$f":"IF(AND(ISBLANK(INDEX($G:$G,)), ISBLANK(INDEX($C:$C,))), \"\", 'PWS Records (System Entry)'!$D$4)","v":"LA1061014"},{"$f":"IF(AND(ISBLANK(INDEX($G:$G,)), ISBLANK(INDEX($C:$C,))), \"\", 'PWS Records (System Entry)'!$D$3)","v":"MT. OLIVE WATERWORK DISTRICT"},"338 GARR RD","Ruston","LA",71270,null,null,null,"INDIVIDUAL NAME & SUBDIVISION (HOME NUMBER)","Non-Lead - Plastic","Visual Inspection (for example, visual confirmation at meter pit)","No","No",null,null,"Non-Lead - Plastic","Visual Inspection (for example, visual confirmation at meter pit)",null,null,"Non-Lead"]
[{"$f":"IF(AND(ISBLANK(INDEX($G:$G,)), ISBLANK(INDEX($C:$C,))), \"\", 'PWS Records (System Entry)'!$D$4)","v":"LA1061014"},{"$f":"IF(AND(ISBLANK(INDEX($G:$G,)), ISBLANK(INDEX($C:$C,))), \"\", 'PWS Records (System Entry)'!$D$3)","v":"MT. OLIVE WATERWORK DISTRICT"},"358 GARR RD","Ruston","LA",71270,null,null,null,"INDIVIDUAL NAME & SUBDIVISION (HOME NUMBER)","Non-Lead - Plastic","Visual Inspection (for example, visual confirmation at meter pit)","No","No",null,null,"Non-Lead - Plastic","Visual Inspection (for example, visual confirmation at meter pit)",null,null,"Non-Lead"]
[{"$f":"IF(AND(ISBLANK(INDEX($G:$G,)), ISBLANK(INDEX($C:$C,))), \"\", 'PWS Records (System Entry)'!$D$4)","v":"LA1061014"},{"$f":"IF(AND(ISBLANK(INDEX($G:$G,)), ISBLANK(INDEX($C:$C,))), \"\", 'PWS Records (System Entry)'!$D$3)","v":"MT. OLIVE WATERWORK DISTRICT"},"377 GARR RD","Ruston","LA",71270,null,null,null,"INDIVIDUAL NAME & SUBDIVISION (HOME NUMBER)","Non-Lead - Plastic","Visual Inspection (for example, visual confirmation at meter pit)","No","No",null,null,"Non-Lead - Plastic","Visual Inspection (for example, visual confirmation at meter pit)",null,null,"Non-Lead"]
[{"$f":"IF(AND(ISBLANK(INDEX($G:$G,)), ISBLANK(INDEX($C:$C,))), \"\", 'PWS Records (System Entry)'!$D$4)","v":"LA1061014"},{"$f":"IF(AND(ISBLANK(INDEX($G:$G,)), ISBLANK(INDEX($C:$C,))), \"\", 'PWS Records (System Entry)'!$D$3)","v":"MT. OLIVE WATERWORK DISTRICT"},"365 GARR RD","Ruston","LA",71270,null,null,null,"INDIVIDUAL NAME & SUBDIVISION (HOME NUMBER)","Non-Lead - Plastic","Visual Inspection (for example, visual confirmation at meter pit)","No","No",null,null,"Non-Lead - Plastic","Visual Inspection (for example, visual confirmation at meter pit)",null,null,"Non-Lead"]
[{"$f":"IF(AND(ISBLANK(INDEX($G:$G,)), ISBLANK(INDEX($C:$C,))), \"\", 'PWS Records (System Entry)'!$D$4)","v":"LA1061014"},{"$f":"IF(AND(ISBLANK(INDEX($G:$G,)), ISBLANK(INDEX($C:$C,))), \"\", 'PWS Records (System Entry)'!$D$3)","v":"MT. OLIVE WATERWORK DISTRICT"},"381 GARR RD","Ruston","LA",71270,null,null,null,"INDIVIDUAL NAME & SUBDIVISION (HOME NUMBER)","Non-Lead - Plastic","Visual Inspection (for example, visual confirmation at meter pit)","No","No",null,null,"Non-Lead - Plastic","Visual Inspection (for example, visual confirmation at meter pit)",null,null,"Non-Lead"]
[{"$f":"IF(AND(ISBLANK(INDEX($G:$G,)), ISBLANK(INDEX($C:$C,))), \"\", 'PWS Records (System Entry)'!$D$4)","v":"LA1061014"},{"$f":"IF(AND(ISBLANK(INDEX($G:$G,)), ISBLANK(INDEX($C:$C,))), \"\", 'PWS Records (System Entry)'!$D$3)","v":"MT. OLIVE WATERWORK DISTRICT"},"126 ADELL RD","Ruston","LA",71270,null,null,null,"INDIVIDUAL NAME & SUBDIVISION (HOME NUMBER)","Non-Lead - Plastic","Visual Inspection (for example, visual confirmation at meter pit)","No","No",null,null,"Non-Lead - Plastic","Visual Inspection (for example, visual confirmation at meter pit)",null,null,{"$f":"IF(AND(INDEX($K:$K,)=\"\", INDEX($L:$L,)=\"\", INDEX($M:$M,)=\"\", INDEX($Q:$Q,)=\"\", INDEX($R:$R,)=\"\"), \"\", IF(OR(INDEX($K:$K,)=\"Lead\",INDEX($Q:$Q,)=\"Lead\"),\"Lead\",IF(OR(AND(OR(INDEX($M:$M,)=\"Yes\", INDEX($M:$M,)=\"Don't Know\", INDEX($M:$M,)=\"\"), INDEX($Q:$Q,)=\"Galvanized Iron/Steel\"), AND(INDEX($K:$K,)=\"Unknown\", INDEX($M:$M,)=\"No\", INDEX($Q:$Q,)=\"Galvanized Iron/Steel\")), \"Galvanized Requiring Replacement\", IF(OR(AND(OR(INDEX($K:$K,)=\"Galvanized Iron/Steel\", INDEX($K:$K,)=\"Non-Lead - Copper\", INDEX($K:$K,)=\"Non-Lead - Plastic\", INDEX($K:$K,)=\"Non-Lead - Other\", INDEX($K:$K,)=\"Non-Lead - Material Unknown\", INDEX($K:$K,)=\"No System Owned Portion\"), OR(INDEX($Q:$Q,)=\"Galvanized Iron/Steel\", INDEX($Q:$Q,)=\"Non-Lead - Copper\", INDEX($Q:$Q,)=\"Non-Lead - Plastic\", INDEX($Q:$Q,)=\"Non-Lead - Other\", INDEX($Q:$Q,)=\"Non-Lead - Predictive Model\", INDEX($Q:$Q,)=\"No Customer Owned Portion\")), AND(OR( INDEX($K:$K,)=\"Galvanized Iron/Steel\", INDEX($K:$K,)=\"Non-Lead - Copper\", INDEX($K:$K,)=\"Non-Lead - Plastic\", INDEX($K:$K,)=\"Non-Lead - Other\", INDEX($K:$K,)=\"Non-Lead - Material Unknown\", INDEX($K:$K,)=\"No System Owned Portion\"), INDEX($M:$M,)=\"No\", INDEX($Q:$Q,)=\"Non-Lead - Material Unknown\")), \"Non-Lead\", \"Lead Status Unknown\"))))","v":"Non-Lead"}]
[{"$f":"IF(AND(ISBLANK(INDEX($G:$G,)), ISBLANK(INDEX($C:$C,))), \"\", 'PWS Records (System Entry)'!$D$4)","v":"LA1061014"},{"$f":"IF(AND(ISBLANK(INDEX($G:$G,)), ISBLANK(INDEX($C:$C,))), \"\", 'PWS Records (System Entry)'!$D$3)","v":"MT. OLIVE WATERWORK DISTRICT"},"124 ADELL RD","Ruston","LA",71270,null,null,null,"INDIVIDUAL NAME & SUBDIVISION (HOME NUMBER)","Non-Lead - Plastic","Visual Inspection (for example, visual confirmation at meter pit)","No","No",null,null,"Non-Lead - Plastic","Visual Inspection (for example, visual confirmation at meter pit)",null,null,"Non-Lead"]
[{"$f":"IF(AND(ISBLANK(INDEX($G:$G,)), ISBLANK(INDEX($C:$C,))), \"\", 'PWS Records (System Entry)'!$D$4)","v":"LA1061014"},{"$f":"IF(AND(ISBLANK(INDEX($G:$G,)), ISBLANK(INDEX($C:$C,))), \"\", 'PWS Records (System Entry)'!$D$3)","v":"MT. OLIVE WATERWORK DISTRICT"},"122 ADELL RD","Ruston","LA",71270,null,null,null,"INDIVIDUAL NAME & SUBDIVISION (HOME NUMBER)","Non-Lead - Plastic","Visual Inspection (for example, visual confirmation at meter pit)","No","No",null,null,"Non-Lead - Plastic","Visual Inspection (for example, visual confirmation at meter pit)",null,null,"Non-Lead"]
[{"$f":"IF(AND(ISBLANK(INDEX($G:$G,)), ISBLANK(INDEX($C:$C,))), \"\", 'PWS Records (System Entry)'!$D$4)","v":"LA1061014"},{"$f":"IF(AND(ISBLANK(INDEX($G:$G,)), ISBLANK(INDEX($C:$C,))), \"\", 'PWS Records (System Entry)'!$D$3)","v":"MT. OLIVE WATERWORK DISTRICT"},"179 ADELL RD","Ruston","LA",71270,null,null,null,"INDIVIDUAL NAME & SUBDIVISION (HOME NUMBER)","Non-Lead - Plastic","Visual Inspection (for example, visual confirmation at meter pit)","No","No",null,null,"Non-Lead - Plastic","Visual Inspection (for example, visual confirmation at meter pit)",null,null,"Non-Lead"]
[{"$f":"IF(AND(ISBLANK(INDEX($G:$G,)), ISBLANK(INDEX($C:$C,))), \"\", 'PWS Records (System Entry)'!$D$4)","v":"LA1061014"},{"$f":"IF(AND(ISBLANK(INDEX($G:$G,)), ISBLANK(INDEX($C:$C,))), \"\", 'PWS Records (System Entry)'!$D$3)","v":"MT. OLIVE WATERWORK DISTRICT"},"409 GARR RD","Ruston","LA",71270,null,null,null,"INDIVIDUAL NAME & SUBDIVISION (HOME NUMBER)","Non-Lead - Plastic","Visual Inspection (for example, visual confirmation at meter pit)","No","No",null,null,"Non-Lead - Plastic","Visual Inspection (for example, visual confirmation at meter pit)",null,null,"Non-Lead"]
[{"$f":"IF(AND(ISBLANK(INDEX($G:$G,)), ISBLANK(INDEX($C:$C,))), \"\", 'PWS Records (System Entry)'!$D$4)","v":"LA1061014"},{"$f":"IF(AND(ISBLANK(INDEX($G:$G,)), ISBLANK(INDEX($C:$C,))), \"\", 'PWS Records (System Entry)'!$D$3)","v":"MT. OLIVE WATERWORK DISTRICT"},"GARR RD FIRE STATION #2","Ruston","LA",71270,null,null,null,"INDIVIDUAL NAME & SUBDIVISION (HOME NUMBER)","Non-Lead - Plastic","Visual Inspection (for example, visual confirmation at meter pit)","No","No",null,null,"Non-Lead - Plastic","Visual Inspection (for example, visual confirmation at meter pit)",null,null,"Non-Lead"]
[{"$f":"IF(AND(ISBLANK(INDEX($G:$G,)), ISBLANK(INDEX($C:$C,))), \"\", 'PWS Records (System Entry)'!$D$4)","v":"LA1061014"},{"$f":"IF(AND(ISBLANK(INDEX($G:$G,)), ISBLANK(INDEX($C:$C,))), \"\", 'PWS Records (System Entry)'!$D$3)","v":"MT. OLIVE WATERWORK DISTRICT"},"410 GARR RD","Ruston","LA",71270,null,null,null,"INDIVIDUAL NAME & SUBDIVISION (HOME NUMBER)","Non-Lead - Plastic","Visual Inspection (for example, visual confirmation at meter pit)","No","No",null,null,"Non-Lead - Plastic","Visual Inspection (for example, visual confirmation at meter pit)",null,null,"Non-Lead"]
[{"$f":"IF(AND(ISBLANK(INDEX($G:$G,)), ISBLANK(INDEX($C:$C,))), \"\", 'PWS Records (System Entry)'!$D$4)","v":"LA1061014"},{"$f":"IF(AND(ISBLANK(INDEX($G:$G,)), ISBLANK(INDEX($C:$C,))), \"\", 'PWS Records (System Entry)'!$D$3)","v":"MT. OLIVE WATERWORK DISTRICT"},"426 GARR RD","Ruston","LA",71270,null,null,null,"INDIVIDUAL NAME & SUBDIVISION (HOME NUMBER)","Non-Lead - Plastic","Visual Inspection (for example, visual confirmation at meter pit)","No","No",null,null,"Non-Lead - Plastic","Visual Inspection (for example, visual confirmation at meter pit)",null,null,"Non-Lead"]
[{"$f":"IF(AND(ISBLANK(INDEX($G:$G,)), ISBLANK(INDEX($C:$C,))), \"\", 'PWS Records (System Entry)'!$D$4)","v":"LA1061014"},{"$f":"IF(AND(ISBLANK(INDEX($G:$G,)), ISBLANK(INDEX($C:$C,))), \"\", 'PWS Records (System Entry)'!$D$3)","v":"MT. OLIVE WATERWORK DISTRICT"},"377 GARR RD","Ruston","LA",71270,null,null,null,"INDIVIDUAL NAME & SUBDIVISION (HOME NUMBER)","Non-Lead - Plastic","Visual Inspection (for example, visual confirmation at meter pit)","No","No",null,null,"Non-Lead - Plastic","Visual Inspection (for example, visual confirmation at meter pit)",null,null,"Non-Lead"]
[{"$f":"IF(AND(ISBLANK(INDEX($G:$G,)), ISBLANK(INDEX($C:$C,))), \"\", 'PWS Records (System Entry)'!$D$4)","v":"LA1061014"},{"$f":"IF(AND(ISBLANK(INDEX($G:$G,)), ISBLANK(INDEX($C:$C,))), \"\", 'PWS Records (System Entry)'!$D$3)","v":"MT. OLIVE WATERWORK DISTRICT"},"426 GARR RD","Ruston","LA",71270,null,null,null,"INDIVIDUAL NAME & SUBDIVISION (HOME NUMBER)","Non-Lead - Plastic","Visual Inspection (for example, visual confirmation at meter pit)","No","No",null,null,"Non-Lead - Plastic","Visual Inspection (for example, visual confirmation at meter pit)",null,null,"Non-Lead"]
[{"$f":"IF(AND(ISBLANK(INDEX($G:$G,)), ISBLANK(INDEX($C:$C,))), \"\", 'PWS Records (System Entry)'!$D$4)","v":"LA1061014"},{"$f":"IF(AND(ISBLANK(INDEX($G:$G,)), ISBLANK(INDEX($C:$C,))), \"\", 'PWS Records (System Entry)'!$D$3)","v":"MT. OLIVE WATERWORK DISTRICT"},"429 GARR RD","Ruston","LA",71270,null,null,null,"INDIVIDUAL NAME & SUBDIVISION (HOME NUMBER)","Non-Lead - Plastic","Visual Inspection (for example, visual confirmation at meter pit)","No","No",null,null,"Non-Lead - Plastic","Visual Inspection (for example, visual confirmation at meter pit)",null,null,"Non-Lead"]
[{"$f":"IF(AND(ISBLANK(INDEX($G:$G,)), ISBLANK(INDEX($C:$C,))), \"\", 'PWS Records (System Entry)'!$D$4)","v":"LA1061014"},{"$f":"IF(AND(ISBLANK(INDEX($G:$G,)), ISBLANK(INDEX($C:$C,))), \"\", 'PWS Records (System Entry)'!$D$3)","v":"MT. OLIVE WATERWORK DISTRICT"},"GARR RD ","Ruston","LA",71270,null,null,null,"INDIVIDUAL NAME & SUBDIVISION (HOME NUMBER)","Non-Lead - Plastic","Visual Inspection (for example, visual confirmation at meter pit)","No","No",null,null,"Non-Lead - Plastic","Visual Inspection (for example, visual confirmation at meter pit)",null,null,"Non-Lead"]
[{"$f":"IF(AND(ISBLANK(INDEX($G:$G,)), ISBLANK(INDEX($C:$C,))), \"\", 'PWS Records (System Entry)'!$D$4)","v":"LA1061014"},{"$f":"IF(AND(ISBLANK(INDEX($G:$G,)), ISBLANK(INDEX($C:$C,))), \"\", 'PWS Records (System Entry)'!$D$3)","v":"MT. OLIVE WATERWORK DISTRICT"},"446 GARR RD","Ruston","LA",71270,null,null,null,"INDIVIDUAL NAME & SUBDIVISION (HOME NUMBER)","Non-Lead - Plastic","Visual Inspection (for example, visual confirmation at meter pit)","No","No",null,null,"Non-Lead - Plastic","Visual Inspection (for example, visual confirmation at meter pit)",null,null,"Non-Lead"]
[{"$f":"IF(AND(ISBLANK(INDEX($G:$G,)), ISBLANK(INDEX($C:$C,))), \"\", 'PWS Records (System Entry)'!$D$4)","v":"LA1061014"},{"$f":"IF(AND(ISBLANK(INDEX($G:$G,)), ISBLANK(INDEX($C:$C,))), \"\", 'PWS Records (System Entry)'!$D$3)","v":"MT. OLIVE WATERWORK DISTRICT"},"NO STREET NAME","Ruston","LA",71270,null,null,null,"INDIVIDUAL NAME & SUBDIVISION (HOME NUMBER)","Non-Lead - Plastic","Visual Inspection (for example, visual confirmation at meter pit)","No","No",null,null,"Non-Lead - Plastic","Visual Inspection (for example, visual confirmation at meter pit)",null,null,"Non-Lead"]
[{"$f":"IF(AND(ISBLANK(INDEX($G:$G,)), ISBLANK(INDEX($C:$C,))), \"\", 'PWS Records (System Entry)'!$D$4)","v":"LA1061014"},{"$f":"IF(AND(ISBLANK(INDEX($G:$G,)), ISBLANK(INDEX($C:$C,))), \"\", 'PWS Records (System Entry)'!$D$3)","v":"MT. OLIVE WATERWORK DISTRICT"},"GARR RD","Ruston","LA",71270,null,null,null,"INDIVIDUAL NAME & SUBDIVISION (HOME NUMBER)","Non-Lead - Plastic","Visual Inspection (for example, visual confirmation at meter pit)","No","No",null,null,"Non-Lead - Plastic","Visual Inspection (for example, visual confirmation at meter pit)",null,null,"Non-Lead"]
[{"$f":"IF(AND(ISBLANK(INDEX($G:$G,)), ISBLANK(INDEX($C:$C,))), \"\", 'PWS Records (System Entry)'!$D$4)","v":"LA1061014"},{"$f":"IF(AND(ISBLANK(INDEX($G:$G,)), ISBLANK(INDEX($C:$C,))), \"\", 'PWS Records (System Entry)'!$D$3)","v":"MT. OLIVE WATERWORK DISTRICT"},"450 GARR RD","Ruston","LA",71270,null,null,null,"INDIVIDUAL NAME & SUBDIVISION (HOME NUMBER)","Non-Lead - Plastic","Visual Inspection (for example, visual confirmation at meter pit)","No","No",null,null,"Non-Lead - Plastic","Visual Inspection (for example, visual confirmation at meter pit)",null,null,"Non-Lead"]
[{"$f":"IF(AND(ISBLANK(INDEX($G:$G,)), ISBLANK(INDEX($C:$C,))), \"\", 'PWS Records (System Entry)'!$D$4)","v":"LA1061014"},{"$f":"IF(AND(ISBLANK(INDEX($G:$G,)), ISBLANK(INDEX($C:$C,))), \"\", 'PWS Records (System Entry)'!$D$3)","v":"MT. OLIVE WATERWORK DISTRICT"},"458 GARR RD","Ruston","LA",71270,null,null,null,"INDIVIDUAL NAME & SUBDIVISION (HOME NUMBER)","Non-Lead - Plastic","Visual Inspection (for example, visual confirmation at meter pit)","No","No",null,null,"Non-Lead - Plastic","Visual Inspection (for example, visual confirmation at meter pit)",null,null,"Non-Lead"]
[{"$f":"IF(AND(ISBLANK(INDEX($G:$G,)), ISBLANK(INDEX($C:$C,))), \"\", 'PWS Records (System Entry)'!$D$4)","v":"LA1061014"},{"$f":"IF(AND(ISBLANK(INDEX($G:$G,)), ISBLANK(INDEX($C:$C,))), \"\", 'PWS Records (System Entry)'!$D$3)","v":"MT. OLIVE WATERWORK DISTRICT"},"474 GARR RD","Ruston","LA",71270,null,null,null,"INDIVIDUAL NAME & SUBDIVISION (HOME NUMBER)","Non-Lead - Plastic","Visual Inspection (for example, visual confirmation at meter pit)","No","No",null,null,"Non-Lead - Plastic","Visual Inspection (for example, visual confirmation at meter pit)",null,null,"Non-Lead"]
[{"$f":"IF(AND(ISBLANK(INDEX($G:$G,)), ISBLANK(INDEX($C:$C,))), \"\", 'PWS Records (System Entry)'!$D$4)","v":"LA1061014"},{"$f":"IF(AND(ISBLANK(INDEX($G:$G,)), ISBLANK(INDEX($C:$C,))), \"\", 'PWS Records (System Entry)'!$D$3)","v":"MT. OLIVE WATERWORK DISTRICT"},"BOWDEN'S APARTMENT","Ruston","LA",71270,null,null,null,"INDIVIDUAL NAME & SUBDIVISION (HOME NUMBER)","Non-Lead - Plastic","Visual Inspection (for example, visual confirmation at meter pit)","No","No",null,null,"Non-Lead - Plastic","Visual Inspection (for example, visual confirmation at meter pit)",null,null,"Non-Lead"]
[{"$f":"IF(AND(ISBLANK(INDEX($G:$G,)), ISBLANK(INDEX($C:$C,))), \"\", 'PWS Records (System Entry)'!$D$4)","v":"LA1061014"},{"$f":"IF(AND(ISBLANK(INDEX($G:$G,)), ISBLANK(INDEX($C:$C,))), \"\", 'PWS Records (System Entry)'!$D$3)","v":"MT. OLIVE WATERWORK DISTRICT"},"474 GARR RD","Ruston","LA",71270,null,null,null,"INDIVIDUAL NAME & SUBDIVISION (HOME NUMBER)","Non-Lead - Plastic","Visual Inspection (for example, visual confirmation at meter pit)","No","No",null,null,"Non-Lead - Plastic","Visual Inspection (for example, visual confirmation at meter pit)",null,null,"Non-Lead"]
[{"$f":"IF(AND(ISBLANK(INDEX($G:$G,)), ISBLANK(INDEX($C:$C,))), \"\", 'PWS Records (System Entry)'!$D$4)","v":"LA1061014"},{"$f":"IF(AND(ISBLANK(INDEX($G:$G,)), ISBLANK(INDEX($C:$C,))), \"\", 'PWS Records (System Entry)'!$D$3)","v":"MT. OLIVE WATERWORK DISTRICT"},"ORCHARD VALLEY CIRCLE","Ruston","LA",71270,null,null,null,"INDIVIDUAL NAME & SUBDIVISION (HOME NUMBER)","Non-Lead - Plastic","Visual Inspection (for example, visual confirmation at meter pit)","No","No",null,null,"Non-Lead - Plastic","Visual Inspection (for example, visual confirmation at meter pit)",null,null,"Non-Lead"]
[{"$f":"IF(AND(ISBLANK(INDEX($G:$G,)), ISBLANK(INDEX($C:$C,))), \"\", 'PWS Records (System Entry)'!$D$4)","v":"LA1061014"},{"$f":"IF(AND(ISBLANK(INDEX($G:$G,)), ISBLANK(INDEX($C:$C,))), \"\", 'PWS Records (System Entry)'!$D$3)","v":"MT. OLIVE WATERWORK DISTRICT"},"474 GARR RD APT #6","Ruston","LA",71270,null,null,null,"INDIVIDUAL NAME & SUBDIVISION (HOME NUMBER)","Non-Lead - Plastic","Visual Inspection (for example, visual confirmation at meter pit)","No","No",null,null,"Non-Lead - Plastic","Visual Inspection (for example, visual confirmation at meter pit)",null,null,"Non-Lead"]
[{"$f":"IF(AND(ISBLANK(INDEX($G:$G,)), ISBLANK(INDEX($C:$C,))), \"\", 'PWS Records (System Entry)'!$D$4)","v":"LA1061014"},{"$f":"IF(AND(ISBLANK(INDEX($G:$G,)), ISBLANK(INDEX($C:$C,))), \"\", 'PWS Records (System Entry)'!$D$3)","v":"MT. OLIVE WATERWORK DISTRICT"},"474 GARR RD APT #1","Ruston","LA",71270,null,null,null,"INDIVIDUAL NAME & SUBDIVISION (HOME NUMBER)","Non-Lead - Plastic","Visual Inspection (for example, visual confirmation at meter pit)","No","No",null,null,"Non-Lead - Plastic","Visual Inspection (for example, visual confirmation at meter pit)",null,null,"Non-Lead"]
[{"$f":"IF(AND(ISBLANK(INDEX($G:$G,)), ISBLANK(INDEX($C:$C,))), \"\", 'PWS Records (System Entry)'!$D$4)","v":"LA1061014"},{"$f":"IF(AND(ISBLANK(INDEX($G:$G,)), ISBLANK(INDEX($C:$C,))), \"\", 'PWS Records (System Entry)'!$D$3)","v":"MT. OLIVE WATERWORK DISTRICT"},"474 GARR RD ","Ruston","LA",71270,null,null,null,"INDIVIDUAL NAME & SUBDIVISION (HOME NUMBER)","Non-Lead - Plastic","Visual Inspection (for example, visual confirmation at meter pit)","No","No",null,null,"Non-Lead - Plastic","Visual Inspection (for example, visual confirmation at meter pit)",null,null,"Non-Lead"]
[{"$f":"IF(AND(ISBLANK(INDEX($G:$G,)), ISBLANK(INDEX($C:$C,))), \"\", 'PWS Records (System Entry)'!$D$4)","v":"LA1061014"},{"$f":"IF(AND(ISBLANK(INDEX($G:$G,)), ISBLANK(INDEX($C:$C,))), \"\", 'PWS Records (System Entry)'!$D$3)","v":"MT. OLIVE WATERWORK DISTRICT"},"474 GARR RD B","Ruston","LA",71270,null,null,null,"INDIVIDUAL NAME & SUBDIVISION (HOME NUMBER)","Non-Lead - Plastic","Visual Inspection (for example, visual confirmation at meter pit)","No","No",null,null,"Non-Lead - Plastic","Visual Inspection (for example, visual confirmation at meter pit)",null,null,"Non-Lead"]
[{"$f":"IF(AND(ISBLANK(INDEX($G:$G,)), ISBLANK(INDEX($C:$C,))), \"\", 'PWS Records (System Entry)'!$D$4)","v":"LA1061014"},{"$f":"IF(AND(ISBLANK(INDEX($G:$G,)), ISBLANK(INDEX($C:$C,))), \"\", 'PWS Records (System Entry)'!$D$3)","v":"MT. OLIVE WATERWORK DISTRICT"},"458 GARR RD","Ruston","LA",71270,null,null,null,"INDIVIDUAL NAME & SUBDIVISION (HOME NUMBER)","Non-Lead - Plastic","Visual Inspection (for example, visual confirmation at meter pit)","No","No",null,null,"Non-Lead - Plastic","Visual Inspection (for example, visual confirmation at meter pit)",null,null,"Non-Lead"]
[{"$f":"IF(AND(ISBLANK(INDEX($G:$G,)), ISBLANK(INDEX($C:$C,))), \"\", 'PWS Records (System Entry)'!$D$4)","v":"LA1061014"},{"$f":"IF(AND(ISBLANK(INDEX($G:$G,)), ISBLANK(INDEX($C:$C,))), \"\", 'PWS Records (System Entry)'!$D$3)","v":"MT. OLIVE WATERWORK DISTRICT"},"474 GARR RD","Ruston","LA",71270,null,null,null,"INDIVIDUAL NAME & SUBDIVISION (HOME NUMBER)","Non-Lead - Plastic","Visual Inspection (for example, visual confirmation at meter pit)","No","No",null,null,"Non-Lead - Plastic","Visual Inspection (for example, visual confirmation at meter pit)",null,null,"Non-Lead"]
[{"$f":"IF(AND(ISBLANK(INDEX($G:$G,)), ISBLANK(INDEX($C:$C,))), \"\", 'PWS Records (System Entry)'!$D$4)","v":"LA1061014"},{"$f":"IF(AND(ISBLANK(INDEX($G:$G,)), ISBLANK(INDEX($C:$C,))), \"\", 'PWS Records (System Entry)'!$D$3)","v":"MT. OLIVE WATERWORK DISTRICT"},"474 GARR RD B","Ruston","LA",71270,null,null,null,"INDIVIDUAL NAME & SUBDIVISION (HOME NUMBER)","Non-Lead - Plastic","Visual Inspection (for example, visual confirmation at meter pit)","No","No",null,null,"Non-Lead - Plastic","Visual Inspection (for example, visual confirmation at meter pit)",null,null,"Non-Lead"]
[{"$f":"IF(AND(ISBLANK(INDEX($G:$G,)), ISBLANK(INDEX($C:$C,))), \"\", 'PWS Records (System Entry)'!$D$4)","v":"LA1061014"},{"$f":"IF(AND(ISBLANK(INDEX($G:$G,)), ISBLANK(INDEX($C:$C,))), \"\", 'PWS Records (System Entry)'!$D$3)","v":"MT. OLIVE WATERWORK DISTRICT"},"474 GARR RD","Ruston","LA",71270,null,null,null,"INDIVIDUAL NAME & SUBDIVISION (HOME NUMBER)","Non-Lead - Plastic","Visual Inspection (for example, visual confirmation at meter pit)","No","No",null,null,"Non-Lead - Plastic","Visual Inspection (for example, visual confirmation at meter pit)",null,null,"Non-Lead"]
[{"$f":"IF(AND(ISBLANK(INDEX($G:$G,)), ISBLANK(INDEX($C:$C,))), \"\", 'PWS Records (System Entry)'!$D$4)","v":"LA1061014"},{"$f":"IF(AND(ISBLANK(INDEX($G:$G,)), ISBLANK(INDEX($C:$C,))), \"\", 'PWS Records (System Entry)'!$D$3)","v":"MT. OLIVE WATERWORK DISTRICT"},"474 GARR RD","Ruston","LA",71270,null,null,null,"INDIVIDUAL NAME & SUBDIVISION (HOME NUMBER)","Non-Lead - Plastic","Visual Inspection (for example, visual confirmation at meter pit)","No","No",null,null,"Non-Lead - Plastic","Visual Inspection (for example, visual confirmation at meter pit)",null,null,"Non-Lead"]
[{"$f":"IF(AND(ISBLANK(INDEX($G:$G,)), ISBLANK(INDEX($C:$C,))), \"\", 'PWS Records (System Entry)'!$D$4)","v":"LA1061014"},{"$f":"IF(AND(ISBLANK(INDEX($G:$G,)), ISBLANK(INDEX($C:$C,))), \"\", 'PWS Records (System Entry)'!$D$3)","v":"MT. OLIVE WATERWORK DISTRICT"},"290 SANDBED RD","Ruston","LA",71270,null,null,null,"INDIVIDUAL NAME & SUBDIVISION (HOME NUMBER)","Non-Lead - Plastic","Visual Inspection (for example, visual confirmation at meter pit)","No","No",null,null,"Non-Lead - Plastic","Visual Inspection (for example, visual confirmation at meter pit)",null,null,"Non-Lead"]
[{"$f":"IF(AND(ISBLANK(INDEX($G:$G,)), ISBLANK(INDEX($C:$C,))), \"\", 'PWS Records (System Entry)'!$D$4)","v":"LA1061014"},{"$f":"IF(AND(ISBLANK(INDEX($G:$G,)), ISBLANK(INDEX($C:$C,))), \"\", 'PWS Records (System Entry)'!$D$3)","v":"MT. OLIVE WATERWORK DISTRICT"},"474 GARR RD APT","Ruston","LA",71270,null,null,null,"INDIVIDUAL NAME & SUBDIVISION (HOME NUMBER)","Non-Lead - Plastic","Visual Inspection (for example, visual confirmation at meter pit)","No","No",null,null,"Non-Lead - Plastic","Visual Inspection (for example, visual confirmation at meter pit)",null,null,"Non-Lead"]
[{"$f":"IF(AND(ISBLANK(INDEX($G:$G,)), ISBLANK(INDEX($C:$C,))), \"\", 'PWS Records (System Entry)'!$D$4)","v":"LA1061014"},{"$f":"IF(AND(ISBLANK(INDEX($G:$G,)), ISBLANK(INDEX($C:$C,))), \"\", 'PWS Records (System Entry)'!$D$3)","v":"MT. OLIVE WATERWORK DISTRICT"},"474 GARR RD APT 10","Ruston","LA",71270,null,null,null,"INDIVIDUAL NAME & SUBDIVISION (HOME NUMBER)","Non-Lead - Plastic","Visual Inspection (for example, visual confirmation at meter pit)","No","No",null,null,"Non-Lead - Plastic","Visual Inspection (for example, visual confirmation at meter pit)",null,null,"Non-Lead"]
[{"$f":"IF(AND(ISBLANK(INDEX($G:$G,)), ISBLANK(INDEX($C:$C,))), \"\", 'PWS Records (System Entry)'!$D$4)","v":"LA1061014"},{"$f":"IF(AND(ISBLANK(INDEX($G:$G,)), ISBLANK(INDEX($C:$C,))), \"\", 'PWS Records (System Entry)'!$D$3)","v":"MT. OLIVE WATERWORK DISTRICT"},"474 GARR RD APT","Ruston","LA",71270,null,null,null,"INDIVIDUAL NAME & SUBDIVISION (HOME NUMBER)","Non-Lead - Plastic","Visual Inspection (for example, visual confirmation at meter pit)","No","No",null,null,"Non-Lead - Plastic","Visual Inspection (for example, visual confirmation at meter pit)",null,null,"Non-Lead"]
[{"$f":"IF(AND(ISBLANK(INDEX($G:$G,)), ISBLANK(INDEX($C:$C,))), \"\", 'PWS Records (System Entry)'!$D$4)","v":"LA1061014"},{"$f":"IF(AND(ISBLANK(INDEX($G:$G,)), ISBLANK(INDEX($C:$C,))), \"\", 'PWS Records (System Entry)'!$D$3)","v":"MT. OLIVE WATERWORK DISTRICT"},"482 GARR RD","Ruston","LA",71270,null,null,null,"INDIVIDUAL NAME & SUBDIVISION (HOME NUMBER)","Non-Lead - Plastic","Visual Inspection (for example, visual confirmation at meter pit)","No","No",null,null,"Non-Lead - Plastic","Visual Inspection (for example, visual confirmation at meter pit)",null,null,"Non-Lead"]
[{"$f":"IF(AND(ISBLANK(INDEX($G:$G,)), ISBLANK(INDEX($C:$C,))), \"\", 'PWS Records (System Entry)'!$D$4)","v":"LA1061014"},{"$f":"IF(AND(ISBLANK(INDEX($G:$G,)), ISBLANK(INDEX($C:$C,))), \"\", 'PWS Records (System Entry)'!$D$3)","v":"MT. OLIVE WATERWORK DISTRICT"},"493 SANDBED RD","Ruston","LA",71270,null,null,null,"INDIVIDUAL NAME & SUBDIVISION (HOME NUMBER)","Non-Lead - Plastic","Visual Inspection (for example, visual confirmation at meter pit)","No","No",null,null,"Non-Lead - Plastic","Visual Inspection (for example, visual confirmation at meter pit)",null,null,"Non-Lead"]
[{"$f":"IF(AND(ISBLANK(INDEX($G:$G,)), ISBLANK(INDEX($C:$C,))), \"\", 'PWS Records (System Entry)'!$D$4)","v":"LA1061014"},{"$f":"IF(AND(ISBLANK(INDEX($G:$G,)), ISBLANK(INDEX($C:$C,))), \"\", 'PWS Records (System Entry)'!$D$3)","v":"MT. OLIVE WATERWORK DISTRICT"},"491 GARR RD","Ruston","LA",71270,null,null,null,"INDIVIDUAL NAME & SUBDIVISION (HOME NUMBER)","Non-Lead - Plastic","Visual Inspection (for example, visual confirmation at meter pit)","No","No",null,null,"Non-Lead - Plastic","Visual Inspection (for example, visual confirmation at meter pit)",null,null,"Non-Lead"]
[{"$f":"IF(AND(ISBLANK(INDEX($G:$G,)), ISBLANK(INDEX($C:$C,))), \"\", 'PWS Records (System Entry)'!$D$4)","v":"LA1061014"},{"$f":"IF(AND(ISBLANK(INDEX($G:$G,)), ISBLANK(INDEX($C:$C,))), \"\", 'PWS Records (System Entry)'!$D$3)","v":"MT. OLIVE WATERWORK DISTRICT"},"487 GARR RD","Ruston","LA",71270,null,null,null,"INDIVIDUAL NAME & SUBDIVISION (HOME NUMBER)","Non-Lead - Plastic","Visual Inspection (for example, visual confirmation at meter pit)","No","No",null,null,"Non-Lead - Plastic","Visual Inspection (for example, visual confirmation at meter pit)",null,null,"Non-Lead"]
[{"$f":"IF(AND(ISBLANK(INDEX($G:$G,)), ISBLANK(INDEX($C:$C,))), \"\", 'PWS Records (System Entry)'!$D$4)","v":"LA1061014"},{"$f":"IF(AND(ISBLANK(INDEX($G:$G,)), ISBLANK(INDEX($C:$C,))), \"\", 'PWS Records (System Entry)'!$D$3)","v":"MT. OLIVE WATERWORK DISTRICT"},"501 GARR RD","Ruston","LA",71270,null,null,null,"INDIVIDUAL NAME & SUBDIVISION (HOME NUMBER)","Non-Lead - Plastic","Visual Inspection (for example, visual confirmation at meter pit)","No","No",null,null,"Non-Lead - Plastic","Visual Inspection (for example, visual confirmation at meter pit)",null,null,"Non-Lead"]
[{"$f":"IF(AND(ISBLANK(INDEX($G:$G,)), ISBLANK(INDEX($C:$C,))), \"\", 'PWS Records (System Entry)'!$D$4)","v":"LA1061014"},{"$f":"IF(AND(ISBLANK(INDEX($G:$G,)), ISBLANK(INDEX($C:$C,))), \"\", 'PWS Records (System Entry)'!$D$3)","v":"MT. OLIVE WATERWORK DISTRICT"},"512 GARR RD","Ruston","LA",71270,null,null,null,"INDIVIDUAL NAME & SUBDIVISION (HOME NUMBER)","Non-Lead - Plastic","Visual Inspection (for example, visual confirmation at meter pit)","No","No",null,null,"Non-Lead - Plastic","Visual Inspection (for example, visual confirmation at meter pit)",null,null,"Non-Lead"]
[{"$f":"IF(AND(ISBLANK(INDEX($G:$G,)), ISBLANK(INDEX($C:$C,))), \"\", 'PWS Records (System Entry)'!$D$4)","v":"LA1061014"},{"$f":"IF(AND(ISBLANK(INDEX($G:$G,)), ISBLANK(INDEX($C:$C,))), \"\", 'PWS Records (System Entry)'!$D$3)","v":"MT. OLIVE WATERWORK DISTRICT"},"519 GARR RD","Ruston","LA",71270,null,null,null,"INDIVIDUAL NAME & SUBDIVISION (HOME NUMBER)","Non-Lead - Plastic","Visual Inspection (for example, visual confirmation at meter pit)","No","No",null,null,"Non-Lead - Plastic","Visual Inspection (for example, visual confirmation at meter pit)",null,null,"Non-Lead"]
[{"$f":"IF(AND(ISBLANK(INDEX($G:$G,)), ISBLANK(INDEX($C:$C,))), \"\", 'PWS Records (System Entry)'!$D$4)","v":"LA1061014"},{"$f":"IF(AND(ISBLANK(INDEX($G:$G,)), ISBLANK(INDEX($C:$C,))), \"\", 'PWS Records (System Entry)'!$D$3)","v":"MT. OLIVE WATERWORK DISTRICT"},"525 GARR RD","Ruston","LA",71270,null,null,null,"INDIVIDUAL NAME & SUBDIVISION (HOME NUMBER)","Non-Lead - Plastic","Visual Inspection (for example, visual confirmation at meter pit)","No","No",null,null,"Non-Lead - Plastic","Visual Inspection (for example, visual confirmation at meter pit)",null,null,"Non-Lead"]
[{"$f":"IF(AND(ISBLANK(INDEX($G:$G,)), ISBLANK(INDEX($C:$C,))), \"\", 'PWS Records (System Entry)'!$D$4)","v":"LA1061014"},{"$f":"IF(AND(ISBLANK(INDEX($G:$G,)), ISBLANK(INDEX($C:$C,))), \"\", 'PWS Records (System Entry)'!$D$3)","v":"MT. OLIVE WATERWORK DISTRICT"},"519 GARR RD","Ruston","LA",71270,null,null,null,"INDIVIDUAL NAME & SUBDIVISION (HOME NUMBER)","Non-Lead - Plastic","Visual Inspection (for example, visual confirmation at meter pit)","No","No",null,null,"Non-Lead - Plastic","Visual Inspection (for example, visual confirmation at meter pit)",null,null,"Non-Lead"]
[{"$f":"IF(AND(ISBLANK(INDEX($G:$G,)), ISBLANK(INDEX($C:$C,))), \"\", 'PWS Records (System Entry)'!$D$4)","v":"LA1061014"},{"$f":"IF(AND(ISBLANK(INDEX($G:$G,)), ISBLANK(INDEX($C:$C,))), \"\", 'PWS Records (System Entry)'!$D$3)","v":"MT. OLIVE WATERWORK DISTRICT"},"610 MT OLIVE RD","Ruston","LA",71270,null,null,null,"INDIVIDUAL NAME & SUBDIVISION (HOME NUMBER)","Non-Lead - Plastic","Visual Inspection (for example, visual confirmation at meter pit)","No","No",null,null,"Non-Lead - Plastic","Visual Inspection (for example, visual confirmation at meter pit)",null,null,"Non-Lead"]
[{"$f":"IF(AND(ISBLANK(INDEX($G:$G,)), ISBLANK(INDEX($C:$C,))), \"\", 'PWS Records (System Entry)'!$D$4)","v":"LA1061014"},{"$f":"IF(AND(ISBLANK(INDEX($G:$G,)), ISBLANK(INDEX($C:$C,))), \"\", 'PWS Records (System Entry)'!$D$3)","v":"MT. OLIVE WATERWORK DISTRICT"},"538 GARR RD","Ruston","LA",71270,null,null,null,"INDIVIDUAL NAME & SUBDIVISION (HOME NUMBER)","Non-Lead - Plastic","Visual Inspection (for example, visual confirmation at meter pit)","No","No",null,null,"Non-Lead - Plastic","Visual Inspection (for example, visual confirmation at meter pit)",null,null,"Non-Lead"]
[{"$f":"IF(AND(ISBLANK(INDEX($G:$G,)), ISBLANK(INDEX($C:$C,))), \"\", 'PWS Records (System Entry)'!$D$4)","v":"LA1061014"},{"$f":"IF(AND(ISBLANK(INDEX($G:$G,)), ISBLANK(INDEX($C:$C,))), \"\", 'PWS Records (System Entry)'!$D$3)","v":"MT. OLIVE WATERWORK DISTRICT"},"604 MT OLIVE RD","Ruston","LA",71270,null,null,null,"INDIVIDUAL NAME & SUBDIVISION (HOME NUMBER)","Non-Lead - Plastic","Visual Inspection (for example, visual confirmation at meter pit)","No","No",null,null,"Non-Lead - Plastic","Visual Inspection (for example, visual confirmation at meter pit)",null,null,"Non-Lead"]
[{"$f":"IF(AND(ISBLANK(INDEX($G:$G,)), ISBLANK(INDEX($C:$C,))), \"\", 'PWS Records (System Entry)'!$D$4)","v":"LA1061014"},{"$f":"IF(AND(ISBLANK(INDEX($G:$G,)), ISBLANK(INDEX($C:$C,))), \"\", 'PWS Records (System Entry)'!$D$3)","v":"MT. OLIVE WATERWORK DISTRICT"},"591 MT OLIVE RD","Ruston","LA",71270,null,null,null,"INDIVIDUAL NAME & SUBDIVISION (HOME NUMBER)","Non-Lead - Plastic","Visual Inspection (for example, visual confirmation at meter pit)","No","No",null,null,"Non-Lead - Plastic","Visual Inspection (for example, visual confirmation at meter pit)",null,null,"Non-Lead"]
[{"$f":"IF(AND(ISBLANK(INDEX($G:$G,)), ISBLANK(INDEX($C:$C,))), \"\", 'PWS Records (System Entry)'!$D$4)","v":"LA1061014"},{"$f":"IF(AND(ISBLANK(INDEX($G:$G,)), ISBLANK(INDEX($C:$C,))), \"\", 'PWS Records (System Entry)'!$D$3)","v":"MT. OLIVE WATERWORK DISTRICT"},"590 MT OLIVE RD","Ruston","LA",71270,null,null,null,"INDIVIDUAL NAME & SUBDIVISION (HOME NUMBER)","Non-Lead - Plastic","Visual Inspection (for example, visual confirmation at meter pit)","No","No",null,null,"Non-Lead - Plastic","Visual Inspection (for example, visual confirmation at meter pit)",null,null,"Non-Lead"]
[{"$f":"IF(AND(ISBLANK(INDEX($G:$G,)), ISBLANK(INDEX($C:$C,))), \"\", 'PWS Records (System Entry)'!$D$4)","v":"LA1061014"},{"$f":"IF(AND(ISBLANK(INDEX($G:$G,)), ISBLANK(INDEX($C:$C,))), \"\", 'PWS Records (System Entry)'!$D$3)","v":"MT. OLIVE WATERWORK DISTRICT"},"592 MT OLIVE RD","Ruston","LA",71270,null,null,null,"INDIVIDUAL NAME & SUBDIVISION (HOME NUMBER)","Non-Lead - Plastic","Visual Inspection (for example, visual confirmation at meter pit)","No","No",null,null,"Non-Lead - Plastic","Visual Inspection (for example, visual confirmation at meter pit)",null,null,"Non-Lead"]
[{"$f":"IF(AND(ISBLANK(INDEX($G:$G,)), ISBLANK(INDEX($C:$C,))), \"\", 'PWS Records (System Entry)'!$D$4)","v":"LA1061014"},{"$f":"IF(AND(ISBLANK(INDEX($G:$G,)), ISBLANK(INDEX($C:$C,))), \"\", 'PWS Records (System Entry)'!$D$3)","v":"MT. OLIVE WATERWORK DISTRICT"},"582 MT OLIVE RD","Ruston","LA",71270,null,null,null,"INDIVIDUAL NAME & SUBDIVISION (HOME NUMBER)","Non-Lead - Plastic","Visual Inspection (for example, visual confirmation at meter pit)","No","No",null,null,"Non-Lead - Plastic","Visual Inspection (for example, visual confirmation at meter pit)",null,null,"Non-Lead"]
[{"$f":"IF(AND(ISBLANK(INDEX($G:$G,)), ISBLANK(INDEX($C:$C,))), \"\", 'PWS Records (System Entry)'!$D$4)","v":"LA1061014"},{"$f":"IF(AND(ISBLANK(INDEX($G:$G,)), ISBLANK(INDEX($C:$C,))), \"\", 'PWS Records (System Entry)'!$D$3)","v":"MT. OLIVE WATERWORK DISTRICT"},"570 MT OLIVE RD","Ruston","LA",71270,null,null,null,"INDIVIDUAL NAME & SUBDIVISION (HOME NUMBER)","Non-Lead - Plastic","Visual Inspection (for example, visual confirmation at meter pit)","No","No",null,null,"Non-Lead - Plastic","Visual Inspection (for example, visual confirmation at meter pit)",null,null,"Non-Lead"]
[{"$f":"IF(AND(ISBLANK(INDEX($G:$G,)), ISBLANK(INDEX($C:$C,))), \"\", 'PWS Records (System Entry)'!$D$4)","v":"LA1061014"},{"$f":"IF(AND(ISBLANK(INDEX($G:$G,)), ISBLANK(INDEX($C:$C,))), \"\", 'PWS Records (System Entry)'!$D$3)","v":"MT. OLIVE WATERWORK DISTRICT"},"556 MT OLIVE RD","Ruston","LA",71270,null,null,null,"INDIVIDUAL NAME & SUBDIVISION (HOME NUMBER)","Non-Lead - Plastic","Visual Inspection (for example, visual confirmation at meter pit)","No","No",null,null,"Non-Lead - Plastic","Visual Inspection (for example, visual confirmation at meter pit)",null,null,"Non-Lead"]
[{"$f":"IF(AND(ISBLANK(INDEX($G:$G,)), ISBLANK(INDEX($C:$C,))), \"\", 'PWS Records (System Entry)'!$D$4)","v":"LA1061014"},{"$f":"IF(AND(ISBLANK(INDEX($G:$G,)), ISBLANK(INDEX($C:$C,))), \"\", 'PWS Records (System Entry)'!$D$3)","v":"MT. OLIVE WATERWORK DISTRICT"},"536 MT OLIVE RD","Ruston","LA",71270,null,null,null,"INDIVIDUAL NAME & SUBDIVISION (HOME NUMBER)","Non-Lead - Plastic","Visual Inspection (for example, visual confirmation at meter pit)","No","No",null,null,"Non-Lead - Plastic","Visual Inspection (for example, visual confirmation at meter pit)",null,null,"Non-Lead"]
[{"$f":"IF(AND(ISBLANK(INDEX($G:$G,)), ISBLANK(INDEX($C:$C,))), \"\", 'PWS Records (System Entry)'!$D$4)","v":"LA1061014"},{"$f":"IF(AND(ISBLANK(INDEX($G:$G,)), ISBLANK(INDEX($C:$C,))), \"\", 'PWS Records (System Entry)'!$D$3)","v":"MT. OLIVE WATERWORK DISTRICT"},"546 MT OLIVE RD","Ruston","LA",71270,null,null,null,"INDIVIDUAL NAME & SUBDIVISION (HOME NUMBER)","Non-Lead - Plastic","Visual Inspection (for example, visual confirmation at meter pit)","No","No",null,null,"Non-Lead - Plastic","Visual Inspection (for example, visual confirmation at meter pit)",null,null,"Non-Lead"]
[{"$f":"IF(AND(ISBLANK(INDEX($G:$G,)), ISBLANK(INDEX($C:$C,))), \"\", 'PWS Records (System Entry)'!$D$4)","v":"LA1061014"},{"$f":"IF(AND(ISBLANK(INDEX($G:$G,)), ISBLANK(INDEX($C:$C,))), \"\", 'PWS Records (System Entry)'!$D$3)","v":"MT. OLIVE WATERWORK DISTRICT"},"571 MT OLIVE RD","Ruston","LA",71270,null,null,null,"INDIVIDUAL NAME & SUBDIVISION (HOME NUMBER)","Non-Lead - Plastic","Visual Inspection (for example, visual confirmation at meter pit)","No","No",null,null,"Non-Lead - Plastic","Visual Inspection (for example, visual confirmation at meter pit)",null,null,"Non-Lead"]
[{"$f":"IF(AND(ISBLANK(INDEX($G:$G,)), ISBLANK(INDEX($C:$C,))), \"\", 'PWS Records (System Entry)'!$D$4)","v":"LA1061014"},{"$f":"IF(AND(ISBLANK(INDEX($G:$G,)), ISBLANK(INDEX($C:$C,))), \"\", 'PWS Records (System Entry)'!$D$3)","v":"MT. OLIVE WATERWORK DISTRICT"},"529 MT OLIVE RD","Ruston","LA",71270,null,null,null,"INDIVIDUAL NAME & SUBDIVISION (HOME NUMBER)","Non-Lead - Plastic","Visual Inspection (for example, visual confirmation at meter pit)","No","No",null,null,"Non-Lead - Plastic","Visual Inspection (for example, visual confirmation at meter pit)",null,null,"Non-Lead"]
[{"$f":"IF(AND(ISBLANK(INDEX($G:$G,)), ISBLANK(INDEX($C:$C,))), \"\", 'PWS Records (System Entry)'!$D$4)","v":"LA1061014"},{"$f":"IF(AND(ISBLANK(INDEX($G:$G,)), ISBLANK(INDEX($C:$C,))), \"\", 'PWS Records (System Entry)'!$D$3)","v":"MT. OLIVE WATERWORK DISTRICT"},"517 MT OLIVE RD","Ruston","LA",71270,null,null,null,"INDIVIDUAL NAME & SUBDIVISION (HOME NUMBER)","Non-Lead - Plastic","Visual Inspection (for example, visual confirmation at meter pit)","No","No",null,null,"Non-Lead - Plastic","Visual Inspection (for example, visual confirmation at meter pit)",null,null,"Non-Lead"]
[{"$f":"IF(AND(ISBLANK(INDEX($G:$G,)), ISBLANK(INDEX($C:$C,))), \"\", 'PWS Records (System Entry)'!$D$4)","v":"LA1061014"},{"$f":"IF(AND(ISBLANK(INDEX($G:$G,)), ISBLANK(INDEX($C:$C,))), \"\", 'PWS Records (System Entry)'!$D$3)","v":"MT. OLIVE WATERWORK DISTRICT"},"583 MT OLIVE RD","Ruston","LA",71270,null,null,null,"INDIVIDUAL NAME & SUBDIVISION (HOME NUMBER)","Non-Lead - Plastic","Visual Inspection (for example, visual confirmation at meter pit)","No","No",null,null,"Non-Lead - Plastic","Visual Inspection (for example, visual confirmation at meter pit)",null,null,"Non-Lead"]
[{"$f":"IF(AND(ISBLANK(INDEX($G:$G,)), ISBLANK(INDEX($C:$C,))), \"\", 'PWS Records (System Entry)'!$D$4)","v":"LA1061014"},{"$f":"IF(AND(ISBLANK(INDEX($G:$G,)), ISBLANK(INDEX($C:$C,))), \"\", 'PWS Records (System Entry)'!$D$3)","v":"MT. OLIVE WATERWORK DISTRICT"},"471 MT OLIVE RD","Ruston","LA",71270,null,null,null,"INDIVIDUAL NAME & SUBDIVISION (HOME NUMBER)","Non-Lead - Plastic","Visual Inspection (for example, visual confirmation at meter pit)","No","No",null,null,"Non-Lead - Plastic","Visual Inspection (for example, visual confirmation at meter pit)",null,null,"Non-Lead"]
[{"$f":"IF(AND(ISBLANK(INDEX($G:$G,)), ISBLANK(INDEX($C:$C,))), \"\", 'PWS Records (System Entry)'!$D$4)","v":"LA1061014"},{"$f":"IF(AND(ISBLANK(INDEX($G:$G,)), ISBLANK(INDEX($C:$C,))), \"\", 'PWS Records (System Entry)'!$D$3)","v":"MT. OLIVE WATERWORK DISTRICT"},"459 MT OLIVE RD","Ruston","LA",71270,null,null,null,"INDIVIDUAL NAME & SUBDIVISION (HOME NUMBER)","Non-Lead - Plastic","Visual Inspection (for example, visual confirmation at meter pit)","No","No",null,null,"Non-Lead - Plastic","Visual Inspection (for example, visual confirmation at meter pit)",null,null,"Non-Lead"]
[{"$f":"IF(AND(ISBLANK(INDEX($G:$G,)), ISBLANK(INDEX($C:$C,))), \"\", 'PWS Records (System Entry)'!$D$4)","v":"LA1061014"},{"$f":"IF(AND(ISBLANK(INDEX($G:$G,)), ISBLANK(INDEX($C:$C,))), \"\", 'PWS Records (System Entry)'!$D$3)","v":"MT. OLIVE WATERWORK DISTRICT"},"429 MT OLIVE RD","Ruston","LA",71270,null,null,null,"INDIVIDUAL NAME & SUBDIVISION (HOME NUMBER)","Non-Lead - Plastic","Visual Inspection (for example, visual confirmation at meter pit)","No","No",null,null,"Non-Lead - Plastic","Visual Inspection (for example, visual confirmation at meter pit)",null,null,"Non-Lead"]
[{"$f":"IF(AND(ISBLANK(INDEX($G:$G,)), ISBLANK(INDEX($C:$C,))), \"\", 'PWS Records (System Entry)'!$D$4)","v":"LA1061014"},{"$f":"IF(AND(ISBLANK(INDEX($G:$G,)), ISBLANK(INDEX($C:$C,))), \"\", 'PWS Records (System Entry)'!$D$3)","v":"MT. OLIVE WATERWORK DISTRICT"},"425 MT OLIVE RD","Ruston","LA",71270,null,null,null,"INDIVIDUAL NAME & SUBDIVISION (HOME NUMBER)","Non-Lead - Plastic","Visual Inspection (for example, visual confirmation at meter pit)","No","No",null,null,"Non-Lead - Plastic","Visual Inspection (for example, visual confirmation at meter pit)",null,null,"Non-Lead"]
[{"$f":"IF(AND(ISBLANK(INDEX($G:$G,)), ISBLANK(INDEX($C:$C,))), \"\", 'PWS Records (System Entry)'!$D$4)","v":"LA1061014"},{"$f":"IF(AND(ISBLANK(INDEX($G:$G,)), ISBLANK(INDEX($C:$C,))), \"\", 'PWS Records (System Entry)'!$D$3)","v":"MT. OLIVE WATERWORK DISTRICT"},"392 MT OLIVE RD","Ruston","LA",71270,null,null,null,"INDIVIDUAL NAME & SUBDIVISION (HOME NUMBER)","Non-Lead - Plastic","Visual Inspection (for example, visual confirmation at meter pit)","No","No",null,null,"Non-Lead - Plastic","Visual Inspection (for example, visual confirmation at meter pit)",null,null,"Non-Lead"]
[{"$f":"IF(AND(ISBLANK(INDEX($G:$G,)), ISBLANK(INDEX($C:$C,))), \"\", 'PWS Records (System Entry)'!$D$4)","v":"LA1061014"},{"$f":"IF(AND(ISBLANK(INDEX($G:$G,)), ISBLANK(INDEX($C:$C,))), \"\", 'PWS Records (System Entry)'!$D$3)","v":"MT. OLIVE WATERWORK DISTRICT"},"360 MT OLIVE RD","Ruston","LA",71270,null,null,null,"INDIVIDUAL NAME & SUBDIVISION (HOME NUMBER)","Non-Lead - Plastic","Visual Inspection (for example, visual confirmation at meter pit)","No","No",null,null,"Non-Lead - Plastic","Visual Inspection (for example, visual confirmation at meter pit)",null,null,"Non-Lead"]
[{"$f":"IF(AND(ISBLANK(INDEX($G:$G,)), ISBLANK(INDEX($C:$C,))), \"\", 'PWS Records (System Entry)'!$D$4)","v":"LA1061014"},{"$f":"IF(AND(ISBLANK(INDEX($G:$G,)), ISBLANK(INDEX($C:$C,))), \"\", 'PWS Records (System Entry)'!$D$3)","v":"MT. OLIVE WATERWORK DISTRICT"},"176 THREE POND RD","Ruston","LA",71270,null,null,null,"INDIVIDUAL NAME & SUBDIVISION (HOME NUMBER)","Non-Lead - Plastic","Visual Inspection (for example, visual confirmation at meter pit)","No","No",null,null,"Non-Lead - Plastic","Visual Inspection (for example, visual confirmation at meter pit)",null,null,{"$f":"IF(AND(INDEX($K:$K,)=\"\", INDEX($L:$L,)=\"\", INDEX($M:$M,)=\"\", INDEX($Q:$Q,)=\"\", INDEX($R:$R,)=\"\"), \"\", IF(OR(INDEX($K:$K,)=\"Lead\",INDEX($Q:$Q,)=\"Lead\"),\"Lead\",IF(OR(AND(OR(INDEX($M:$M,)=\"Yes\", INDEX($M:$M,)=\"Don't Know\", INDEX($M:$M,)=\"\"), INDEX($Q:$Q,)=\"Galvanized Iron/Steel\"), AND(INDEX($K:$K,)=\"Unknown\", INDEX($M:$M,)=\"No\", INDEX($Q:$Q,)=\"Galvanized Iron/Steel\")), \"Galvanized Requiring Replacement\", IF(OR(AND(OR(INDEX($K:$K,)=\"Galvanized Iron/Steel\", INDEX($K:$K,)=\"Non-Lead - Copper\", INDEX($K:$K,)=\"Non-Lead - Plastic\", INDEX($K:$K,)=\"Non-Lead - Other\", INDEX($K:$K,)=\"Non-Lead - Material Unknown\", INDEX($K:$K,)=\"No System Owned Portion\"), OR(INDEX($Q:$Q,)=\"Galvanized Iron/Steel\", INDEX($Q:$Q,)=\"Non-Lead - Copper\", INDEX($Q:$Q,)=\"Non-Lead - Plastic\", INDEX($Q:$Q,)=\"Non-Lead - Other\", INDEX($Q:$Q,)=\"Non-Lead - Predictive Model\", INDEX($Q:$Q,)=\"No Customer Owned Portion\")), AND(OR( INDEX($K:$K,)=\"Galvanized Iron/Steel\", INDEX($K:$K,)=\"Non-Lead - Copper\", INDEX($K:$K,)=\"Non-Lead - Plastic\", INDEX($K:$K,)=\"Non-Lead - Other\", INDEX($K:$K,)=\"Non-Lead - Material Unknown\", INDEX($K:$K,)=\"No System Owned Portion\"), INDEX($M:$M,)=\"No\", INDEX($Q:$Q,)=\"Non-Lead - Material Unknown\")), \"Non-Lead\", \"Lead Status Unknown\"))))","v":"Non-Lead"}]
[{"$f":"IF(AND(ISBLANK(INDEX($G:$G,)), ISBLANK(INDEX($C:$C,))), \"\", 'PWS Records (System Entry)'!$D$4)","v":"LA1061014"},{"$f":"IF(AND(ISBLANK(INDEX($G:$G,)), ISBLANK(INDEX($C:$C,))), \"\", 'PWS Records (System Entry)'!$D$3)","v":"MT. OLIVE WATERWORK DISTRICT"},"147 THREE POND RD","Ruston","LA",71270,null,null,null,"INDIVIDUAL NAME & SUBDIVISION (HOME NUMBER)","Non-Lead - Plastic","Visual Inspection (for example, visual confirmation at meter pit)","No","No",null,null,"Non-Lead - Plastic","Visual Inspection (for example, visual confirmation at meter pit)",null,null,"Non-Lead"]
[{"$f":"IF(AND(ISBLANK(INDEX($G:$G,)), ISBLANK(INDEX($C:$C,))), \"\", 'PWS Records (System Entry)'!$D$4)","v":"LA1061014"},{"$f":"IF(AND(ISBLANK(INDEX($G:$G,)), ISBLANK(INDEX($C:$C,))), \"\", 'PWS Records (System Entry)'!$D$3)","v":"MT. OLIVE WATERWORK DISTRICT"},"226 MT OLIVE RD","Ruston","LA",71270,null,null,null,"INDIVIDUAL NAME & SUBDIVISION (HOME NUMBER)","Non-Lead - Plastic","Visual Inspection (for example, visual confirmation at meter pit)","No","No",null,null,"Non-Lead - Plastic","Visual Inspection (for example, visual confirmation at meter pit)",null,null,"Non-Lead"]
[{"$f":"IF(AND(ISBLANK(INDEX($G:$G,)), ISBLANK(INDEX($C:$C,))), \"\", 'PWS Records (System Entry)'!$D$4)","v":"LA1061014"},{"$f":"IF(AND(ISBLANK(INDEX($G:$G,)), ISBLANK(INDEX($C:$C,))), \"\", 'PWS Records (System Entry)'!$D$3)","v":"MT. OLIVE WATERWORK DISTRICT"},"238 MT OLIVE RD","Ruston","LA",71270,null,null,null,"INDIVIDUAL NAME & SUBDIVISION (HOME NUMBER)","Non-Lead - Plastic","Visual Inspection (for example, visual confirmation at meter pit)","No","No",null,null,"Non-Lead - Plastic","Visual Inspection (for example, visual confirmation at meter pit)",null,null,"Non-Lead"]
[{"$f":"IF(AND(ISBLANK(INDEX($G:$G,)), ISBLANK(INDEX($C:$C,))), \"\", 'PWS Records (System Entry)'!$D$4)","v":"LA1061014"},{"$f":"IF(AND(ISBLANK(INDEX($G:$G,)), ISBLANK(INDEX($C:$C,))), \"\", 'PWS Records (System Entry)'!$D$3)","v":"MT. OLIVE WATERWORK DISTRICT"},"244 MT OLIVE RD","Ruston","LA",71270,null,null,null,"INDIVIDUAL NAME & SUBDIVISION (HOME NUMBER)","Non-Lead - Plastic","Visual Inspection (for example, visual confirmation at meter pit)","No","No",null,null,"Non-Lead - Plastic","Visual Inspection (for example, visual confirmation at meter pit)",null,null,"Non-Lead"]
[{"$f":"IF(AND(ISBLANK(INDEX($G:$G,)), ISBLANK(INDEX($C:$C,))), \"\", 'PWS Records (System Entry)'!$D$4)","v":"LA1061014"},{"$f":"IF(AND(ISBLANK(INDEX($G:$G,)), ISBLANK(INDEX($C:$C,))), \"\", 'PWS Records (System Entry)'!$D$3)","v":"MT. OLIVE WATERWORK DISTRICT"},"300 MT OLIVE RD","Ruston","LA",71270,null,null,null,"INDIVIDUAL NAME & SUBDIVISION (HOME NUMBER)","Non-Lead - Plastic","Visual Inspection (for example, visual confirmation at meter pit)","No","No",null,null,"Non-Lead - Plastic","Visual Inspection (for example, visual confirmation at meter pit)",null,null,"Non-Lead"]
[{"$f":"IF(AND(ISBLANK(INDEX($G:$G,)), ISBLANK(INDEX($C:$C,))), \"\", 'PWS Records (System Entry)'!$D$4)","v":"LA1061014"},{"$f":"IF(AND(ISBLANK(INDEX($G:$G,)), ISBLANK(INDEX($C:$C,))), \"\", 'PWS Records (System Entry)'!$D$3)","v":"MT. OLIVE WATERWORK DISTRICT"},"312  MT OLIVE RD","Ruston","LA",71270,null,null,null,"INDIVIDUAL NAME & SUBDIVISION (HOME NUMBER)","Non-Lead - Plastic","Visual Inspection (for example, visual confirmation at meter pit)","No","No",null,null,"Non-Lead - Plastic","Visual Inspection (for example, visual confirmation at meter pit)",null,null,"Non-Lead"]
[{"$f":"IF(AND(ISBLANK(INDEX($G:$G,)), ISBLANK(INDEX($C:$C,))), \"\", 'PWS Records (System Entry)'!$D$4)","v":"LA1061014"},{"$f":"IF(AND(ISBLANK(INDEX($G:$G,)), ISBLANK(INDEX($C:$C,))), \"\", 'PWS Records (System Entry)'!$D$3)","v":"MT. OLIVE WATERWORK DISTRICT"},"122 HOUSTON RD","Ruston","LA",71270,null,null,null,"INDIVIDUAL NAME & SUBDIVISION (HOME NUMBER)","Non-Lead - Plastic","Visual Inspection (for example, visual confirmation at meter pit)","No","No",null,null,"Non-Lead - Plastic","Visual Inspection (for example, visual confirmation at meter pit)",null,null,"Non-Lead"]
[{"$f":"IF(AND(ISBLANK(INDEX($G:$G,)), ISBLANK(INDEX($C:$C,))), \"\", 'PWS Records (System Entry)'!$D$4)","v":"LA1061014"},{"$f":"IF(AND(ISBLANK(INDEX($G:$G,)), ISBLANK(INDEX($C:$C,))), \"\", 'PWS Records (System Entry)'!$D$3)","v":"MT. OLIVE WATERWORK DISTRICT"},"324 MT OLIVE RD","Ruston","LA",71270,null,null,null,"INDIVIDUAL NAME & SUBDIVISION (HOME NUMBER)","Non-Lead - Plastic","Visual Inspection (for example, visual confirmation at meter pit)","No","No",null,null,"Non-Lead - Plastic","Visual Inspection (for example, visual confirmation at meter pit)",null,null,"Non-Lead"]
[{"$f":"IF(AND(ISBLANK(INDEX($G:$G,)), ISBLANK(INDEX($C:$C,))), \"\", 'PWS Records (System Entry)'!$D$4)","v":"LA1061014"},{"$f":"IF(AND(ISBLANK(INDEX($G:$G,)), ISBLANK(INDEX($C:$C,))), \"\", 'PWS Records (System Entry)'!$D$3)","v":"MT. OLIVE WATERWORK DISTRICT"},"156 HOUSTON RD","Ruston","LA",71270,null,null,null,"INDIVIDUAL NAME & SUBDIVISION (HOME NUMBER)","Non-Lead - Plastic","Visual Inspection (for example, visual confirmation at meter pit)","No","No",null,null,"Non-Lead - Plastic","Visual Inspection (for example, visual confirmation at meter pit)",null,null,"Non-Lead"]
[{"$f":"IF(AND(ISBLANK(INDEX($G:$G,)), ISBLANK(INDEX($C:$C,))), \"\", 'PWS Records (System Entry)'!$D$4)","v":"LA1061014"},{"$f":"IF(AND(ISBLANK(INDEX($G:$G,)), ISBLANK(INDEX($C:$C,))), \"\", 'PWS Records (System Entry)'!$D$3)","v":"MT. OLIVE WATERWORK DISTRICT"},"141 HOUSTON RD","Ruston","LA",71270,null,null,null,"INDIVIDUAL NAME & SUBDIVISION (HOME NUMBER)","Non-Lead - Plastic","Visual Inspection (for example, visual confirmation at meter pit)","No","No",null,null,"Non-Lead - Plastic","Visual Inspection (for example, visual confirmation at meter pit)",null,null,"Non-Lead"]
[{"$f":"IF(AND(ISBLANK(INDEX($G:$G,)), ISBLANK(INDEX($C:$C,))), \"\", 'PWS Records (System Entry)'!$D$4)","v":"LA1061014"},{"$f":"IF(AND(ISBLANK(INDEX($G:$G,)), ISBLANK(INDEX($C:$C,))), \"\", 'PWS Records (System Entry)'!$D$3)","v":"MT. OLIVE WATERWORK DISTRICT"},"174 HOUSTON RD","Ruston","LA",71270,null,null,null,"INDIVIDUAL NAME & SUBDIVISION (HOME NUMBER)","Non-Lead - Plastic","Visual Inspection (for example, visual confirmation at meter pit)","No","No",null,null,"Non-Lead - Plastic","Visual Inspection (for example, visual confirmation at meter pit)",null,null,"Non-Lead"]
[{"$f":"IF(AND(ISBLANK(INDEX($G:$G,)), ISBLANK(INDEX($C:$C,))), \"\", 'PWS Records (System Entry)'!$D$4)","v":"LA1061014"},{"$f":"IF(AND(ISBLANK(INDEX($G:$G,)), ISBLANK(INDEX($C:$C,))), \"\", 'PWS Records (System Entry)'!$D$3)","v":"MT. OLIVE WATERWORK DISTRICT"},"176 HOUSTON RD","Ruston","LA",71270,null,null,null,"INDIVIDUAL NAME & SUBDIVISION (HOME NUMBER)","Non-Lead - Plastic","Visual Inspection (for example, visual confirmation at meter pit)","No","No",null,null,"Non-Lead - Plastic","Visual Inspection (for example, visual confirmation at meter pit)",null,null,"Non-Lead"]
[{"$f":"IF(AND(ISBLANK(INDEX($G:$G,)), ISBLANK(INDEX($C:$C,))), \"\", 'PWS Records (System Entry)'!$D$4)","v":"LA1061014"},{"$f":"IF(AND(ISBLANK(INDEX($G:$G,)), ISBLANK(INDEX($C:$C,))), \"\", 'PWS Records (System Entry)'!$D$3)","v":"MT. OLIVE WATERWORK DISTRICT"},"206 HOUSTON RE","Ruston","LA",71270,null,null,null,"INDIVIDUAL NAME & SUBDIVISION (HOME NUMBER)","Non-Lead - Plastic","Visual Inspection (for example, visual confirmation at meter pit)","No","No",null,null,"Non-Lead - Plastic","Visual Inspection (for example, visual confirmation at meter pit)",null,null,"Non-Lead"]
[{"$f":"IF(AND(ISBLANK(INDEX($G:$G,)), ISBLANK(INDEX($C:$C,))), \"\", 'PWS Records (System Entry)'!$D$4)","v":"LA1061014"},{"$f":"IF(AND(ISBLANK(INDEX($G:$G,)), ISBLANK(INDEX($C:$C,))), \"\", 'PWS Records (System Entry)'!$D$3)","v":"MT. OLIVE WATERWORK DISTRICT"},"192 HOUSTON RD","Ruston","LA",71270,null,null,null,"INDIVIDUAL NAME & SUBDIVISION (HOME NUMBER)","Non-Lead - Plastic","Visual Inspection (for example, visual confirmation at meter pit)","No","No",null,null,"Non-Lead - Plastic","Visual Inspection (for example, visual confirmation at meter pit)",null,null,"Non-Lead"]
[{"$f":"IF(AND(ISBLANK(INDEX($G:$G,)), ISBLANK(INDEX($C:$C,))), \"\", 'PWS Records (System Entry)'!$D$4)","v":"LA1061014"},{"$f":"IF(AND(ISBLANK(INDEX($G:$G,)), ISBLANK(INDEX($C:$C,))), \"\", 'PWS Records (System Entry)'!$D$3)","v":"MT. OLIVE WATERWORK DISTRICT"},"178 HOUSTON RD","Ruston","LA",71270,4384,null,null,"INDIVIDUAL NAME & SUBDIVISION (HOME NUMBER)","Non-Lead - Plastic","Visual Inspection (for example, visual confirmation at meter pit)","No","No",null,null,"Lead","Visual Inspection (for example, visual confirmation at meter pit)",null,null,"Lead"]
[{"$f":"IF(AND(ISBLANK(INDEX($G:$G,)), ISBLANK(INDEX($C:$C,))), \"\", 'PWS Records (System Entry)'!$D$4)","v":"LA1061014"},{"$f":"IF(AND(ISBLANK(INDEX($G:$G,)), ISBLANK(INDEX($C:$C,))), \"\", 'PWS Records (System Entry)'!$D$3)","v":"MT. OLIVE WATERWORK DISTRICT"},"184 HOUSTON RD","Ruston","LA",71270,null,null,null,"INDIVIDUAL NAME & SUBDIVISION (HOME NUMBER)","Non-Lead - Plastic","Visual Inspection (for example, visual confirmation at meter pit)","No","No",null,null,"Non-Lead - Plastic","Visual Inspection (for example, visual confirmation at meter pit)",null,null,"Non-Lead"]
[{"$f":"IF(AND(ISBLANK(INDEX($G:$G,)), ISBLANK(INDEX($C:$C,))), \"\", 'PWS Records (System Entry)'!$D$4)","v":"LA1061014"},{"$f":"IF(AND(ISBLANK(INDEX($G:$G,)), ISBLANK(INDEX($C:$C,))), \"\", 'PWS Records (System Entry)'!$D$3)","v":"MT. OLIVE WATERWORK DISTRICT"},"273 HOUSTON RD","Ruston","LA",71270,null,null,null,"INDIVIDUAL NAME & SUBDIVISION (HOME NUMBER)","Non-Lead - Plastic","Visual Inspection (for example, visual confirmation at meter pit)","No","No",null,null,"Non-Lead - Plastic","Visual Inspection (for example, visual confirmation at meter pit)",null,null,"Non-Lead"]
[{"$f":"IF(AND(ISBLANK(INDEX($G:$G,)), ISBLANK(INDEX($C:$C,))), \"\", 'PWS Records (System Entry)'!$D$4)","v":"LA1061014"},{"$f":"IF(AND(ISBLANK(INDEX($G:$G,)), ISBLANK(INDEX($C:$C,))), \"\", 'PWS Records (System Entry)'!$D$3)","v":"MT. OLIVE WATERWORK DISTRICT"},"293 HOUSTON RD","Ruston","LA",71270,null,null,null,"INDIVIDUAL NAME & SUBDIVISION (HOME NUMBER)","Non-Lead - Plastic","Visual Inspection (for example, visual confirmation at meter pit)","No","No",null,null,"Non-Lead - Plastic","Visual Inspection (for example, visual confirmation at meter pit)",null,null,"Non-Lead"]
[{"$f":"IF(AND(ISBLANK(INDEX($G:$G,)), ISBLANK(INDEX($C:$C,))), \"\", 'PWS Records (System Entry)'!$D$4)","v":"LA1061014"},{"$f":"IF(AND(ISBLANK(INDEX($G:$G,)), ISBLANK(INDEX($C:$C,))), \"\", 'PWS Records (System Entry)'!$D$3)","v":"MT. OLIVE WATERWORK DISTRICT"},"992 GARR RD","Ruston","LA",71270,null,null,null,"INDIVIDUAL NAME & SUBDIVISION (HOME NUMBER)","Non-Lead - Plastic","Visual Inspection (for example, visual confirmation at meter pit)","No","No",null,null,"Non-Lead - Plastic","Visual Inspection (for example, visual confirmation at meter pit)",null,null,"Non-Lead"]
[{"$f":"IF(AND(ISBLANK(INDEX($G:$G,)), ISBLANK(INDEX($C:$C,))), \"\", 'PWS Records (System Entry)'!$D$4)","v":"LA1061014"},{"$f":"IF(AND(ISBLANK(INDEX($G:$G,)), ISBLANK(INDEX($C:$C,))), \"\", 'PWS Records (System Entry)'!$D$3)","v":"MT. OLIVE WATERWORK DISTRICT"},"978 GARR RD","Ruston","LA",71270,null,null,null,"INDIVIDUAL NAME & SUBDIVISION (HOME NUMBER)","Non-Lead - Plastic","Visual Inspection (for example, visual confirmation at meter pit)","No","No",null,null,"Non-Lead - Plastic","Visual Inspection (for example, visual confirmation at meter pit)",null,null,"Non-Lead"]
[{"$f":"IF(AND(ISBLANK(INDEX($G:$G,)), ISBLANK(INDEX($C:$C,))), \"\", 'PWS Records (System Entry)'!$D$4)","v":"LA1061014"},{"$f":"IF(AND(ISBLANK(INDEX($G:$G,)), ISBLANK(INDEX($C:$C,))), \"\", 'PWS Records (System Entry)'!$D$3)","v":"MT. OLIVE WATERWORK DISTRICT"},"1011 GARR RD","Ruston","LA",71270,null,null,null,"INDIVIDUAL NAME & SUBDIVISION (HOME NUMBER)","Non-Lead - Plastic","Visual Inspection (for example, visual confirmation at meter pit)","No","No",null,null,"Non-Lead - Plastic","Visual Inspection (for example, visual confirmation at meter pit)",null,null,"Non-Lead"]
[{"$f":"IF(AND(ISBLANK(INDEX($G:$G,)), ISBLANK(INDEX($C:$C,))), \"\", 'PWS Records (System Entry)'!$D$4)","v":"LA1061014"},{"$f":"IF(AND(ISBLANK(INDEX($G:$G,)), ISBLANK(INDEX($C:$C,))), \"\", 'PWS Records (System Entry)'!$D$3)","v":"MT. OLIVE WATERWORK DISTRICT"},"908 GARR RD","Ruston","LA",71270,null,null,null,"INDIVIDUAL NAME & SUBDIVISION (HOME NUMBER)","Non-Lead - Plastic","Visual Inspection (for example, visual confirmation at meter pit)","No","No",null,null,"Non-Lead - Plastic","Visual Inspection (for example, visual confirmation at meter pit)",null,null,"Non-Lead"]
[{"$f":"IF(AND(ISBLANK(INDEX($G:$G,)), ISBLANK(INDEX($C:$C,))), \"\", 'PWS Records (System Entry)'!$D$4)","v":"LA1061014"},{"$f":"IF(AND(ISBLANK(INDEX($G:$G,)), ISBLANK(INDEX($C:$C,))), \"\", 'PWS Records (System Entry)'!$D$3)","v":"MT. OLIVE WATERWORK DISTRICT"},"759 GARR RD","Ruston","LA",71270,null,null,null,"INDIVIDUAL NAME & SUBDIVISION (HOME NUMBER)","Non-Lead - Plastic","Visual Inspection (for example, visual confirmation at meter pit)","No","No",null,null,"Non-Lead - Plastic","Visual Inspection (for example, visual confirmation at meter pit)",null,null,"Non-Lead"]
[{"$f":"IF(AND(ISBLANK(INDEX($G:$G,)), ISBLANK(INDEX($C:$C,))), \"\", 'PWS Records (System Entry)'!$D$4)","v":"LA1061014"},{"$f":"IF(AND(ISBLANK(INDEX($G:$G,)), ISBLANK(INDEX($C:$C,))), \"\", 'PWS Records (System Entry)'!$D$3)","v":"MT. OLIVE WATERWORK DISTRICT"},"745 GARR RD","Ruston","LA",71270,null,null,null,"INDIVIDUAL NAME & SUBDIVISION (HOME NUMBER)","Non-Lead - Plastic","Visual Inspection (for example, visual confirmation at meter pit)","No","No",null,null,"Non-Lead - Plastic","Visual Inspection (for example, visual confirmation at meter pit)",null,null,"Non-Lead"]
[{"$f":"IF(AND(ISBLANK(INDEX($G:$G,)), ISBLANK(INDEX($C:$C,))), \"\", 'PWS Records (System Entry)'!$D$4)","v":"LA1061014"},{"$f":"IF(AND(ISBLANK(INDEX($G:$G,)), ISBLANK(INDEX($C:$C,))), \"\", 'PWS Records (System Entry)'!$D$3)","v":"MT. OLIVE WATERWORK DISTRICT"},"729 GARR RD","Ruston","LA",71270,null,null,null,"INDIVIDUAL NAME & SUBDIVISION (HOME NUMBER)","Non-Lead - Plastic","Visual Inspection (for example, visual confirmation at meter pit)","No","No",null,null,"Non-Lead - Plastic","Visual Inspection (for example, visual confirmation at meter pit)",null,null,"Non-Lead"]
[{"$f":"IF(AND(ISBLANK(INDEX($G:$G,)), ISBLANK(INDEX($C:$C,))), \"\", 'PWS Records (System Entry)'!$D$4)","v":"LA1061014"},{"$f":"IF(AND(ISBLANK(INDEX($G:$G,)), ISBLANK(INDEX($C:$C,))), \"\", 'PWS Records (System Entry)'!$D$3)","v":"MT. OLIVE WATERWORK DISTRICT"},"186 LEWIS RD","Ruston","LA",71270,null,null,null,"INDIVIDUAL NAME & SUBDIVISION (HOME NUMBER)","Non-Lead - Plastic","Visual Inspection (for example, visual confirmation at meter pit)","No","No",null,null,"Non-Lead - Plastic","Visual Inspection (for example, visual confirmation at meter pit)",null,null,"Non-Lead"]
[{"$f":"IF(AND(ISBLANK(INDEX($G:$G,)), ISBLANK(INDEX($C:$C,))), \"\", 'PWS Records (System Entry)'!$D$4)","v":"LA1061014"},{"$f":"IF(AND(ISBLANK(INDEX($G:$G,)), ISBLANK(INDEX($C:$C,))), \"\", 'PWS Records (System Entry)'!$D$3)","v":"MT. OLIVE WATERWORK DISTRICT"},"660 GARR RD","Ruston","LA",71270,null,null,null,"INDIVIDUAL NAME & SUBDIVISION (HOME NUMBER)","Non-Lead - Plastic","Visual Inspection (for example, visual confirmation at meter pit)","No","No",null,null,"Non-Lead - Plastic","Visual Inspection (for example, visual confirmation at meter pit)",null,null,"Non-Lead"]
[{"$f":"IF(AND(ISBLANK(INDEX($G:$G,)), ISBLANK(INDEX($C:$C,))), \"\", 'PWS Records (System Entry)'!$D$4)","v":"LA1061014"},{"$f":"IF(AND(ISBLANK(INDEX($G:$G,)), ISBLANK(INDEX($C:$C,))), \"\", 'PWS Records (System Entry)'!$D$3)","v":"MT. OLIVE WATERWORK DISTRICT"},"651 GARR RD","Ruston","LA",71270,null,null,null,"INDIVIDUAL NAME & SUBDIVISION (HOME NUMBER)","Non-Lead - Plastic","Visual Inspection (for example, visual confirmation at meter pit)","No","No",null,null,"Non-Lead - Plastic","Visual Inspection (for example, visual confirmation at meter pit)",null,null,"Non-Lead"]
[{"$f":"IF(AND(ISBLANK(INDEX($G:$G,)), ISBLANK(INDEX($C:$C,))), \"\", 'PWS Records (System Entry)'!$D$4)","v":"LA1061014"},{"$f":"IF(AND(ISBLANK(INDEX($G:$G,)), ISBLANK(INDEX($C:$C,))), \"\", 'PWS Records (System Entry)'!$D$3)","v":"MT. OLIVE WATERWORK DISTRICT"},"738 GARR RD","Ruston","LA",71270,null,null,null,"INDIVIDUAL NAME & SUBDIVISION (HOME NUMBER)","Non-Lead - Plastic","Visual Inspection (for example, visual confirmation at meter pit)","No","No",null,null,"Non-Lead - Plastic","Visual Inspection (for example, visual confirmation at meter pit)",null,null,"Non-Lead"]
[{"$f":"IF(AND(ISBLANK(INDEX($G:$G,)), ISBLANK(INDEX($C:$C,))), \"\", 'PWS Records (System Entry)'!$D$4)","v":"LA1061014"},{"$f":"IF(AND(ISBLANK(INDEX($G:$G,)), ISBLANK(INDEX($C:$C,))), \"\", 'PWS Records (System Entry)'!$D$3)","v":"MT. OLIVE WATERWORK DISTRICT"},"133 HOOF LANE","Ruston","LA",71270,null,null,null,"INDIVIDUAL NAME & SUBDIVISION (HOME NUMBER)","Non-Lead - Plastic","Visual Inspection (for example, visual confirmation at meter pit)","No","No",null,null,"Non-Lead - Plastic","Visual Inspection (for example, visual confirmation at meter pit)",null,null,"Non-Lead"]
[{"$f":"IF(AND(ISBLANK(INDEX($G:$G,)), ISBLANK(INDEX($C:$C,))), \"\", 'PWS Records (System Entry)'!$D$4)","v":"LA1061014"},{"$f":"IF(AND(ISBLANK(INDEX($G:$G,)), ISBLANK(INDEX($C:$C,))), \"\", 'PWS Records (System Entry)'!$D$3)","v":"MT. OLIVE WATERWORK DISTRICT"},"124 HOOF LANE","Ruston","LA",71270,null,null,null,"INDIVIDUAL NAME & SUBDIVISION (HOME NUMBER)","Non-Lead - Plastic","Visual Inspection (for example, visual confirmation at meter pit)","No","No",null,null,"Non-Lead - Plastic","Visual Inspection (for example, visual confirmation at meter pit)",null,null,"Non-Lead"]
[{"$f":"IF(AND(ISBLANK(INDEX($G:$G,)), ISBLANK(INDEX($C:$C,))), \"\", 'PWS Records (System Entry)'!$D$4)","v":"LA1061014"},{"$f":"IF(AND(ISBLANK(INDEX($G:$G,)), ISBLANK(INDEX($C:$C,))), \"\", 'PWS Records (System Entry)'!$D$3)","v":"MT. OLIVE WATERWORK DISTRICT"},"772 GARR RD","Ruston","LA",71270,null,null,null,"INDIVIDUAL NAME & SUBDIVISION (HOME NUMBER)","Non-Lead - Plastic","Visual Inspection (for example, visual confirmation at meter pit)","No","No",null,null,"Non-Lead - Plastic","Visual Inspection (for example, visual confirmation at meter pit)",null,null,"Non-Lead"]
[{"$f":"IF(AND(ISBLANK(INDEX($G:$G,)), ISBLANK(INDEX($C:$C,))), \"\", 'PWS Records (System Entry)'!$D$4)","v":"LA1061014"},{"$f":"IF(AND(ISBLANK(INDEX($G:$G,)), ISBLANK(INDEX($C:$C,))), \"\", 'PWS Records (System Entry)'!$D$3)","v":"MT. OLIVE WATERWORK DISTRICT"},"773 GARR RD","Ruston","LA",71270,null,null,null,"INDIVIDUAL NAME & SUBDIVISION (HOME NUMBER)","Non-Lead - Plastic","Visual Inspection (for example, visual confirmation at meter pit)","No","No",null,null,"Non-Lead - Plastic","Visual Inspection (for example, visual confirmation at meter pit)",null,null,"Non-Lead"]
[{"$f":"IF(AND(ISBLANK(INDEX($G:$G,)), ISBLANK(INDEX($C:$C,))), \"\", 'PWS Records (System Entry)'!$D$4)","v":"LA1061014"},{"$f":"IF(AND(ISBLANK(INDEX($G:$G,)), ISBLANK(INDEX($C:$C,))), \"\", 'PWS Records (System Entry)'!$D$3)","v":"MT. OLIVE WATERWORK DISTRICT"},"191 LEWIS RD","Ruston","LA",71270,null,null,null,"INDIVIDUAL NAME & SUBDIVISION (HOME NUMBER)","Non-Lead - Plastic","Visual Inspection (for example, visual confirmation at meter pit)","No","No",null,null,"Non-Lead - Plastic","Visual Inspection (for example, visual confirmation at meter pit)",null,null,"Non-Lead"]
[{"$f":"IF(AND(ISBLANK(INDEX($G:$G,)), ISBLANK(INDEX($C:$C,))), \"\", 'PWS Records (System Entry)'!$D$4)","v":"LA1061014"},{"$f":"IF(AND(ISBLANK(INDEX($G:$G,)), ISBLANK(INDEX($C:$C,))), \"\", 'PWS Records (System Entry)'!$D$3)","v":"MT. OLIVE WATERWORK DISTRICT"},"198 LEWIS RD","Ruston","LA",71270,null,null,null,"INDIVIDUAL NAME & SUBDIVISION (HOME NUMBER)","Non-Lead - Plastic","Visual Inspection (for example, visual confirmation at meter pit)","No","No",null,null,"Non-Lead - Plastic","Visual Inspection (for example, visual confirmation at meter pit)",null,null,"Non-Lead"]
[{"$f":"IF(AND(ISBLANK(INDEX($G:$G,)), ISBLANK(INDEX($C:$C,))), \"\", 'PWS Records (System Entry)'!$D$4)","v":"LA1061014"},{"$f":"IF(AND(ISBLANK(INDEX($G:$G,)), ISBLANK(INDEX($C:$C,))), \"\", 'PWS Records (System Entry)'!$D$3)","v":"MT. OLIVE WATERWORK DISTRICT"},"634 GARR RD","Ruston","LA",71270,null,null,null,"INDIVIDUAL NAME & SUBDIVISION (HOME NUMBER)","Non-Lead - Plastic","Visual Inspection (for example, visual confirmation at meter pit)","No","No",null,null,"Non-Lead - Plastic","Visual Inspection (for example, visual confirmation at meter pit)",null,null,"Non-Lead"]
[{"$f":"IF(AND(ISBLANK(INDEX($G:$G,)), ISBLANK(INDEX($C:$C,))), \"\", 'PWS Records (System Entry)'!$D$4)","v":"LA1061014"},{"$f":"IF(AND(ISBLANK(INDEX($G:$G,)), ISBLANK(INDEX($C:$C,))), \"\", 'PWS Records (System Entry)'!$D$3)","v":"MT. OLIVE WATERWORK DISTRICT"},"633 GARR RD","Ruston","LA",71270,null,null,null,"INDIVIDUAL NAME & SUBDIVISION (HOME NUMBER)","Non-Lead - Plastic","Visual Inspection (for example, visual confirmation at meter pit)","No","No",null,null,"Non-Lead - Plastic","Visual Inspection (for example, visual confirmation at meter pit)",null,null,"Non-Lead"]
[{"$f":"IF(AND(ISBLANK(INDEX($G:$G,)), ISBLANK(INDEX($C:$C,))), \"\", 'PWS Records (System Entry)'!$D$4)","v":"LA1061014"},{"$f":"IF(AND(ISBLANK(INDEX($G:$G,)), ISBLANK(INDEX($C:$C,))), \"\", 'PWS Records (System Entry)'!$D$3)","v":"MT. OLIVE WATERWORK DISTRICT"},"621 GARR RD","Ruston","LA",71270,null,null,null,"INDIVIDUAL NAME & SUBDIVISION (HOME NUMBER)","Non-Lead - Plastic","Visual Inspection (for example, visual confirmation at meter pit)","No","No",null,null,"Non-Lead - Plastic","Visual Inspection (for example, visual confirmation at meter pit)",null,null,"Non-Lead"]
[{"$f":"IF(AND(ISBLANK(INDEX($G:$G,)), ISBLANK(INDEX($C:$C,))), \"\", 'PWS Records (System Entry)'!$D$4)","v":"LA1061014"},{"$f":"IF(AND(ISBLANK(INDEX($G:$G,)), ISBLANK(INDEX($C:$C,))), \"\", 'PWS Records (System Entry)'!$D$3)","v":"MT. OLIVE WATERWORK DISTRICT"},"621 GARR RD","Ruston","LA",71270,null,null,null,"INDIVIDUAL NAME & SUBDIVISION (HOME NUMBER)","Non-Lead - Plastic","Visual Inspection (for example, visual confirmation at meter pit)","No","No",null,null,"Non-Lead - Plastic","Visual Inspection (for example, visual confirmation at meter pit)",null,null,"Non-Lead"]
[{"$f":"IF(AND(ISBLANK(INDEX($G:$G,)), ISBLANK(INDEX($C:$C,))), \"\", 'PWS Records (System Entry)'!$D$4)","v":"LA1061014"},{"$f":"IF(AND(ISBLANK(INDEX($G:$G,)), ISBLANK(INDEX($C:$C,))), \"\", 'PWS Records (System Entry)'!$D$3)","v":"MT. OLIVE WATERWORK DISTRICT"},"629 GARR RD","Ruston","LA",71270,null,null,null,"INDIVIDUAL NAME & SUBDIVISION (HOME NUMBER)","Non-Lead - Plastic","Visual Inspection (for example, visual confirmation at meter pit)","No","No",null,null,"Non-Lead - Plastic","Visual Inspection (for example, visual confirmation at meter pit)",null,null,"Non-Lead"]
[{"$f":"IF(AND(ISBLANK(INDEX($G:$G,)), ISBLANK(INDEX($C:$C,))), \"\", 'PWS Records (System Entry)'!$D$4)","v":"LA1061014"},{"$f":"IF(AND(ISBLANK(INDEX($G:$G,)), ISBLANK(INDEX($C:$C,))), \"\", 'PWS Records (System Entry)'!$D$3)","v":"MT. OLIVE WATERWORK DISTRICT"},"1291 RWE JONES DR","Ruston","LA",71270,null,null,null,"INDIVIDUAL NAME & SUBDIVISION (HOME NUMBER)","Non-Lead - Plastic","Visual Inspection (for example, visual confirmation at meter pit)","No","No",null,null,"Non-Lead - Plastic","Visual Inspection (for example, visual confirmation at meter pit)",null,null,"Non-Lead"]
[{"$f":"IF(AND(ISBLANK(INDEX($G:$G,)), ISBLANK(INDEX($C:$C,))), \"\", 'PWS Records (System Entry)'!$D$4)","v":"LA1061014"},{"$f":"IF(AND(ISBLANK(INDEX($G:$G,)), ISBLANK(INDEX($C:$C,))), \"\", 'PWS Records (System Entry)'!$D$3)","v":"MT. OLIVE WATERWORK DISTRICT"},"198 NATHAN LOOP","Ruston","LA",71270,null,null,null,"INDIVIDUAL NAME & SUBDIVISION (HOME NUMBER)","Non-Lead - Plastic","Visual Inspection (for example, visual confirmation at meter pit)","No","No",null,null,"Non-Lead - Plastic","Visual Inspection (for example, visual confirmation at meter pit)",null,null,"Non-Lead"]
[{"$f":"IF(AND(ISBLANK(INDEX($G:$G,)), ISBLANK(INDEX($C:$C,))), \"\", 'PWS Records (System Entry)'!$D$4)","v":"LA1061014"},{"$f":"IF(AND(ISBLANK(INDEX($G:$G,)), ISBLANK(INDEX($C:$C,))), \"\", 'PWS Records (System Entry)'!$D$3)","v":"MT. OLIVE WATERWORK DISTRICT"},"189 NATHAN LOOP","Ruston","LA",71270,null,null,null,"INDIVIDUAL NAME & SUBDIVISION (HOME NUMBER)","Non-Lead - Plastic","Visual Inspection (for example, visual confirmation at meter pit)","No","No",null,null,"Non-Lead - Plastic","Visual Inspection (for example, visual confirmation at meter pit)",null,null,"Non-Lead"]
[{"$f":"IF(AND(ISBLANK(INDEX($G:$G,)), ISBLANK(INDEX($C:$C,))), \"\", 'PWS Records (System Entry)'!$D$4)","v":"LA1061014"},{"$f":"IF(AND(ISBLANK(INDEX($G:$G,)), ISBLANK(INDEX($C:$C,))), \"\", 'PWS Records (System Entry)'!$D$3)","v":"MT. OLIVE WATERWORK DISTRICT"},"220 NATHAN LOOP","Ruston","LA",71270,null,null,null,"INDIVIDUAL NAME & SUBDIVISION (HOME NUMBER)","Non-Lead - Plastic","Visual Inspection (for example, visual confirmation at meter pit)","No","No",null,null,"Non-Lead - Plastic","Visual Inspection (for example, visual confirmation at meter pit)",null,null,"Non-Lead"]
[{"$f":"IF(AND(ISBLANK(INDEX($G:$G,)), ISBLANK(INDEX($C:$C,))), \"\", 'PWS Records (System Entry)'!$D$4)","v":"LA1061014"},{"$f":"IF(AND(ISBLANK(INDEX($G:$G,)), ISBLANK(INDEX($C:$C,))), \"\", 'PWS Records (System Entry)'!$D$3)","v":"MT. OLIVE WATERWORK DISTRICT"},"221 NATHAN LOOP","Ruston","LA",71270,null,null,null,"INDIVIDUAL NAME & SUBDIVISION (HOME NUMBER)","Non-Lead - Plastic","Visual Inspection (for example, visual confirmation at meter pit)","No","No",null,null,"Non-Lead - Plastic","Visual Inspection (for example, visual confirmation at meter pit)",null,null,"Non-Lead"]
[{"$f":"IF(AND(ISBLANK(INDEX($G:$G,)), ISBLANK(INDEX($C:$C,))), \"\", 'PWS Records (System Entry)'!$D$4)","v":"LA1061014"},{"$f":"IF(AND(ISBLANK(INDEX($G:$G,)), ISBLANK(INDEX($C:$C,))), \"\", 'PWS Records (System Entry)'!$D$3)","v":"MT. OLIVE WATERWORK DISTRICT"},"208 NATHAN LOOP","Ruston","LA",71270,null,null,null,"INDIVIDUAL NAME & SUBDIVISION (HOME NUMBER)","Non-Lead - Plastic","Visual Inspection (for example, visual confirmation at meter pit)","No","No",null,null,"Non-Lead - Plastic","Visual Inspection (for example, visual confirmation at meter pit)",null,null,"Non-Lead"]
[{"$f":"IF(AND(ISBLANK(INDEX($G:$G,)), ISBLANK(INDEX($C:$C,))), \"\", 'PWS Records (System Entry)'!$D$4)","v":"LA1061014"},{"$f":"IF(AND(ISBLANK(INDEX($G:$G,)), ISBLANK(INDEX($C:$C,))), \"\", 'PWS Records (System Entry)'!$D$3)","v":"MT. OLIVE WATERWORK DISTRICT"},"211 NATHAN LOOP","Ruston","LA",71270,null,null,null,"INDIVIDUAL NAME & SUBDIVISION (HOME NUMBER)","Non-Lead - Plastic","Visual Inspection (for example, visual confirmation at meter pit)","No","No",null,null,"Non-Lead - Plastic","Visual Inspection (for example, visual confirmation at meter pit)",null,null,"Non-Lead"]
[{"$f":"IF(AND(ISBLANK(INDEX($G:$G,)), ISBLANK(INDEX($C:$C,))), \"\", 'PWS Records (System Entry)'!$D$4)","v":"LA1061014"},{"$f":"IF(AND(ISBLANK(INDEX($G:$G,)), ISBLANK(INDEX($C:$C,))), \"\", 'PWS Records (System Entry)'!$D$3)","v":"MT. OLIVE WATERWORK DISTRICT"},"208 NATHAN LOOP","Ruston","LA",71270,null,null,null,"INDIVIDUAL NAME & SUBDIVISION (HOME NUMBER)","Non-Lead - Plastic","Visual Inspection (for example, visual confirmation at meter pit)","No","No",null,null,"Non-Lead - Plastic","Visual Inspection (for example, visual confirmation at meter pit)",null,null,"Non-Lead"]
[{"$f":"IF(AND(ISBLANK(INDEX($G:$G,)), ISBLANK(INDEX($C:$C,))), \"\", 'PWS Records (System Entry)'!$D$4)","v":"LA1061014"},{"$f":"IF(AND(ISBLANK(INDEX($G:$G,)), ISBLANK(INDEX($C:$C,))), \"\", 'PWS Records (System Entry)'!$D$3)","v":"MT. OLIVE WATERWORK DISTRICT"},"146 NATHAN LOOP","Ruston","LA",71270,null,null,null,"INDIVIDUAL NAME & SUBDIVISION (HOME NUMBER)","Non-Lead - Plastic","Visual Inspection (for example, visual confirmation at meter pit)","No","No",null,null,"Non-Lead - Plastic","Visual Inspection (for example, visual confirmation at meter pit)",null,null,"Non-Lead"]
[{"$f":"IF(AND(ISBLANK(INDEX($G:$G,)), ISBLANK(INDEX($C:$C,))), \"\", 'PWS Records (System Entry)'!$D$4)","v":"LA1061014"},{"$f":"IF(AND(ISBLANK(INDEX($G:$G,)), ISBLANK(INDEX($C:$C,))), \"\", 'PWS Records (System Entry)'!$D$3)","v":"MT. OLIVE WATERWORK DISTRICT"},"170 NATHAN LOOP","Ruston","LA",71270,null,null,null,"INDIVIDUAL NAME & SUBDIVISION (HOME NUMBER)","Non-Lead - Plastic","Visual Inspection (for example, visual confirmation at meter pit)","No","No",null,null,"Non-Lead - Plastic","Visual Inspection (for example, visual confirmation at meter pit)",null,null,"Non-Lead"]
[{"$f":"IF(AND(ISBLANK(INDEX($G:$G,)), ISBLANK(INDEX($C:$C,))), \"\", 'PWS Records (System Entry)'!$D$4)","v":"LA1061014"},{"$f":"IF(AND(ISBLANK(INDEX($G:$G,)), ISBLANK(INDEX($C:$C,))), \"\", 'PWS Records (System Entry)'!$D$3)","v":"MT. OLIVE WATERWORK DISTRICT"},"223 NATHAN LOOP","Ruston","LA",71270,null,null,null,"INDIVIDUAL NAME & SUBDIVISION (HOME NUMBER)","Non-Lead - Plastic","Visual Inspection (for example, visual confirmation at meter pit)","No","No",null,null,"Non-Lead - Plastic","Visual Inspection (for example, visual confirmation at meter pit)",null,null,"Non-Lead"]
[{"$f":"IF(AND(ISBLANK(INDEX($G:$G,)), ISBLANK(INDEX($C:$C,))), \"\", 'PWS Records (System Entry)'!$D$4)","v":"LA1061014"},{"$f":"IF(AND(ISBLANK(INDEX($G:$G,)), ISBLANK(INDEX($C:$C,))), \"\", 'PWS Records (System Entry)'!$D$3)","v":"MT. OLIVE WATERWORK DISTRICT"},"NATHAN LOOP ROAD","Ruston","LA",71270,null,null,null,"INDIVIDUAL NAME & SUBDIVISION (HOME NUMBER)","Non-Lead - Plastic","Visual Inspection (for example, visual confirmation at meter pit)","No","No",null,null,"Non-Lead - Plastic","Visual Inspection (for example, visual confirmation at meter pit)",null,null,"Non-Lead"]
[{"$f":"IF(AND(ISBLANK(INDEX($G:$G,)), ISBLANK(INDEX($C:$C,))), \"\", 'PWS Records (System Entry)'!$D$4)","v":"LA1061014"},{"$f":"IF(AND(ISBLANK(INDEX($G:$G,)), ISBLANK(INDEX($C:$C,))), \"\", 'PWS Records (System Entry)'!$D$3)","v":"MT. OLIVE WATERWORK DISTRICT"},"159 NATHAN LOOP","Ruston","LA",71270,null,null,null,"INDIVIDUAL NAME & SUBDIVISION (HOME NUMBER)","Non-Lead - Plastic","Visual Inspection (for example, visual confirmation at meter pit)","No","No",null,null,"Non-Lead - Plastic","Visual Inspection (for example, visual confirmation at meter pit)",null,null,"Non-Lead"]
[{"$f":"IF(AND(ISBLANK(INDEX($G:$G,)), ISBLANK(INDEX($C:$C,))), \"\", 'PWS Records (System Entry)'!$D$4)","v":"LA1061014"},{"$f":"IF(AND(ISBLANK(INDEX($G:$G,)), ISBLANK(INDEX($C:$C,))), \"\", 'PWS Records (System Entry)'!$D$3)","v":"MT. OLIVE WATERWORK DISTRICT"},"179 NATHAN LOOP","Ruston","LA",71270,null,null,null,"INDIVIDUAL NAME & SUBDIVISION (HOME NUMBER)","Non-Lead - Plastic","Visual Inspection (for example, visual confirmation at meter pit)","No","No",null,null,"Non-Lead - Plastic","Visual Inspection (for example, visual confirmation at meter pit)",null,null,"Non-Lead"]
[{"$f":"IF(AND(ISBLANK(INDEX($G:$G,)), ISBLANK(INDEX($C:$C,))), \"\", 'PWS Records (System Entry)'!$D$4)","v":"LA1061014"},{"$f":"IF(AND(ISBLANK(INDEX($G:$G,)), ISBLANK(INDEX($C:$C,))), \"\", 'PWS Records (System Entry)'!$D$3)","v":"MT. OLIVE WATERWORK DISTRICT"},"203 NATHAN LOOP","Ruston","LA",71270,null,null,null,"INDIVIDUAL NAME & SUBDIVISION (HOME NUMBER)","Non-Lead - Plastic","Visual Inspection (for example, visual confirmation at meter pit)","No","No",null,null,"Non-Lead - Plastic","Visual Inspection (for example, visual confirmation at meter pit)",null,null,"Non-Lead"]
[{"$f":"IF(AND(ISBLANK(INDEX($G:$G,)), ISBLANK(INDEX($C:$C,))), \"\", 'PWS Records (System Entry)'!$D$4)","v":"LA1061014"},{"$f":"IF(AND(ISBLANK(INDEX($G:$G,)), ISBLANK(INDEX($C:$C,))), \"\", 'PWS Records (System Entry)'!$D$3)","v":"MT. OLIVE WATERWORK DISTRICT"},"183 NATHOON LOOP","Ruston","LA",71270,null,null,null,"INDIVIDUAL NAME & SUBDIVISION (HOME NUMBER)","Non-Lead - Plastic","Visual Inspection (for example, visual confirmation at meter pit)","No","No",null,null,"Non-Lead - Plastic","Visual Inspection (for example, visual confirmation at meter pit)",null,null,"Non-Lead"]
[{"$f":"IF(AND(ISBLANK(INDEX($G:$G,)), ISBLANK(INDEX($C:$C,))), \"\", 'PWS Records (System Entry)'!$D$4)","v":"LA1061014"},{"$f":"IF(AND(ISBLANK(INDEX($G:$G,)), ISBLANK(INDEX($C:$C,))), \"\", 'PWS Records (System Entry)'!$D$3)","v":"MT. OLIVE WATERWORK DISTRICT"},"131 NATHAN LOOP","Ruston","LA",71270,null,null,null,"INDIVIDUAL NAME & SUBDIVISION (HOME NUMBER)","Non-Lead - Plastic","Visual Inspection (for example, visual confirmation at meter pit)","No","No",null,null,"Non-Lead - Plastic","Visual Inspection (for example, visual confirmation at meter pit)",null,null,"Non-Lead"]
[{"$f":"IF(AND(ISBLANK(INDEX($G:$G,)), ISBLANK(INDEX($C:$C,))), \"\", 'PWS Records (System Entry)'!$D$4)","v":"LA1061014"},{"$f":"IF(AND(ISBLANK(INDEX($G:$G,)), ISBLANK(INDEX($C:$C,))), \"\", 'PWS Records (System Entry)'!$D$3)","v":"MT. OLIVE WATERWORK DISTRICT"},"135 LEWIS RD","Ruston","LA",71270,null,null,null,"INDIVIDUAL NAME & SUBDIVISION (HOME NUMBER)","Non-Lead - Plastic","Visual Inspection (for example, visual confirmation at meter pit)","No","No",null,null,"Non-Lead - Plastic","Visual Inspection (for example, visual confirmation at meter pit)",null,null,"Non-Lead"]
[{"$f":"IF(AND(ISBLANK(INDEX($G:$G,)), ISBLANK(INDEX($C:$C,))), \"\", 'PWS Records (System Entry)'!$D$4)","v":"LA1061014"},{"$f":"IF(AND(ISBLANK(INDEX($G:$G,)), ISBLANK(INDEX($C:$C,))), \"\", 'PWS Records (System Entry)'!$D$3)","v":"MT. OLIVE WATERWORK DISTRICT"},"1237 RWE JONES","Ruston","LA",71270,null,null,null,"INDIVIDUAL NAME & SUBDIVISION (HOME NUMBER)","Non-Lead - Plastic","Visual Inspection (for example, visual confirmation at meter pit)","No","No",null,null,"Non-Lead - Plastic","Visual Inspection (for example, visual confirmation at meter pit)",null,null,"Non-Lead"]
[{"$f":"IF(AND(ISBLANK(INDEX($G:$G,)), ISBLANK(INDEX($C:$C,))), \"\", 'PWS Records (System Entry)'!$D$4)","v":"LA1061014"},{"$f":"IF(AND(ISBLANK(INDEX($G:$G,)), ISBLANK(INDEX($C:$C,))), \"\", 'PWS Records (System Entry)'!$D$3)","v":"MT. OLIVE WATERWORK DISTRICT"},"1248 RWE JONES","Ruston","LA",71270,null,null,null,"INDIVIDUAL NAME & SUBDIVISION (HOME NUMBER)","Non-Lead - Plastic","Visual Inspection (for example, visual confirmation at meter pit)","No","No",null,null,"Non-Lead - Plastic","Visual Inspection (for example, visual confirmation at meter pit)",null,null,"Non-Lead"]
[{"$f":"IF(AND(ISBLANK(INDEX($G:$G,)), ISBLANK(INDEX($C:$C,))), \"\", 'PWS Records (System Entry)'!$D$4)","v":"LA1061014"},{"$f":"IF(AND(ISBLANK(INDEX($G:$G,)), ISBLANK(INDEX($C:$C,))), \"\", 'PWS Records (System Entry)'!$D$3)","v":"MT. OLIVE WATERWORK DISTRICT"},"1288 RWE JONES DRIVE","Ruston","LA",71270,null,null,null,"INDIVIDUAL NAME & SUBDIVISION (HOME NUMBER)","Non-Lead - Plastic","Visual Inspection (for example, visual confirmation at meter pit)","No","No",null,null,"Non-Lead - Plastic","Visual Inspection (for example, visual confirmation at meter pit)",null,null,"Non-Lead"]
[{"$f":"IF(AND(ISBLANK(INDEX($G:$G,)), ISBLANK(INDEX($C:$C,))), \"\", 'PWS Records (System Entry)'!$D$4)","v":"LA1061014"},{"$f":"IF(AND(ISBLANK(INDEX($G:$G,)), ISBLANK(INDEX($C:$C,))), \"\", 'PWS Records (System Entry)'!$D$3)","v":"MT. OLIVE WATERWORK DISTRICT"},"114 OLIVE STREET","Ruston","LA",71270,null,null,null,"INDIVIDUAL NAME & SUBDIVISION (HOME NUMBER)","Non-Lead - Plastic","Visual Inspection (for example, visual confirmation at meter pit)","No","No",null,null,"Non-Lead - Plastic","Visual Inspection (for example, visual confirmation at meter pit)",null,null,"Non-Lead"]
[{"$f":"IF(AND(ISBLANK(INDEX($G:$G,)), ISBLANK(INDEX($C:$C,))), \"\", 'PWS Records (System Entry)'!$D$4)","v":"LA1061014"},{"$f":"IF(AND(ISBLANK(INDEX($G:$G,)), ISBLANK(INDEX($C:$C,))), \"\", 'PWS Records (System Entry)'!$D$3)","v":"MT. OLIVE WATERWORK DISTRICT"},"117 OLIVE STREET","Ruston","LA",71270,null,null,null,"INDIVIDUAL NAME & SUBDIVISION (HOME NUMBER)","Non-Lead - Plastic","Visual Inspection (for example, visual confirmation at meter pit)","No","No",null,null,"Non-Lead - Plastic","Visual Inspection (for example, visual confirmation at meter pit)",null,null,"Non-Lead"]
[{"$f":"IF(AND(ISBLANK(INDEX($G:$G,)), ISBLANK(INDEX($C:$C,))), \"\", 'PWS Records (System Entry)'!$D$4)","v":"LA1061014"},{"$f":"IF(AND(ISBLANK(INDEX($G:$G,)), ISBLANK(INDEX($C:$C,))), \"\", 'PWS Records (System Entry)'!$D$3)","v":"MT. OLIVE WATERWORK DISTRICT"},"OLIVE STREET","Ruston","LA",71270,null,null,null,"INDIVIDUAL NAME & SUBDIVISION (HOME NUMBER)","Non-Lead - Plastic","Visual Inspection (for example, visual confirmation at meter pit)","No","No",null,null,"Non-Lead - Plastic","Visual Inspection (for example, visual confirmation at meter pit)",null,null,{"$f":"IF(AND(INDEX($K:$K,)=\"\", INDEX($L:$L,)=\"\", INDEX($M:$M,)=\"\", INDEX($Q:$Q,)=\"\", INDEX($R:$R,)=\"\"), \"\", IF(OR(INDEX($K:$K,)=\"Lead\",INDEX($Q:$Q,)=\"Lead\"),\"Lead\",IF(OR(AND(OR(INDEX($M:$M,)=\"Yes\", INDEX($M:$M,)=\"Don't Know\", INDEX($M:$M,)=\"\"), INDEX($Q:$Q,)=\"Galvanized Iron/Steel\"), AND(INDEX($K:$K,)=\"Unknown\", INDEX($M:$M,)=\"No\", INDEX($Q:$Q,)=\"Galvanized Iron/Steel\")), \"Galvanized Requiring Replacement\", IF(OR(AND(OR(INDEX($K:$K,)=\"Galvanized Iron/Steel\", INDEX($K:$K,)=\"Non-Lead - Copper\", INDEX($K:$K,)=\"Non-Lead - Plastic\", INDEX($K:$K,)=\"Non-Lead - Other\", INDEX($K:$K,)=\"Non-Lead - Material Unknown\", INDEX($K:$K,)=\"No System Owned Portion\"), OR(INDEX($Q:$Q,)=\"Galvanized Iron/Steel\", INDEX($Q:$Q,)=\"Non-Lead - Copper\", INDEX($Q:$Q,)=\"Non-Lead - Plastic\", INDEX($Q:$Q,)=\"Non-Lead - Other\", INDEX($Q:$Q,)=\"Non-Lead - Predictive Model\", INDEX($Q:$Q,)=\"No Customer Owned Portion\")), AND(OR( INDEX($K:$K,)=\"Galvanized Iron/Steel\", INDEX($K:$K,)=\"Non-Lead - Copper\", INDEX($K:$K,)=\"Non-Lead - Plastic\", INDEX($K:$K,)=\"Non-Lead - Other\", INDEX($K:$K,)=\"Non-Lead - Material Unknown\", INDEX($K:$K,)=\"No System Owned Portion\"), INDEX($M:$M,)=\"No\", INDEX($Q:$Q,)=\"Non-Lead - Material Unknown\")), \"Non-Lead\", \"Lead Status Unknown\"))))","v":"Non-Lead"}]
[{"$f":"IF(AND(ISBLANK(INDEX($G:$G,)), ISBLANK(INDEX($C:$C,))), \"\", 'PWS Records (System Entry)'!$D$4)","v":"LA1061014"},{"$f":"IF(AND(ISBLANK(INDEX($G:$G,)), ISBLANK(INDEX($C:$C,))), \"\", 'PWS Records (System Entry)'!$D$3)","v":"MT. OLIVE WATERWORK DISTRICT"},"130 OLIVE STREET","Ruston","LA",71270,null,null,null,"INDIVIDUAL NAME & SUBDIVISION (HOME NUMBER)","Non-Lead - Plastic","Visual Inspection (for example, visual confirmation at meter pit)","No","No",null,null,"Non-Lead - Plastic","Visual Inspection (for example, visual confirmation at meter pit)",null,null,"Non-Lead"]
[{"$f":"IF(AND(ISBLANK(INDEX($G:$G,)), ISBLANK(INDEX($C:$C,))), \"\", 'PWS Records (System Entry)'!$D$4)","v":"LA1061014"},{"$f":"IF(AND(ISBLANK(INDEX($G:$G,)), ISBLANK(INDEX($C:$C,))), \"\", 'PWS Records (System Entry)'!$D$3)","v":"MT. OLIVE WATERWORK DISTRICT"},"156 OLIVE STREET","Ruston","LA",71270,null,null,null,"INDIVIDUAL NAME & SUBDIVISION (HOME NUMBER)","Non-Lead - Plastic","Visual Inspection (for example, visual confirmation at meter pit)","No","No",null,null,"Non-Lead - Plastic","Visual Inspection (for example, visual confirmation at meter pit)",null,null,"Non-Lead"]
[{"$f":"IF(AND(ISBLANK(INDEX($G:$G,)), ISBLANK(INDEX($C:$C,))), \"\", 'PWS Records (System Entry)'!$D$4)","v":"LA1061014"},{"$f":"IF(AND(ISBLANK(INDEX($G:$G,)), ISBLANK(INDEX($C:$C,))), \"\", 'PWS Records (System Entry)'!$D$3)","v":"MT. OLIVE WATERWORK DISTRICT"},"160 OLIVE STREET","Ruston","LA",71270,null,null,null,"INDIVIDUAL NAME & SUBDIVISION (HOME NUMBER)","Non-Lead - Plastic","Visual Inspection (for example, visual confirmation at meter pit)","No","No",null,null,"Non-Lead - Plastic","Visual Inspection (for example, visual confirmation at meter pit)",null,null,"Non-Lead"]
[{"$f":"IF(AND(ISBLANK(INDEX($G:$G,)), ISBLANK(INDEX($C:$C,))), \"\", 'PWS Records (System Entry)'!$D$4)","v":"LA1061014"},{"$f":"IF(AND(ISBLANK(INDEX($G:$G,)), ISBLANK(INDEX($C:$C,))), \"\", 'PWS Records (System Entry)'!$D$3)","v":"MT. OLIVE WATERWORK DISTRICT"},"169 OLIVE STREET","Ruston","LA",71270,null,null,null,"INDIVIDUAL NAME & SUBDIVISION (HOME NUMBER)","Non-Lead - Plastic","Visual Inspection (for example, visual confirmation at meter pit)","No","No",null,null,"Non-Lead - Plastic","Visual Inspection (for example, visual confirmation at meter pit)",null,null,"Non-Lead"]
[{"$f":"IF(AND(ISBLANK(INDEX($G:$G,)), ISBLANK(INDEX($C:$C,))), \"\", 'PWS Records (System Entry)'!$D$4)","v":"LA1061014"},{"$f":"IF(AND(ISBLANK(INDEX($G:$G,)), ISBLANK(INDEX($C:$C,))), \"\", 'PWS Records (System Entry)'!$D$3)","v":"MT. OLIVE WATERWORK DISTRICT"},"170 OLIVE STREET","Ruston","LA",71270,null,null,null,"INDIVIDUAL NAME & SUBDIVISION (HOME NUMBER)","Non-Lead - Plastic","Visual Inspection (for example, visual confirmation at meter pit)","No","No",null,null,"Non-Lead - Plastic","Visual Inspection (for example, visual confirmation at meter pit)",null,null,"Non-Lead"]
[{"$f":"IF(AND(ISBLANK(INDEX($G:$G,)), ISBLANK(INDEX($C:$C,))), \"\", 'PWS Records (System Entry)'!$D$4)","v":"LA1061014"},{"$f":"IF(AND(ISBLANK(INDEX($G:$G,)), ISBLANK(INDEX($C:$C,))), \"\", 'PWS Records (System Entry)'!$D$3)","v":"MT. OLIVE WATERWORK DISTRICT"},"179 OLIVE STREET","Ruston","LA",71270,null,null,null,"INDIVIDUAL NAME & SUBDIVISION (HOME NUMBER)","Non-Lead - Plastic","Visual Inspection (for example, visual confirmation at meter pit)","No","No",null,null,"Non-Lead - Plastic","Visual Inspection (for example, visual confirmation at meter pit)",null,null,"Non-Lead"]
[{"$f":"IF(AND(ISBLANK(INDEX($G:$G,)), ISBLANK(INDEX($C:$C,))), \"\", 'PWS Records (System Entry)'!$D$4)","v":"LA1061014"},{"$f":"IF(AND(ISBLANK(INDEX($G:$G,)), ISBLANK(INDEX($C:$C,))), \"\", 'PWS Records (System Entry)'!$D$3)","v":"MT. OLIVE WATERWORK DISTRICT"},"189 OLIVE STREET","Ruston","LA",71270,null,null,null,"INDIVIDUAL NAME & SUBDIVISION (HOME NUMBER)","Non-Lead - Plastic","Visual Inspection (for example, visual confirmation at meter pit)","No","No",null,null,"Non-Lead - Plastic","Visual Inspection (for example, visual confirmation at meter pit)",null,null,"Non-Lead"]
[{"$f":"IF(AND(ISBLANK(INDEX($G:$G,)), ISBLANK(INDEX($C:$C,))), \"\", 'PWS Records (System Entry)'!$D$4)","v":"LA1061014"},{"$f":"IF(AND(ISBLANK(INDEX($G:$G,)), ISBLANK(INDEX($C:$C,))), \"\", 'PWS Records (System Entry)'!$D$3)","v":"MT. OLIVE WATERWORK DISTRICT"},"191 OLIVE STREET","Ruston","LA",71270,null,null,null,"INDIVIDUAL NAME & SUBDIVISION (HOME NUMBER)","Non-Lead - Plastic","Visual Inspection (for example, visual confirmation at meter pit)","No","No",null,null,"Non-Lead - Plastic","Visual Inspection (for example, visual confirmation at meter pit)",null,null,"Non-Lead"]
[{"$f":"IF(AND(ISBLANK(INDEX($G:$G,)), ISBLANK(INDEX($C:$C,))), \"\", 'PWS Records (System Entry)'!$D$4)","v":"LA1061014"},{"$f":"IF(AND(ISBLANK(INDEX($G:$G,)), ISBLANK(INDEX($C:$C,))), \"\", 'PWS Records (System Entry)'!$D$3)","v":"MT. OLIVE WATERWORK DISTRICT"},"200 OLIVE STREET","Ruston","LA",71270,null,null,null,"INDIVIDUAL NAME & SUBDIVISION (HOME NUMBER)","Non-Lead - Plastic","Visual Inspection (for example, visual confirmation at meter pit)","No","No",null,null,"Non-Lead - Plastic","Visual Inspection (for example, visual confirmation at meter pit)",null,null,"Non-Lead"]
[{"$f":"IF(AND(ISBLANK(INDEX($G:$G,)), ISBLANK(INDEX($C:$C,))), \"\", 'PWS Records (System Entry)'!$D$4)","v":"LA1061014"},{"$f":"IF(AND(ISBLANK(INDEX($G:$G,)), ISBLANK(INDEX($C:$C,))), \"\", 'PWS Records (System Entry)'!$D$3)","v":"MT. OLIVE WATERWORK DISTRICT"},"204 OLIVE STREET","Ruston","LA",71270,null,null,null,"INDIVIDUAL NAME & SUBDIVISION (HOME NUMBER)","Non-Lead - Plastic","Visual Inspection (for example, visual confirmation at meter pit)","No","No",null,null,"Non-Lead - Plastic","Visual Inspection (for example, visual confirmation at meter pit)",null,null,"Non-Lead"]
[{"$f":"IF(AND(ISBLANK(INDEX($G:$G,)), ISBLANK(INDEX($C:$C,))), \"\", 'PWS Records (System Entry)'!$D$4)","v":"LA1061014"},{"$f":"IF(AND(ISBLANK(INDEX($G:$G,)), ISBLANK(INDEX($C:$C,))), \"\", 'PWS Records (System Entry)'!$D$3)","v":"MT. OLIVE WATERWORK DISTRICT"},"1150 RWE JONES","Ruston","LA",71270,null,null,null,"INDIVIDUAL NAME & SUBDIVISION (HOME NUMBER)","Non-Lead - Plastic","Visual Inspection (for example, visual confirmation at meter pit)","No","No",null,null,"Non-Lead - Plastic","Visual Inspection (for example, visual confirmation at meter pit)",null,null,"Non-Lead"]
[{"$f":"IF(AND(ISBLANK(INDEX($G:$G,)), ISBLANK(INDEX($C:$C,))), \"\", 'PWS Records (System Entry)'!$D$4)","v":"LA1061014"},{"$f":"IF(AND(ISBLANK(INDEX($G:$G,)), ISBLANK(INDEX($C:$C,))), \"\", 'PWS Records (System Entry)'!$D$3)","v":"MT. OLIVE WATERWORK DISTRICT"},"133 SANDBED RD","Ruston","LA",71270,null,null,null,"INDIVIDUAL NAME & SUBDIVISION (HOME NUMBER)","Non-Lead - Plastic","Visual Inspection (for example, visual confirmation at meter pit)","No","No",null,null,"Non-Lead - Plastic","Visual Inspection (for example, visual confirmation at meter pit)",null,null,"Non-Lead"]
[{"$f":"IF(AND(ISBLANK(INDEX($G:$G,)), ISBLANK(INDEX($C:$C,))), \"\", 'PWS Records (System Entry)'!$D$4)","v":"LA1061014"},{"$f":"IF(AND(ISBLANK(INDEX($G:$G,)), ISBLANK(INDEX($C:$C,))), \"\", 'PWS Records (System Entry)'!$D$3)","v":"MT. OLIVE WATERWORK DISTRICT"},"133 SANDBED RD","Ruston","LA",71270,null,null,null,"INDIVIDUAL NAME & SUBDIVISION (HOME NUMBER)","Non-Lead - Plastic","Visual Inspection (for example, visual confirmation at meter pit)","No","No",null,null,"Non-Lead - Plastic","Visual Inspection (for example, visual confirmation at meter pit)",null,null,"Non-Lead"]
[{"$f":"IF(AND(ISBLANK(INDEX($G:$G,)), ISBLANK(INDEX($C:$C,))), \"\", 'PWS Records (System Entry)'!$D$4)","v":"LA1061014"},{"$f":"IF(AND(ISBLANK(INDEX($G:$G,)), ISBLANK(INDEX($C:$C,))), \"\", 'PWS Records (System Entry)'!$D$3)","v":"MT. OLIVE WATERWORK DISTRICT"},"141 SANDBED RD","Ruston","LA",71270,null,null,null,"INDIVIDUAL NAME & SUBDIVISION (HOME NUMBER)","Non-Lead - Plastic","Visual Inspection (for example, visual confirmation at meter pit)","No","No",null,null,"Non-Lead - Plastic","Visual Inspection (for example, visual confirmation at meter pit)",null,null,"Non-Lead"]
[{"$f":"IF(AND(ISBLANK(INDEX($G:$G,)), ISBLANK(INDEX($C:$C,))), \"\", 'PWS Records (System Entry)'!$D$4)","v":"LA1061014"},{"$f":"IF(AND(ISBLANK(INDEX($G:$G,)), ISBLANK(INDEX($C:$C,))), \"\", 'PWS Records (System Entry)'!$D$3)","v":"MT. OLIVE WATERWORK DISTRICT"},"156 SANDBED RD","Ruston","LA",71270,null,null,null,"INDIVIDUAL NAME & SUBDIVISION (HOME NUMBER)","Non-Lead - Plastic","Visual Inspection (for example, visual confirmation at meter pit)","No","No",null,null,"Non-Lead - Plastic","Visual Inspection (for example, visual confirmation at meter pit)",null,null,"Non-Lead"]
[{"$f":"IF(AND(ISBLANK(INDEX($G:$G,)), ISBLANK(INDEX($C:$C,))), \"\", 'PWS Records (System Entry)'!$D$4)","v":"LA1061014"},{"$f":"IF(AND(ISBLANK(INDEX($G:$G,)), ISBLANK(INDEX($C:$C,))), \"\", 'PWS Records (System Entry)'!$D$3)","v":"MT. OLIVE WATERWORK DISTRICT"},"171 SANDBED RD","Ruston","LA",71270,null,null,null,"INDIVIDUAL NAME & SUBDIVISION (HOME NUMBER)","Non-Lead - Plastic","Visual Inspection (for example, visual confirmation at meter pit)","No","No",null,null,"Non-Lead - Plastic","Visual Inspection (for example, visual confirmation at meter pit)",null,null,"Non-Lead"]
[{"$f":"IF(AND(ISBLANK(INDEX($G:$G,)), ISBLANK(INDEX($C:$C,))), \"\", 'PWS Records (System Entry)'!$D$4)","v":"LA1061014"},{"$f":"IF(AND(ISBLANK(INDEX($G:$G,)), ISBLANK(INDEX($C:$C,))), \"\", 'PWS Records (System Entry)'!$D$3)","v":"MT. OLIVE WATERWORK DISTRICT"},"172 SANDBED RD","Ruston","LA",71270,null,null,null,"INDIVIDUAL NAME & SUBDIVISION (HOME NUMBER)","Non-Lead - Plastic","Visual Inspection (for example, visual confirmation at meter pit)","No","No",null,null,"Non-Lead - Plastic","Visual Inspection (for example, visual confirmation at meter pit)",null,null,"Non-Lead"]
[{"$f":"IF(AND(ISBLANK(INDEX($G:$G,)), ISBLANK(INDEX($C:$C,))), \"\", 'PWS Records (System Entry)'!$D$4)","v":"LA1061014"},{"$f":"IF(AND(ISBLANK(INDEX($G:$G,)), ISBLANK(INDEX($C:$C,))), \"\", 'PWS Records (System Entry)'!$D$3)","v":"MT. OLIVE WATERWORK DISTRICT"},"242 SANDBED RD","Ruston","LA",71270,null,null,null,"INDIVIDUAL NAME & SUBDIVISION (HOME NUMBER)","Non-Lead - Plastic","Visual Inspection (for example, visual confirmation at meter pit)","No","No",null,null,"Non-Lead - Plastic","Visual Inspection (for example, visual confirmation at meter pit)",null,null,"Non-Lead"]
[{"$f":"IF(AND(ISBLANK(INDEX($G:$G,)), ISBLANK(INDEX($C:$C,))), \"\", 'PWS Records (System Entry)'!$D$4)","v":"LA1061014"},{"$f":"IF(AND(ISBLANK(INDEX($G:$G,)), ISBLANK(INDEX($C:$C,))), \"\", 'PWS Records (System Entry)'!$D$3)","v":"MT. OLIVE WATERWORK DISTRICT"},"120 SANDBED RD","Ruston","LA",71270,null,null,null,"INDIVIDUAL NAME & SUBDIVISION (HOME NUMBER)","Non-Lead - Plastic","Visual Inspection (for example, visual confirmation at meter pit)","No","No",null,null,"Non-Lead - Plastic","Visual Inspection (for example, visual confirmation at meter pit)",null,null,"Non-Lead"]
[{"$f":"IF(AND(ISBLANK(INDEX($G:$G,)), ISBLANK(INDEX($C:$C,))), \"\", 'PWS Records (System Entry)'!$D$4)","v":"LA1061014"},{"$f":"IF(AND(ISBLANK(INDEX($G:$G,)), ISBLANK(INDEX($C:$C,))), \"\", 'PWS Records (System Entry)'!$D$3)","v":"MT. OLIVE WATERWORK DISTRICT"},"562 -B GARR RD","Ruston","LA",71270,null,null,null,"INDIVIDUAL NAME & SUBDIVISION (HOME NUMBER)","Non-Lead - Plastic","Visual Inspection (for example, visual confirmation at meter pit)","No","No",null,null,"Non-Lead - Plastic","Visual Inspection (for example, visual confirmation at meter pit)",null,null,"Non-Lead"]
[{"$f":"IF(AND(ISBLANK(INDEX($G:$G,)), ISBLANK(INDEX($C:$C,))), \"\", 'PWS Records (System Entry)'!$D$4)","v":"LA1061014"},{"$f":"IF(AND(ISBLANK(INDEX($G:$G,)), ISBLANK(INDEX($C:$C,))), \"\", 'PWS Records (System Entry)'!$D$3)","v":"MT. OLIVE WATERWORK DISTRICT"},"562-A GARR RD","Ruston","LA",71270,null,null,null,"INDIVIDUAL NAME & SUBDIVISION (HOME NUMBER)","Non-Lead - Plastic","Visual Inspection (for example, visual confirmation at meter pit)","No","No",null,null,"Non-Lead - Plastic","Visual Inspection (for example, visual confirmation at meter pit)",null,null,"Non-Lead"]
[{"$f":"IF(AND(ISBLANK(INDEX($G:$G,)), ISBLANK(INDEX($C:$C,))), \"\", 'PWS Records (System Entry)'!$D$4)","v":"LA1061014"},{"$f":"IF(AND(ISBLANK(INDEX($G:$G,)), ISBLANK(INDEX($C:$C,))), \"\", 'PWS Records (System Entry)'!$D$3)","v":"MT. OLIVE WATERWORK DISTRICT"},"1279 RWE JONES DR","Ruston","LA",71270,null,null,null,"INDIVIDUAL NAME & SUBDIVISION (HOME NUMBER)","Non-Lead - Plastic","Visual Inspection (for example, visual confirmation at meter pit)","No","No",null,null,"Non-Lead - Plastic","Visual Inspection (for example, visual confirmation at meter pit)",null,null,"Non-Lead"]
[{"$f":"IF(AND(ISBLANK(INDEX($G:$G,)), ISBLANK(INDEX($C:$C,))), \"\", 'PWS Records (System Entry)'!$D$4)","v":"LA1061014"},{"$f":"IF(AND(ISBLANK(INDEX($G:$G,)), ISBLANK(INDEX($C:$C,))), \"\", 'PWS Records (System Entry)'!$D$3)","v":"MT. OLIVE WATERWORK DISTRICT"},"128 SANDBED RD","Ruston","LA",71270,null,null,null,"INDIVIDUAL NAME & SUBDIVISION (HOME NUMBER)","Non-Lead - Plastic","Visual Inspection (for example, visual confirmation at meter pit)","No","No",null,null,"Non-Lead - Plastic","Visual Inspection (for example, visual confirmation at meter pit)",null,null,"Non-Lead"]
[{"$f":"IF(AND(ISBLANK(INDEX($G:$G,)), ISBLANK(INDEX($C:$C,))), \"\", 'PWS Records (System Entry)'!$D$4)","v":"LA1061014"},{"$f":"IF(AND(ISBLANK(INDEX($G:$G,)), ISBLANK(INDEX($C:$C,))), \"\", 'PWS Records (System Entry)'!$D$3)","v":"MT. OLIVE WATERWORK DISTRICT"},"128 SANDBED RD","Ruston","LA",71270,null,null,null,"INDIVIDUAL NAME & SUBDIVISION (HOME NUMBER)","Non-Lead - Plastic","Visual Inspection (for example, visual confirmation at meter pit)","No","No",null,null,"Non-Lead - Plastic","Visual Inspection (for example, visual confirmation at meter pit)",null,null,"Non-Lead"]
[{"$f":"IF(AND(ISBLANK(INDEX($G:$G,)), ISBLANK(INDEX($C:$C,))), \"\", 'PWS Records (System Entry)'!$D$4)","v":"LA1061014"},{"$f":"IF(AND(ISBLANK(INDEX($G:$G,)), ISBLANK(INDEX($C:$C,))), \"\", 'PWS Records (System Entry)'!$D$3)","v":"MT. OLIVE WATERWORK DISTRICT"},"128 SANDBED RD #34","Ruston","LA",71270,null,null,null,"INDIVIDUAL NAME & SUBDIVISION (HOME NUMBER)","Non-Lead - Plastic","Visual Inspection (for example, visual confirmation at meter pit)","No","No",null,null,"Non-Lead - Plastic","Visual Inspection (for example, visual confirmation at meter pit)",null,null,"Non-Lead"]
[{"$f":"IF(AND(ISBLANK(INDEX($G:$G,)), ISBLANK(INDEX($C:$C,))), \"\", 'PWS Records (System Entry)'!$D$4)","v":"LA1061014"},{"$f":"IF(AND(ISBLANK(INDEX($G:$G,)), ISBLANK(INDEX($C:$C,))), \"\", 'PWS Records (System Entry)'!$D$3)","v":"MT. OLIVE WATERWORK DISTRICT"},"PINE RIDGE","RUSTON","LA",71270,null,null,null,"INDIVIDUAL NAME & SUBDIVISION (HOME NUMBER)","Non-Lead - Plastic","Visual Inspection (for example, visual confirmation at meter pit)","No","No",null,null,"Non-Lead - Plastic","Visual Inspection (for example, visual confirmation at meter pit)",null,null,"Non-Lead"]
[{"$f":"IF(AND(ISBLANK(INDEX($G:$G,)), ISBLANK(INDEX($C:$C,))), \"\", 'PWS Records (System Entry)'!$D$4)","v":"LA1061014"},{"$f":"IF(AND(ISBLANK(INDEX($G:$G,)), ISBLANK(INDEX($C:$C,))), \"\", 'PWS Records (System Entry)'!$D$3)","v":"MT. OLIVE WATERWORK DISTRICT"},"294 TARBUTTON RD","Ruston","LA",71270,null,null,null,"INDIVIDUAL NAME & SUBDIVISION (HOME NUMBER)","Non-Lead - Plastic","Visual Inspection (for example, visual confirmation at meter pit)","No","No",null,null,"Non-Lead - Plastic","Visual Inspection (for example, visual confirmation at meter pit)",null,null,"Non-Lead"]
[{"$f":"IF(AND(ISBLANK(INDEX($G:$G,)), ISBLANK(INDEX($C:$C,))), \"\", 'PWS Records (System Entry)'!$D$4)","v":"LA1061014"},{"$f":"IF(AND(ISBLANK(INDEX($G:$G,)), ISBLANK(INDEX($C:$C,))), \"\", 'PWS Records (System Entry)'!$D$3)","v":"MT. OLIVE WATERWORK DISTRICT"},"PINE RIDGE TRLR CT","Ruston","LA",71270,null,null,null,"INDIVIDUAL NAME & SUBDIVISION (HOME NUMBER)","Non-Lead - Plastic","Visual Inspection (for example, visual confirmation at meter pit)","No","No",null,null,"Non-Lead - Plastic","Visual Inspection (for example, visual confirmation at meter pit)",null,null,"Non-Lead"]
[{"$f":"IF(AND(ISBLANK(INDEX($G:$G,)), ISBLANK(INDEX($C:$C,))), \"\", 'PWS Records (System Entry)'!$D$4)","v":"LA1061014"},{"$f":"IF(AND(ISBLANK(INDEX($G:$G,)), ISBLANK(INDEX($C:$C,))), \"\", 'PWS Records (System Entry)'!$D$3)","v":"MT. OLIVE WATERWORK DISTRICT"},"294 TARBUTTON RD","Ruston","LA",71270,null,null,null,"INDIVIDUAL NAME & SUBDIVISION (HOME NUMBER)","Non-Lead - Plastic","Visual Inspection (for example, visual confirmation at meter pit)","No","No",null,null,"Non-Lead - Plastic","Visual Inspection (for example, visual confirmation at meter pit)",null,null,"Non-Lead"]
[{"$f":"IF(AND(ISBLANK(INDEX($G:$G,)), ISBLANK(INDEX($C:$C,))), \"\", 'PWS Records (System Entry)'!$D$4)","v":"LA1061014"},{"$f":"IF(AND(ISBLANK(INDEX($G:$G,)), ISBLANK(INDEX($C:$C,))), \"\", 'PWS Records (System Entry)'!$D$3)","v":"MT. OLIVE WATERWORK DISTRICT"},"294 TARBUTTON PRT","Ruston","LA",71270,null,null,null,"INDIVIDUAL NAME & SUBDIVISION (HOME NUMBER)","Non-Lead - Plastic","Visual Inspection (for example, visual confirmation at meter pit)","No","No",null,null,"Non-Lead - Plastic","Visual Inspection (for example, visual confirmation at meter pit)",null,null,"Non-Lead"]
[{"$f":"IF(AND(ISBLANK(INDEX($G:$G,)), ISBLANK(INDEX($C:$C,))), \"\", 'PWS Records (System Entry)'!$D$4)","v":"LA1061014"},{"$f":"IF(AND(ISBLANK(INDEX($G:$G,)), ISBLANK(INDEX($C:$C,))), \"\", 'PWS Records (System Entry)'!$D$3)","v":"MT. OLIVE WATERWORK DISTRICT"},"294 TARBUTTON RD #6","Ruston","LA",71270,null,null,null,"INDIVIDUAL NAME & SUBDIVISION (HOME NUMBER)","Non-Lead - Plastic","Visual Inspection (for example, visual confirmation at meter pit)","No","No",null,null,"Non-Lead - Plastic","Visual Inspection (for example, visual confirmation at meter pit)",null,null,"Non-Lead"]
[{"$f":"IF(AND(ISBLANK(INDEX($G:$G,)), ISBLANK(INDEX($C:$C,))), \"\", 'PWS Records (System Entry)'!$D$4)","v":"LA1061014"},{"$f":"IF(AND(ISBLANK(INDEX($G:$G,)), ISBLANK(INDEX($C:$C,))), \"\", 'PWS Records (System Entry)'!$D$3)","v":"MT. OLIVE WATERWORK DISTRICT"},"PINE RIDGE  TRLA CT","Ruston","LA",71270,null,null,null,"INDIVIDUAL NAME & SUBDIVISION (HOME NUMBER)","Non-Lead - Plastic","Visual Inspection (for example, visual confirmation at meter pit)","No","No",null,null,"Non-Lead - Plastic","Visual Inspection (for example, visual confirmation at meter pit)",null,null,"Non-Lead"]
[{"$f":"IF(AND(ISBLANK(INDEX($G:$G,)), ISBLANK(INDEX($C:$C,))), \"\", 'PWS Records (System Entry)'!$D$4)","v":"LA1061014"},{"$f":"IF(AND(ISBLANK(INDEX($G:$G,)), ISBLANK(INDEX($C:$C,))), \"\", 'PWS Records (System Entry)'!$D$3)","v":"MT. OLIVE WATERWORK DISTRICT"},"PINE RIDGE TRLR","Ruston","LA",71270,null,null,null,"INDIVIDUAL NAME & SUBDIVISION (HOME NUMBER)","Non-Lead - Plastic","Visual Inspection (for example, visual confirmation at meter pit)","No","No",null,null,"Non-Lead - Plastic","Visual Inspection (for example, visual confirmation at meter pit)",null,null,"Non-Lead"]
[{"$f":"IF(AND(ISBLANK(INDEX($G:$G,)), ISBLANK(INDEX($C:$C,))), \"\", 'PWS Records (System Entry)'!$D$4)","v":"LA1061014"},{"$f":"IF(AND(ISBLANK(INDEX($G:$G,)), ISBLANK(INDEX($C:$C,))), \"\", 'PWS Records (System Entry)'!$D$3)","v":"MT. OLIVE WATERWORK DISTRICT"},"PINE RIDGE TRLR COURT","Ruston","LA",71270,null,null,null,"INDIVIDUAL NAME & SUBDIVISION (HOME NUMBER)","Non-Lead - Plastic","Visual Inspection (for example, visual confirmation at meter pit)","No","No",null,null,"Non-Lead - Plastic","Visual Inspection (for example, visual confirmation at meter pit)",null,null,"Non-Lead"]
[{"$f":"IF(AND(ISBLANK(INDEX($G:$G,)), ISBLANK(INDEX($C:$C,))), \"\", 'PWS Records (System Entry)'!$D$4)","v":"LA1061014"},{"$f":"IF(AND(ISBLANK(INDEX($G:$G,)), ISBLANK(INDEX($C:$C,))), \"\", 'PWS Records (System Entry)'!$D$3)","v":"MT. OLIVE WATERWORK DISTRICT"},"294 TARBUTTON RD","Ruston","LA",71270,null,null,null,"INDIVIDUAL NAME & SUBDIVISION (HOME NUMBER)","Non-Lead - Plastic","Visual Inspection (for example, visual confirmation at meter pit)","No","No",null,null,"Non-Lead - Plastic","Visual Inspection (for example, visual confirmation at meter pit)",null,null,"Non-Lead"]
[{"$f":"IF(AND(ISBLANK(INDEX($G:$G,)), ISBLANK(INDEX($C:$C,))), \"\", 'PWS Records (System Entry)'!$D$4)","v":"LA1061014"},{"$f":"IF(AND(ISBLANK(INDEX($G:$G,)), ISBLANK(INDEX($C:$C,))), \"\", 'PWS Records (System Entry)'!$D$3)","v":"MT. OLIVE WATERWORK DISTRICT"},"PINE RIDGE TRLR COURT","Ruston","LA",71270,null,null,null,"INDIVIDUAL NAME & SUBDIVISION (HOME NUMBER)","Non-Lead - Plastic","Visual Inspection (for example, visual confirmation at meter pit)","No","No",null,null,"Non-Lead - Plastic","Visual Inspection (for example, visual confirmation at meter pit)",null,null,"Non-Lead"]
[{"$f":"IF(AND(ISBLANK(INDEX($G:$G,)), ISBLANK(INDEX($C:$C,))), \"\", 'PWS Records (System Entry)'!$D$4)","v":"LA1061014"},{"$f":"IF(AND(ISBLANK(INDEX($G:$G,)), ISBLANK(INDEX($C:$C,))), \"\", 'PWS Records (System Entry)'!$D$3)","v":"MT. OLIVE WATERWORK DISTRICT"},"PINE RIDGE","Ruston","LA",71270,null,null,null,"INDIVIDUAL NAME & SUBDIVISION (HOME NUMBER)","Non-Lead - Plastic","Visual Inspection (for example, visual confirmation at meter pit)","No","No",null,null,"Non-Lead - Plastic","Visual Inspection (for example, visual confirmation at meter pit)",null,null,"Non-Lead"]
[{"$f":"IF(AND(ISBLANK(INDEX($G:$G,)), ISBLANK(INDEX($C:$C,))), \"\", 'PWS Records (System Entry)'!$D$4)","v":"LA1061014"},{"$f":"IF(AND(ISBLANK(INDEX($G:$G,)), ISBLANK(INDEX($C:$C,))), \"\", 'PWS Records (System Entry)'!$D$3)","v":"MT. OLIVE WATERWORK DISTRICT"},"PINE RIDGE TRLR CT","Ruston","LA",71270,null,null,null,"INDIVIDUAL NAME & SUBDIVISION (HOME NUMBER)","Non-Lead - Plastic","Visual Inspection (for example, visual confirmation at meter pit)","No","No",null,null,"Non-Lead - Plastic","Visual Inspection (for example, visual confirmation at meter pit)",null,null,"Non-Lead"]
[{"$f":"IF(AND(ISBLANK(INDEX($G:$G,)), ISBLANK(INDEX($C:$C,))), \"\", 'PWS Records (System Entry)'!$D$4)","v":"LA1061014"},{"$f":"IF(AND(ISBLANK(INDEX($G:$G,)), ISBLANK(INDEX($C:$C,))), \"\", 'PWS Records (System Entry)'!$D$3)","v":"MT. OLIVE WATERWORK DISTRICT"},"294 TARBUTTON #16","Ruston","LA",71270,null,null,null,"INDIVIDUAL NAME & SUBDIVISION (HOME NUMBER)","Non-Lead - Plastic","Visual Inspection (for example, visual confirmation at meter pit)","No","No",null,null,"Non-Lead - Plastic","Visual Inspection (for example, visual confirmation at meter pit)",null,null,"Non-Lead"]
[{"$f":"IF(AND(ISBLANK(INDEX($G:$G,)), ISBLANK(INDEX($C:$C,))), \"\", 'PWS Records (System Entry)'!$D$4)","v":"LA1061014"},{"$f":"IF(AND(ISBLANK(INDEX($G:$G,)), ISBLANK(INDEX($C:$C,))), \"\", 'PWS Records (System Entry)'!$D$3)","v":"MT. OLIVE WATERWORK DISTRICT"},"294 TRAILER PK","Ruston","LA",71270,null,null,null,"INDIVIDUAL NAME & SUBDIVISION (HOME NUMBER)","Non-Lead - Plastic","Visual Inspection (for example, visual confirmation at meter pit)","No","No",null,null,"Non-Lead - Plastic","Visual Inspection (for example, visual confirmation at meter pit)",null,null,"Non-Lead"]
[{"$f":"IF(AND(ISBLANK(INDEX($G:$G,)), ISBLANK(INDEX($C:$C,))), \"\", 'PWS Records (System Entry)'!$D$4)","v":"LA1061014"},{"$f":"IF(AND(ISBLANK(INDEX($G:$G,)), ISBLANK(INDEX($C:$C,))), \"\", 'PWS Records (System Entry)'!$D$3)","v":"MT. OLIVE WATERWORK DISTRICT"},"PINE RIDGE TRLR","Ruston","LA",71270,null,null,null,"INDIVIDUAL NAME & SUBDIVISION (HOME NUMBER)","Non-Lead - Plastic","Visual Inspection (for example, visual confirmation at meter pit)","No","No",null,null,"Non-Lead - Plastic","Visual Inspection (for example, visual confirmation at meter pit)",null,null,"Non-Lead"]
[{"$f":"IF(AND(ISBLANK(INDEX($G:$G,)), ISBLANK(INDEX($C:$C,))), \"\", 'PWS Records (System Entry)'!$D$4)","v":"LA1061014"},{"$f":"IF(AND(ISBLANK(INDEX($G:$G,)), ISBLANK(INDEX($C:$C,))), \"\", 'PWS Records (System Entry)'!$D$3)","v":"MT. OLIVE WATERWORK DISTRICT"},"294 TARBUTTON RD","Ruston","LA",71270,null,null,null,"INDIVIDUAL NAME & SUBDIVISION (HOME NUMBER)","Non-Lead - Plastic","Visual Inspection (for example, visual confirmation at meter pit)","No","No",null,null,"Non-Lead - Plastic","Visual Inspection (for example, visual confirmation at meter pit)",null,null,"Non-Lead"]
[{"$f":"IF(AND(ISBLANK(INDEX($G:$G,)), ISBLANK(INDEX($C:$C,))), \"\", 'PWS Records (System Entry)'!$D$4)","v":"LA1061014"},{"$f":"IF(AND(ISBLANK(INDEX($G:$G,)), ISBLANK(INDEX($C:$C,))), \"\", 'PWS Records (System Entry)'!$D$3)","v":"MT. OLIVE WATERWORK DISTRICT"},"294 TARBUTTON RD #22","Ruston","LA",71270,null,null,null,"INDIVIDUAL NAME & SUBDIVISION (HOME NUMBER)","Non-Lead - Plastic","Visual Inspection (for example, visual confirmation at meter pit)","No","No",null,null,"Non-Lead - Plastic","Visual Inspection (for example, visual confirmation at meter pit)",null,null,"Non-Lead"]
[{"$f":"IF(AND(ISBLANK(INDEX($G:$G,)), ISBLANK(INDEX($C:$C,))), \"\", 'PWS Records (System Entry)'!$D$4)","v":"LA1061014"},{"$f":"IF(AND(ISBLANK(INDEX($G:$G,)), ISBLANK(INDEX($C:$C,))), \"\", 'PWS Records (System Entry)'!$D$3)","v":"MT. OLIVE WATERWORK DISTRICT"},"294 TARBUTTON RD","Ruston","LA",71270,null,null,null,"INDIVIDUAL NAME & SUBDIVISION (HOME NUMBER)","Non-Lead - Plastic","Visual Inspection (for example, visual confirmation at meter pit)","No","No",null,null,"Non-Lead - Plastic","Visual Inspection (for example, visual confirmation at meter pit)",null,null,"Non-Lead"]
[{"$f":"IF(AND(ISBLANK(INDEX($G:$G,)), ISBLANK(INDEX($C:$C,))), \"\", 'PWS Records (System Entry)'!$D$4)","v":"LA1061014"},{"$f":"IF(AND(ISBLANK(INDEX($G:$G,)), ISBLANK(INDEX($C:$C,))), \"\", 'PWS Records (System Entry)'!$D$3)","v":"MT. OLIVE WATERWORK DISTRICT"},"294 TARBUTTON RD","Ruston","LA",71270,null,null,null,"INDIVIDUAL NAME & SUBDIVISION (HOME NUMBER)","Non-Lead - Plastic","Visual Inspection (for example, visual confirmation at meter pit)","No","No",null,null,"Non-Lead - Plastic","Visual Inspection (for example, visual confirmation at meter pit)",null,null,"Non-Lead"]
[{"$f":"IF(AND(ISBLANK(INDEX($G:$G,)), ISBLANK(INDEX($C:$C,))), \"\", 'PWS Records (System Entry)'!$D$4)","v":"LA1061014"},{"$f":"IF(AND(ISBLANK(INDEX($G:$G,)), ISBLANK(INDEX($C:$C,))), \"\", 'PWS Records (System Entry)'!$D$3)","v":"MT. OLIVE WATERWORK DISTRICT"},"PINE RIDGE TRLR COURT","Ruston","LA",71270,null,null,null,"INDIVIDUAL NAME & SUBDIVISION (HOME NUMBER)","Non-Lead - Plastic","Visual Inspection (for example, visual confirmation at meter pit)","No","No",null,null,"Non-Lead - Plastic","Visual Inspection (for example, visual confirmation at meter pit)",null,null,"Non-Lead"]
[{"$f":"IF(AND(ISBLANK(INDEX($G:$G,)), ISBLANK(INDEX($C:$C,))), \"\", 'PWS Records (System Entry)'!$D$4)","v":"LA1061014"},{"$f":"IF(AND(ISBLANK(INDEX($G:$G,)), ISBLANK(INDEX($C:$C,))), \"\", 'PWS Records (System Entry)'!$D$3)","v":"MT. OLIVE WATERWORK DISTRICT"},"PINE RIDGE TRLR COURT","Ruston","LA",71270,null,null,null,"INDIVIDUAL NAME & SUBDIVISION (HOME NUMBER)","Non-Lead - Plastic","Visual Inspection (for example, visual confirmation at meter pit)","No","No",null,null,"Non-Lead - Plastic","Visual Inspection (for example, visual confirmation at meter pit)",null,null,"Non-Lead"]
[{"$f":"IF(AND(ISBLANK(INDEX($G:$G,)), ISBLANK(INDEX($C:$C,))), \"\", 'PWS Records (System Entry)'!$D$4)","v":"LA1061014"},{"$f":"IF(AND(ISBLANK(INDEX($G:$G,)), ISBLANK(INDEX($C:$C,))), \"\", 'PWS Records (System Entry)'!$D$3)","v":"MT. OLIVE WATERWORK DISTRICT"},"PINE RIDGE","Ruston","LA",71270,null,null,null,"INDIVIDUAL NAME & SUBDIVISION (HOME NUMBER)","Non-Lead - Plastic","Visual Inspection (for example, visual confirmation at meter pit)","No","No",null,null,"Non-Lead - Plastic","Visual Inspection (for example, visual confirmation at meter pit)",null,null,"Non-Lead"]
[{"$f":"IF(AND(ISBLANK(INDEX($G:$G,)), ISBLANK(INDEX($C:$C,))), \"\", 'PWS Records (System Entry)'!$D$4)","v":"LA1061014"},{"$f":"IF(AND(ISBLANK(INDEX($G:$G,)), ISBLANK(INDEX($C:$C,))), \"\", 'PWS Records (System Entry)'!$D$3)","v":"MT. OLIVE WATERWORK DISTRICT"},"294 TARBUTTON #28","Ruston","LA",71270,null,null,null,"INDIVIDUAL NAME & SUBDIVISION (HOME NUMBER)","Non-Lead - Plastic","Visual Inspection (for example, visual confirmation at meter pit)","No","No",null,null,"Non-Lead - Plastic","Visual Inspection (for example, visual confirmation at meter pit)",null,null,"Non-Lead"]
[{"$f":"IF(AND(ISBLANK(INDEX($G:$G,)), ISBLANK(INDEX($C:$C,))), \"\", 'PWS Records (System Entry)'!$D$4)","v":"LA1061014"},{"$f":"IF(AND(ISBLANK(INDEX($G:$G,)), ISBLANK(INDEX($C:$C,))), \"\", 'PWS Records (System Entry)'!$D$3)","v":"MT. OLIVE WATERWORK DISTRICT"},"294 TARBUTTON PRT","Ruston","LA",71270,null,null,null,"INDIVIDUAL NAME & SUBDIVISION (HOME NUMBER)","Non-Lead - Plastic","Visual Inspection (for example, visual confirmation at meter pit)","No","No",null,null,"Non-Lead - Plastic","Visual Inspection (for example, visual confirmation at meter pit)",null,null,"Non-Lead"]
[{"$f":"IF(AND(ISBLANK(INDEX($G:$G,)), ISBLANK(INDEX($C:$C,))), \"\", 'PWS Records (System Entry)'!$D$4)","v":"LA1061014"},{"$f":"IF(AND(ISBLANK(INDEX($G:$G,)), ISBLANK(INDEX($C:$C,))), \"\", 'PWS Records (System Entry)'!$D$3)","v":"MT. OLIVE WATERWORK DISTRICT"},"294 TARBUTTON","Ruston","LA",71270,null,null,null,"INDIVIDUAL NAME & SUBDIVISION (HOME NUMBER)","Non-Lead - Plastic","Visual Inspection (for example, visual confirmation at meter pit)","No","No",null,null,"Non-Lead - Plastic","Visual Inspection (for example, visual confirmation at meter pit)",null,null,"Non-Lead"]
[{"$f":"IF(AND(ISBLANK(INDEX($G:$G,)), ISBLANK(INDEX($C:$C,))), \"\", 'PWS Records (System Entry)'!$D$4)","v":"LA1061014"},{"$f":"IF(AND(ISBLANK(INDEX($G:$G,)), ISBLANK(INDEX($C:$C,))), \"\", 'PWS Records (System Entry)'!$D$3)","v":"MT. OLIVE WATERWORK DISTRICT"},"294 TARBUTTON #30","Ruston","LA",71270,null,null,null,"INDIVIDUAL NAME & SUBDIVISION (HOME NUMBER)","Non-Lead - Plastic","Visual Inspection (for example, visual confirmation at meter pit)","No","No",null,null,"Non-Lead - Plastic","Visual Inspection (for example, visual confirmation at meter pit)",null,null,"Non-Lead"]
[{"$f":"IF(AND(ISBLANK(INDEX($G:$G,)), ISBLANK(INDEX($C:$C,))), \"\", 'PWS Records (System Entry)'!$D$4)","v":"LA1061014"},{"$f":"IF(AND(ISBLANK(INDEX($G:$G,)), ISBLANK(INDEX($C:$C,))), \"\", 'PWS Records (System Entry)'!$D$3)","v":"MT. OLIVE WATERWORK DISTRICT"},"294 TARBUTTON PRT","Ruston","LA",71270,null,null,null,"INDIVIDUAL NAME & SUBDIVISION (HOME NUMBER)","Non-Lead - Plastic","Visual Inspection (for example, visual confirmation at meter pit)","No","No",null,null,"Non-Lead - Plastic","Visual Inspection (for example, visual confirmation at meter pit)",null,null,"Non-Lead"]
[{"$f":"IF(AND(ISBLANK(INDEX($G:$G,)), ISBLANK(INDEX($C:$C,))), \"\", 'PWS Records (System Entry)'!$D$4)","v":"LA1061014"},{"$f":"IF(AND(ISBLANK(INDEX($G:$G,)), ISBLANK(INDEX($C:$C,))), \"\", 'PWS Records (System Entry)'!$D$3)","v":"MT. OLIVE WATERWORK DISTRICT"},"PINE RIDGE TRLR ","Ruston","LA",71270,null,null,null,"INDIVIDUAL NAME & SUBDIVISION (HOME NUMBER)","Non-Lead - Plastic","Visual Inspection (for example, visual confirmation at meter pit)","No","No",null,null,"Non-Lead - Plastic","Visual Inspection (for example, visual confirmation at meter pit)",null,null,"Non-Lead"]
[{"$f":"IF(AND(ISBLANK(INDEX($G:$G,)), ISBLANK(INDEX($C:$C,))), \"\", 'PWS Records (System Entry)'!$D$4)","v":"LA1061014"},{"$f":"IF(AND(ISBLANK(INDEX($G:$G,)), ISBLANK(INDEX($C:$C,))), \"\", 'PWS Records (System Entry)'!$D$3)","v":"MT. OLIVE WATERWORK DISTRICT"},"294 TARBUTTON #32","Ruston","LA",71270,null,null,null,"INDIVIDUAL NAME & SUBDIVISION (HOME NUMBER)","Non-Lead - Plastic","Visual Inspection (for example, visual confirmation at meter pit)","No","No",null,null,"Non-Lead - Plastic","Visual Inspection (for example, visual confirmation at meter pit)",null,null,"Non-Lead"]
[{"$f":"IF(AND(ISBLANK(INDEX($G:$G,)), ISBLANK(INDEX($C:$C,))), \"\", 'PWS Records (System Entry)'!$D$4)","v":"LA1061014"},{"$f":"IF(AND(ISBLANK(INDEX($G:$G,)), ISBLANK(INDEX($C:$C,))), \"\", 'PWS Records (System Entry)'!$D$3)","v":"MT. OLIVE WATERWORK DISTRICT"},"PINE RIDGE TRLR CT","Ruston","LA",71270,null,null,null,"INDIVIDUAL NAME & SUBDIVISION (HOME NUMBER)","Non-Lead - Plastic","Visual Inspection (for example, visual confirmation at meter pit)","No","No",null,null,"Non-Lead - Plastic","Visual Inspection (for example, visual confirmation at meter pit)",null,null,"Non-Lead"]
[{"$f":"IF(AND(ISBLANK(INDEX($G:$G,)), ISBLANK(INDEX($C:$C,))), \"\", 'PWS Records (System Entry)'!$D$4)","v":"LA1061014"},{"$f":"IF(AND(ISBLANK(INDEX($G:$G,)), ISBLANK(INDEX($C:$C,))), \"\", 'PWS Records (System Entry)'!$D$3)","v":"MT. OLIVE WATERWORK DISTRICT"},"PINE RIDGE TRLR CT","Ruston","LA",71270,null,null,null,"INDIVIDUAL NAME & SUBDIVISION (HOME NUMBER)","Non-Lead - Plastic","Visual Inspection (for example, visual confirmation at meter pit)","No","No",null,null,"Non-Lead - Plastic","Visual Inspection (for example, visual confirmation at meter pit)",null,null,"Non-Lead"]
[{"$f":"IF(AND(ISBLANK(INDEX($G:$G,)), ISBLANK(INDEX($C:$C,))), \"\", 'PWS Records (System Entry)'!$D$4)","v":"LA1061014"},{"$f":"IF(AND(ISBLANK(INDEX($G:$G,)), ISBLANK(INDEX($C:$C,))), \"\", 'PWS Records (System Entry)'!$D$3)","v":"MT. OLIVE WATERWORK DISTRICT"},"PINE RIDGE","Ruston","LA",71270,null,null,null,"INDIVIDUAL NAME & SUBDIVISION (HOME NUMBER)","Non-Lead - Plastic","Visual Inspection (for example, visual confirmation at meter pit)","No","No",null,null,"Non-Lead - Plastic","Visual Inspection (for example, visual confirmation at meter pit)",null,null,"Non-Lead"]
[{"$f":"IF(AND(ISBLANK(INDEX($G:$G,)), ISBLANK(INDEX($C:$C,))), \"\", 'PWS Records (System Entry)'!$D$4)","v":"LA1061014"},{"$f":"IF(AND(ISBLANK(INDEX($G:$G,)), ISBLANK(INDEX($C:$C,))), \"\", 'PWS Records (System Entry)'!$D$3)","v":"MT. OLIVE WATERWORK DISTRICT"},"PINE RIDGE TRLR PR","Ruston","LA",71270,null,null,null,"INDIVIDUAL NAME & SUBDIVISION (HOME NUMBER)","Non-Lead - Plastic","Visual Inspection (for example, visual confirmation at meter pit)","No","No",null,null,"Non-Lead - Plastic","Visual Inspection (for example, visual confirmation at meter pit)",null,null,"Non-Lead"]
[{"$f":"IF(AND(ISBLANK(INDEX($G:$G,)), ISBLANK(INDEX($C:$C,))), \"\", 'PWS Records (System Entry)'!$D$4)","v":"LA1061014"},{"$f":"IF(AND(ISBLANK(INDEX($G:$G,)), ISBLANK(INDEX($C:$C,))), \"\", 'PWS Records (System Entry)'!$D$3)","v":"MT. OLIVE WATERWORK DISTRICT"},"294 TARBUTTON RD","Ruston","LA",71270,null,null,null,"INDIVIDUAL NAME & SUBDIVISION (HOME NUMBER)","Non-Lead - Plastic","Visual Inspection (for example, visual confirmation at meter pit)","No","No",null,null,"Non-Lead - Plastic","Visual Inspection (for example, visual confirmation at meter pit)",null,null,"Non-Lead"]
[{"$f":"IF(AND(ISBLANK(INDEX($G:$G,)), ISBLANK(INDEX($C:$C,))), \"\", 'PWS Records (System Entry)'!$D$4)","v":"LA1061014"},{"$f":"IF(AND(ISBLANK(INDEX($G:$G,)), ISBLANK(INDEX($C:$C,))), \"\", 'PWS Records (System Entry)'!$D$3)","v":"MT. OLIVE WATERWORK DISTRICT"},"294 TARBUTTON RD","Ruston","LA",71270,null,null,null,"INDIVIDUAL NAME & SUBDIVISION (HOME NUMBER)","Non-Lead - Plastic","Visual Inspection (for example, visual confirmation at meter pit)","No","No",null,null,"Non-Lead - Plastic","Visual Inspection (for example, visual confirmation at meter pit)",null,null,"Non-Lead"]
[{"$f":"IF(AND(ISBLANK(INDEX($G:$G,)), ISBLANK(INDEX($C:$C,))), \"\", 'PWS Records (System Entry)'!$D$4)","v":"LA1061014"},{"$f":"IF(AND(ISBLANK(INDEX($G:$G,)), ISBLANK(INDEX($C:$C,))), \"\", 'PWS Records (System Entry)'!$D$3)","v":"MT. OLIVE WATERWORK DISTRICT"},"338 TARBUTTON RD","Ruston","LA",71270,null,null,null,"INDIVIDUAL NAME & SUBDIVISION (HOME NUMBER)","Non-Lead - Plastic","Visual Inspection (for example, visual confirmation at meter pit)","No","No",null,null,"Non-Lead - Plastic","Visual Inspection (for example, visual confirmation at meter pit)",null,null,"Non-Lead"]
[{"$f":"IF(AND(ISBLANK(INDEX($G:$G,)), ISBLANK(INDEX($C:$C,))), \"\", 'PWS Records (System Entry)'!$D$4)","v":"LA1061014"},{"$f":"IF(AND(ISBLANK(INDEX($G:$G,)), ISBLANK(INDEX($C:$C,))), \"\", 'PWS Records (System Entry)'!$D$3)","v":"MT. OLIVE WATERWORK DISTRICT"},"294 TARBUTTON #39","Ruston","LA",71270,null,null,null,"INDIVIDUAL NAME & SUBDIVISION (HOME NUMBER)","Non-Lead - Plastic","Visual Inspection (for example, visual confirmation at meter pit)","No","No",null,null,"Non-Lead - Plastic","Visual Inspection (for example, visual confirmation at meter pit)",null,null,"Non-Lead"]
[{"$f":"IF(AND(ISBLANK(INDEX($G:$G,)), ISBLANK(INDEX($C:$C,))), \"\", 'PWS Records (System Entry)'!$D$4)","v":"LA1061014"},{"$f":"IF(AND(ISBLANK(INDEX($G:$G,)), ISBLANK(INDEX($C:$C,))), \"\", 'PWS Records (System Entry)'!$D$3)","v":"MT. OLIVE WATERWORK DISTRICT"},"294 TARBUTTON #40","Ruston","LA",71270,null,null,null,"INDIVIDUAL NAME & SUBDIVISION (HOME NUMBER)","Non-Lead - Plastic","Visual Inspection (for example, visual confirmation at meter pit)","No","No",null,null,"Non-Lead - Plastic","Visual Inspection (for example, visual confirmation at meter pit)",null,null,{"$f":"IF(AND(INDEX($K:$K,)=\"\", INDEX($L:$L,)=\"\", INDEX($M:$M,)=\"\", INDEX($Q:$Q,)=\"\", INDEX($R:$R,)=\"\"), \"\", IF(OR(INDEX($K:$K,)=\"Lead\",INDEX($Q:$Q,)=\"Lead\"),\"Lead\",IF(OR(AND(OR(INDEX($M:$M,)=\"Yes\", INDEX($M:$M,)=\"Don't Know\", INDEX($M:$M,)=\"\"), INDEX($Q:$Q,)=\"Galvanized Iron/Steel\"), AND(INDEX($K:$K,)=\"Unknown\", INDEX($M:$M,)=\"No\", INDEX($Q:$Q,)=\"Galvanized Iron/Steel\")), \"Galvanized Requiring Replacement\", IF(OR(AND(OR(INDEX($K:$K,)=\"Galvanized Iron/Steel\", INDEX($K:$K,)=\"Non-Lead - Copper\", INDEX($K:$K,)=\"Non-Lead - Plastic\", INDEX($K:$K,)=\"Non-Lead - Other\", INDEX($K:$K,)=\"Non-Lead - Material Unknown\", INDEX($K:$K,)=\"No System Owned Portion\"), OR(INDEX($Q:$Q,)=\"Galvanized Iron/Steel\", INDEX($Q:$Q,)=\"Non-Lead - Copper\", INDEX($Q:$Q,)=\"Non-Lead - Plastic\", INDEX($Q:$Q,)=\"Non-Lead - Other\", INDEX($Q:$Q,)=\"Non-Lead - Predictive Model\", INDEX($Q:$Q,)=\"No Customer Owned Portion\")), AND(OR( INDEX($K:$K,)=\"Galvanized Iron/Steel\", INDEX($K:$K,)=\"Non-Lead - Copper\", INDEX($K:$K,)=\"Non-Lead - Plastic\", INDEX($K:$K,)=\"Non-Lead - Other\", INDEX($K:$K,)=\"Non-Lead - Material Unknown\", INDEX($K:$K,)=\"No System Owned Portion\"), INDEX($M:$M,)=\"No\", INDEX($Q:$Q,)=\"Non-Lead - Material Unknown\")), \"Non-Lead\", \"Lead Status Unknown\"))))","v":"Non-Lead"}]
[{"$f":"IF(AND(ISBLANK(INDEX($G:$G,)), ISBLANK(INDEX($C:$C,))), \"\", 'PWS Records (System Entry)'!$D$4)","v":"LA1061014"},{"$f":"IF(AND(ISBLANK(INDEX($G:$G,)), ISBLANK(INDEX($C:$C,))), \"\", 'PWS Records (System Entry)'!$D$3)","v":"MT. OLIVE WATERWORK DISTRICT"},"418 TARBUTTON RD","Ruston","LA",71270,null,null,null,"INDIVIDUAL NAME & SUBDIVISION (HOME NUMBER)","Non-Lead - Plastic","Visual Inspection (for example, visual confirmation at meter pit)","No","No",null,null,"Non-Lead - Plastic","Visual Inspection (for example, visual confirmation at meter pit)",null,null,"Non-Lead"]
[{"$f":"IF(AND(ISBLANK(INDEX($G:$G,)), ISBLANK(INDEX($C:$C,))), \"\", 'PWS Records (System Entry)'!$D$4)","v":"LA1061014"},{"$f":"IF(AND(ISBLANK(INDEX($G:$G,)), ISBLANK(INDEX($C:$C,))), \"\", 'PWS Records (System Entry)'!$D$3)","v":"MT. OLIVE WATERWORK DISTRICT"},"419 TARBUTTON RD","Ruston","LA",71270,null,null,null,"INDIVIDUAL NAME & SUBDIVISION (HOME NUMBER)","Non-Lead - Plastic","Visual Inspection (for example, visual confirmation at meter pit)","No","No",null,null,"Non-Lead - Plastic","Visual Inspection (for example, visual confirmation at meter pit)",null,null,"Non-Lead"]
[{"$f":"IF(AND(ISBLANK(INDEX($G:$G,)), ISBLANK(INDEX($C:$C,))), \"\", 'PWS Records (System Entry)'!$D$4)","v":"LA1061014"},{"$f":"IF(AND(ISBLANK(INDEX($G:$G,)), ISBLANK(INDEX($C:$C,))), \"\", 'PWS Records (System Entry)'!$D$3)","v":"MT. OLIVE WATERWORK DISTRICT"},"294 TARBUTTON RD","Ruston","LA",71270,null,null,null,"INDIVIDUAL NAME & SUBDIVISION (HOME NUMBER)","Non-Lead - Plastic","Visual Inspection (for example, visual confirmation at meter pit)","No","No",null,null,"Non-Lead - Plastic","Visual Inspection (for example, visual confirmation at meter pit)",null,null,"Non-Lead"]
[{"$f":"IF(AND(ISBLANK(INDEX($G:$G,)), ISBLANK(INDEX($C:$C,))), \"\", 'PWS Records (System Entry)'!$D$4)","v":"LA1061014"},{"$f":"IF(AND(ISBLANK(INDEX($G:$G,)), ISBLANK(INDEX($C:$C,))), \"\", 'PWS Records (System Entry)'!$D$3)","v":"MT. OLIVE WATERWORK DISTRICT"},"426 TARBUTTON RD","Ruston","LA",71270,null,null,null,"INDIVIDUAL NAME & SUBDIVISION (HOME NUMBER)","Non-Lead - Plastic","Visual Inspection (for example, visual confirmation at meter pit)","No","No",null,null,"Non-Lead - Plastic","Visual Inspection (for example, visual confirmation at meter pit)",null,null,"Non-Lead"]
[{"$f":"IF(AND(ISBLANK(INDEX($G:$G,)), ISBLANK(INDEX($C:$C,))), \"\", 'PWS Records (System Entry)'!$D$4)","v":"LA1061014"},{"$f":"IF(AND(ISBLANK(INDEX($G:$G,)), ISBLANK(INDEX($C:$C,))), \"\", 'PWS Records (System Entry)'!$D$3)","v":"MT. OLIVE WATERWORK DISTRICT"},"294 TARBUTTON RD #42","Ruston","LA",71270,null,null,null,"INDIVIDUAL NAME & SUBDIVISION (HOME NUMBER)","Non-Lead - Plastic","Visual Inspection (for example, visual confirmation at meter pit)","No","No",null,null,"Non-Lead - Plastic","Visual Inspection (for example, visual confirmation at meter pit)",null,null,"Non-Lead"]
[{"$f":"IF(AND(ISBLANK(INDEX($G:$G,)), ISBLANK(INDEX($C:$C,))), \"\", 'PWS Records (System Entry)'!$D$4)","v":"LA1061014"},{"$f":"IF(AND(ISBLANK(INDEX($G:$G,)), ISBLANK(INDEX($C:$C,))), \"\", 'PWS Records (System Entry)'!$D$3)","v":"MT. OLIVE WATERWORK DISTRICT"},"294 TARBUTTON RD #43","Ruston","LA",71270,null,null,null,"INDIVIDUAL NAME & SUBDIVISION (HOME NUMBER)","Non-Lead - Plastic","Visual Inspection (for example, visual confirmation at meter pit)","No","No",null,null,"Non-Lead - Plastic","Visual Inspection (for example, visual confirmation at meter pit)",null,null,"Non-Lead"]
[{"$f":"IF(AND(ISBLANK(INDEX($G:$G,)), ISBLANK(INDEX($C:$C,))), \"\", 'PWS Records (System Entry)'!$D$4)","v":"LA1061014"},{"$f":"IF(AND(ISBLANK(INDEX($G:$G,)), ISBLANK(INDEX($C:$C,))), \"\", 'PWS Records (System Entry)'!$D$3)","v":"MT. OLIVE WATERWORK DISTRICT"},"294 TARBUTTON","Ruston","LA",71270,null,null,null,"INDIVIDUAL NAME & SUBDIVISION (HOME NUMBER)","Non-Lead - Plastic","Visual Inspection (for example, visual confirmation at meter pit)","No","No",null,null,"Non-Lead - Plastic","Visual Inspection (for example, visual confirmation at meter pit)",null,null,"Non-Lead"]
[{"$f":"IF(AND(ISBLANK(INDEX($G:$G,)), ISBLANK(INDEX($C:$C,))), \"\", 'PWS Records (System Entry)'!$D$4)","v":""},{"$f":"IF(AND(ISBLANK(INDEX($G:$G,)), ISBLANK(INDEX($C:$C,))), \"\", 'PWS Records (System Entry)'!$D$3)","v":""},null,null,null,null,null,null,null,null,null,null,null,null,null,null,null,null,null,null,""]
[{"$f":"IF(AND(ISBLANK(INDEX($G:$G,)), ISBLANK(INDEX($C:$C,))), \"\", 'PWS Records (System Entry)'!$D$4)","v":""},{"$f":"IF(AND(ISBLANK(INDEX($G:$G,)), ISBLANK(INDEX($C:$C,))), \"\", 'PWS Records (System Entry)'!$D$3)","v":""},null,null,null,null,null,null,null,null,null,null,null,null,null,null,null,null,null,null,""]
[{"$f":"IF(AND(ISBLANK(INDEX($G:$G,)), ISBLANK(INDEX($C:$C,))), \"\", 'PWS Records (System Entry)'!$D$4)","v":""},{"$f":"IF(AND(ISBLANK(INDEX($G:$G,)), ISBLANK(INDEX($C:$C,))), \"\", 'PWS Records (System Entry)'!$D$3)","v":""},null,null,null,null,null,null,null,null,null,null,null,null,null,null,null,null,null,null,""]
[{"$f":"IF(AND(ISBLANK(INDEX($G:$G,)), ISBLANK(INDEX($C:$C,))), \"\", 'PWS Records (System Entry)'!$D$4)","v":""},{"$f":"IF(AND(ISBLANK(INDEX($G:$G,)), ISBLANK(INDEX($C:$C,))), \"\", 'PWS Records (System Entry)'!$D$3)","v":""},null,null,null,null,null,null,null,null,null,null,null,null,null,null,null,null,null,null,""]
[{"$f":"IF(AND(ISBLANK(INDEX($G:$G,)), ISBLANK(INDEX($C:$C,))), \"\", 'PWS Records (System Entry)'!$D$4)","v":""},{"$f":"IF(AND(ISBLANK(INDEX($G:$G,)), ISBLANK(INDEX($C:$C,))), \"\", 'PWS Records (System Entry)'!$D$3)","v":""},null,null,null,null,null,null,null,null,null,null,null,null,null,null,null,null,null,null,""]
[{"$f":"IF(AND(ISBLANK(INDEX($G:$G,)), ISBLANK(INDEX($C:$C,))), \"\", 'PWS Records (System Entry)'!$D$4)","v":""},{"$f":"IF(AND(ISBLANK(INDEX($G:$G,)), ISBLANK(INDEX($C:$C,))), \"\", 'PWS Records (System Entry)'!$D$3)","v":""},null,null,null,null,null,null,null,null,null,null,null,null,null,null,null,null,null,null,""]
[{"$f":"IF(AND(ISBLANK(INDEX($G:$G,)), ISBLANK(INDEX($C:$C,))), \"\", 'PWS Records (System Entry)'!$D$4)","v":""},{"$f":"IF(AND(ISBLANK(INDEX($G:$G,)), ISBLANK(INDEX($C:$C,))), \"\", 'PWS Records (System Entry)'!$D$3)","v":""},null,null,null,null,null,null,null,null,null,null,null,null,null,null,null,null,null,null,""]
[{"$f":"IF(AND(ISBLANK(INDEX($G:$G,)), ISBLANK(INDEX($C:$C,))), \"\", 'PWS Records (System Entry)'!$D$4)","v":""},{"$f":"IF(AND(ISBLANK(INDEX($G:$G,)), ISBLANK(INDEX($C:$C,))), \"\", 'PWS Records (System Entry)'!$D$3)","v":""},null,null,null,null,null,null,null,null,null,null,null,null,null,null,null,null,null,null,""]
[{"$f":"IF(AND(ISBLANK(INDEX($G:$G,)), ISBLANK(INDEX($C:$C,))), \"\", 'PWS Records (System Entry)'!$D$4)","v":""},{"$f":"IF(AND(ISBLANK(INDEX($G:$G,)), ISBLANK(INDEX($C:$C,))), \"\", 'PWS Records (System Entry)'!$D$3)","v":""},null,null,null,null,null,null,null,null,null,null,null,null,null,null,null,null,null,null,""]
[{"$f":"IF(AND(ISBLANK(INDEX($G:$G,)), ISBLANK(INDEX($C:$C,))), \"\", 'PWS Records (System Entry)'!$D$4)","v":""},{"$f":"IF(AND(ISBLANK(INDEX($G:$G,)), ISBLANK(INDEX($C:$C,))), \"\", 'PWS Records (System Entry)'!$D$3)","v":""},null,null,null,null,null,null,null,null,null,null,null,null,null,null,null,null,null,null,""]
[{"$f":"IF(AND(ISBLANK(INDEX($G:$G,)), ISBLANK(INDEX($C:$C,))), \"\", 'PWS Records (System Entry)'!$D$4)","v":""},{"$f":"IF(AND(ISBLANK(INDEX($G:$G,)), ISBLANK(INDEX($C:$C,))), \"\", 'PWS Records (System Entry)'!$D$3)","v":""},null,null,null,null,null,null,null,null,null,null,null,null,null,null,null,null,null,null,""]
[{"$f":"IF(AND(ISBLANK(INDEX($G:$G,)), ISBLANK(INDEX($C:$C,))), \"\", 'PWS Records (System Entry)'!$D$4)","v":""},{"$f":"IF(AND(ISBLANK(INDEX($G:$G,)), ISBLANK(INDEX($C:$C,))), \"\", 'PWS Records (System Entry)'!$D$3)","v":""},null,null,null,null,null,null,null,null,null,null,null,null,null,null,null,null,null,null,""]
[{"$f":"IF(AND(ISBLANK(INDEX($G:$G,)), ISBLANK(INDEX($C:$C,))), \"\", 'PWS Records (System Entry)'!$D$4)","v":""},{"$f":"IF(AND(ISBLANK(INDEX($G:$G,)), ISBLANK(INDEX($C:$C,))), \"\", 'PWS Records (System Entry)'!$D$3)","v":""},null,null,null,null,null,null,null,null,null,null,null,null,null,null,null,null,null,null,""]
[{"$f":"IF(AND(ISBLANK(INDEX($G:$G,)), ISBLANK(INDEX($C:$C,))), \"\", 'PWS Records (System Entry)'!$D$4)","v":""},{"$f":"IF(AND(ISBLANK(INDEX($G:$G,)), ISBLANK(INDEX($C:$C,))), \"\", 'PWS Records (System Entry)'!$D$3)","v":""},null,null,null,null,null,null,null,null,null,null,null,null,null,null,null,null,null,null,""]
[{"$f":"IF(AND(ISBLANK(INDEX($G:$G,)), ISBLANK(INDEX($C:$C,))), \"\", 'PWS Records (System Entry)'!$D$4)","v":""},{"$f":"IF(AND(ISBLANK(INDEX($G:$G,)), ISBLANK(INDEX($C:$C,))), \"\", 'PWS Records (System Entry)'!$D$3)","v":""},null,null,null,null,null,null,null,null,null,null,null,null,null,null,null,null,null,null,""]
[{"$f":"IF(AND(ISBLANK(INDEX($G:$G,)), ISBLANK(INDEX($C:$C,))), \"\", 'PWS Records (System Entry)'!$D$4)","v":""},{"$f":"IF(AND(ISBLANK(INDEX($G:$G,)), ISBLANK(INDEX($C:$C,))), \"\", 'PWS Records (System Entry)'!$D$3)","v":""},null,null,null,null,null,null,null,null,null,null,null,null,null,null,null,null,null,null,""]
[{"$f":"IF(AND(ISBLANK(INDEX($G:$G,)), ISBLANK(INDEX($C:$C,))), \"\", 'PWS Records (System Entry)'!$D$4)","v":""},{"$f":"IF(AND(ISBLANK(INDEX($G:$G,)), ISBLANK(INDEX($C:$C,))), \"\", 'PWS Records (System Entry)'!$D$3)","v":""},null,null,null,null,null,null,null,null,null,null,null,null,null,null,null,null,null,null,""]
[{"$f":"IF(AND(ISBLANK(INDEX($G:$G,)), ISBLANK(INDEX($C:$C,))), \"\", 'PWS Records (System Entry)'!$D$4)","v":""},{"$f":"IF(AND(ISBLANK(INDEX($G:$G,)), ISBLANK(INDEX($C:$C,))), \"\", 'PWS Records (System Entry)'!$D$3)","v":""},null,null,null,null,null,null,null,null,null,null,null,null,null,null,null,null,null,null,""]
[{"$f":"IF(AND(ISBLANK(INDEX($G:$G,)), ISBLANK(INDEX($C:$C,))), \"\", 'PWS Records (System Entry)'!$D$4)","v":""},{"$f":"IF(AND(ISBLANK(INDEX($G:$G,)), ISBLANK(INDEX($C:$C,))), \"\", 'PWS Records (System Entry)'!$D$3)","v":""},null,null,null,null,null,null,null,null,null,null,null,null,null,null,null,null,null,null,""]
[{"$f":"IF(AND(ISBLANK(INDEX($G:$G,)), ISBLANK(INDEX($C:$C,))), \"\", 'PWS Records (System Entry)'!$D$4)","v":""},{"$f":"IF(AND(ISBLANK(INDEX($G:$G,)), ISBLANK(INDEX($C:$C,))), \"\", 'PWS Records (System Entry)'!$D$3)","v":""},null,null,null,null,null,null,null,null,null,null,null,null,null,null,null,null,null,null,""]
[{"$f":"IF(AND(ISBLANK(INDEX($G:$G,)), ISBLANK(INDEX($C:$C,))), \"\", 'PWS Records (System Entry)'!$D$4)","v":""},{"$f":"IF(AND(ISBLANK(INDEX($G:$G,)), ISBLANK(INDEX($C:$C,))), \"\", 'PWS Records (System Entry)'!$D$3)","v":""},null,null,null,null,null,null,null,null,null,null,null,null,null,null,null,null,null,null,""]
[{"$f":"IF(AND(ISBLANK(INDEX($G:$G,)), ISBLANK(INDEX($C:$C,))), \"\", 'PWS Records (System Entry)'!$D$4)","v":""},{"$f":"IF(AND(ISBLANK(INDEX($G:$G,)), ISBLANK(INDEX($C:$C,))), \"\", 'PWS Records (System Entry)'!$D$3)","v":""},null,null,null,null,null,null,null,null,null,null,null,null,null,null,null,null,null,null,""]
[{"$f":"IF(AND(ISBLANK(INDEX($G:$G,)), ISBLANK(INDEX($C:$C,))), \"\", 'PWS Records (System Entry)'!$D$4)","v":""},{"$f":"IF(AND(ISBLANK(INDEX($G:$G,)), ISBLANK(INDEX($C:$C,))), \"\", 'PWS Records (System Entry)'!$D$3)","v":""},null,null,null,null,null,null,null,null,null,null,null,null,null,null,null,null,null,null,""]
[{"$f":"IF(AND(ISBLANK(INDEX($G:$G,)), ISBLANK(INDEX($C:$C,))), \"\", 'PWS Records (System Entry)'!$D$4)","v":""},{"$f":"IF(AND(ISBLANK(INDEX($G:$G,)), ISBLANK(INDEX($C:$C,))), \"\", 'PWS Records (System Entry)'!$D$3)","v":""},null,null,null,null,null,null,null,null,null,null,null,null,null,null,null,null,null,null,""]
[{"$f":"IF(AND(ISBLANK(INDEX($G:$G,)), ISBLANK(INDEX($C:$C,))), \"\", 'PWS Records (System Entry)'!$D$4)","v":""},{"$f":"IF(AND(ISBLANK(INDEX($G:$G,)), ISBLANK(INDEX($C:$C,))), \"\", 'PWS Records (System Entry)'!$D$3)","v":""},null,null,null,null,null,null,null,null,null,null,null,null,null,null,null,null,null,null,""]
[{"$f":"IF(AND(ISBLANK(INDEX($G:$G,)), ISBLANK(INDEX($C:$C,))), \"\", 'PWS Records (System Entry)'!$D$4)","v":""},{"$f":"IF(AND(ISBLANK(INDEX($G:$G,)), ISBLANK(INDEX($C:$C,))), \"\", 'PWS Records (System Entry)'!$D$3)","v":""},null,null,null,null,null,null,null,null,null,null,null,null,null,null,null,null,null,null,""]
[{"$f":"IF(AND(ISBLANK(INDEX($G:$G,)), ISBLANK(INDEX($C:$C,))), \"\", 'PWS Records (System Entry)'!$D$4)","v":""},{"$f":"IF(AND(ISBLANK(INDEX($G:$G,)), ISBLANK(INDEX($C:$C,))), \"\", 'PWS Records (System Entry)'!$D$3)","v":""},null,null,null,null,null,null,null,null,null,null,null,null,null,null,null,null,null,null,""]
[{"$f":"IF(AND(ISBLANK(INDEX($G:$G,)), ISBLANK(INDEX($C:$C,))), \"\", 'PWS Records (System Entry)'!$D$4)","v":""},{"$f":"IF(AND(ISBLANK(INDEX($G:$G,)), ISBLANK(INDEX($C:$C,))), \"\", 'PWS Records (System Entry)'!$D$3)","v":""},null,null,null,null,null,null,null,null,null,null,null,null,null,null,null,null,null,null,""]
[{"$f":"IF(AND(ISBLANK(INDEX($G:$G,)), ISBLANK(INDEX($C:$C,))), \"\", 'PWS Records (System Entry)'!$D$4)","v":""},{"$f":"IF(AND(ISBLANK(INDEX($G:$G,)), ISBLANK(INDEX($C:$C,))), \"\", 'PWS Records (System Entry)'!$D$3)","v":""},null,null,null,null,null,null,null,null,null,null,null,null,null,null,null,null,null,null,""]
[{"$f":"IF(AND(ISBLANK(INDEX($G:$G,)), ISBLANK(INDEX($C:$C,))), \"\", 'PWS Records (System Entry)'!$D$4)","v":""},{"$f":"IF(AND(ISBLANK(INDEX($G:$G,)), ISBLANK(INDEX($C:$C,))), \"\", 'PWS Records (System Entry)'!$D$3)","v":""},null,null,null,null,null,null,null,null,null,null,null,null,null,null,null,null,null,null,""]
[{"$f":"IF(AND(ISBLANK(INDEX($G:$G,)), ISBLANK(INDEX($C:$C,))), \"\", 'PWS Records (System Entry)'!$D$4)","v":""},{"$f":"IF(AND(ISBLANK(INDEX($G:$G,)), ISBLANK(INDEX($C:$C,))), \"\", 'PWS Records (System Entry)'!$D$3)","v":""},null,null,null,null,null,null,null,null,null,null,null,null,null,null,null,null,null,null,""]
[{"$f":"IF(AND(ISBLANK(INDEX($G:$G,)), ISBLANK(INDEX($C:$C,))), \"\", 'PWS Records (System Entry)'!$D$4)","v":""},{"$f":"IF(AND(ISBLANK(INDEX($G:$G,)), ISBLANK(INDEX($C:$C,))), \"\", 'PWS Records (System Entry)'!$D$3)","v":""},null,null,null,null,null,null,null,null,null,null,null,null,null,null,null,null,null,null,""]
[{"$f":"IF(AND(ISBLANK(INDEX($G:$G,)), ISBLANK(INDEX($C:$C,))), \"\", 'PWS Records (System Entry)'!$D$4)","v":""},{"$f":"IF(AND(ISBLANK(INDEX($G:$G,)), ISBLANK(INDEX($C:$C,))), \"\", 'PWS Records (System Entry)'!$D$3)","v":""},null,null,null,null,null,null,null,null,null,null,null,null,null,null,null,null,null,null,""]
[{"$f":"IF(AND(ISBLANK(INDEX($G:$G,)), ISBLANK(INDEX($C:$C,))), \"\", 'PWS Records (System Entry)'!$D$4)","v":""},{"$f":"IF(AND(ISBLANK(INDEX($G:$G,)), ISBLANK(INDEX($C:$C,))), \"\", 'PWS Records (System Entry)'!$D$3)","v":""},null,null,null,null,null,null,null,null,null,null,null,null,null,null,null,null,null,null,""]
[{"$f":"IF(AND(ISBLANK(INDEX($G:$G,)), ISBLANK(INDEX($C:$C,))), \"\", 'PWS Records (System Entry)'!$D$4)","v":""},{"$f":"IF(AND(ISBLANK(INDEX($G:$G,)), ISBLANK(INDEX($C:$C,))), \"\", 'PWS Records (System Entry)'!$D$3)","v":""},null,null,null,null,null,null,null,null,null,null,null,null,null,null,null,null,null,null,""]
[{"$f":"IF(AND(ISBLANK(INDEX($G:$G,)), ISBLANK(INDEX($C:$C,))), \"\", 'PWS Records (System Entry)'!$D$4)","v":""},{"$f":"IF(AND(ISBLANK(INDEX($G:$G,)), ISBLANK(INDEX($C:$C,))), \"\", 'PWS Records (System Entry)'!$D$3)","v":""},null,null,null,null,null,null,null,null,null,null,null,null,null,null,null,null,null,null,""]
[{"$f":"IF(AND(ISBLANK(INDEX($G:$G,)), ISBLANK(INDEX($C:$C,))), \"\", 'PWS Records (System Entry)'!$D$4)","v":""},{"$f":"IF(AND(ISBLANK(INDEX($G:$G,)), ISBLANK(INDEX($C:$C,))), \"\", 'PWS Records (System Entry)'!$D$3)","v":""},null,null,null,null,null,null,null,null,null,null,null,null,null,null,null,null,null,null,""]
[{"$f":"IF(AND(ISBLANK(INDEX($G:$G,)), ISBLANK(INDEX($C:$C,))), \"\", 'PWS Records (System Entry)'!$D$4)","v":""},{"$f":"IF(AND(ISBLANK(INDEX($G:$G,)), ISBLANK(INDEX($C:$C,))), \"\", 'PWS Records (System Entry)'!$D$3)","v":""},null,null,null,null,null,null,null,null,null,null,null,null,null,null,null,null,null,null,""]
[{"$f":"IF(AND(ISBLANK(INDEX($G:$G,)), ISBLANK(INDEX($C:$C,))), \"\", 'PWS Records (System Entry)'!$D$4)","v":""},{"$f":"IF(AND(ISBLANK(INDEX($G:$G,)), ISBLANK(INDEX($C:$C,))), \"\", 'PWS Records (System Entry)'!$D$3)","v":""},null,null,null,null,null,null,null,null,null,null,null,null,null,null,null,null,null,null,""]
[{"$f":"IF(AND(ISBLANK(INDEX($G:$G,)), ISBLANK(INDEX($C:$C,))), \"\", 'PWS Records (System Entry)'!$D$4)","v":""},{"$f":"IF(AND(ISBLANK(INDEX($G:$G,)), ISBLANK(INDEX($C:$C,))), \"\", 'PWS Records (System Entry)'!$D$3)","v":""},null,null,null,null,null,null,null,null,null,null,null,null,null,null,null,null,null,null,""]
[{"$f":"IF(AND(ISBLANK(INDEX($G:$G,)), ISBLANK(INDEX($C:$C,))), \"\", 'PWS Records (System Entry)'!$D$4)","v":""},{"$f":"IF(AND(ISBLANK(INDEX($G:$G,)), ISBLANK(INDEX($C:$C,))), \"\", 'PWS Records (System Entry)'!$D$3)","v":""},null,null,null,null,null,null,null,null,null,null,null,null,null,null,null,null,null,null,""]
[{"$f":"IF(AND(ISBLANK(INDEX($G:$G,)), ISBLANK(INDEX($C:$C,))), \"\", 'PWS Records (System Entry)'!$D$4)","v":""},{"$f":"IF(AND(ISBLANK(INDEX($G:$G,)), ISBLANK(INDEX($C:$C,))), \"\", 'PWS Records (System Entry)'!$D$3)","v":""},null,null,null,null,null,null,null,null,null,null,null,null,null,null,null,null,null,null,""]
[{"$f":"IF(AND(ISBLANK(INDEX($G:$G,)), ISBLANK(INDEX($C:$C,))), \"\", 'PWS Records (System Entry)'!$D$4)","v":""},{"$f":"IF(AND(ISBLANK(INDEX($G:$G,)), ISBLANK(INDEX($C:$C,))), \"\", 'PWS Records (System Entry)'!$D$3)","v":""},null,null,null,null,null,null,null,null,null,null,null,null,null,null,null,null,null,null,""]
[{"$f":"IF(AND(ISBLANK(INDEX($G:$G,)), ISBLANK(INDEX($C:$C,))), \"\", 'PWS Records (System Entry)'!$D$4)","v":""},{"$f":"IF(AND(ISBLANK(INDEX($G:$G,)), ISBLANK(INDEX($C:$C,))), \"\", 'PWS Records (System Entry)'!$D$3)","v":""},null,null,null,null,null,null,null,null,null,null,null,null,null,null,null,null,null,null,""]
[{"$f":"IF(AND(ISBLANK(INDEX($G:$G,)), ISBLANK(INDEX($C:$C,))), \"\", 'PWS Records (System Entry)'!$D$4)","v":""},{"$f":"IF(AND(ISBLANK(INDEX($G:$G,)), ISBLANK(INDEX($C:$C,))), \"\", 'PWS Records (System Entry)'!$D$3)","v":""},null,null,null,null,null,null,null,null,null,null,null,null,null,null,null,null,null,null,""]
[{"$f":"IF(AND(ISBLANK(INDEX($G:$G,)), ISBLANK(INDEX($C:$C,))), \"\", 'PWS Records (System Entry)'!$D$4)","v":""},{"$f":"IF(AND(ISBLANK(INDEX($G:$G,)), ISBLANK(INDEX($C:$C,))), \"\", 'PWS Records (System Entry)'!$D$3)","v":""},null,null,null,null,null,null,null,null,null,null,null,null,null,null,null,null,null,null,""]
[{"$f":"IF(AND(ISBLANK(INDEX($G:$G,)), ISBLANK(INDEX($C:$C,))), \"\", 'PWS Records (System Entry)'!$D$4)","v":""},{"$f":"IF(AND(ISBLANK(INDEX($G:$G,)), ISBLANK(INDEX($C:$C,))), \"\", 'PWS Records (System Entry)'!$D$3)","v":""},null,null,null,null,null,null,null,null,null,null,null,null,null,null,null,null,null,null,""]
[{"$f":"IF(AND(ISBLANK(INDEX($G:$G,)), ISBLANK(INDEX($C:$C,))), \"\", 'PWS Records (System Entry)'!$D$4)","v":""},{"$f":"IF(AND(ISBLANK(INDEX($G:$G,)), ISBLANK(INDEX($C:$C,))), \"\", 'PWS Records (System Entry)'!$D$3)","v":""},null,null,null,null,null,null,null,null,null,null,null,null,null,null,null,null,null,null,""]
[{"$f":"IF(AND(ISBLANK(INDEX($G:$G,)), ISBLANK(INDEX($C:$C,))), \"\", 'PWS Records (System Entry)'!$D$4)","v":""},{"$f":"IF(AND(ISBLANK(INDEX($G:$G,)), ISBLANK(INDEX($C:$C,))), \"\", 'PWS Records (System Entry)'!$D$3)","v":""},null,null,null,null,null,null,null,null,null,null,null,null,null,null,null,null,null,null,""]
[{"$f":"IF(AND(ISBLANK(INDEX($G:$G,)), ISBLANK(INDEX($C:$C,))), \"\", 'PWS Records (System Entry)'!$D$4)","v":""},{"$f":"IF(AND(ISBLANK(INDEX($G:$G,)), ISBLANK(INDEX($C:$C,))), \"\", 'PWS Records (System Entry)'!$D$3)","v":""},null,null,null,null,null,null,null,null,null,null,null,null,null,null,null,null,null,null,""]
[{"$f":"IF(AND(ISBLANK(INDEX($G:$G,)), ISBLANK(INDEX($C:$C,))), \"\", 'PWS Records (System Entry)'!$D$4)","v":""},{"$f":"IF(AND(ISBLANK(INDEX($G:$G,)), ISBLANK(INDEX($C:$C,))), \"\", 'PWS Records (System Entry)'!$D$3)","v":""},null,null,null,null,null,null,null,null,null,null,null,null,null,null,null,null,null,null,""]
[{"$f":"IF(AND(ISBLANK(INDEX($G:$G,)), ISBLANK(INDEX($C:$C,))), \"\", 'PWS Records (System Entry)'!$D$4)","v":""},{"$f":"IF(AND(ISBLANK(INDEX($G:$G,)), ISBLANK(INDEX($C:$C,))), \"\", 'PWS Records (System Entry)'!$D$3)","v":""},null,null,null,null,null,null,null,null,null,null,null,null,null,null,null,null,null,null,""]
[{"$f":"IF(AND(ISBLANK(INDEX($G:$G,)), ISBLANK(INDEX($C:$C,))), \"\", 'PWS Records (System Entry)'!$D$4)","v":""},{"$f":"IF(AND(ISBLANK(INDEX($G:$G,)), ISBLANK(INDEX($C:$C,))), \"\", 'PWS Records (System Entry)'!$D$3)","v":""},null,null,null,null,null,null,null,null,null,null,null,null,null,null,null,null,null,null,""]
[{"$f":"IF(AND(ISBLANK(INDEX($G:$G,)), ISBLANK(INDEX($C:$C,))), \"\", 'PWS Records (System Entry)'!$D$4)","v":""},{"$f":"IF(AND(ISBLANK(INDEX($G:$G,)), ISBLANK(INDEX($C:$C,))), \"\", 'PWS Records (System Entry)'!$D$3)","v":""},null,null,null,null,null,null,null,null,null,null,null,null,null,null,null,null,null,null,""]
[{"$f":"IF(AND(ISBLANK(INDEX($G:$G,)), ISBLANK(INDEX($C:$C,))), \"\", 'PWS Records (System Entry)'!$D$4)","v":""},{"$f":"IF(AND(ISBLANK(INDEX($G:$G,)), ISBLANK(INDEX($C:$C,))), \"\", 'PWS Records (System Entry)'!$D$3)","v":""},null,null,null,null,null,null,null,null,null,null,null,null,null,null,null,null,null,null,""]
[{"$f":"IF(AND(ISBLANK(INDEX($G:$G,)), ISBLANK(INDEX($C:$C,))), \"\", 'PWS Records (System Entry)'!$D$4)","v":""},{"$f":"IF(AND(ISBLANK(INDEX($G:$G,)), ISBLANK(INDEX($C:$C,))), \"\", 'PWS Records (System Entry)'!$D$3)","v":""},null,null,null,null,null,null,null,null,null,null,null,null,null,null,null,null,null,null,""]
[{"$f":"IF(AND(ISBLANK(INDEX($G:$G,)), ISBLANK(INDEX($C:$C,))), \"\", 'PWS Records (System Entry)'!$D$4)","v":""},{"$f":"IF(AND(ISBLANK(INDEX($G:$G,)), ISBLANK(INDEX($C:$C,))), \"\", 'PWS Records (System Entry)'!$D$3)","v":""},null,null,null,null,null,null,null,null,null,null,null,null,null,null,null,null,null,null,{"$f":"IF(AND(INDEX($K:$K,)=\"\", INDEX($L:$L,)=\"\", INDEX($M:$M,)=\"\", INDEX($Q:$Q,)=\"\", INDEX($R:$R,)=\"\"), \"\", IF(OR(INDEX($K:$K,)=\"Lead\",INDEX($Q:$Q,)=\"Lead\"),\"Lead\",IF(OR(AND(OR(INDEX($M:$M,)=\"Yes\", INDEX($M:$M,)=\"Don't Know\", INDEX($M:$M,)=\"\"), INDEX($Q:$Q,)=\"Galvanized Iron/Steel\"), AND(INDEX($K:$K,)=\"Unknown\", INDEX($M:$M,)=\"No\", INDEX($Q:$Q,)=\"Galvanized Iron/Steel\")), \"Galvanized Requiring Replacement\", IF(OR(AND(OR(INDEX($K:$K,)=\"Galvanized Iron/Steel\", INDEX($K:$K,)=\"Non-Lead - Copper\", INDEX($K:$K,)=\"Non-Lead - Plastic\", INDEX($K:$K,)=\"Non-Lead - Other\", INDEX($K:$K,)=\"Non-Lead - Material Unknown\", INDEX($K:$K,)=\"No System Owned Portion\"), OR(INDEX($Q:$Q,)=\"Galvanized Iron/Steel\", INDEX($Q:$Q,)=\"Non-Lead - Copper\", INDEX($Q:$Q,)=\"Non-Lead - Plastic\", INDEX($Q:$Q,)=\"Non-Lead - Other\", INDEX($Q:$Q,)=\"Non-Lead - Predictive Model\", INDEX($Q:$Q,)=\"No Customer Owned Portion\")), AND(OR( INDEX($K:$K,)=\"Galvanized Iron/Steel\", INDEX($K:$K,)=\"Non-Lead - Copper\", INDEX($K:$K,)=\"Non-Lead - Plastic\", INDEX($K:$K,)=\"Non-Lead - Other\", INDEX($K:$K,)=\"Non-Lead - Material Unknown\", INDEX($K:$K,)=\"No System Owned Portion\"), INDEX($M:$M,)=\"No\", INDEX($Q:$Q,)=\"Non-Lead - Material Unknown\")), \"Non-Lead\", \"Lead Status Unknown\"))))","v":""}]
[{"$f":"IF(AND(ISBLANK(INDEX($G:$G,)), ISBLANK(INDEX($C:$C,))), \"\", 'PWS Records (System Entry)'!$D$4)","v":""},{"$f":"IF(AND(ISBLANK(INDEX($G:$G,)), ISBLANK(INDEX($C:$C,))), \"\", 'PWS Records (System Entry)'!$D$3)","v":""},null,null,null,null,null,null,null,null,null,null,null,null,null,null,null,null,null,null,""]
[{"$f":"IF(AND(ISBLANK(INDEX($G:$G,)), ISBLANK(INDEX($C:$C,))), \"\", 'PWS Records (System Entry)'!$D$4)","v":""},{"$f":"IF(AND(ISBLANK(INDEX($G:$G,)), ISBLANK(INDEX($C:$C,))), \"\", 'PWS Records (System Entry)'!$D$3)","v":""},null,null,null,null,null,null,null,null,null,null,null,null,null,null,null,null,null,null,""]
[{"$f":"IF(AND(ISBLANK(INDEX($G:$G,)), ISBLANK(INDEX($C:$C,))), \"\", 'PWS Records (System Entry)'!$D$4)","v":""},{"$f":"IF(AND(ISBLANK(INDEX($G:$G,)), ISBLANK(INDEX($C:$C,))), \"\", 'PWS Records (System Entry)'!$D$3)","v":""},null,null,null,null,null,null,null,null,null,null,null,null,null,null,null,null,null,null,""]
[{"$f":"IF(AND(ISBLANK(INDEX($G:$G,)), ISBLANK(INDEX($C:$C,))), \"\", 'PWS Records (System Entry)'!$D$4)","v":""},{"$f":"IF(AND(ISBLANK(INDEX($G:$G,)), ISBLANK(INDEX($C:$C,))), \"\", 'PWS Records (System Entry)'!$D$3)","v":""},null,null,null,null,null,null,null,null,null,null,null,null,null,null,null,null,null,null,""]
[{"$f":"IF(AND(ISBLANK(INDEX($G:$G,)), ISBLANK(INDEX($C:$C,))), \"\", 'PWS Records (System Entry)'!$D$4)","v":""},{"$f":"IF(AND(ISBLANK(INDEX($G:$G,)), ISBLANK(INDEX($C:$C,))), \"\", 'PWS Records (System Entry)'!$D$3)","v":""},null,null,null,null,null,null,null,null,null,null,null,null,null,null,null,null,null,null,""]
[{"$f":"IF(AND(ISBLANK(INDEX($G:$G,)), ISBLANK(INDEX($C:$C,))), \"\", 'PWS Records (System Entry)'!$D$4)","v":""},{"$f":"IF(AND(ISBLANK(INDEX($G:$G,)), ISBLANK(INDEX($C:$C,))), \"\", 'PWS Records (System Entry)'!$D$3)","v":""},null,null,null,null,null,null,null,null,null,null,null,null,null,null,null,null,null,null,""]
[{"$f":"IF(AND(ISBLANK(INDEX($G:$G,)), ISBLANK(INDEX($C:$C,))), \"\", 'PWS Records (System Entry)'!$D$4)","v":""},{"$f":"IF(AND(ISBLANK(INDEX($G:$G,)), ISBLANK(INDEX($C:$C,))), \"\", 'PWS Records (System Entry)'!$D$3)","v":""},null,null,null,null,null,null,null,null,null,null,null,null,null,null,null,null,null,null,""]
[{"$f":"IF(AND(ISBLANK(INDEX($G:$G,)), ISBLANK(INDEX($C:$C,))), \"\", 'PWS Records (System Entry)'!$D$4)","v":""},{"$f":"IF(AND(ISBLANK(INDEX($G:$G,)), ISBLANK(INDEX($C:$C,))), \"\", 'PWS Records (System Entry)'!$D$3)","v":""},null,null,null,null,null,null,null,null,null,null,null,null,null,null,null,null,null,null,""]
[{"$f":"IF(AND(ISBLANK(INDEX($G:$G,)), ISBLANK(INDEX($C:$C,))), \"\", 'PWS Records (System Entry)'!$D$4)","v":""},{"$f":"IF(AND(ISBLANK(INDEX($G:$G,)), ISBLANK(INDEX($C:$C,))), \"\", 'PWS Records (System Entry)'!$D$3)","v":""},null,null,null,null,null,null,null,null,null,null,null,null,null,null,null,null,null,null,""]
[{"$f":"IF(AND(ISBLANK(INDEX($G:$G,)), ISBLANK(INDEX($C:$C,))), \"\", 'PWS Records (System Entry)'!$D$4)","v":""},{"$f":"IF(AND(ISBLANK(INDEX($G:$G,)), ISBLANK(INDEX($C:$C,))), \"\", 'PWS Records (System Entry)'!$D$3)","v":""},null,null,null,null,null,null,null,null,null,null,null,null,null,null,null,null,null,null,""]
[{"$f":"IF(AND(ISBLANK(INDEX($G:$G,)), ISBLANK(INDEX($C:$C,))), \"\", 'PWS Records (System Entry)'!$D$4)","v":""},{"$f":"IF(AND(ISBLANK(INDEX($G:$G,)), ISBLANK(INDEX($C:$C,))), \"\", 'PWS Records (System Entry)'!$D$3)","v":""},null,null,null,null,null,null,null,null,null,null,null,null,null,null,null,null,null,null,""]
[{"$f":"IF(AND(ISBLANK(INDEX($G:$G,)), ISBLANK(INDEX($C:$C,))), \"\", 'PWS Records (System Entry)'!$D$4)","v":""},{"$f":"IF(AND(ISBLANK(INDEX($G:$G,)), ISBLANK(INDEX($C:$C,))), \"\", 'PWS Records (System Entry)'!$D$3)","v":""},null,null,null,null,null,null,null,null,null,null,null,null,null,null,null,null,null,null,""]
[{"$f":"IF(AND(ISBLANK(INDEX($G:$G,)), ISBLANK(INDEX($C:$C,))), \"\", 'PWS Records (System Entry)'!$D$4)","v":""},{"$f":"IF(AND(ISBLANK(INDEX($G:$G,)), ISBLANK(INDEX($C:$C,))), \"\", 'PWS Records (System Entry)'!$D$3)","v":""},null,null,null,null,null,null,null,null,null,null,null,null,null,null,null,null,null,null,""]
[{"$f":"IF(AND(ISBLANK(INDEX($G:$G,)), ISBLANK(INDEX($C:$C,))), \"\", 'PWS Records (System Entry)'!$D$4)","v":""},{"$f":"IF(AND(ISBLANK(INDEX($G:$G,)), ISBLANK(INDEX($C:$C,))), \"\", 'PWS Records (System Entry)'!$D$3)","v":""},null,null,null,null,null,null,null,null,null,null,null,null,null,null,null,null,null,null,""]
[{"$f":"IF(AND(ISBLANK(INDEX($G:$G,)), ISBLANK(INDEX($C:$C,))), \"\", 'PWS Records (System Entry)'!$D$4)","v":""},{"$f":"IF(AND(ISBLANK(INDEX($G:$G,)), ISBLANK(INDEX($C:$C,))), \"\", 'PWS Records (System Entry)'!$D$3)","v":""},null,null,null,null,null,null,null,null,null,null,null,null,null,null,null,null,null,null,""]
[{"$f":"IF(AND(ISBLANK(INDEX($G:$G,)), ISBLANK(INDEX($C:$C,))), \"\", 'PWS Records (System Entry)'!$D$4)","v":""},{"$f":"IF(AND(ISBLANK(INDEX($G:$G,)), ISBLANK(INDEX($C:$C,))), \"\", 'PWS Records (System Entry)'!$D$3)","v":""},null,null,null,null,null,null,null,null,null,null,null,null,null,null,null,null,null,null,""]
[{"$f":"IF(AND(ISBLANK(INDEX($G:$G,)), ISBLANK(INDEX($C:$C,))), \"\", 'PWS Records (System Entry)'!$D$4)","v":""},{"$f":"IF(AND(ISBLANK(INDEX($G:$G,)), ISBLANK(INDEX($C:$C,))), \"\", 'PWS Records (System Entry)'!$D$3)","v":""},null,null,null,null,null,null,null,null,null,null,null,null,null,null,null,null,null,null,""]
[{"$f":"IF(AND(ISBLANK(INDEX($G:$G,)), ISBLANK(INDEX($C:$C,))), \"\", 'PWS Records (System Entry)'!$D$4)","v":""},{"$f":"IF(AND(ISBLANK(INDEX($G:$G,)), ISBLANK(INDEX($C:$C,))), \"\", 'PWS Records (System Entry)'!$D$3)","v":""},null,null,null,null,null,null,null,null,null,null,null,null,null,null,null,null,null,null,""]
[{"$f":"IF(AND(ISBLANK(INDEX($G:$G,)), ISBLANK(INDEX($C:$C,))), \"\", 'PWS Records (System Entry)'!$D$4)","v":""},{"$f":"IF(AND(ISBLANK(INDEX($G:$G,)), ISBLANK(INDEX($C:$C,))), \"\", 'PWS Records (System Entry)'!$D$3)","v":""},null,null,null,null,null,null,null,null,null,null,null,null,null,null,null,null,null,null,""]
[{"$f":"IF(AND(ISBLANK(INDEX($G:$G,)), ISBLANK(INDEX($C:$C,))), \"\", 'PWS Records (System Entry)'!$D$4)","v":""},{"$f":"IF(AND(ISBLANK(INDEX($G:$G,)), ISBLANK(INDEX($C:$C,))), \"\", 'PWS Records (System Entry)'!$D$3)","v":""},null,null,null,null,null,null,null,null,null,null,null,null,null,null,null,null,null,null,""]
[{"$f":"IF(AND(ISBLANK(INDEX($G:$G,)), ISBLANK(INDEX($C:$C,))), \"\", 'PWS Records (System Entry)'!$D$4)","v":""},{"$f":"IF(AND(ISBLANK(INDEX($G:$G,)), ISBLANK(INDEX($C:$C,))), \"\", 'PWS Records (System Entry)'!$D$3)","v":""},null,null,null,null,null,null,null,null,null,null,null,null,null,null,null,null,null,null,""]
[{"$f":"IF(AND(ISBLANK(INDEX($G:$G,)), ISBLANK(INDEX($C:$C,))), \"\", 'PWS Records (System Entry)'!$D$4)","v":""},{"$f":"IF(AND(ISBLANK(INDEX($G:$G,)), ISBLANK(INDEX($C:$C,))), \"\", 'PWS Records (System Entry)'!$D$3)","v":""},null,null,null,null,null,null,null,null,null,null,null,null,null,null,null,null,null,null,""]
[{"$f":"IF(AND(ISBLANK(INDEX($G:$G,)), ISBLANK(INDEX($C:$C,))), \"\", 'PWS Records (System Entry)'!$D$4)","v":""},{"$f":"IF(AND(ISBLANK(INDEX($G:$G,)), ISBLANK(INDEX($C:$C,))), \"\", 'PWS Records (System Entry)'!$D$3)","v":""},null,null,null,null,null,null,null,null,null,null,null,null,null,null,null,null,null,null,""]
[{"$f":"IF(AND(ISBLANK(INDEX($G:$G,)), ISBLANK(INDEX($C:$C,))), \"\", 'PWS Records (System Entry)'!$D$4)","v":""},{"$f":"IF(AND(ISBLANK(INDEX($G:$G,)), ISBLANK(INDEX($C:$C,))), \"\", 'PWS Records (System Entry)'!$D$3)","v":""},null,null,null,null,null,null,null,null,null,null,null,null,null,null,null,null,null,null,""]
[{"$f":"IF(AND(ISBLANK(INDEX($G:$G,)), ISBLANK(INDEX($C:$C,))), \"\", 'PWS Records (System Entry)'!$D$4)","v":""},{"$f":"IF(AND(ISBLANK(INDEX($G:$G,)), ISBLANK(INDEX($C:$C,))), \"\", 'PWS Records (System Entry)'!$D$3)","v":""},null,null,null,null,null,null,null,null,null,null,null,null,null,null,null,null,null,null,""]
[{"$f":"IF(AND(ISBLANK(INDEX($G:$G,)), ISBLANK(INDEX($C:$C,))), \"\", 'PWS Records (System Entry)'!$D$4)","v":""},{"$f":"IF(AND(ISBLANK(INDEX($G:$G,)), ISBLANK(INDEX($C:$C,))), \"\", 'PWS Records (System Entry)'!$D$3)","v":""},null,null,null,null,null,null,null,null,null,null,null,null,null,null,null,null,null,null,""]
[{"$f":"IF(AND(ISBLANK(INDEX($G:$G,)), ISBLANK(INDEX($C:$C,))), \"\", 'PWS Records (System Entry)'!$D$4)","v":""},{"$f":"IF(AND(ISBLANK(INDEX($G:$G,)), ISBLANK(INDEX($C:$C,))), \"\", 'PWS Records (System Entry)'!$D$3)","v":""},null,null,null,null,null,null,null,null,null,null,null,null,null,null,null,null,null,null,""]
[{"$f":"IF(AND(ISBLANK(INDEX($G:$G,)), ISBLANK(INDEX($C:$C,))), \"\", 'PWS Records (System Entry)'!$D$4)","v":""},{"$f":"IF(AND(ISBLANK(INDEX($G:$G,)), ISBLANK(INDEX($C:$C,))), \"\", 'PWS Records (System Entry)'!$D$3)","v":""},null,null,null,null,null,null,null,null,null,null,null,null,null,null,null,null,null,null,""]
[{"$f":"IF(AND(ISBLANK(INDEX($G:$G,)), ISBLANK(INDEX($C:$C,))), \"\", 'PWS Records (System Entry)'!$D$4)","v":""},{"$f":"IF(AND(ISBLANK(INDEX($G:$G,)), ISBLANK(INDEX($C:$C,))), \"\", 'PWS Records (System Entry)'!$D$3)","v":""},null,null,null,null,null,null,null,null,null,null,null,null,null,null,null,null,null,null,""]
[{"$f":"IF(AND(ISBLANK(INDEX($G:$G,)), ISBLANK(INDEX($C:$C,))), \"\", 'PWS Records (System Entry)'!$D$4)","v":""},{"$f":"IF(AND(ISBLANK(INDEX($G:$G,)), ISBLANK(INDEX($C:$C,))), \"\", 'PWS Records (System Entry)'!$D$3)","v":""},null,null,null,null,null,null,null,null,null,null,null,null,null,null,null,null,null,null,""]
[{"$f":"IF(AND(ISBLANK(INDEX($G:$G,)), ISBLANK(INDEX($C:$C,))), \"\", 'PWS Records (System Entry)'!$D$4)","v":""},{"$f":"IF(AND(ISBLANK(INDEX($G:$G,)), ISBLANK(INDEX($C:$C,))), \"\", 'PWS Records (System Entry)'!$D$3)","v":""},null,null,null,null,null,null,null,null,null,null,null,null,null,null,null,null,null,null,""]
[{"$f":"IF(AND(ISBLANK(INDEX($G:$G,)), ISBLANK(INDEX($C:$C,))), \"\", 'PWS Records (System Entry)'!$D$4)","v":""},{"$f":"IF(AND(ISBLANK(INDEX($G:$G,)), ISBLANK(INDEX($C:$C,))), \"\", 'PWS Records (System Entry)'!$D$3)","v":""},null,null,null,null,null,null,null,null,null,null,null,null,null,null,null,null,null,null,""]
[{"$f":"IF(AND(ISBLANK(INDEX($G:$G,)), ISBLANK(INDEX($C:$C,))), \"\", 'PWS Records (System Entry)'!$D$4)","v":""},{"$f":"IF(AND(ISBLANK(INDEX($G:$G,)), ISBLANK(INDEX($C:$C,))), \"\", 'PWS Records (System Entry)'!$D$3)","v":""},null,null,null,null,null,null,null,null,null,null,null,null,null,null,null,null,null,null,""]
[{"$f":"IF(AND(ISBLANK(INDEX($G:$G,)), ISBLANK(INDEX($C:$C,))), \"\", 'PWS Records (System Entry)'!$D$4)","v":""},{"$f":"IF(AND(ISBLANK(INDEX($G:$G,)), ISBLANK(INDEX($C:$C,))), \"\", 'PWS Records (System Entry)'!$D$3)","v":""},null,null,null,null,null,null,null,null,null,null,null,null,null,null,null,null,null,null,""]
[{"$f":"IF(AND(ISBLANK(INDEX($G:$G,)), ISBLANK(INDEX($C:$C,))), \"\", 'PWS Records (System Entry)'!$D$4)","v":""},{"$f":"IF(AND(ISBLANK(INDEX($G:$G,)), ISBLANK(INDEX($C:$C,))), \"\", 'PWS Records (System Entry)'!$D$3)","v":""},null,null,null,null,null,null,null,null,null,null,null,null,null,null,null,null,null,null,""]
[{"$f":"IF(AND(ISBLANK(INDEX($G:$G,)), ISBLANK(INDEX($C:$C,))), \"\", 'PWS Records (System Entry)'!$D$4)","v":""},{"$f":"IF(AND(ISBLANK(INDEX($G:$G,)), ISBLANK(INDEX($C:$C,))), \"\", 'PWS Records (System Entry)'!$D$3)","v":""},null,null,null,null,null,null,null,null,null,null,null,null,null,null,null,null,null,null,""]
[{"$f":"IF(AND(ISBLANK(INDEX($G:$G,)), ISBLANK(INDEX($C:$C,))), \"\", 'PWS Records (System Entry)'!$D$4)","v":""},{"$f":"IF(AND(ISBLANK(INDEX($G:$G,)), ISBLANK(INDEX($C:$C,))), \"\", 'PWS Records (System Entry)'!$D$3)","v":""},null,null,null,null,null,null,null,null,null,null,null,null,null,null,null,null,null,null,""]
[{"$f":"IF(AND(ISBLANK(INDEX($G:$G,)), ISBLANK(INDEX($C:$C,))), \"\", 'PWS Records (System Entry)'!$D$4)","v":""},{"$f":"IF(AND(ISBLANK(INDEX($G:$G,)), ISBLANK(INDEX($C:$C,))), \"\", 'PWS Records (System Entry)'!$D$3)","v":""},null,null,null,null,null,null,null,null,null,null,null,null,null,null,null,null,null,null,""]
[{"$f":"IF(AND(ISBLANK(INDEX($G:$G,)), ISBLANK(INDEX($C:$C,))), \"\", 'PWS Records (System Entry)'!$D$4)","v":""},{"$f":"IF(AND(ISBLANK(INDEX($G:$G,)), ISBLANK(INDEX($C:$C,))), \"\", 'PWS Records (System Entry)'!$D$3)","v":""},null,null,null,null,null,null,null,null,null,null,null,null,null,null,null,null,null,null,""]
[{"$f":"IF(AND(ISBLANK(INDEX($G:$G,)), ISBLANK(INDEX($C:$C,))), \"\", 'PWS Records (System Entry)'!$D$4)","v":""},{"$f":"IF(AND(ISBLANK(INDEX($G:$G,)), ISBLANK(INDEX($C:$C,))), \"\", 'PWS Records (System Entry)'!$D$3)","v":""},null,null,null,null,null,null,null,null,null,null,null,null,null,null,null,null,null,null,""]
[{"$f":"IF(AND(ISBLANK(INDEX($G:$G,)), ISBLANK(INDEX($C:$C,))), \"\", 'PWS Records (System Entry)'!$D$4)","v":""},{"$f":"IF(AND(ISBLANK(INDEX($G:$G,)), ISBLANK(INDEX($C:$C,))), \"\", 'PWS Records (System Entry)'!$D$3)","v":""},null,null,null,null,null,null,null,null,null,null,null,null,null,null,null,null,null,null,""]
[{"$f":"IF(AND(ISBLANK(INDEX($G:$G,)), ISBLANK(INDEX($C:$C,))), \"\", 'PWS Records (System Entry)'!$D$4)","v":""},{"$f":"IF(AND(ISBLANK(INDEX($G:$G,)), ISBLANK(INDEX($C:$C,))), \"\", 'PWS Records (System Entry)'!$D$3)","v":""},null,null,null,null,null,null,null,null,null,null,null,null,null,null,null,null,null,null,""]
[{"$f":"IF(AND(ISBLANK(INDEX($G:$G,)), ISBLANK(INDEX($C:$C,))), \"\", 'PWS Records (System Entry)'!$D$4)","v":""},{"$f":"IF(AND(ISBLANK(INDEX($G:$G,)), ISBLANK(INDEX($C:$C,))), \"\", 'PWS Records (System Entry)'!$D$3)","v":""},null,null,null,null,null,null,null,null,null,null,null,null,null,null,null,null,null,null,""]
[{"$f":"IF(AND(ISBLANK(INDEX($G:$G,)), ISBLANK(INDEX($C:$C,))), \"\", 'PWS Records (System Entry)'!$D$4)","v":""},{"$f":"IF(AND(ISBLANK(INDEX($G:$G,)), ISBLANK(INDEX($C:$C,))), \"\", 'PWS Records (System Entry)'!$D$3)","v":""},null,null,null,null,null,null,null,null,null,null,null,null,null,null,null,null,null,null,""]
[{"$f":"IF(AND(ISBLANK(INDEX($G:$G,)), ISBLANK(INDEX($C:$C,))), \"\", 'PWS Records (System Entry)'!$D$4)","v":""},{"$f":"IF(AND(ISBLANK(INDEX($G:$G,)), ISBLANK(INDEX($C:$C,))), \"\", 'PWS Records (System Entry)'!$D$3)","v":""},null,null,null,null,null,null,null,null,null,null,null,null,null,null,null,null,null,null,""]
[{"$f":"IF(AND(ISBLANK(INDEX($G:$G,)), ISBLANK(INDEX($C:$C,))), \"\", 'PWS Records (System Entry)'!$D$4)","v":""},{"$f":"IF(AND(ISBLANK(INDEX($G:$G,)), ISBLANK(INDEX($C:$C,))), \"\", 'PWS Records (System Entry)'!$D$3)","v":""},null,null,null,null,null,null,null,null,null,null,null,null,null,null,null,null,null,null,""]
[{"$f":"IF(AND(ISBLANK(INDEX($G:$G,)), ISBLANK(INDEX($C:$C,))), \"\", 'PWS Records (System Entry)'!$D$4)","v":""},{"$f":"IF(AND(ISBLANK(INDEX($G:$G,)), ISBLANK(INDEX($C:$C,))), \"\", 'PWS Records (System Entry)'!$D$3)","v":""},null,null,null,null,null,null,null,null,null,null,null,null,null,null,null,null,null,null,""]
[{"$f":"IF(AND(ISBLANK(INDEX($G:$G,)), ISBLANK(INDEX($C:$C,))), \"\", 'PWS Records (System Entry)'!$D$4)","v":""},{"$f":"IF(AND(ISBLANK(INDEX($G:$G,)), ISBLANK(INDEX($C:$C,))), \"\", 'PWS Records (System Entry)'!$D$3)","v":""},null,null,null,null,null,null,null,null,null,null,null,null,null,null,null,null,null,null,""]
[{"$f":"IF(AND(ISBLANK(INDEX($G:$G,)), ISBLANK(INDEX($C:$C,))), \"\", 'PWS Records (System Entry)'!$D$4)","v":""},{"$f":"IF(AND(ISBLANK(INDEX($G:$G,)), ISBLANK(INDEX($C:$C,))), \"\", 'PWS Records (System Entry)'!$D$3)","v":""},null,null,null,null,null,null,null,null,null,null,null,null,null,null,null,null,null,null,""]
[{"$f":"IF(AND(ISBLANK(INDEX($G:$G,)), ISBLANK(INDEX($C:$C,))), \"\", 'PWS Records (System Entry)'!$D$4)","v":""},{"$f":"IF(AND(ISBLANK(INDEX($G:$G,)), ISBLANK(INDEX($C:$C,))), \"\", 'PWS Records (System Entry)'!$D$3)","v":""},null,null,null,null,null,null,null,null,null,null,null,null,null,null,null,null,null,null,""]
[{"$f":"IF(AND(ISBLANK(INDEX($G:$G,)), ISBLANK(INDEX($C:$C,))), \"\", 'PWS Records (System Entry)'!$D$4)","v":""},{"$f":"IF(AND(ISBLANK(INDEX($G:$G,)), ISBLANK(INDEX($C:$C,))), \"\", 'PWS Records (System Entry)'!$D$3)","v":""},null,null,null,null,null,null,null,null,null,null,null,null,null,null,null,null,null,null,""]
[{"$f":"IF(AND(ISBLANK(INDEX($G:$G,)), ISBLANK(INDEX($C:$C,))), \"\", 'PWS Records (System Entry)'!$D$4)","v":""},{"$f":"IF(AND(ISBLANK(INDEX($G:$G,)), ISBLANK(INDEX($C:$C,))), \"\", 'PWS Records (System Entry)'!$D$3)","v":""},null,null,null,null,null,null,null,null,null,null,null,null,null,null,null,null,null,null,""]
[{"$f":"IF(AND(ISBLANK(INDEX($G:$G,)), ISBLANK(INDEX($C:$C,))), \"\", 'PWS Records (System Entry)'!$D$4)","v":""},{"$f":"IF(AND(ISBLANK(INDEX($G:$G,)), ISBLANK(INDEX($C:$C,))), \"\", 'PWS Records (System Entry)'!$D$3)","v":""},null,null,null,null,null,null,null,null,null,null,null,null,null,null,null,null,null,null,""]
[{"$f":"IF(AND(ISBLANK(INDEX($G:$G,)), ISBLANK(INDEX($C:$C,))), \"\", 'PWS Records (System Entry)'!$D$4)","v":""},{"$f":"IF(AND(ISBLANK(INDEX($G:$G,)), ISBLANK(INDEX($C:$C,))), \"\", 'PWS Records (System Entry)'!$D$3)","v":""},null,null,null,null,null,null,null,null,null,null,null,null,null,null,null,null,null,null,""]
[{"$f":"IF(AND(ISBLANK(INDEX($G:$G,)), ISBLANK(INDEX($C:$C,))), \"\", 'PWS Records (System Entry)'!$D$4)","v":""},{"$f":"IF(AND(ISBLANK(INDEX($G:$G,)), ISBLANK(INDEX($C:$C,))), \"\", 'PWS Records (System Entry)'!$D$3)","v":""},null,null,null,null,null,null,null,null,null,null,null,null,null,null,null,null,null,null,""]
[{"$f":"IF(AND(ISBLANK(INDEX($G:$G,)), ISBLANK(INDEX($C:$C,))), \"\", 'PWS Records (System Entry)'!$D$4)","v":""},{"$f":"IF(AND(ISBLANK(INDEX($G:$G,)), ISBLANK(INDEX($C:$C,))), \"\", 'PWS Records (System Entry)'!$D$3)","v":""},null,null,null,null,null,null,null,null,null,null,null,null,null,null,null,null,null,null,""]
[{"$f":"IF(AND(ISBLANK(INDEX($G:$G,)), ISBLANK(INDEX($C:$C,))), \"\", 'PWS Records (System Entry)'!$D$4)","v":""},{"$f":"IF(AND(ISBLANK(INDEX($G:$G,)), ISBLANK(INDEX($C:$C,))), \"\", 'PWS Records (System Entry)'!$D$3)","v":""},null,null,null,null,null,null,null,null,null,null,null,null,null,null,null,null,null,null,""]
[{"$f":"IF(AND(ISBLANK(INDEX($G:$G,)), ISBLANK(INDEX($C:$C,))), \"\", 'PWS Records (System Entry)'!$D$4)","v":""},{"$f":"IF(AND(ISBLANK(INDEX($G:$G,)), ISBLANK(INDEX($C:$C,))), \"\", 'PWS Records (System Entry)'!$D$3)","v":""},null,null,null,null,null,null,null,null,null,null,null,null,null,null,null,null,null,null,""]
[{"$f":"IF(AND(ISBLANK(INDEX($G:$G,)), ISBLANK(INDEX($C:$C,))), \"\", 'PWS Records (System Entry)'!$D$4)","v":""},{"$f":"IF(AND(ISBLANK(INDEX($G:$G,)), ISBLANK(INDEX($C:$C,))), \"\", 'PWS Records (System Entry)'!$D$3)","v":""},null,null,null,null,null,null,null,null,null,null,null,null,null,null,null,null,null,null,""]
[{"$f":"IF(AND(ISBLANK(INDEX($G:$G,)), ISBLANK(INDEX($C:$C,))), \"\", 'PWS Records (System Entry)'!$D$4)","v":""},{"$f":"IF(AND(ISBLANK(INDEX($G:$G,)), ISBLANK(INDEX($C:$C,))), \"\", 'PWS Records (System Entry)'!$D$3)","v":""},null,null,null,null,null,null,null,null,null,null,null,null,null,null,null,null,null,null,""]
[{"$f":"IF(AND(ISBLANK(INDEX($G:$G,)), ISBLANK(INDEX($C:$C,))), \"\", 'PWS Records (System Entry)'!$D$4)","v":""},{"$f":"IF(AND(ISBLANK(INDEX($G:$G,)), ISBLANK(INDEX($C:$C,))), \"\", 'PWS Records (System Entry)'!$D$3)","v":""},null,null,null,null,null,null,null,null,null,null,null,null,null,null,null,null,null,null,""]
[{"$f":"IF(AND(ISBLANK(INDEX($G:$G,)), ISBLANK(INDEX($C:$C,))), \"\", 'PWS Records (System Entry)'!$D$4)","v":""},{"$f":"IF(AND(ISBLANK(INDEX($G:$G,)), ISBLANK(INDEX($C:$C,))), \"\", 'PWS Records (System Entry)'!$D$3)","v":""},null,null,null,null,null,null,null,null,null,null,null,null,null,null,null,null,null,null,""]
[{"$f":"IF(AND(ISBLANK(INDEX($G:$G,)), ISBLANK(INDEX($C:$C,))), \"\", 'PWS Records (System Entry)'!$D$4)","v":""},{"$f":"IF(AND(ISBLANK(INDEX($G:$G,)), ISBLANK(INDEX($C:$C,))), \"\", 'PWS Records (System Entry)'!$D$3)","v":""},null,null,null,null,null,null,null,null,null,null,null,null,null,null,null,null,null,null,""]
[{"$f":"IF(AND(ISBLANK(INDEX($G:$G,)), ISBLANK(INDEX($C:$C,))), \"\", 'PWS Records (System Entry)'!$D$4)","v":""},{"$f":"IF(AND(ISBLANK(INDEX($G:$G,)), ISBLANK(INDEX($C:$C,))), \"\", 'PWS Records (System Entry)'!$D$3)","v":""},null,null,null,null,null,null,null,null,null,null,null,null,null,null,null,null,null,null,{"$f":"IF(AND(INDEX($K:$K,)=\"\", INDEX($L:$L,)=\"\", INDEX($M:$M,)=\"\", INDEX($Q:$Q,)=\"\", INDEX($R:$R,)=\"\"), \"\", IF(OR(INDEX($K:$K,)=\"Lead\",INDEX($Q:$Q,)=\"Lead\"),\"Lead\",IF(OR(AND(OR(INDEX($M:$M,)=\"Yes\", INDEX($M:$M,)=\"Don't Know\", INDEX($M:$M,)=\"\"), INDEX($Q:$Q,)=\"Galvanized Iron/Steel\"), AND(INDEX($K:$K,)=\"Unknown\", INDEX($M:$M,)=\"No\", INDEX($Q:$Q,)=\"Galvanized Iron/Steel\")), \"Galvanized Requiring Replacement\", IF(OR(AND(OR(INDEX($K:$K,)=\"Galvanized Iron/Steel\", INDEX($K:$K,)=\"Non-Lead - Copper\", INDEX($K:$K,)=\"Non-Lead - Plastic\", INDEX($K:$K,)=\"Non-Lead - Other\", INDEX($K:$K,)=\"Non-Lead - Material Unknown\", INDEX($K:$K,)=\"No System Owned Portion\"), OR(INDEX($Q:$Q,)=\"Galvanized Iron/Steel\", INDEX($Q:$Q,)=\"Non-Lead - Copper\", INDEX($Q:$Q,)=\"Non-Lead - Plastic\", INDEX($Q:$Q,)=\"Non-Lead - Other\", INDEX($Q:$Q,)=\"Non-Lead - Predictive Model\", INDEX($Q:$Q,)=\"No Customer Owned Portion\")), AND(OR( INDEX($K:$K,)=\"Galvanized Iron/Steel\", INDEX($K:$K,)=\"Non-Lead - Copper\", INDEX($K:$K,)=\"Non-Lead - Plastic\", INDEX($K:$K,)=\"Non-Lead - Other\", INDEX($K:$K,)=\"Non-Lead - Material Unknown\", INDEX($K:$K,)=\"No System Owned Portion\"), INDEX($M:$M,)=\"No\", INDEX($Q:$Q,)=\"Non-Lead - Material Unknown\")), \"Non-Lead\", \"Lead Status Unknown\"))))","v":""}]
[{"$f":"IF(AND(ISBLANK(INDEX($G:$G,)), ISBLANK(INDEX($C:$C,))), \"\", 'PWS Records (System Entry)'!$D$4)","v":""},{"$f":"IF(AND(ISBLANK(INDEX($G:$G,)), ISBLANK(INDEX($C:$C,))), \"\", 'PWS Records (System Entry)'!$D$3)","v":""},null,null,null,null,null,null,null,null,null,null,null,null,null,null,null,null,null,null,""]
[{"$f":"IF(AND(ISBLANK(INDEX($G:$G,)), ISBLANK(INDEX($C:$C,))), \"\", 'PWS Records (System Entry)'!$D$4)","v":""},{"$f":"IF(AND(ISBLANK(INDEX($G:$G,)), ISBLANK(INDEX($C:$C,))), \"\", 'PWS Records (System Entry)'!$D$3)","v":""},null,null,null,null,null,null,null,null,null,null,null,null,null,null,null,null,null,null,""]
[{"$f":"IF(AND(ISBLANK(INDEX($G:$G,)), ISBLANK(INDEX($C:$C,))), \"\", 'PWS Records (System Entry)'!$D$4)","v":""},{"$f":"IF(AND(ISBLANK(INDEX($G:$G,)), ISBLANK(INDEX($C:$C,))), \"\", 'PWS Records (System Entry)'!$D$3)","v":""},null,null,null,null,null,null,null,null,null,null,null,null,null,null,null,null,null,null,""]
[{"$f":"IF(AND(ISBLANK(INDEX($G:$G,)), ISBLANK(INDEX($C:$C,))), \"\", 'PWS Records (System Entry)'!$D$4)","v":""},{"$f":"IF(AND(ISBLANK(INDEX($G:$G,)), ISBLANK(INDEX($C:$C,))), \"\", 'PWS Records (System Entry)'!$D$3)","v":""},null,null,null,null,null,null,null,null,null,null,null,null,null,null,null,null,null,null,""]
[{"$f":"IF(AND(ISBLANK(INDEX($G:$G,)), ISBLANK(INDEX($C:$C,))), \"\", 'PWS Records (System Entry)'!$D$4)","v":""},{"$f":"IF(AND(ISBLANK(INDEX($G:$G,)), ISBLANK(INDEX($C:$C,))), \"\", 'PWS Records (System Entry)'!$D$3)","v":""},null,null,null,null,null,null,null,null,null,null,null,null,null,null,null,null,null,null,""]
[{"$f":"IF(AND(ISBLANK(INDEX($G:$G,)), ISBLANK(INDEX($C:$C,))), \"\", 'PWS Records (System Entry)'!$D$4)","v":""},{"$f":"IF(AND(ISBLANK(INDEX($G:$G,)), ISBLANK(INDEX($C:$C,))), \"\", 'PWS Records (System Entry)'!$D$3)","v":""},null,null,null,null,null,null,null,null,null,null,null,null,null,null,null,null,null,null,""]
[{"$f":"IF(AND(ISBLANK(INDEX($G:$G,)), ISBLANK(INDEX($C:$C,))), \"\", 'PWS Records (System Entry)'!$D$4)","v":""},{"$f":"IF(AND(ISBLANK(INDEX($G:$G,)), ISBLANK(INDEX($C:$C,))), \"\", 'PWS Records (System Entry)'!$D$3)","v":""},null,null,null,null,null,null,null,null,null,null,null,null,null,null,null,null,null,null,""]
[{"$f":"IF(AND(ISBLANK(INDEX($G:$G,)), ISBLANK(INDEX($C:$C,))), \"\", 'PWS Records (System Entry)'!$D$4)","v":""},{"$f":"IF(AND(ISBLANK(INDEX($G:$G,)), ISBLANK(INDEX($C:$C,))), \"\", 'PWS Records (System Entry)'!$D$3)","v":""},null,null,null,null,null,null,null,null,null,null,null,null,null,null,null,null,null,null,""]
[{"$f":"IF(AND(ISBLANK(INDEX($G:$G,)), ISBLANK(INDEX($C:$C,))), \"\", 'PWS Records (System Entry)'!$D$4)","v":""},{"$f":"IF(AND(ISBLANK(INDEX($G:$G,)), ISBLANK(INDEX($C:$C,))), \"\", 'PWS Records (System Entry)'!$D$3)","v":""},null,null,null,null,null,null,null,null,null,null,null,null,null,null,null,null,null,null,""]
[{"$f":"IF(AND(ISBLANK(INDEX($G:$G,)), ISBLANK(INDEX($C:$C,))), \"\", 'PWS Records (System Entry)'!$D$4)","v":""},{"$f":"IF(AND(ISBLANK(INDEX($G:$G,)), ISBLANK(INDEX($C:$C,))), \"\", 'PWS Records (System Entry)'!$D$3)","v":""},null,null,null,null,null,null,null,null,null,null,null,null,null,null,null,null,null,null,""]
[{"$f":"IF(AND(ISBLANK(INDEX($G:$G,)), ISBLANK(INDEX($C:$C,))), \"\", 'PWS Records (System Entry)'!$D$4)","v":""},{"$f":"IF(AND(ISBLANK(INDEX($G:$G,)), ISBLANK(INDEX($C:$C,))), \"\", 'PWS Records (System Entry)'!$D$3)","v":""},null,null,null,null,null,null,null,null,null,null,null,null,null,null,null,null,null,null,""]
[{"$f":"IF(AND(ISBLANK(INDEX($G:$G,)), ISBLANK(INDEX($C:$C,))), \"\", 'PWS Records (System Entry)'!$D$4)","v":""},{"$f":"IF(AND(ISBLANK(INDEX($G:$G,)), ISBLANK(INDEX($C:$C,))), \"\", 'PWS Records (System Entry)'!$D$3)","v":""},null,null,null,null,null,null,null,null,null,null,null,null,null,null,null,null,null,null,""]
[{"$f":"IF(AND(ISBLANK(INDEX($G:$G,)), ISBLANK(INDEX($C:$C,))), \"\", 'PWS Records (System Entry)'!$D$4)","v":""},{"$f":"IF(AND(ISBLANK(INDEX($G:$G,)), ISBLANK(INDEX($C:$C,))), \"\", 'PWS Records (System Entry)'!$D$3)","v":""},null,null,null,null,null,null,null,null,null,null,null,null,null,null,null,null,null,null,""]
[{"$f":"IF(AND(ISBLANK(INDEX($G:$G,)), ISBLANK(INDEX($C:$C,))), \"\", 'PWS Records (System Entry)'!$D$4)","v":""},{"$f":"IF(AND(ISBLANK(INDEX($G:$G,)), ISBLANK(INDEX($C:$C,))), \"\", 'PWS Records (System Entry)'!$D$3)","v":""},null,null,null,null,null,null,null,null,null,null,null,null,null,null,null,null,null,null,""]
[{"$f":"IF(AND(ISBLANK(INDEX($G:$G,)), ISBLANK(INDEX($C:$C,))), \"\", 'PWS Records (System Entry)'!$D$4)","v":""},{"$f":"IF(AND(ISBLANK(INDEX($G:$G,)), ISBLANK(INDEX($C:$C,))), \"\", 'PWS Records (System Entry)'!$D$3)","v":""},null,null,null,null,null,null,null,null,null,null,null,null,null,null,null,null,null,null,""]
[{"$f":"IF(AND(ISBLANK(INDEX($G:$G,)), ISBLANK(INDEX($C:$C,))), \"\", 'PWS Records (System Entry)'!$D$4)","v":""},{"$f":"IF(AND(ISBLANK(INDEX($G:$G,)), ISBLANK(INDEX($C:$C,))), \"\", 'PWS Records (System Entry)'!$D$3)","v":""},null,null,null,null,null,null,null,null,null,null,null,null,null,null,null,null,null,null,""]
[{"$f":"IF(AND(ISBLANK(INDEX($G:$G,)), ISBLANK(INDEX($C:$C,))), \"\", 'PWS Records (System Entry)'!$D$4)","v":""},{"$f":"IF(AND(ISBLANK(INDEX($G:$G,)), ISBLANK(INDEX($C:$C,))), \"\", 'PWS Records (System Entry)'!$D$3)","v":""},null,null,null,null,null,null,null,null,null,null,null,null,null,null,null,null,null,null,""]
[{"$f":"IF(AND(ISBLANK(INDEX($G:$G,)), ISBLANK(INDEX($C:$C,))), \"\", 'PWS Records (System Entry)'!$D$4)","v":""},{"$f":"IF(AND(ISBLANK(INDEX($G:$G,)), ISBLANK(INDEX($C:$C,))), \"\", 'PWS Records (System Entry)'!$D$3)","v":""},null,null,null,null,null,null,null,null,null,null,null,null,null,null,null,null,null,null,""]
[{"$f":"IF(AND(ISBLANK(INDEX($G:$G,)), ISBLANK(INDEX($C:$C,))), \"\", 'PWS Records (System Entry)'!$D$4)","v":""},{"$f":"IF(AND(ISBLANK(INDEX($G:$G,)), ISBLANK(INDEX($C:$C,))), \"\", 'PWS Records (System Entry)'!$D$3)","v":""},null,null,null,null,null,null,null,null,null,null,null,null,null,null,null,null,null,null,""]
[{"$f":"IF(AND(ISBLANK(INDEX($G:$G,)), ISBLANK(INDEX($C:$C,))), \"\", 'PWS Records (System Entry)'!$D$4)","v":""},{"$f":"IF(AND(ISBLANK(INDEX($G:$G,)), ISBLANK(INDEX($C:$C,))), \"\", 'PWS Records (System Entry)'!$D$3)","v":""},null,null,null,null,null,null,null,null,null,null,null,null,null,null,null,null,null,null,""]
[{"$f":"IF(AND(ISBLANK(INDEX($G:$G,)), ISBLANK(INDEX($C:$C,))), \"\", 'PWS Records (System Entry)'!$D$4)","v":""},{"$f":"IF(AND(ISBLANK(INDEX($G:$G,)), ISBLANK(INDEX($C:$C,))), \"\", 'PWS Records (System Entry)'!$D$3)","v":""},null,null,null,null,null,null,null,null,null,null,null,null,null,null,null,null,null,null,""]
[{"$f":"IF(AND(ISBLANK(INDEX($G:$G,)), ISBLANK(INDEX($C:$C,))), \"\", 'PWS Records (System Entry)'!$D$4)","v":""},{"$f":"IF(AND(ISBLANK(INDEX($G:$G,)), ISBLANK(INDEX($C:$C,))), \"\", 'PWS Records (System Entry)'!$D$3)","v":""},null,null,null,null,null,null,null,null,null,null,null,null,null,null,null,null,null,null,""]
[{"$f":"IF(AND(ISBLANK(INDEX($G:$G,)), ISBLANK(INDEX($C:$C,))), \"\", 'PWS Records (System Entry)'!$D$4)","v":""},{"$f":"IF(AND(ISBLANK(INDEX($G:$G,)), ISBLANK(INDEX($C:$C,))), \"\", 'PWS Records (System Entry)'!$D$3)","v":""},null,null,null,null,null,null,null,null,null,null,null,null,null,null,null,null,null,null,""]
[{"$f":"IF(AND(ISBLANK(INDEX($G:$G,)), ISBLANK(INDEX($C:$C,))), \"\", 'PWS Records (System Entry)'!$D$4)","v":""},{"$f":"IF(AND(ISBLANK(INDEX($G:$G,)), ISBLANK(INDEX($C:$C,))), \"\", 'PWS Records (System Entry)'!$D$3)","v":""},null,null,null,null,null,null,null,null,null,null,null,null,null,null,null,null,null,null,""]
[{"$f":"IF(AND(ISBLANK(INDEX($G:$G,)), ISBLANK(INDEX($C:$C,))), \"\", 'PWS Records (System Entry)'!$D$4)","v":""},{"$f":"IF(AND(ISBLANK(INDEX($G:$G,)), ISBLANK(INDEX($C:$C,))), \"\", 'PWS Records (System Entry)'!$D$3)","v":""},null,null,null,null,null,null,null,null,null,null,null,null,null,null,null,null,null,null,""]
[{"$f":"IF(AND(ISBLANK(INDEX($G:$G,)), ISBLANK(INDEX($C:$C,))), \"\", 'PWS Records (System Entry)'!$D$4)","v":""},{"$f":"IF(AND(ISBLANK(INDEX($G:$G,)), ISBLANK(INDEX($C:$C,))), \"\", 'PWS Records (System Entry)'!$D$3)","v":""},null,null,null,null,null,null,null,null,null,null,null,null,null,null,null,null,null,null,""]
[{"$f":"IF(AND(ISBLANK(INDEX($G:$G,)), ISBLANK(INDEX($C:$C,))), \"\", 'PWS Records (System Entry)'!$D$4)","v":""},{"$f":"IF(AND(ISBLANK(INDEX($G:$G,)), ISBLANK(INDEX($C:$C,))), \"\", 'PWS Records (System Entry)'!$D$3)","v":""},null,null,null,null,null,null,null,null,null,null,null,null,null,null,null,null,null,null,""]
[{"$f":"IF(AND(ISBLANK(INDEX($G:$G,)), ISBLANK(INDEX($C:$C,))), \"\", 'PWS Records (System Entry)'!$D$4)","v":""},{"$f":"IF(AND(ISBLANK(INDEX($G:$G,)), ISBLANK(INDEX($C:$C,))), \"\", 'PWS Records (System Entry)'!$D$3)","v":""},null,null,null,null,null,null,null,null,null,null,null,null,null,null,null,null,null,null,""]
[{"$f":"IF(AND(ISBLANK(INDEX($G:$G,)), ISBLANK(INDEX($C:$C,))), \"\", 'PWS Records (System Entry)'!$D$4)","v":""},{"$f":"IF(AND(ISBLANK(INDEX($G:$G,)), ISBLANK(INDEX($C:$C,))), \"\", 'PWS Records (System Entry)'!$D$3)","v":""},null,null,null,null,null,null,null,null,null,null,null,null,null,null,null,null,null,null,""]
[{"$f":"IF(AND(ISBLANK(INDEX($G:$G,)), ISBLANK(INDEX($C:$C,))), \"\", 'PWS Records (System Entry)'!$D$4)","v":""},{"$f":"IF(AND(ISBLANK(INDEX($G:$G,)), ISBLANK(INDEX($C:$C,))), \"\", 'PWS Records (System Entry)'!$D$3)","v":""},null,null,null,null,null,null,null,null,null,null,null,null,null,null,null,null,null,null,""]
[{"$f":"IF(AND(ISBLANK(INDEX($G:$G,)), ISBLANK(INDEX($C:$C,))), \"\", 'PWS Records (System Entry)'!$D$4)","v":""},{"$f":"IF(AND(ISBLANK(INDEX($G:$G,)), ISBLANK(INDEX($C:$C,))), \"\", 'PWS Records (System Entry)'!$D$3)","v":""},null,null,null,null,null,null,null,null,null,null,null,null,null,null,null,null,null,null,""]
[{"$f":"IF(AND(ISBLANK(INDEX($G:$G,)), ISBLANK(INDEX($C:$C,))), \"\", 'PWS Records (System Entry)'!$D$4)","v":""},{"$f":"IF(AND(ISBLANK(INDEX($G:$G,)), ISBLANK(INDEX($C:$C,))), \"\", 'PWS Records (System Entry)'!$D$3)","v":""},null,null,null,null,null,null,null,null,null,null,null,null,null,null,null,null,null,null,""]
[{"$f":"IF(AND(ISBLANK(INDEX($G:$G,)), ISBLANK(INDEX($C:$C,))), \"\", 'PWS Records (System Entry)'!$D$4)","v":""},{"$f":"IF(AND(ISBLANK(INDEX($G:$G,)), ISBLANK(INDEX($C:$C,))), \"\", 'PWS Records (System Entry)'!$D$3)","v":""},null,null,null,null,null,null,null,null,null,null,null,null,null,null,null,null,null,null,""]
[{"$f":"IF(AND(ISBLANK(INDEX($G:$G,)), ISBLANK(INDEX($C:$C,))), \"\", 'PWS Records (System Entry)'!$D$4)","v":""},{"$f":"IF(AND(ISBLANK(INDEX($G:$G,)), ISBLANK(INDEX($C:$C,))), \"\", 'PWS Records (System Entry)'!$D$3)","v":""},null,null,null,null,null,null,null,null,null,null,null,null,null,null,null,null,null,null,""]
[{"$f":"IF(AND(ISBLANK(INDEX($G:$G,)), ISBLANK(INDEX($C:$C,))), \"\", 'PWS Records (System Entry)'!$D$4)","v":""},{"$f":"IF(AND(ISBLANK(INDEX($G:$G,)), ISBLANK(INDEX($C:$C,))), \"\", 'PWS Records (System Entry)'!$D$3)","v":""},null,null,null,null,null,null,null,null,null,null,null,null,null,null,null,null,null,null,""]
[{"$f":"IF(AND(ISBLANK(INDEX($G:$G,)), ISBLANK(INDEX($C:$C,))), \"\", 'PWS Records (System Entry)'!$D$4)","v":""},{"$f":"IF(AND(ISBLANK(INDEX($G:$G,)), ISBLANK(INDEX($C:$C,))), \"\", 'PWS Records (System Entry)'!$D$3)","v":""},null,null,null,null,null,null,null,null,null,null,null,null,null,null,null,null,null,null,""]
[{"$f":"IF(AND(ISBLANK(INDEX($G:$G,)), ISBLANK(INDEX($C:$C,))), \"\", 'PWS Records (System Entry)'!$D$4)","v":""},{"$f":"IF(AND(ISBLANK(INDEX($G:$G,)), ISBLANK(INDEX($C:$C,))), \"\", 'PWS Records (System Entry)'!$D$3)","v":""},null,null,null,null,null,null,null,null,null,null,null,null,null,null,null,null,null,null,""]
[{"$f":"IF(AND(ISBLANK(INDEX($G:$G,)), ISBLANK(INDEX($C:$C,))), \"\", 'PWS Records (System Entry)'!$D$4)","v":""},{"$f":"IF(AND(ISBLANK(INDEX($G:$G,)), ISBLANK(INDEX($C:$C,))), \"\", 'PWS Records (System Entry)'!$D$3)","v":""},null,null,null,null,null,null,null,null,null,null,null,null,null,null,null,null,null,null,""]
[{"$f":"IF(AND(ISBLANK(INDEX($G:$G,)), ISBLANK(INDEX($C:$C,))), \"\", 'PWS Records (System Entry)'!$D$4)","v":""},{"$f":"IF(AND(ISBLANK(INDEX($G:$G,)), ISBLANK(INDEX($C:$C,))), \"\", 'PWS Records (System Entry)'!$D$3)","v":""},null,null,null,null,null,null,null,null,null,null,null,null,null,null,null,null,null,null,""]
[{"$f":"IF(AND(ISBLANK(INDEX($G:$G,)), ISBLANK(INDEX($C:$C,))), \"\", 'PWS Records (System Entry)'!$D$4)","v":""},{"$f":"IF(AND(ISBLANK(INDEX($G:$G,)), ISBLANK(INDEX($C:$C,))), \"\", 'PWS Records (System Entry)'!$D$3)","v":""},null,null,null,null,null,null,null,null,null,null,null,null,null,null,null,null,null,null,""]
[{"$f":"IF(AND(ISBLANK(INDEX($G:$G,)), ISBLANK(INDEX($C:$C,))), \"\", 'PWS Records (System Entry)'!$D$4)","v":""},{"$f":"IF(AND(ISBLANK(INDEX($G:$G,)), ISBLANK(INDEX($C:$C,))), \"\", 'PWS Records (System Entry)'!$D$3)","v":""},null,null,null,null,null,null,null,null,null,null,null,null,null,null,null,null,null,null,""]
[{"$f":"IF(AND(ISBLANK(INDEX($G:$G,)), ISBLANK(INDEX($C:$C,))), \"\", 'PWS Records (System Entry)'!$D$4)","v":""},{"$f":"IF(AND(ISBLANK(INDEX($G:$G,)), ISBLANK(INDEX($C:$C,))), \"\", 'PWS Records (System Entry)'!$D$3)","v":""},null,null,null,null,null,null,null,null,null,null,null,null,null,null,null,null,null,null,""]
[{"$f":"IF(AND(ISBLANK(INDEX($G:$G,)), ISBLANK(INDEX($C:$C,))), \"\", 'PWS Records (System Entry)'!$D$4)","v":""},{"$f":"IF(AND(ISBLANK(INDEX($G:$G,)), ISBLANK(INDEX($C:$C,))), \"\", 'PWS Records (System Entry)'!$D$3)","v":""},null,null,null,null,null,null,null,null,null,null,null,null,null,null,null,null,null,null,""]
[{"$f":"IF(AND(ISBLANK(INDEX($G:$G,)), ISBLANK(INDEX($C:$C,))), \"\", 'PWS Records (System Entry)'!$D$4)","v":""},{"$f":"IF(AND(ISBLANK(INDEX($G:$G,)), ISBLANK(INDEX($C:$C,))), \"\", 'PWS Records (System Entry)'!$D$3)","v":""},null,null,null,null,null,null,null,null,null,null,null,null,null,null,null,null,null,null,""]
[{"$f":"IF(AND(ISBLANK(INDEX($G:$G,)), ISBLANK(INDEX($C:$C,))), \"\", 'PWS Records (System Entry)'!$D$4)","v":""},{"$f":"IF(AND(ISBLANK(INDEX($G:$G,)), ISBLANK(INDEX($C:$C,))), \"\", 'PWS Records (System Entry)'!$D$3)","v":""},null,null,null,null,null,null,null,null,null,null,null,null,null,null,null,null,null,null,""]
[{"$f":"IF(AND(ISBLANK(INDEX($G:$G,)), ISBLANK(INDEX($C:$C,))), \"\", 'PWS Records (System Entry)'!$D$4)","v":""},{"$f":"IF(AND(ISBLANK(INDEX($G:$G,)), ISBLANK(INDEX($C:$C,))), \"\", 'PWS Records (System Entry)'!$D$3)","v":""},null,null,null,null,null,null,null,null,null,null,null,null,null,null,null,null,null,null,""]
[{"$f":"IF(AND(ISBLANK(INDEX($G:$G,)), ISBLANK(INDEX($C:$C,))), \"\", 'PWS Records (System Entry)'!$D$4)","v":""},{"$f":"IF(AND(ISBLANK(INDEX($G:$G,)), ISBLANK(INDEX($C:$C,))), \"\", 'PWS Records (System Entry)'!$D$3)","v":""},null,null,null,null,null,null,null,null,null,null,null,null,null,null,null,null,null,null,""]
[{"$f":"IF(AND(ISBLANK(INDEX($G:$G,)), ISBLANK(INDEX($C:$C,))), \"\", 'PWS Records (System Entry)'!$D$4)","v":""},{"$f":"IF(AND(ISBLANK(INDEX($G:$G,)), ISBLANK(INDEX($C:$C,))), \"\", 'PWS Records (System Entry)'!$D$3)","v":""},null,null,null,null,null,null,null,null,null,null,null,null,null,null,null,null,null,null,""]
[{"$f":"IF(AND(ISBLANK(INDEX($G:$G,)), ISBLANK(INDEX($C:$C,))), \"\", 'PWS Records (System Entry)'!$D$4)","v":""},{"$f":"IF(AND(ISBLANK(INDEX($G:$G,)), ISBLANK(INDEX($C:$C,))), \"\", 'PWS Records (System Entry)'!$D$3)","v":""},null,null,null,null,null,null,null,null,null,null,null,null,null,null,null,null,null,null,""]
[{"$f":"IF(AND(ISBLANK(INDEX($G:$G,)), ISBLANK(INDEX($C:$C,))), \"\", 'PWS Records (System Entry)'!$D$4)","v":""},{"$f":"IF(AND(ISBLANK(INDEX($G:$G,)), ISBLANK(INDEX($C:$C,))), \"\", 'PWS Records (System Entry)'!$D$3)","v":""},null,null,null,null,null,null,null,null,null,null,null,null,null,null,null,null,null,null,""]
[{"$f":"IF(AND(ISBLANK(INDEX($G:$G,)), ISBLANK(INDEX($C:$C,))), \"\", 'PWS Records (System Entry)'!$D$4)","v":""},{"$f":"IF(AND(ISBLANK(INDEX($G:$G,)), ISBLANK(INDEX($C:$C,))), \"\", 'PWS Records (System Entry)'!$D$3)","v":""},null,null,null,null,null,null,null,null,null,null,null,null,null,null,null,null,null,null,""]
[{"$f":"IF(AND(ISBLANK(INDEX($G:$G,)), ISBLANK(INDEX($C:$C,))), \"\", 'PWS Records (System Entry)'!$D$4)","v":""},{"$f":"IF(AND(ISBLANK(INDEX($G:$G,)), ISBLANK(INDEX($C:$C,))), \"\", 'PWS Records (System Entry)'!$D$3)","v":""},null,null,null,null,null,null,null,null,null,null,null,null,null,null,null,null,null,null,""]
[{"$f":"IF(AND(ISBLANK(INDEX($G:$G,)), ISBLANK(INDEX($C:$C,))), \"\", 'PWS Records (System Entry)'!$D$4)","v":""},{"$f":"IF(AND(ISBLANK(INDEX($G:$G,)), ISBLANK(INDEX($C:$C,))), \"\", 'PWS Records (System Entry)'!$D$3)","v":""},null,null,null,null,null,null,null,null,null,null,null,null,null,null,null,null,null,null,""]
[{"$f":"IF(AND(ISBLANK(INDEX($G:$G,)), ISBLANK(INDEX($C:$C,))), \"\", 'PWS Records (System Entry)'!$D$4)","v":""},{"$f":"IF(AND(ISBLANK(INDEX($G:$G,)), ISBLANK(INDEX($C:$C,))), \"\", 'PWS Records (System Entry)'!$D$3)","v":""},null,null,null,null,null,null,null,null,null,null,null,null,null,null,null,null,null,null,""]
[{"$f":"IF(AND(ISBLANK(INDEX($G:$G,)), ISBLANK(INDEX($C:$C,))), \"\", 'PWS Records (System Entry)'!$D$4)","v":""},{"$f":"IF(AND(ISBLANK(INDEX($G:$G,)), ISBLANK(INDEX($C:$C,))), \"\", 'PWS Records (System Entry)'!$D$3)","v":""},null,null,null,null,null,null,null,null,null,null,null,null,null,null,null,null,null,null,""]
[{"$f":"IF(AND(ISBLANK(INDEX($G:$G,)), ISBLANK(INDEX($C:$C,))), \"\", 'PWS Records (System Entry)'!$D$4)","v":""},{"$f":"IF(AND(ISBLANK(INDEX($G:$G,)), ISBLANK(INDEX($C:$C,))), \"\", 'PWS Records (System Entry)'!$D$3)","v":""},null,null,null,null,null,null,null,null,null,null,null,null,null,null,null,null,null,null,""]
[{"$f":"IF(AND(ISBLANK(INDEX($G:$G,)), ISBLANK(INDEX($C:$C,))), \"\", 'PWS Records (System Entry)'!$D$4)","v":""},{"$f":"IF(AND(ISBLANK(INDEX($G:$G,)), ISBLANK(INDEX($C:$C,))), \"\", 'PWS Records (System Entry)'!$D$3)","v":""},null,null,null,null,null,null,null,null,null,null,null,null,null,null,null,null,null,null,""]
[{"$f":"IF(AND(ISBLANK(INDEX($G:$G,)), ISBLANK(INDEX($C:$C,))), \"\", 'PWS Records (System Entry)'!$D$4)","v":""},{"$f":"IF(AND(ISBLANK(INDEX($G:$G,)), ISBLANK(INDEX($C:$C,))), \"\", 'PWS Records (System Entry)'!$D$3)","v":""},null,null,null,null,null,null,null,null,null,null,null,null,null,null,null,null,null,null,""]
[{"$f":"IF(AND(ISBLANK(INDEX($G:$G,)), ISBLANK(INDEX($C:$C,))), \"\", 'PWS Records (System Entry)'!$D$4)","v":""},{"$f":"IF(AND(ISBLANK(INDEX($G:$G,)), ISBLANK(INDEX($C:$C,))), \"\", 'PWS Records (System Entry)'!$D$3)","v":""},null,null,null,null,null,null,null,null,null,null,null,null,null,null,null,null,null,null,""]
[{"$f":"IF(AND(ISBLANK(INDEX($G:$G,)), ISBLANK(INDEX($C:$C,))), \"\", 'PWS Records (System Entry)'!$D$4)","v":""},{"$f":"IF(AND(ISBLANK(INDEX($G:$G,)), ISBLANK(INDEX($C:$C,))), \"\", 'PWS Records (System Entry)'!$D$3)","v":""},null,null,null,null,null,null,null,null,null,null,null,null,null,null,null,null,null,null,""]
[{"$f":"IF(AND(ISBLANK(INDEX($G:$G,)), ISBLANK(INDEX($C:$C,))), \"\", 'PWS Records (System Entry)'!$D$4)","v":""},{"$f":"IF(AND(ISBLANK(INDEX($G:$G,)), ISBLANK(INDEX($C:$C,))), \"\", 'PWS Records (System Entry)'!$D$3)","v":""},null,null,null,null,null,null,null,null,null,null,null,null,null,null,null,null,null,null,""]
[{"$f":"IF(AND(ISBLANK(INDEX($G:$G,)), ISBLANK(INDEX($C:$C,))), \"\", 'PWS Records (System Entry)'!$D$4)","v":""},{"$f":"IF(AND(ISBLANK(INDEX($G:$G,)), ISBLANK(INDEX($C:$C,))), \"\", 'PWS Records (System Entry)'!$D$3)","v":""},null,null,null,null,null,null,null,null,null,null,null,null,null,null,null,null,null,null,""]
[{"$f":"IF(AND(ISBLANK(INDEX($G:$G,)), ISBLANK(INDEX($C:$C,))), \"\", 'PWS Records (System Entry)'!$D$4)","v":""},{"$f":"IF(AND(ISBLANK(INDEX($G:$G,)), ISBLANK(INDEX($C:$C,))), \"\", 'PWS Records (System Entry)'!$D$3)","v":""},null,null,null,null,null,null,null,null,null,null,null,null,null,null,null,null,null,null,""]
[{"$f":"IF(AND(ISBLANK(INDEX($G:$G,)), ISBLANK(INDEX($C:$C,))), \"\", 'PWS Records (System Entry)'!$D$4)","v":""},{"$f":"IF(AND(ISBLANK(INDEX($G:$G,)), ISBLANK(INDEX($C:$C,))), \"\", 'PWS Records (System Entry)'!$D$3)","v":""},null,null,null,null,null,null,null,null,null,null,null,null,null,null,null,null,null,null,{"$f":"IF(AND(INDEX($K:$K,)=\"\", INDEX($L:$L,)=\"\", INDEX($M:$M,)=\"\", INDEX($Q:$Q,)=\"\", INDEX($R:$R,)=\"\"), \"\", IF(OR(INDEX($K:$K,)=\"Lead\",INDEX($Q:$Q,)=\"Lead\"),\"Lead\",IF(OR(AND(OR(INDEX($M:$M,)=\"Yes\", INDEX($M:$M,)=\"Don't Know\", INDEX($M:$M,)=\"\"), INDEX($Q:$Q,)=\"Galvanized Iron/Steel\"), AND(INDEX($K:$K,)=\"Unknown\", INDEX($M:$M,)=\"No\", INDEX($Q:$Q,)=\"Galvanized Iron/Steel\")), \"Galvanized Requiring Replacement\", IF(OR(AND(OR(INDEX($K:$K,)=\"Galvanized Iron/Steel\", INDEX($K:$K,)=\"Non-Lead - Copper\", INDEX($K:$K,)=\"Non-Lead - Plastic\", INDEX($K:$K,)=\"Non-Lead - Other\", INDEX($K:$K,)=\"Non-Lead - Material Unknown\", INDEX($K:$K,)=\"No System Owned Portion\"), OR(INDEX($Q:$Q,)=\"Galvanized Iron/Steel\", INDEX($Q:$Q,)=\"Non-Lead - Copper\", INDEX($Q:$Q,)=\"Non-Lead - Plastic\", INDEX($Q:$Q,)=\"Non-Lead - Other\", INDEX($Q:$Q,)=\"Non-Lead - Predictive Model\", INDEX($Q:$Q,)=\"No Customer Owned Portion\")), AND(OR( INDEX($K:$K,)=\"Galvanized Iron/Steel\", INDEX($K:$K,)=\"Non-Lead - Copper\", INDEX($K:$K,)=\"Non-Lead - Plastic\", INDEX($K:$K,)=\"Non-Lead - Other\", INDEX($K:$K,)=\"Non-Lead - Material Unknown\", INDEX($K:$K,)=\"No System Owned Portion\"), INDEX($M:$M,)=\"No\", INDEX($Q:$Q,)=\"Non-Lead - Material Unknown\")), \"Non-Lead\", \"Lead Status Unknown\"))))","v":""}]
[{"$f":"IF(AND(ISBLANK(INDEX($G:$G,)), ISBLANK(INDEX($C:$C,))), \"\", 'PWS Records (System Entry)'!$D$4)","v":""},{"$f":"IF(AND(ISBLANK(INDEX($G:$G,)), ISBLANK(INDEX($C:$C,))), \"\", 'PWS Records (System Entry)'!$D$3)","v":""},null,null,null,null,null,null,null,null,null,null,null,null,null,null,null,null,null,null,""]
[{"$f":"IF(AND(ISBLANK(INDEX($G:$G,)), ISBLANK(INDEX($C:$C,))), \"\", 'PWS Records (System Entry)'!$D$4)","v":""},{"$f":"IF(AND(ISBLANK(INDEX($G:$G,)), ISBLANK(INDEX($C:$C,))), \"\", 'PWS Records (System Entry)'!$D$3)","v":""},null,null,null,null,null,null,null,null,null,null,null,null,null,null,null,null,null,null,""]
[{"$f":"IF(AND(ISBLANK(INDEX($G:$G,)), ISBLANK(INDEX($C:$C,))), \"\", 'PWS Records (System Entry)'!$D$4)","v":""},{"$f":"IF(AND(ISBLANK(INDEX($G:$G,)), ISBLANK(INDEX($C:$C,))), \"\", 'PWS Records (System Entry)'!$D$3)","v":""},null,null,null,null,null,null,null,null,null,null,null,null,null,null,null,null,null,null,""]
[{"$f":"IF(AND(ISBLANK(INDEX($G:$G,)), ISBLANK(INDEX($C:$C,))), \"\", 'PWS Records (System Entry)'!$D$4)","v":""},{"$f":"IF(AND(ISBLANK(INDEX($G:$G,)), ISBLANK(INDEX($C:$C,))), \"\", 'PWS Records (System Entry)'!$D$3)","v":""},null,null,null,null,null,null,null,null,null,null,null,null,null,null,null,null,null,null,""]
[{"$f":"IF(AND(ISBLANK(INDEX($G:$G,)), ISBLANK(INDEX($C:$C,))), \"\", 'PWS Records (System Entry)'!$D$4)","v":""},{"$f":"IF(AND(ISBLANK(INDEX($G:$G,)), ISBLANK(INDEX($C:$C,))), \"\", 'PWS Records (System Entry)'!$D$3)","v":""},null,null,null,null,null,null,null,null,null,null,null,null,null,null,null,null,null,null,""]
[{"$f":"IF(AND(ISBLANK(INDEX($G:$G,)), ISBLANK(INDEX($C:$C,))), \"\", 'PWS Records (System Entry)'!$D$4)","v":""},{"$f":"IF(AND(ISBLANK(INDEX($G:$G,)), ISBLANK(INDEX($C:$C,))), \"\", 'PWS Records (System Entry)'!$D$3)","v":""},null,null,null,null,null,null,null,null,null,null,null,null,null,null,null,null,null,null,""]
[{"$f":"IF(AND(ISBLANK(INDEX($G:$G,)), ISBLANK(INDEX($C:$C,))), \"\", 'PWS Records (System Entry)'!$D$4)","v":""},{"$f":"IF(AND(ISBLANK(INDEX($G:$G,)), ISBLANK(INDEX($C:$C,))), \"\", 'PWS Records (System Entry)'!$D$3)","v":""},null,null,null,null,null,null,null,null,null,null,null,null,null,null,null,null,null,null,""]
[{"$f":"IF(AND(ISBLANK(INDEX($G:$G,)), ISBLANK(INDEX($C:$C,))), \"\", 'PWS Records (System Entry)'!$D$4)","v":""},{"$f":"IF(AND(ISBLANK(INDEX($G:$G,)), ISBLANK(INDEX($C:$C,))), \"\", 'PWS Records (System Entry)'!$D$3)","v":""},null,null,null,null,null,null,null,null,null,null,null,null,null,null,null,null,null,null,""]
[{"$f":"IF(AND(ISBLANK(INDEX($G:$G,)), ISBLANK(INDEX($C:$C,))), \"\", 'PWS Records (System Entry)'!$D$4)","v":""},{"$f":"IF(AND(ISBLANK(INDEX($G:$G,)), ISBLANK(INDEX($C:$C,))), \"\", 'PWS Records (System Entry)'!$D$3)","v":""},null,null,null,null,null,null,null,null,null,null,null,null,null,null,null,null,null,null,""]
[{"$f":"IF(AND(ISBLANK(INDEX($G:$G,)), ISBLANK(INDEX($C:$C,))), \"\", 'PWS Records (System Entry)'!$D$4)","v":""},{"$f":"IF(AND(ISBLANK(INDEX($G:$G,)), ISBLANK(INDEX($C:$C,))), \"\", 'PWS Records (System Entry)'!$D$3)","v":""},null,null,null,null,null,null,null,null,null,null,null,null,null,null,null,null,null,null,""]
[{"$f":"IF(AND(ISBLANK(INDEX($G:$G,)), ISBLANK(INDEX($C:$C,))), \"\", 'PWS Records (System Entry)'!$D$4)","v":""},{"$f":"IF(AND(ISBLANK(INDEX($G:$G,)), ISBLANK(INDEX($C:$C,))), \"\", 'PWS Records (System Entry)'!$D$3)","v":""},null,null,null,null,null,null,null,null,null,null,null,null,null,null,null,null,null,null,""]
[{"$f":"IF(AND(ISBLANK(INDEX($G:$G,)), ISBLANK(INDEX($C:$C,))), \"\", 'PWS Records (System Entry)'!$D$4)","v":""},{"$f":"IF(AND(ISBLANK(INDEX($G:$G,)), ISBLANK(INDEX($C:$C,))), \"\", 'PWS Records (System Entry)'!$D$3)","v":""},null,null,null,null,null,null,null,null,null,null,null,null,null,null,null,null,null,null,""]
[{"$f":"IF(AND(ISBLANK(INDEX($G:$G,)), ISBLANK(INDEX($C:$C,))), \"\", 'PWS Records (System Entry)'!$D$4)","v":""},{"$f":"IF(AND(ISBLANK(INDEX($G:$G,)), ISBLANK(INDEX($C:$C,))), \"\", 'PWS Records (System Entry)'!$D$3)","v":""},null,null,null,null,null,null,null,null,null,null,null,null,null,null,null,null,null,null,""]
[{"$f":"IF(AND(ISBLANK(INDEX($G:$G,)), ISBLANK(INDEX($C:$C,))), \"\", 'PWS Records (System Entry)'!$D$4)","v":""},{"$f":"IF(AND(ISBLANK(INDEX($G:$G,)), ISBLANK(INDEX($C:$C,))), \"\", 'PWS Records (System Entry)'!$D$3)","v":""},null,null,null,null,null,null,null,null,null,null,null,null,null,null,null,null,null,null,""]
[{"$f":"IF(AND(ISBLANK(INDEX($G:$G,)), ISBLANK(INDEX($C:$C,))), \"\", 'PWS Records (System Entry)'!$D$4)","v":""},{"$f":"IF(AND(ISBLANK(INDEX($G:$G,)), ISBLANK(INDEX($C:$C,))), \"\", 'PWS Records (System Entry)'!$D$3)","v":""},null,null,null,null,null,null,null,null,null,null,null,null,null,null,null,null,null,null,""]
[{"$f":"IF(AND(ISBLANK(INDEX($G:$G,)), ISBLANK(INDEX($C:$C,))), \"\", 'PWS Records (System Entry)'!$D$4)","v":""},{"$f":"IF(AND(ISBLANK(INDEX($G:$G,)), ISBLANK(INDEX($C:$C,))), \"\", 'PWS Records (System Entry)'!$D$3)","v":""},null,null,null,null,null,null,null,null,null,null,null,null,null,null,null,null,null,null,""]
[{"$f":"IF(AND(ISBLANK(INDEX($G:$G,)), ISBLANK(INDEX($C:$C,))), \"\", 'PWS Records (System Entry)'!$D$4)","v":""},{"$f":"IF(AND(ISBLANK(INDEX($G:$G,)), ISBLANK(INDEX($C:$C,))), \"\", 'PWS Records (System Entry)'!$D$3)","v":""},null,null,null,null,null,null,null,null,null,null,null,null,null,null,null,null,null,null,""]
[{"$f":"IF(AND(ISBLANK(INDEX($G:$G,)), ISBLANK(INDEX($C:$C,))), \"\", 'PWS Records (System Entry)'!$D$4)","v":""},{"$f":"IF(AND(ISBLANK(INDEX($G:$G,)), ISBLANK(INDEX($C:$C,))), \"\", 'PWS Records (System Entry)'!$D$3)","v":""},null,null,null,null,null,null,null,null,null,null,null,null,null,null,null,null,null,null,""]
[{"$f":"IF(AND(ISBLANK(INDEX($G:$G,)), ISBLANK(INDEX($C:$C,))), \"\", 'PWS Records (System Entry)'!$D$4)","v":""},{"$f":"IF(AND(ISBLANK(INDEX($G:$G,)), ISBLANK(INDEX($C:$C,))), \"\", 'PWS Records (System Entry)'!$D$3)","v":""},null,null,null,null,null,null,null,null,null,null,null,null,null,null,null,null,null,null,""]
[{"$f":"IF(AND(ISBLANK(INDEX($G:$G,)), ISBLANK(INDEX($C:$C,))), \"\", 'PWS Records (System Entry)'!$D$4)","v":""},{"$f":"IF(AND(ISBLANK(INDEX($G:$G,)), ISBLANK(INDEX($C:$C,))), \"\", 'PWS Records (System Entry)'!$D$3)","v":""},null,null,null,null,null,null,null,null,null,null,null,null,null,null,null,null,null,null,""]
[{"$f":"IF(AND(ISBLANK(INDEX($G:$G,)), ISBLANK(INDEX($C:$C,))), \"\", 'PWS Records (System Entry)'!$D$4)","v":""},{"$f":"IF(AND(ISBLANK(INDEX($G:$G,)), ISBLANK(INDEX($C:$C,))), \"\", 'PWS Records (System Entry)'!$D$3)","v":""},null,null,null,null,null,null,null,null,null,null,null,null,null,null,null,null,null,null,""]
[{"$f":"IF(AND(ISBLANK(INDEX($G:$G,)), ISBLANK(INDEX($C:$C,))), \"\", 'PWS Records (System Entry)'!$D$4)","v":""},{"$f":"IF(AND(ISBLANK(INDEX($G:$G,)), ISBLANK(INDEX($C:$C,))), \"\", 'PWS Records (System Entry)'!$D$3)","v":""},null,null,null,null,null,null,null,null,null,null,null,null,null,null,null,null,null,null,""]
[{"$f":"IF(AND(ISBLANK(INDEX($G:$G,)), ISBLANK(INDEX($C:$C,))), \"\", 'PWS Records (System Entry)'!$D$4)","v":""},{"$f":"IF(AND(ISBLANK(INDEX($G:$G,)), ISBLANK(INDEX($C:$C,))), \"\", 'PWS Records (System Entry)'!$D$3)","v":""},null,null,null,null,null,null,null,null,null,null,null,null,null,null,null,null,null,null,""]
[{"$f":"IF(AND(ISBLANK(INDEX($G:$G,)), ISBLANK(INDEX($C:$C,))), \"\", 'PWS Records (System Entry)'!$D$4)","v":""},{"$f":"IF(AND(ISBLANK(INDEX($G:$G,)), ISBLANK(INDEX($C:$C,))), \"\", 'PWS Records (System Entry)'!$D$3)","v":""},null,null,null,null,null,null,null,null,null,null,null,null,null,null,null,null,null,null,""]
[{"$f":"IF(AND(ISBLANK(INDEX($G:$G,)), ISBLANK(INDEX($C:$C,))), \"\", 'PWS Records (System Entry)'!$D$4)","v":""},{"$f":"IF(AND(ISBLANK(INDEX($G:$G,)), ISBLANK(INDEX($C:$C,))), \"\", 'PWS Records (System Entry)'!$D$3)","v":""},null,null,null,null,null,null,null,null,null,null,null,null,null,null,null,null,null,null,""]
[{"$f":"IF(AND(ISBLANK(INDEX($G:$G,)), ISBLANK(INDEX($C:$C,))), \"\", 'PWS Records (System Entry)'!$D$4)","v":""},{"$f":"IF(AND(ISBLANK(INDEX($G:$G,)), ISBLANK(INDEX($C:$C,))), \"\", 'PWS Records (System Entry)'!$D$3)","v":""},null,null,null,null,null,null,null,null,null,null,null,null,null,null,null,null,null,null,""]
[{"$f":"IF(AND(ISBLANK(INDEX($G:$G,)), ISBLANK(INDEX($C:$C,))), \"\", 'PWS Records (System Entry)'!$D$4)","v":""},{"$f":"IF(AND(ISBLANK(INDEX($G:$G,)), ISBLANK(INDEX($C:$C,))), \"\", 'PWS Records (System Entry)'!$D$3)","v":""},null,null,null,null,null,null,null,null,null,null,null,null,null,null,null,null,null,null,""]
[{"$f":"IF(AND(ISBLANK(INDEX($G:$G,)), ISBLANK(INDEX($C:$C,))), \"\", 'PWS Records (System Entry)'!$D$4)","v":""},{"$f":"IF(AND(ISBLANK(INDEX($G:$G,)), ISBLANK(INDEX($C:$C,))), \"\", 'PWS Records (System Entry)'!$D$3)","v":""},null,null,null,null,null,null,null,null,null,null,null,null,null,null,null,null,null,null,""]
[{"$f":"IF(AND(ISBLANK(INDEX($G:$G,)), ISBLANK(INDEX($C:$C,))), \"\", 'PWS Records (System Entry)'!$D$4)","v":""},{"$f":"IF(AND(ISBLANK(INDEX($G:$G,)), ISBLANK(INDEX($C:$C,))), \"\", 'PWS Records (System Entry)'!$D$3)","v":""},null,null,null,null,null,null,null,null,null,null,null,null,null,null,null,null,null,null,""]
[{"$f":"IF(AND(ISBLANK(INDEX($G:$G,)), ISBLANK(INDEX($C:$C,))), \"\", 'PWS Records (System Entry)'!$D$4)","v":""},{"$f":"IF(AND(ISBLANK(INDEX($G:$G,)), ISBLANK(INDEX($C:$C,))), \"\", 'PWS Records (System Entry)'!$D$3)","v":""},null,null,null,null,null,null,null,null,null,null,null,null,null,null,null,null,null,null,""]
[{"$f":"IF(AND(ISBLANK(INDEX($G:$G,)), ISBLANK(INDEX($C:$C,))), \"\", 'PWS Records (System Entry)'!$D$4)","v":""},{"$f":"IF(AND(ISBLANK(INDEX($G:$G,)), ISBLANK(INDEX($C:$C,))), \"\", 'PWS Records (System Entry)'!$D$3)","v":""},null,null,null,null,null,null,null,null,null,null,null,null,null,null,null,null,null,null,""]
[{"$f":"IF(AND(ISBLANK(INDEX($G:$G,)), ISBLANK(INDEX($C:$C,))), \"\", 'PWS Records (System Entry)'!$D$4)","v":""},{"$f":"IF(AND(ISBLANK(INDEX($G:$G,)), ISBLANK(INDEX($C:$C,))), \"\", 'PWS Records (System Entry)'!$D$3)","v":""},null,null,null,null,null,null,null,null,null,null,null,null,null,null,null,null,null,null,""]
[{"$f":"IF(AND(ISBLANK(INDEX($G:$G,)), ISBLANK(INDEX($C:$C,))), \"\", 'PWS Records (System Entry)'!$D$4)","v":""},{"$f":"IF(AND(ISBLANK(INDEX($G:$G,)), ISBLANK(INDEX($C:$C,))), \"\", 'PWS Records (System Entry)'!$D$3)","v":""},null,null,null,null,null,null,null,null,null,null,null,null,null,null,null,null,null,null,""]
[{"$f":"IF(AND(ISBLANK(INDEX($G:$G,)), ISBLANK(INDEX($C:$C,))), \"\", 'PWS Records (System Entry)'!$D$4)","v":""},{"$f":"IF(AND(ISBLANK(INDEX($G:$G,)), ISBLANK(INDEX($C:$C,))), \"\", 'PWS Records (System Entry)'!$D$3)","v":""},null,null,null,null,null,null,null,null,null,null,null,null,null,null,null,null,null,null,""]
[{"$f":"IF(AND(ISBLANK(INDEX($G:$G,)), ISBLANK(INDEX($C:$C,))), \"\", 'PWS Records (System Entry)'!$D$4)","v":""},{"$f":"IF(AND(ISBLANK(INDEX($G:$G,)), ISBLANK(INDEX($C:$C,))), \"\", 'PWS Records (System Entry)'!$D$3)","v":""},null,null,null,null,null,null,null,null,null,null,null,null,null,null,null,null,null,null,""]
[{"$f":"IF(AND(ISBLANK(INDEX($G:$G,)), ISBLANK(INDEX($C:$C,))), \"\", 'PWS Records (System Entry)'!$D$4)","v":""},{"$f":"IF(AND(ISBLANK(INDEX($G:$G,)), ISBLANK(INDEX($C:$C,))), \"\", 'PWS Records (System Entry)'!$D$3)","v":""},null,null,null,null,null,null,null,null,null,null,null,null,null,null,null,null,null,null,""]
[{"$f":"IF(AND(ISBLANK(INDEX($G:$G,)), ISBLANK(INDEX($C:$C,))), \"\", 'PWS Records (System Entry)'!$D$4)","v":""},{"$f":"IF(AND(ISBLANK(INDEX($G:$G,)), ISBLANK(INDEX($C:$C,))), \"\", 'PWS Records (System Entry)'!$D$3)","v":""},null,null,null,null,null,null,null,null,null,null,null,null,null,null,null,null,null,null,""]
[{"$f":"IF(AND(ISBLANK(INDEX($G:$G,)), ISBLANK(INDEX($C:$C,))), \"\", 'PWS Records (System Entry)'!$D$4)","v":""},{"$f":"IF(AND(ISBLANK(INDEX($G:$G,)), ISBLANK(INDEX($C:$C,))), \"\", 'PWS Records (System Entry)'!$D$3)","v":""},null,null,null,null,null,null,null,null,null,null,null,null,null,null,null,null,null,null,""]
[{"$f":"IF(AND(ISBLANK(INDEX($G:$G,)), ISBLANK(INDEX($C:$C,))), \"\", 'PWS Records (System Entry)'!$D$4)","v":""},{"$f":"IF(AND(ISBLANK(INDEX($G:$G,)), ISBLANK(INDEX($C:$C,))), \"\", 'PWS Records (System Entry)'!$D$3)","v":""},null,null,null,null,null,null,null,null,null,null,null,null,null,null,null,null,null,null,""]
[{"$f":"IF(AND(ISBLANK(INDEX($G:$G,)), ISBLANK(INDEX($C:$C,))), \"\", 'PWS Records (System Entry)'!$D$4)","v":""},{"$f":"IF(AND(ISBLANK(INDEX($G:$G,)), ISBLANK(INDEX($C:$C,))), \"\", 'PWS Records (System Entry)'!$D$3)","v":""},null,null,null,null,null,null,null,null,null,null,null,null,null,null,null,null,null,null,""]
[{"$f":"IF(AND(ISBLANK(INDEX($G:$G,)), ISBLANK(INDEX($C:$C,))), \"\", 'PWS Records (System Entry)'!$D$4)","v":""},{"$f":"IF(AND(ISBLANK(INDEX($G:$G,)), ISBLANK(INDEX($C:$C,))), \"\", 'PWS Records (System Entry)'!$D$3)","v":""},null,null,null,null,null,null,null,null,null,null,null,null,null,null,null,null,null,null,""]
[{"$f":"IF(AND(ISBLANK(INDEX($G:$G,)), ISBLANK(INDEX($C:$C,))), \"\", 'PWS Records (System Entry)'!$D$4)","v":""},{"$f":"IF(AND(ISBLANK(INDEX($G:$G,)), ISBLANK(INDEX($C:$C,))), \"\", 'PWS Records (System Entry)'!$D$3)","v":""},null,null,null,null,null,null,null,null,null,null,null,null,null,null,null,null,null,null,""]
[{"$f":"IF(AND(ISBLANK(INDEX($G:$G,)), ISBLANK(INDEX($C:$C,))), \"\", 'PWS Records (System Entry)'!$D$4)","v":""},{"$f":"IF(AND(ISBLANK(INDEX($G:$G,)), ISBLANK(INDEX($C:$C,))), \"\", 'PWS Records (System Entry)'!$D$3)","v":""},null,null,null,null,null,null,null,null,null,null,null,null,null,null,null,null,null,null,""]
[{"$f":"IF(AND(ISBLANK(INDEX($G:$G,)), ISBLANK(INDEX($C:$C,))), \"\", 'PWS Records (System Entry)'!$D$4)","v":""},{"$f":"IF(AND(ISBLANK(INDEX($G:$G,)), ISBLANK(INDEX($C:$C,))), \"\", 'PWS Records (System Entry)'!$D$3)","v":""},null,null,null,null,null,null,null,null,null,null,null,null,null,null,null,null,null,null,""]
[{"$f":"IF(AND(ISBLANK(INDEX($G:$G,)), ISBLANK(INDEX($C:$C,))), \"\", 'PWS Records (System Entry)'!$D$4)","v":""},{"$f":"IF(AND(ISBLANK(INDEX($G:$G,)), ISBLANK(INDEX($C:$C,))), \"\", 'PWS Records (System Entry)'!$D$3)","v":""},null,null,null,null,null,null,null,null,null,null,null,null,null,null,null,null,null,null,""]
[{"$f":"IF(AND(ISBLANK(INDEX($G:$G,)), ISBLANK(INDEX($C:$C,))), \"\", 'PWS Records (System Entry)'!$D$4)","v":""},{"$f":"IF(AND(ISBLANK(INDEX($G:$G,)), ISBLANK(INDEX($C:$C,))), \"\", 'PWS Records (System Entry)'!$D$3)","v":""},null,null,null,null,null,null,null,null,null,null,null,null,null,null,null,null,null,null,""]
[{"$f":"IF(AND(ISBLANK(INDEX($G:$G,)), ISBLANK(INDEX($C:$C,))), \"\", 'PWS Records (System Entry)'!$D$4)","v":""},{"$f":"IF(AND(ISBLANK(INDEX($G:$G,)), ISBLANK(INDEX($C:$C,))), \"\", 'PWS Records (System Entry)'!$D$3)","v":""},null,null,null,null,null,null,null,null,null,null,null,null,null,null,null,null,null,null,""]
[{"$f":"IF(AND(ISBLANK(INDEX($G:$G,)), ISBLANK(INDEX($C:$C,))), \"\", 'PWS Records (System Entry)'!$D$4)","v":""},{"$f":"IF(AND(ISBLANK(INDEX($G:$G,)), ISBLANK(INDEX($C:$C,))), \"\", 'PWS Records (System Entry)'!$D$3)","v":""},null,null,null,null,null,null,null,null,null,null,null,null,null,null,null,null,null,null,""]
[{"$f":"IF(AND(ISBLANK(INDEX($G:$G,)), ISBLANK(INDEX($C:$C,))), \"\", 'PWS Records (System Entry)'!$D$4)","v":""},{"$f":"IF(AND(ISBLANK(INDEX($G:$G,)), ISBLANK(INDEX($C:$C,))), \"\", 'PWS Records (System Entry)'!$D$3)","v":""},null,null,null,null,null,null,null,null,null,null,null,null,null,null,null,null,null,null,""]
[{"$f":"IF(AND(ISBLANK(INDEX($G:$G,)), ISBLANK(INDEX($C:$C,))), \"\", 'PWS Records (System Entry)'!$D$4)","v":""},{"$f":"IF(AND(ISBLANK(INDEX($G:$G,)), ISBLANK(INDEX($C:$C,))), \"\", 'PWS Records (System Entry)'!$D$3)","v":""},null,null,null,null,null,null,null,null,null,null,null,null,null,null,null,null,null,null,""]
[{"$f":"IF(AND(ISBLANK(INDEX($G:$G,)), ISBLANK(INDEX($C:$C,))), \"\", 'PWS Records (System Entry)'!$D$4)","v":""},{"$f":"IF(AND(ISBLANK(INDEX($G:$G,)), ISBLANK(INDEX($C:$C,))), \"\", 'PWS Records (System Entry)'!$D$3)","v":""},null,null,null,null,null,null,null,null,null,null,null,null,null,null,null,null,null,null,""]
[{"$f":"IF(AND(ISBLANK(INDEX($G:$G,)), ISBLANK(INDEX($C:$C,))), \"\", 'PWS Records (System Entry)'!$D$4)","v":""},{"$f":"IF(AND(ISBLANK(INDEX($G:$G,)), ISBLANK(INDEX($C:$C,))), \"\", 'PWS Records (System Entry)'!$D$3)","v":""},null,null,null,null,null,null,null,null,null,null,null,null,null,null,null,null,null,null,""]
[{"$f":"IF(AND(ISBLANK(INDEX($G:$G,)), ISBLANK(INDEX($C:$C,))), \"\", 'PWS Records (System Entry)'!$D$4)","v":""},{"$f":"IF(AND(ISBLANK(INDEX($G:$G,)), ISBLANK(INDEX($C:$C,))), \"\", 'PWS Records (System Entry)'!$D$3)","v":""},null,null,null,null,null,null,null,null,null,null,null,null,null,null,null,null,null,null,""]
[{"$f":"IF(AND(ISBLANK(INDEX($G:$G,)), ISBLANK(INDEX($C:$C,))), \"\", 'PWS Records (System Entry)'!$D$4)","v":""},{"$f":"IF(AND(ISBLANK(INDEX($G:$G,)), ISBLANK(INDEX($C:$C,))), \"\", 'PWS Records (System Entry)'!$D$3)","v":""},null,null,null,null,null,null,null,null,null,null,null,null,null,null,null,null,null,null,""]
[{"$f":"IF(AND(ISBLANK(INDEX($G:$G,)), ISBLANK(INDEX($C:$C,))), \"\", 'PWS Records (System Entry)'!$D$4)","v":""},{"$f":"IF(AND(ISBLANK(INDEX($G:$G,)), ISBLANK(INDEX($C:$C,))), \"\", 'PWS Records (System Entry)'!$D$3)","v":""},null,null,null,null,null,null,null,null,null,null,null,null,null,null,null,null,null,null,""]
[{"$f":"IF(AND(ISBLANK(INDEX($G:$G,)), ISBLANK(INDEX($C:$C,))), \"\", 'PWS Records (System Entry)'!$D$4)","v":""},{"$f":"IF(AND(ISBLANK(INDEX($G:$G,)), ISBLANK(INDEX($C:$C,))), \"\", 'PWS Records (System Entry)'!$D$3)","v":""},null,null,null,null,null,null,null,null,null,null,null,null,null,null,null,null,null,null,""]
[{"$f":"IF(AND(ISBLANK(INDEX($G:$G,)), ISBLANK(INDEX($C:$C,))), \"\", 'PWS Records (System Entry)'!$D$4)","v":""},{"$f":"IF(AND(ISBLANK(INDEX($G:$G,)), ISBLANK(INDEX($C:$C,))), \"\", 'PWS Records (System Entry)'!$D$3)","v":""},null,null,null,null,null,null,null,null,null,null,null,null,null,null,null,null,null,null,""]
[{"$f":"IF(AND(ISBLANK(INDEX($G:$G,)), ISBLANK(INDEX($C:$C,))), \"\", 'PWS Records (System Entry)'!$D$4)","v":""},{"$f":"IF(AND(ISBLANK(INDEX($G:$G,)), ISBLANK(INDEX($C:$C,))), \"\", 'PWS Records (System Entry)'!$D$3)","v":""},null,null,null,null,null,null,null,null,null,null,null,null,null,null,null,null,null,null,""]
[{"$f":"IF(AND(ISBLANK(INDEX($G:$G,)), ISBLANK(INDEX($C:$C,))), \"\", 'PWS Records (System Entry)'!$D$4)","v":""},{"$f":"IF(AND(ISBLANK(INDEX($G:$G,)), ISBLANK(INDEX($C:$C,))), \"\", 'PWS Records (System Entry)'!$D$3)","v":""},null,null,null,null,null,null,null,null,null,null,null,null,null,null,null,null,null,null,""]
[{"$f":"IF(AND(ISBLANK(INDEX($G:$G,)), ISBLANK(INDEX($C:$C,))), \"\", 'PWS Records (System Entry)'!$D$4)","v":""},{"$f":"IF(AND(ISBLANK(INDEX($G:$G,)), ISBLANK(INDEX($C:$C,))), \"\", 'PWS Records (System Entry)'!$D$3)","v":""},null,null,null,null,null,null,null,null,null,null,null,null,null,null,null,null,null,null,""]
[{"$f":"IF(AND(ISBLANK(INDEX($G:$G,)), ISBLANK(INDEX($C:$C,))), \"\", 'PWS Records (System Entry)'!$D$4)","v":""},{"$f":"IF(AND(ISBLANK(INDEX($G:$G,)), ISBLANK(INDEX($C:$C,))), \"\", 'PWS Records (System Entry)'!$D$3)","v":""},null,null,null,null,null,null,null,null,null,null,null,null,null,null,null,null,null,null,""]
[{"$f":"IF(AND(ISBLANK(INDEX($G:$G,)), ISBLANK(INDEX($C:$C,))), \"\", 'PWS Records (System Entry)'!$D$4)","v":""},{"$f":"IF(AND(ISBLANK(INDEX($G:$G,)), ISBLANK(INDEX($C:$C,))), \"\", 'PWS Records (System Entry)'!$D$3)","v":""},null,null,null,null,null,null,null,null,null,null,null,null,null,null,null,null,null,null,""]
[{"$f":"IF(AND(ISBLANK(INDEX($G:$G,)), ISBLANK(INDEX($C:$C,))), \"\", 'PWS Records (System Entry)'!$D$4)","v":""},{"$f":"IF(AND(ISBLANK(INDEX($G:$G,)), ISBLANK(INDEX($C:$C,))), \"\", 'PWS Records (System Entry)'!$D$3)","v":""},null,null,null,null,null,null,null,null,null,null,null,null,null,null,null,null,null,null,""]
[{"$f":"IF(AND(ISBLANK(INDEX($G:$G,)), ISBLANK(INDEX($C:$C,))), \"\", 'PWS Records (System Entry)'!$D$4)","v":""},{"$f":"IF(AND(ISBLANK(INDEX($G:$G,)), ISBLANK(INDEX($C:$C,))), \"\", 'PWS Records (System Entry)'!$D$3)","v":""},null,null,null,null,null,null,null,null,null,null,null,null,null,null,null,null,null,null,{"$f":"IF(AND(INDEX($K:$K,)=\"\", INDEX($L:$L,)=\"\", INDEX($M:$M,)=\"\", INDEX($Q:$Q,)=\"\", INDEX($R:$R,)=\"\"), \"\", IF(OR(INDEX($K:$K,)=\"Lead\",INDEX($Q:$Q,)=\"Lead\"),\"Lead\",IF(OR(AND(OR(INDEX($M:$M,)=\"Yes\", INDEX($M:$M,)=\"Don't Know\", INDEX($M:$M,)=\"\"), INDEX($Q:$Q,)=\"Galvanized Iron/Steel\"), AND(INDEX($K:$K,)=\"Unknown\", INDEX($M:$M,)=\"No\", INDEX($Q:$Q,)=\"Galvanized Iron/Steel\")), \"Galvanized Requiring Replacement\", IF(OR(AND(OR(INDEX($K:$K,)=\"Galvanized Iron/Steel\", INDEX($K:$K,)=\"Non-Lead - Copper\", INDEX($K:$K,)=\"Non-Lead - Plastic\", INDEX($K:$K,)=\"Non-Lead - Other\", INDEX($K:$K,)=\"Non-Lead - Material Unknown\", INDEX($K:$K,)=\"No System Owned Portion\"), OR(INDEX($Q:$Q,)=\"Galvanized Iron/Steel\", INDEX($Q:$Q,)=\"Non-Lead - Copper\", INDEX($Q:$Q,)=\"Non-Lead - Plastic\", INDEX($Q:$Q,)=\"Non-Lead - Other\", INDEX($Q:$Q,)=\"Non-Lead - Predictive Model\", INDEX($Q:$Q,)=\"No Customer Owned Portion\")), AND(OR( INDEX($K:$K,)=\"Galvanized Iron/Steel\", INDEX($K:$K,)=\"Non-Lead - Copper\", INDEX($K:$K,)=\"Non-Lead - Plastic\", INDEX($K:$K,)=\"Non-Lead - Other\", INDEX($K:$K,)=\"Non-Lead - Material Unknown\", INDEX($K:$K,)=\"No System Owned Portion\"), INDEX($M:$M,)=\"No\", INDEX($Q:$Q,)=\"Non-Lead - Material Unknown\")), \"Non-Lead\", \"Lead Status Unknown\"))))","v":""}]
[{"$f":"IF(AND(ISBLANK(INDEX($G:$G,)), ISBLANK(INDEX($C:$C,))), \"\", 'PWS Records (System Entry)'!$D$4)","v":""},{"$f":"IF(AND(ISBLANK(INDEX($G:$G,)), ISBLANK(INDEX($C:$C,))), \"\", 'PWS Records (System Entry)'!$D$3)","v":""},null,null,null,null,null,null,null,null,null,null,null,null,null,null,null,null,null,null,""]
[{"$f":"IF(AND(ISBLANK(INDEX($G:$G,)), ISBLANK(INDEX($C:$C,))), \"\", 'PWS Records (System Entry)'!$D$4)","v":""},{"$f":"IF(AND(ISBLANK(INDEX($G:$G,)), ISBLANK(INDEX($C:$C,))), \"\", 'PWS Records (System Entry)'!$D$3)","v":""},null,null,null,null,null,null,null,null,null,null,null,null,null,null,null,null,null,null,""]
[{"$f":"IF(AND(ISBLANK(INDEX($G:$G,)), ISBLANK(INDEX($C:$C,))), \"\", 'PWS Records (System Entry)'!$D$4)","v":""},{"$f":"IF(AND(ISBLANK(INDEX($G:$G,)), ISBLANK(INDEX($C:$C,))), \"\", 'PWS Records (System Entry)'!$D$3)","v":""},null,null,null,null,null,null,null,null,null,null,null,null,null,null,null,null,null,null,""]
[{"$f":"IF(AND(ISBLANK(INDEX($G:$G,)), ISBLANK(INDEX($C:$C,))), \"\", 'PWS Records (System Entry)'!$D$4)","v":""},{"$f":"IF(AND(ISBLANK(INDEX($G:$G,)), ISBLANK(INDEX($C:$C,))), \"\", 'PWS Records (System Entry)'!$D$3)","v":""},null,null,null,null,null,null,null,null,null,null,null,null,null,null,null,null,null,null,""]
[{"$f":"IF(AND(ISBLANK(INDEX($G:$G,)), ISBLANK(INDEX($C:$C,))), \"\", 'PWS Records (System Entry)'!$D$4)","v":""},{"$f":"IF(AND(ISBLANK(INDEX($G:$G,)), ISBLANK(INDEX($C:$C,))), \"\", 'PWS Records (System Entry)'!$D$3)","v":""},null,null,null,null,null,null,null,null,null,null,null,null,null,null,null,null,null,null,""]
[{"$f":"IF(AND(ISBLANK(INDEX($G:$G,)), ISBLANK(INDEX($C:$C,))), \"\", 'PWS Records (System Entry)'!$D$4)","v":""},{"$f":"IF(AND(ISBLANK(INDEX($G:$G,)), ISBLANK(INDEX($C:$C,))), \"\", 'PWS Records (System Entry)'!$D$3)","v":""},null,null,null,null,null,null,null,null,null,null,null,null,null,null,null,null,null,null,""]
[{"$f":"IF(AND(ISBLANK(INDEX($G:$G,)), ISBLANK(INDEX($C:$C,))), \"\", 'PWS Records (System Entry)'!$D$4)","v":""},{"$f":"IF(AND(ISBLANK(INDEX($G:$G,)), ISBLANK(INDEX($C:$C,))), \"\", 'PWS Records (System Entry)'!$D$3)","v":""},null,null,null,null,null,null,null,null,null,null,null,null,null,null,null,null,null,null,""]
[{"$f":"IF(AND(ISBLANK(INDEX($G:$G,)), ISBLANK(INDEX($C:$C,))), \"\", 'PWS Records (System Entry)'!$D$4)","v":""},{"$f":"IF(AND(ISBLANK(INDEX($G:$G,)), ISBLANK(INDEX($C:$C,))), \"\", 'PWS Records (System Entry)'!$D$3)","v":""},null,null,null,null,null,null,null,null,null,null,null,null,null,null,null,null,null,null,""]
[{"$f":"IF(AND(ISBLANK(INDEX($G:$G,)), ISBLANK(INDEX($C:$C,))), \"\", 'PWS Records (System Entry)'!$D$4)","v":""},{"$f":"IF(AND(ISBLANK(INDEX($G:$G,)), ISBLANK(INDEX($C:$C,))), \"\", 'PWS Records (System Entry)'!$D$3)","v":""},null,null,null,null,null,null,null,null,null,null,null,null,null,null,null,null,null,null,""]
[{"$f":"IF(AND(ISBLANK(INDEX($G:$G,)), ISBLANK(INDEX($C:$C,))), \"\", 'PWS Records (System Entry)'!$D$4)","v":""},{"$f":"IF(AND(ISBLANK(INDEX($G:$G,)), ISBLANK(INDEX($C:$C,))), \"\", 'PWS Records (System Entry)'!$D$3)","v":""},null,null,null,null,null,null,null,null,null,null,null,null,null,null,null,null,null,null,""]
[{"$f":"IF(AND(ISBLANK(INDEX($G:$G,)), ISBLANK(INDEX($C:$C,))), \"\", 'PWS Records (System Entry)'!$D$4)","v":""},{"$f":"IF(AND(ISBLANK(INDEX($G:$G,)), ISBLANK(INDEX($C:$C,))), \"\", 'PWS Records (System Entry)'!$D$3)","v":""},null,null,null,null,null,null,null,null,null,null,null,null,null,null,null,null,null,null,""]
[{"$f":"IF(AND(ISBLANK(INDEX($G:$G,)), ISBLANK(INDEX($C:$C,))), \"\", 'PWS Records (System Entry)'!$D$4)","v":""},{"$f":"IF(AND(ISBLANK(INDEX($G:$G,)), ISBLANK(INDEX($C:$C,))), \"\", 'PWS Records (System Entry)'!$D$3)","v":""},null,null,null,null,null,null,null,null,null,null,null,null,null,null,null,null,null,null,""]
[{"$f":"IF(AND(ISBLANK(INDEX($G:$G,)), ISBLANK(INDEX($C:$C,))), \"\", 'PWS Records (System Entry)'!$D$4)","v":""},{"$f":"IF(AND(ISBLANK(INDEX($G:$G,)), ISBLANK(INDEX($C:$C,))), \"\", 'PWS Records (System Entry)'!$D$3)","v":""},null,null,null,null,null,null,null,null,null,null,null,null,null,null,null,null,null,null,""]
[{"$f":"IF(AND(ISBLANK(INDEX($G:$G,)), ISBLANK(INDEX($C:$C,))), \"\", 'PWS Records (System Entry)'!$D$4)","v":""},{"$f":"IF(AND(ISBLANK(INDEX($G:$G,)), ISBLANK(INDEX($C:$C,))), \"\", 'PWS Records (System Entry)'!$D$3)","v":""},null,null,null,null,null,null,null,null,null,null,null,null,null,null,null,null,null,null,""]
[{"$f":"IF(AND(ISBLANK(INDEX($G:$G,)), ISBLANK(INDEX($C:$C,))), \"\", 'PWS Records (System Entry)'!$D$4)","v":""},{"$f":"IF(AND(ISBLANK(INDEX($G:$G,)), ISBLANK(INDEX($C:$C,))), \"\", 'PWS Records (System Entry)'!$D$3)","v":""},null,null,null,null,null,null,null,null,null,null,null,null,null,null,null,null,null,null,""]
[{"$f":"IF(AND(ISBLANK(INDEX($G:$G,)), ISBLANK(INDEX($C:$C,))), \"\", 'PWS Records (System Entry)'!$D$4)","v":""},{"$f":"IF(AND(ISBLANK(INDEX($G:$G,)), ISBLANK(INDEX($C:$C,))), \"\", 'PWS Records (System Entry)'!$D$3)","v":""},null,null,null,null,null,null,null,null,null,null,null,null,null,null,null,null,null,null,""]
[{"$f":"IF(AND(ISBLANK(INDEX($G:$G,)), ISBLANK(INDEX($C:$C,))), \"\", 'PWS Records (System Entry)'!$D$4)","v":""},{"$f":"IF(AND(ISBLANK(INDEX($G:$G,)), ISBLANK(INDEX($C:$C,))), \"\", 'PWS Records (System Entry)'!$D$3)","v":""},null,null,null,null,null,null,null,null,null,null,null,null,null,null,null,null,null,null,""]
[{"$f":"IF(AND(ISBLANK(INDEX($G:$G,)), ISBLANK(INDEX($C:$C,))), \"\", 'PWS Records (System Entry)'!$D$4)","v":""},{"$f":"IF(AND(ISBLANK(INDEX($G:$G,)), ISBLANK(INDEX($C:$C,))), \"\", 'PWS Records (System Entry)'!$D$3)","v":""},null,null,null,null,null,null,null,null,null,null,null,null,null,null,null,null,null,null,""]
[{"$f":"IF(AND(ISBLANK(INDEX($G:$G,)), ISBLANK(INDEX($C:$C,))), \"\", 'PWS Records (System Entry)'!$D$4)","v":""},{"$f":"IF(AND(ISBLANK(INDEX($G:$G,)), ISBLANK(INDEX($C:$C,))), \"\", 'PWS Records (System Entry)'!$D$3)","v":""},null,null,null,null,null,null,null,null,null,null,null,null,null,null,null,null,null,null,""]
[{"$f":"IF(AND(ISBLANK(INDEX($G:$G,)), ISBLANK(INDEX($C:$C,))), \"\", 'PWS Records (System Entry)'!$D$4)","v":""},{"$f":"IF(AND(ISBLANK(INDEX($G:$G,)), ISBLANK(INDEX($C:$C,))), \"\", 'PWS Records (System Entry)'!$D$3)","v":""},null,null,null,null,null,null,null,null,null,null,null,null,null,null,null,null,null,null,""]
[{"$f":"IF(AND(ISBLANK(INDEX($G:$G,)), ISBLANK(INDEX($C:$C,))), \"\", 'PWS Records (System Entry)'!$D$4)","v":""},{"$f":"IF(AND(ISBLANK(INDEX($G:$G,)), ISBLANK(INDEX($C:$C,))), \"\", 'PWS Records (System Entry)'!$D$3)","v":""},null,null,null,null,null,null,null,null,null,null,null,null,null,null,null,null,null,null,""]
[{"$f":"IF(AND(ISBLANK(INDEX($G:$G,)), ISBLANK(INDEX($C:$C,))), \"\", 'PWS Records (System Entry)'!$D$4)","v":""},{"$f":"IF(AND(ISBLANK(INDEX($G:$G,)), ISBLANK(INDEX($C:$C,))), \"\", 'PWS Records (System Entry)'!$D$3)","v":""},null,null,null,null,null,null,null,null,null,null,null,null,null,null,null,null,null,null,""]
[{"$f":"IF(AND(ISBLANK(INDEX($G:$G,)), ISBLANK(INDEX($C:$C,))), \"\", 'PWS Records (System Entry)'!$D$4)","v":""},{"$f":"IF(AND(ISBLANK(INDEX($G:$G,)), ISBLANK(INDEX($C:$C,))), \"\", 'PWS Records (System Entry)'!$D$3)","v":""},null,null,null,null,null,null,null,null,null,null,null,null,null,null,null,null,null,null,""]
[{"$f":"IF(AND(ISBLANK(INDEX($G:$G,)), ISBLANK(INDEX($C:$C,))), \"\", 'PWS Records (System Entry)'!$D$4)","v":""},{"$f":"IF(AND(ISBLANK(INDEX($G:$G,)), ISBLANK(INDEX($C:$C,))), \"\", 'PWS Records (System Entry)'!$D$3)","v":""},null,null,null,null,null,null,null,null,null,null,null,null,null,null,null,null,null,null,""]
[{"$f":"IF(AND(ISBLANK(INDEX($G:$G,)), ISBLANK(INDEX($C:$C,))), \"\", 'PWS Records (System Entry)'!$D$4)","v":""},{"$f":"IF(AND(ISBLANK(INDEX($G:$G,)), ISBLANK(INDEX($C:$C,))), \"\", 'PWS Records (System Entry)'!$D$3)","v":""},null,null,null,null,null,null,null,null,null,null,null,null,null,null,null,null,null,null,""]
[{"$f":"IF(AND(ISBLANK(INDEX($G:$G,)), ISBLANK(INDEX($C:$C,))), \"\", 'PWS Records (System Entry)'!$D$4)","v":""},{"$f":"IF(AND(ISBLANK(INDEX($G:$G,)), ISBLANK(INDEX($C:$C,))), \"\", 'PWS Records (System Entry)'!$D$3)","v":""},null,null,null,null,null,null,null,null,null,null,null,null,null,null,null,null,null,null,""]
[{"$f":"IF(AND(ISBLANK(INDEX($G:$G,)), ISBLANK(INDEX($C:$C,))), \"\", 'PWS Records (System Entry)'!$D$4)","v":""},{"$f":"IF(AND(ISBLANK(INDEX($G:$G,)), ISBLANK(INDEX($C:$C,))), \"\", 'PWS Records (System Entry)'!$D$3)","v":""},null,null,null,null,null,null,null,null,null,null,null,null,null,null,null,null,null,null,""]
[{"$f":"IF(AND(ISBLANK(INDEX($G:$G,)), ISBLANK(INDEX($C:$C,))), \"\", 'PWS Records (System Entry)'!$D$4)","v":""},{"$f":"IF(AND(ISBLANK(INDEX($G:$G,)), ISBLANK(INDEX($C:$C,))), \"\", 'PWS Records (System Entry)'!$D$3)","v":""},null,null,null,null,null,null,null,null,null,null,null,null,null,null,null,null,null,null,""]
[{"$f":"IF(AND(ISBLANK(INDEX($G:$G,)), ISBLANK(INDEX($C:$C,))), \"\", 'PWS Records (System Entry)'!$D$4)","v":""},{"$f":"IF(AND(ISBLANK(INDEX($G:$G,)), ISBLANK(INDEX($C:$C,))), \"\", 'PWS Records (System Entry)'!$D$3)","v":""},null,null,null,null,null,null,null,null,null,null,null,null,null,null,null,null,null,null,""]
[{"$f":"IF(AND(ISBLANK(INDEX($G:$G,)), ISBLANK(INDEX($C:$C,))), \"\", 'PWS Records (System Entry)'!$D$4)","v":""},{"$f":"IF(AND(ISBLANK(INDEX($G:$G,)), ISBLANK(INDEX($C:$C,))), \"\", 'PWS Records (System Entry)'!$D$3)","v":""},null,null,null,null,null,null,null,null,null,null,null,null,null,null,null,null,null,null,""]
[{"$f":"IF(AND(ISBLANK(INDEX($G:$G,)), ISBLANK(INDEX($C:$C,))), \"\", 'PWS Records (System Entry)'!$D$4)","v":""},{"$f":"IF(AND(ISBLANK(INDEX($G:$G,)), ISBLANK(INDEX($C:$C,))), \"\", 'PWS Records (System Entry)'!$D$3)","v":""},null,null,null,null,null,null,null,null,null,null,null,null,null,null,null,null,null,null,""]
[{"$f":"IF(AND(ISBLANK(INDEX($G:$G,)), ISBLANK(INDEX($C:$C,))), \"\", 'PWS Records (System Entry)'!$D$4)","v":""},{"$f":"IF(AND(ISBLANK(INDEX($G:$G,)), ISBLANK(INDEX($C:$C,))), \"\", 'PWS Records (System Entry)'!$D$3)","v":""},null,null,null,null,null,null,null,null,null,null,null,null,null,null,null,null,null,null,""]
[{"$f":"IF(AND(ISBLANK(INDEX($G:$G,)), ISBLANK(INDEX($C:$C,))), \"\", 'PWS Records (System Entry)'!$D$4)","v":""},{"$f":"IF(AND(ISBLANK(INDEX($G:$G,)), ISBLANK(INDEX($C:$C,))), \"\", 'PWS Records (System Entry)'!$D$3)","v":""},null,null,null,null,null,null,null,null,null,null,null,null,null,null,null,null,null,null,""]
[{"$f":"IF(AND(ISBLANK(INDEX($G:$G,)), ISBLANK(INDEX($C:$C,))), \"\", 'PWS Records (System Entry)'!$D$4)","v":""},{"$f":"IF(AND(ISBLANK(INDEX($G:$G,)), ISBLANK(INDEX($C:$C,))), \"\", 'PWS Records (System Entry)'!$D$3)","v":""},null,null,null,null,null,null,null,null,null,null,null,null,null,null,null,null,null,null,""]
[{"$f":"IF(AND(ISBLANK(INDEX($G:$G,)), ISBLANK(INDEX($C:$C,))), \"\", 'PWS Records (System Entry)'!$D$4)","v":""},{"$f":"IF(AND(ISBLANK(INDEX($G:$G,)), ISBLANK(INDEX($C:$C,))), \"\", 'PWS Records (System Entry)'!$D$3)","v":""},null,null,null,null,null,null,null,null,null,null,null,null,null,null,null,null,null,null,""]
[{"$f":"IF(AND(ISBLANK(INDEX($G:$G,)), ISBLANK(INDEX($C:$C,))), \"\", 'PWS Records (System Entry)'!$D$4)","v":""},{"$f":"IF(AND(ISBLANK(INDEX($G:$G,)), ISBLANK(INDEX($C:$C,))), \"\", 'PWS Records (System Entry)'!$D$3)","v":""},null,null,null,null,null,null,null,null,null,null,null,null,null,null,null,null,null,null,""]
[{"$f":"IF(AND(ISBLANK(INDEX($G:$G,)), ISBLANK(INDEX($C:$C,))), \"\", 'PWS Records (System Entry)'!$D$4)","v":""},{"$f":"IF(AND(ISBLANK(INDEX($G:$G,)), ISBLANK(INDEX($C:$C,))), \"\", 'PWS Records (System Entry)'!$D$3)","v":""},null,null,null,null,null,null,null,null,null,null,null,null,null,null,null,null,null,null,""]
[{"$f":"IF(AND(ISBLANK(INDEX($G:$G,)), ISBLANK(INDEX($C:$C,))), \"\", 'PWS Records (System Entry)'!$D$4)","v":""},{"$f":"IF(AND(ISBLANK(INDEX($G:$G,)), ISBLANK(INDEX($C:$C,))), \"\", 'PWS Records (System Entry)'!$D$3)","v":""},null,null,null,null,null,null,null,null,null,null,null,null,null,null,null,null,null,null,""]
[{"$f":"IF(AND(ISBLANK(INDEX($G:$G,)), ISBLANK(INDEX($C:$C,))), \"\", 'PWS Records (System Entry)'!$D$4)","v":""},{"$f":"IF(AND(ISBLANK(INDEX($G:$G,)), ISBLANK(INDEX($C:$C,))), \"\", 'PWS Records (System Entry)'!$D$3)","v":""},null,null,null,null,null,null,null,null,null,null,null,null,null,null,null,null,null,null,""]
[{"$f":"IF(AND(ISBLANK(INDEX($G:$G,)), ISBLANK(INDEX($C:$C,))), \"\", 'PWS Records (System Entry)'!$D$4)","v":""},{"$f":"IF(AND(ISBLANK(INDEX($G:$G,)), ISBLANK(INDEX($C:$C,))), \"\", 'PWS Records (System Entry)'!$D$3)","v":""},null,null,null,null,null,null,null,null,null,null,null,null,null,null,null,null,null,null,""]
[{"$f":"IF(AND(ISBLANK(INDEX($G:$G,)), ISBLANK(INDEX($C:$C,))), \"\", 'PWS Records (System Entry)'!$D$4)","v":""},{"$f":"IF(AND(ISBLANK(INDEX($G:$G,)), ISBLANK(INDEX($C:$C,))), \"\", 'PWS Records (System Entry)'!$D$3)","v":""},null,null,null,null,null,null,null,null,null,null,null,null,null,null,null,null,null,null,""]
[{"$f":"IF(AND(ISBLANK(INDEX($G:$G,)), ISBLANK(INDEX($C:$C,))), \"\", 'PWS Records (System Entry)'!$D$4)","v":""},{"$f":"IF(AND(ISBLANK(INDEX($G:$G,)), ISBLANK(INDEX($C:$C,))), \"\", 'PWS Records (System Entry)'!$D$3)","v":""},null,null,null,null,null,null,null,null,null,null,null,null,null,null,null,null,null,null,""]
[{"$f":"IF(AND(ISBLANK(INDEX($G:$G,)), ISBLANK(INDEX($C:$C,))), \"\", 'PWS Records (System Entry)'!$D$4)","v":""},{"$f":"IF(AND(ISBLANK(INDEX($G:$G,)), ISBLANK(INDEX($C:$C,))), \"\", 'PWS Records (System Entry)'!$D$3)","v":""},null,null,null,null,null,null,null,null,null,null,null,null,null,null,null,null,null,null,""]
[{"$f":"IF(AND(ISBLANK(INDEX($G:$G,)), ISBLANK(INDEX($C:$C,))), \"\", 'PWS Records (System Entry)'!$D$4)","v":""},{"$f":"IF(AND(ISBLANK(INDEX($G:$G,)), ISBLANK(INDEX($C:$C,))), \"\", 'PWS Records (System Entry)'!$D$3)","v":""},null,null,null,null,null,null,null,null,null,null,null,null,null,null,null,null,null,null,""]
[{"$f":"IF(AND(ISBLANK(INDEX($G:$G,)), ISBLANK(INDEX($C:$C,))), \"\", 'PWS Records (System Entry)'!$D$4)","v":""},{"$f":"IF(AND(ISBLANK(INDEX($G:$G,)), ISBLANK(INDEX($C:$C,))), \"\", 'PWS Records (System Entry)'!$D$3)","v":""},null,null,null,null,null,null,null,null,null,null,null,null,null,null,null,null,null,null,""]
[{"$f":"IF(AND(ISBLANK(INDEX($G:$G,)), ISBLANK(INDEX($C:$C,))), \"\", 'PWS Records (System Entry)'!$D$4)","v":""},{"$f":"IF(AND(ISBLANK(INDEX($G:$G,)), ISBLANK(INDEX($C:$C,))), \"\", 'PWS Records (System Entry)'!$D$3)","v":""},null,null,null,null,null,null,null,null,null,null,null,null,null,null,null,null,null,null,""]
[{"$f":"IF(AND(ISBLANK(INDEX($G:$G,)), ISBLANK(INDEX($C:$C,))), \"\", 'PWS Records (System Entry)'!$D$4)","v":""},{"$f":"IF(AND(ISBLANK(INDEX($G:$G,)), ISBLANK(INDEX($C:$C,))), \"\", 'PWS Records (System Entry)'!$D$3)","v":""},null,null,null,null,null,null,null,null,null,null,null,null,null,null,null,null,null,null,""]
[{"$f":"IF(AND(ISBLANK(INDEX($G:$G,)), ISBLANK(INDEX($C:$C,))), \"\", 'PWS Records (System Entry)'!$D$4)","v":""},{"$f":"IF(AND(ISBLANK(INDEX($G:$G,)), ISBLANK(INDEX($C:$C,))), \"\", 'PWS Records (System Entry)'!$D$3)","v":""},null,null,null,null,null,null,null,null,null,null,null,null,null,null,null,null,null,null,""]
[{"$f":"IF(AND(ISBLANK(INDEX($G:$G,)), ISBLANK(INDEX($C:$C,))), \"\", 'PWS Records (System Entry)'!$D$4)","v":""},{"$f":"IF(AND(ISBLANK(INDEX($G:$G,)), ISBLANK(INDEX($C:$C,))), \"\", 'PWS Records (System Entry)'!$D$3)","v":""},null,null,null,null,null,null,null,null,null,null,null,null,null,null,null,null,null,null,""]
[{"$f":"IF(AND(ISBLANK(INDEX($G:$G,)), ISBLANK(INDEX($C:$C,))), \"\", 'PWS Records (System Entry)'!$D$4)","v":""},{"$f":"IF(AND(ISBLANK(INDEX($G:$G,)), ISBLANK(INDEX($C:$C,))), \"\", 'PWS Records (System Entry)'!$D$3)","v":""},null,null,null,null,null,null,null,null,null,null,null,null,null,null,null,null,null,null,""]
[{"$f":"IF(AND(ISBLANK(INDEX($G:$G,)), ISBLANK(INDEX($C:$C,))), \"\", 'PWS Records (System Entry)'!$D$4)","v":""},{"$f":"IF(AND(ISBLANK(INDEX($G:$G,)), ISBLANK(INDEX($C:$C,))), \"\", 'PWS Records (System Entry)'!$D$3)","v":""},null,null,null,null,null,null,null,null,null,null,null,null,null,null,null,null,null,null,""]
[{"$f":"IF(AND(ISBLANK(INDEX($G:$G,)), ISBLANK(INDEX($C:$C,))), \"\", 'PWS Records (System Entry)'!$D$4)","v":""},{"$f":"IF(AND(ISBLANK(INDEX($G:$G,)), ISBLANK(INDEX($C:$C,))), \"\", 'PWS Records (System Entry)'!$D$3)","v":""},null,null,null,null,null,null,null,null,null,null,null,null,null,null,null,null,null,null,""]
[{"$f":"IF(AND(ISBLANK(INDEX($G:$G,)), ISBLANK(INDEX($C:$C,))), \"\", 'PWS Records (System Entry)'!$D$4)","v":""},{"$f":"IF(AND(ISBLANK(INDEX($G:$G,)), ISBLANK(INDEX($C:$C,))), \"\", 'PWS Records (System Entry)'!$D$3)","v":""},null,null,null,null,null,null,null,null,null,null,null,null,null,null,null,null,null,null,""]
[{"$f":"IF(AND(ISBLANK(INDEX($G:$G,)), ISBLANK(INDEX($C:$C,))), \"\", 'PWS Records (System Entry)'!$D$4)","v":""},{"$f":"IF(AND(ISBLANK(INDEX($G:$G,)), ISBLANK(INDEX($C:$C,))), \"\", 'PWS Records (System Entry)'!$D$3)","v":""},null,null,null,null,null,null,null,null,null,null,null,null,null,null,null,null,null,null,""]
[{"$f":"IF(AND(ISBLANK(INDEX($G:$G,)), ISBLANK(INDEX($C:$C,))), \"\", 'PWS Records (System Entry)'!$D$4)","v":""},{"$f":"IF(AND(ISBLANK(INDEX($G:$G,)), ISBLANK(INDEX($C:$C,))), \"\", 'PWS Records (System Entry)'!$D$3)","v":""},null,null,null,null,null,null,null,null,null,null,null,null,null,null,null,null,null,null,""]
[{"$f":"IF(AND(ISBLANK(INDEX($G:$G,)), ISBLANK(INDEX($C:$C,))), \"\", 'PWS Records (System Entry)'!$D$4)","v":""},{"$f":"IF(AND(ISBLANK(INDEX($G:$G,)), ISBLANK(INDEX($C:$C,))), \"\", 'PWS Records (System Entry)'!$D$3)","v":""},null,null,null,null,null,null,null,null,null,null,null,null,null,null,null,null,null,null,""]
[{"$f":"IF(AND(ISBLANK(INDEX($G:$G,)), ISBLANK(INDEX($C:$C,))), \"\", 'PWS Records (System Entry)'!$D$4)","v":""},{"$f":"IF(AND(ISBLANK(INDEX($G:$G,)), ISBLANK(INDEX($C:$C,))), \"\", 'PWS Records (System Entry)'!$D$3)","v":""},null,null,null,null,null,null,null,null,null,null,null,null,null,null,null,null,null,null,""]
[{"$f":"IF(AND(ISBLANK(INDEX($G:$G,)), ISBLANK(INDEX($C:$C,))), \"\", 'PWS Records (System Entry)'!$D$4)","v":""},{"$f":"IF(AND(ISBLANK(INDEX($G:$G,)), ISBLANK(INDEX($C:$C,))), \"\", 'PWS Records (System Entry)'!$D$3)","v":""},null,null,null,null,null,null,null,null,null,null,null,null,null,null,null,null,null,null,""]
[{"$f":"IF(AND(ISBLANK(INDEX($G:$G,)), ISBLANK(INDEX($C:$C,))), \"\", 'PWS Records (System Entry)'!$D$4)","v":""},{"$f":"IF(AND(ISBLANK(INDEX($G:$G,)), ISBLANK(INDEX($C:$C,))), \"\", 'PWS Records (System Entry)'!$D$3)","v":""},null,null,null,null,null,null,null,null,null,null,null,null,null,null,null,null,null,null,""]
[{"$f":"IF(AND(ISBLANK(INDEX($G:$G,)), ISBLANK(INDEX($C:$C,))), \"\", 'PWS Records (System Entry)'!$D$4)","v":""},{"$f":"IF(AND(ISBLANK(INDEX($G:$G,)), ISBLANK(INDEX($C:$C,))), \"\", 'PWS Records (System Entry)'!$D$3)","v":""},null,null,null,null,null,null,null,null,null,null,null,null,null,null,null,null,null,null,""]
[{"$f":"IF(AND(ISBLANK(INDEX($G:$G,)), ISBLANK(INDEX($C:$C,))), \"\", 'PWS Records (System Entry)'!$D$4)","v":""},{"$f":"IF(AND(ISBLANK(INDEX($G:$G,)), ISBLANK(INDEX($C:$C,))), \"\", 'PWS Records (System Entry)'!$D$3)","v":""},null,null,null,null,null,null,null,null,null,null,null,null,null,null,null,null,null,null,""]
[{"$f":"IF(AND(ISBLANK(INDEX($G:$G,)), ISBLANK(INDEX($C:$C,))), \"\", 'PWS Records (System Entry)'!$D$4)","v":""},{"$f":"IF(AND(ISBLANK(INDEX($G:$G,)), ISBLANK(INDEX($C:$C,))), \"\", 'PWS Records (System Entry)'!$D$3)","v":""},null,null,null,null,null,null,null,null,null,null,null,null,null,null,null,null,null,null,""]
[{"$f":"IF(AND(ISBLANK(INDEX($G:$G,)), ISBLANK(INDEX($C:$C,))), \"\", 'PWS Records (System Entry)'!$D$4)","v":""},{"$f":"IF(AND(ISBLANK(INDEX($G:$G,)), ISBLANK(INDEX($C:$C,))), \"\", 'PWS Records (System Entry)'!$D$3)","v":""},null,null,null,null,null,null,null,null,null,null,null,null,null,null,null,null,null,null,""]
[{"$f":"IF(AND(ISBLANK(INDEX($G:$G,)), ISBLANK(INDEX($C:$C,))), \"\", 'PWS Records (System Entry)'!$D$4)","v":""},{"$f":"IF(AND(ISBLANK(INDEX($G:$G,)), ISBLANK(INDEX($C:$C,))), \"\", 'PWS Records (System Entry)'!$D$3)","v":""},null,null,null,null,null,null,null,null,null,null,null,null,null,null,null,null,null,null,{"$f":"IF(AND(INDEX($K:$K,)=\"\", INDEX($L:$L,)=\"\", INDEX($M:$M,)=\"\", INDEX($Q:$Q,)=\"\", INDEX($R:$R,)=\"\"), \"\", IF(OR(INDEX($K:$K,)=\"Lead\",INDEX($Q:$Q,)=\"Lead\"),\"Lead\",IF(OR(AND(OR(INDEX($M:$M,)=\"Yes\", INDEX($M:$M,)=\"Don't Know\", INDEX($M:$M,)=\"\"), INDEX($Q:$Q,)=\"Galvanized Iron/Steel\"), AND(INDEX($K:$K,)=\"Unknown\", INDEX($M:$M,)=\"No\", INDEX($Q:$Q,)=\"Galvanized Iron/Steel\")), \"Galvanized Requiring Replacement\", IF(OR(AND(OR(INDEX($K:$K,)=\"Galvanized Iron/Steel\", INDEX($K:$K,)=\"Non-Lead - Copper\", INDEX($K:$K,)=\"Non-Lead - Plastic\", INDEX($K:$K,)=\"Non-Lead - Other\", INDEX($K:$K,)=\"Non-Lead - Material Unknown\", INDEX($K:$K,)=\"No System Owned Portion\"), OR(INDEX($Q:$Q,)=\"Galvanized Iron/Steel\", INDEX($Q:$Q,)=\"Non-Lead - Copper\", INDEX($Q:$Q,)=\"Non-Lead - Plastic\", INDEX($Q:$Q,)=\"Non-Lead - Other\", INDEX($Q:$Q,)=\"Non-Lead - Predictive Model\", INDEX($Q:$Q,)=\"No Customer Owned Portion\")), AND(OR( INDEX($K:$K,)=\"Galvanized Iron/Steel\", INDEX($K:$K,)=\"Non-Lead - Copper\", INDEX($K:$K,)=\"Non-Lead - Plastic\", INDEX($K:$K,)=\"Non-Lead - Other\", INDEX($K:$K,)=\"Non-Lead - Material Unknown\", INDEX($K:$K,)=\"No System Owned Portion\"), INDEX($M:$M,)=\"No\", INDEX($Q:$Q,)=\"Non-Lead - Material Unknown\")), \"Non-Lead\", \"Lead Status Unknown\"))))","v":""}]
[{"$f":"IF(AND(ISBLANK(INDEX($G:$G,)), ISBLANK(INDEX($C:$C,))), \"\", 'PWS Records (System Entry)'!$D$4)","v":""},{"$f":"IF(AND(ISBLANK(INDEX($G:$G,)), ISBLANK(INDEX($C:$C,))), \"\", 'PWS Records (System Entry)'!$D$3)","v":""},null,null,null,null,null,null,null,null,null,null,null,null,null,null,null,null,null,null,""]
[{"$f":"IF(AND(ISBLANK(INDEX($G:$G,)), ISBLANK(INDEX($C:$C,))), \"\", 'PWS Records (System Entry)'!$D$4)","v":""},{"$f":"IF(AND(ISBLANK(INDEX($G:$G,)), ISBLANK(INDEX($C:$C,))), \"\", 'PWS Records (System Entry)'!$D$3)","v":""},null,null,null,null,null,null,null,null,null,null,null,null,null,null,null,null,null,null,""]
[{"$f":"IF(AND(ISBLANK(INDEX($G:$G,)), ISBLANK(INDEX($C:$C,))), \"\", 'PWS Records (System Entry)'!$D$4)","v":""},{"$f":"IF(AND(ISBLANK(INDEX($G:$G,)), ISBLANK(INDEX($C:$C,))), \"\", 'PWS Records (System Entry)'!$D$3)","v":""},null,null,null,null,null,null,null,null,null,null,null,null,null,null,null,null,null,null,""]
[{"$f":"IF(AND(ISBLANK(INDEX($G:$G,)), ISBLANK(INDEX($C:$C,))), \"\", 'PWS Records (System Entry)'!$D$4)","v":""},{"$f":"IF(AND(ISBLANK(INDEX($G:$G,)), ISBLANK(INDEX($C:$C,))), \"\", 'PWS Records (System Entry)'!$D$3)","v":""},null,null,null,null,null,null,null,null,null,null,null,null,null,null,null,null,null,null,""]
[{"$f":"IF(AND(ISBLANK(INDEX($G:$G,)), ISBLANK(INDEX($C:$C,))), \"\", 'PWS Records (System Entry)'!$D$4)","v":""},{"$f":"IF(AND(ISBLANK(INDEX($G:$G,)), ISBLANK(INDEX($C:$C,))), \"\", 'PWS Records (System Entry)'!$D$3)","v":""},null,null,null,null,null,null,null,null,null,null,null,null,null,null,null,null,null,null,""]
[{"$f":"IF(AND(ISBLANK(INDEX($G:$G,)), ISBLANK(INDEX($C:$C,))), \"\", 'PWS Records (System Entry)'!$D$4)","v":""},{"$f":"IF(AND(ISBLANK(INDEX($G:$G,)), ISBLANK(INDEX($C:$C,))), \"\", 'PWS Records (System Entry)'!$D$3)","v":""},null,null,null,null,null,null,null,null,null,null,null,null,null,null,null,null,null,null,""]
[{"$f":"IF(AND(ISBLANK(INDEX($G:$G,)), ISBLANK(INDEX($C:$C,))), \"\", 'PWS Records (System Entry)'!$D$4)","v":""},{"$f":"IF(AND(ISBLANK(INDEX($G:$G,)), ISBLANK(INDEX($C:$C,))), \"\", 'PWS Records (System Entry)'!$D$3)","v":""},null,null,null,null,null,null,null,null,null,null,null,null,null,null,null,null,null,null,""]
[{"$f":"IF(AND(ISBLANK(INDEX($G:$G,)), ISBLANK(INDEX($C:$C,))), \"\", 'PWS Records (System Entry)'!$D$4)","v":""},{"$f":"IF(AND(ISBLANK(INDEX($G:$G,)), ISBLANK(INDEX($C:$C,))), \"\", 'PWS Records (System Entry)'!$D$3)","v":""},null,null,null,null,null,null,null,null,null,null,null,null,null,null,null,null,null,null,""]
[{"$f":"IF(AND(ISBLANK(INDEX($G:$G,)), ISBLANK(INDEX($C:$C,))), \"\", 'PWS Records (System Entry)'!$D$4)","v":""},{"$f":"IF(AND(ISBLANK(INDEX($G:$G,)), ISBLANK(INDEX($C:$C,))), \"\", 'PWS Records (System Entry)'!$D$3)","v":""},null,null,null,null,null,null,null,null,null,null,null,null,null,null,null,null,null,null,""]
[{"$f":"IF(AND(ISBLANK(INDEX($G:$G,)), ISBLANK(INDEX($C:$C,))), \"\", 'PWS Records (System Entry)'!$D$4)","v":""},{"$f":"IF(AND(ISBLANK(INDEX($G:$G,)), ISBLANK(INDEX($C:$C,))), \"\", 'PWS Records (System Entry)'!$D$3)","v":""},null,null,null,null,null,null,null,null,null,null,null,null,null,null,null,null,null,null,""]
[{"$f":"IF(AND(ISBLANK(INDEX($G:$G,)), ISBLANK(INDEX($C:$C,))), \"\", 'PWS Records (System Entry)'!$D$4)","v":""},{"$f":"IF(AND(ISBLANK(INDEX($G:$G,)), ISBLANK(INDEX($C:$C,))), \"\", 'PWS Records (System Entry)'!$D$3)","v":""},null,null,null,null,null,null,null,null,null,null,null,null,null,null,null,null,null,null,""]
[{"$f":"IF(AND(ISBLANK(INDEX($G:$G,)), ISBLANK(INDEX($C:$C,))), \"\", 'PWS Records (System Entry)'!$D$4)","v":""},{"$f":"IF(AND(ISBLANK(INDEX($G:$G,)), ISBLANK(INDEX($C:$C,))), \"\", 'PWS Records (System Entry)'!$D$3)","v":""},null,null,null,null,null,null,null,null,null,null,null,null,null,null,null,null,null,null,""]
[{"$f":"IF(AND(ISBLANK(INDEX($G:$G,)), ISBLANK(INDEX($C:$C,))), \"\", 'PWS Records (System Entry)'!$D$4)","v":""},{"$f":"IF(AND(ISBLANK(INDEX($G:$G,)), ISBLANK(INDEX($C:$C,))), \"\", 'PWS Records (System Entry)'!$D$3)","v":""},null,null,null,null,null,null,null,null,null,null,null,null,null,null,null,null,null,null,""]
[{"$f":"IF(AND(ISBLANK(INDEX($G:$G,)), ISBLANK(INDEX($C:$C,))), \"\", 'PWS Records (System Entry)'!$D$4)","v":""},{"$f":"IF(AND(ISBLANK(INDEX($G:$G,)), ISBLANK(INDEX($C:$C,))), \"\", 'PWS Records (System Entry)'!$D$3)","v":""},null,null,null,null,null,null,null,null,null,null,null,null,null,null,null,null,null,null,""]
[{"$f":"IF(AND(ISBLANK(INDEX($G:$G,)), ISBLANK(INDEX($C:$C,))), \"\", 'PWS Records (System Entry)'!$D$4)","v":""},{"$f":"IF(AND(ISBLANK(INDEX($G:$G,)), ISBLANK(INDEX($C:$C,))), \"\", 'PWS Records (System Entry)'!$D$3)","v":""},null,null,null,null,null,null,null,null,null,null,null,null,null,null,null,null,null,null,""]
[{"$f":"IF(AND(ISBLANK(INDEX($G:$G,)), ISBLANK(INDEX($C:$C,))), \"\", 'PWS Records (System Entry)'!$D$4)","v":""},{"$f":"IF(AND(ISBLANK(INDEX($G:$G,)), ISBLANK(INDEX($C:$C,))), \"\", 'PWS Records (System Entry)'!$D$3)","v":""},null,null,null,null,null,null,null,null,null,null,null,null,null,null,null,null,null,null,""]
[{"$f":"IF(AND(ISBLANK(INDEX($G:$G,)), ISBLANK(INDEX($C:$C,))), \"\", 'PWS Records (System Entry)'!$D$4)","v":""},{"$f":"IF(AND(ISBLANK(INDEX($G:$G,)), ISBLANK(INDEX($C:$C,))), \"\", 'PWS Records (System Entry)'!$D$3)","v":""},null,null,null,null,null,null,null,null,null,null,null,null,null,null,null,null,null,null,""]
[{"$f":"IF(AND(ISBLANK(INDEX($G:$G,)), ISBLANK(INDEX($C:$C,))), \"\", 'PWS Records (System Entry)'!$D$4)","v":""},{"$f":"IF(AND(ISBLANK(INDEX($G:$G,)), ISBLANK(INDEX($C:$C,))), \"\", 'PWS Records (System Entry)'!$D$3)","v":""},null,null,null,null,null,null,null,null,null,null,null,null,null,null,null,null,null,null,""]
[{"$f":"IF(AND(ISBLANK(INDEX($G:$G,)), ISBLANK(INDEX($C:$C,))), \"\", 'PWS Records (System Entry)'!$D$4)","v":""},{"$f":"IF(AND(ISBLANK(INDEX($G:$G,)), ISBLANK(INDEX($C:$C,))), \"\", 'PWS Records (System Entry)'!$D$3)","v":""},null,null,null,null,null,null,null,null,null,null,null,null,null,null,null,null,null,null,""]
[{"$f":"IF(AND(ISBLANK(INDEX($G:$G,)), ISBLANK(INDEX($C:$C,))), \"\", 'PWS Records (System Entry)'!$D$4)","v":""},{"$f":"IF(AND(ISBLANK(INDEX($G:$G,)), ISBLANK(INDEX($C:$C,))), \"\", 'PWS Records (System Entry)'!$D$3)","v":""},null,null,null,null,null,null,null,null,null,null,null,null,null,null,null,null,null,null,""]
[{"$f":"IF(AND(ISBLANK(INDEX($G:$G,)), ISBLANK(INDEX($C:$C,))), \"\", 'PWS Records (System Entry)'!$D$4)","v":""},{"$f":"IF(AND(ISBLANK(INDEX($G:$G,)), ISBLANK(INDEX($C:$C,))), \"\", 'PWS Records (System Entry)'!$D$3)","v":""},null,null,null,null,null,null,null,null,null,null,null,null,null,null,null,null,null,null,""]
[{"$f":"IF(AND(ISBLANK(INDEX($G:$G,)), ISBLANK(INDEX($C:$C,))), \"\", 'PWS Records (System Entry)'!$D$4)","v":""},{"$f":"IF(AND(ISBLANK(INDEX($G:$G,)), ISBLANK(INDEX($C:$C,))), \"\", 'PWS Records (System Entry)'!$D$3)","v":""},null,null,null,null,null,null,null,null,null,null,null,null,null,null,null,null,null,null,""]
[{"$f":"IF(AND(ISBLANK(INDEX($G:$G,)), ISBLANK(INDEX($C:$C,))), \"\", 'PWS Records (System Entry)'!$D$4)","v":""},{"$f":"IF(AND(ISBLANK(INDEX($G:$G,)), ISBLANK(INDEX($C:$C,))), \"\", 'PWS Records (System Entry)'!$D$3)","v":""},null,null,null,null,null,null,null,null,null,null,null,null,null,null,null,null,null,null,""]
[{"$f":"IF(AND(ISBLANK(INDEX($G:$G,)), ISBLANK(INDEX($C:$C,))), \"\", 'PWS Records (System Entry)'!$D$4)","v":""},{"$f":"IF(AND(ISBLANK(INDEX($G:$G,)), ISBLANK(INDEX($C:$C,))), \"\", 'PWS Records (System Entry)'!$D$3)","v":""},null,null,null,null,null,null,null,null,null,null,null,null,null,null,null,null,null,null,""]
[{"$f":"IF(AND(ISBLANK(INDEX($G:$G,)), ISBLANK(INDEX($C:$C,))), \"\", 'PWS Records (System Entry)'!$D$4)","v":""},{"$f":"IF(AND(ISBLANK(INDEX($G:$G,)), ISBLANK(INDEX($C:$C,))), \"\", 'PWS Records (System Entry)'!$D$3)","v":""},null,null,null,null,null,null,null,null,null,null,null,null,null,null,null,null,null,null,""]
[{"$f":"IF(AND(ISBLANK(INDEX($G:$G,)), ISBLANK(INDEX($C:$C,))), \"\", 'PWS Records (System Entry)'!$D$4)","v":""},{"$f":"IF(AND(ISBLANK(INDEX($G:$G,)), ISBLANK(INDEX($C:$C,))), \"\", 'PWS Records (System Entry)'!$D$3)","v":""},null,null,null,null,null,null,null,null,null,null,null,null,null,null,null,null,null,null,""]
[{"$f":"IF(AND(ISBLANK(INDEX($G:$G,)), ISBLANK(INDEX($C:$C,))), \"\", 'PWS Records (System Entry)'!$D$4)","v":""},{"$f":"IF(AND(ISBLANK(INDEX($G:$G,)), ISBLANK(INDEX($C:$C,))), \"\", 'PWS Records (System Entry)'!$D$3)","v":""},null,null,null,null,null,null,null,null,null,null,null,null,null,null,null,null,null,null,""]
[{"$f":"IF(AND(ISBLANK(INDEX($G:$G,)), ISBLANK(INDEX($C:$C,))), \"\", 'PWS Records (System Entry)'!$D$4)","v":""},{"$f":"IF(AND(ISBLANK(INDEX($G:$G,)), ISBLANK(INDEX($C:$C,))), \"\", 'PWS Records (System Entry)'!$D$3)","v":""},null,null,null,null,null,null,null,null,null,null,null,null,null,null,null,null,null,null,""]
[{"$f":"IF(AND(ISBLANK(INDEX($G:$G,)), ISBLANK(INDEX($C:$C,))), \"\", 'PWS Records (System Entry)'!$D$4)","v":""},{"$f":"IF(AND(ISBLANK(INDEX($G:$G,)), ISBLANK(INDEX($C:$C,))), \"\", 'PWS Records (System Entry)'!$D$3)","v":""},null,null,null,null,null,null,null,null,null,null,null,null,null,null,null,null,null,null,""]
[{"$f":"IF(AND(ISBLANK(INDEX($G:$G,)), ISBLANK(INDEX($C:$C,))), \"\", 'PWS Records (System Entry)'!$D$4)","v":""},{"$f":"IF(AND(ISBLANK(INDEX($G:$G,)), ISBLANK(INDEX($C:$C,))), \"\", 'PWS Records (System Entry)'!$D$3)","v":""},null,null,null,null,null,null,null,null,null,null,null,null,null,null,null,null,null,null,""]
[{"$f":"IF(AND(ISBLANK(INDEX($G:$G,)), ISBLANK(INDEX($C:$C,))), \"\", 'PWS Records (System Entry)'!$D$4)","v":""},{"$f":"IF(AND(ISBLANK(INDEX($G:$G,)), ISBLANK(INDEX($C:$C,))), \"\", 'PWS Records (System Entry)'!$D$3)","v":""},null,null,null,null,null,null,null,null,null,null,null,null,null,null,null,null,null,null,""]
[{"$f":"IF(AND(ISBLANK(INDEX($G:$G,)), ISBLANK(INDEX($C:$C,))), \"\", 'PWS Records (System Entry)'!$D$4)","v":""},{"$f":"IF(AND(ISBLANK(INDEX($G:$G,)), ISBLANK(INDEX($C:$C,))), \"\", 'PWS Records (System Entry)'!$D$3)","v":""},null,null,null,null,null,null,null,null,null,null,null,null,null,null,null,null,null,null,""]
[{"$f":"IF(AND(ISBLANK(INDEX($G:$G,)), ISBLANK(INDEX($C:$C,))), \"\", 'PWS Records (System Entry)'!$D$4)","v":""},{"$f":"IF(AND(ISBLANK(INDEX($G:$G,)), ISBLANK(INDEX($C:$C,))), \"\", 'PWS Records (System Entry)'!$D$3)","v":""},null,null,null,null,null,null,null,null,null,null,null,null,null,null,null,null,null,null,""]
[{"$f":"IF(AND(ISBLANK(INDEX($G:$G,)), ISBLANK(INDEX($C:$C,))), \"\", 'PWS Records (System Entry)'!$D$4)","v":""},{"$f":"IF(AND(ISBLANK(INDEX($G:$G,)), ISBLANK(INDEX($C:$C,))), \"\", 'PWS Records (System Entry)'!$D$3)","v":""},null,null,null,null,null,null,null,null,null,null,null,null,null,null,null,null,null,null,""]
[{"$f":"IF(AND(ISBLANK(INDEX($G:$G,)), ISBLANK(INDEX($C:$C,))), \"\", 'PWS Records (System Entry)'!$D$4)","v":""},{"$f":"IF(AND(ISBLANK(INDEX($G:$G,)), ISBLANK(INDEX($C:$C,))), \"\", 'PWS Records (System Entry)'!$D$3)","v":""},null,null,null,null,null,null,null,null,null,null,null,null,null,null,null,null,null,null,""]
[{"$f":"IF(AND(ISBLANK(INDEX($G:$G,)), ISBLANK(INDEX($C:$C,))), \"\", 'PWS Records (System Entry)'!$D$4)","v":""},{"$f":"IF(AND(ISBLANK(INDEX($G:$G,)), ISBLANK(INDEX($C:$C,))), \"\", 'PWS Records (System Entry)'!$D$3)","v":""},null,null,null,null,null,null,null,null,null,null,null,null,null,null,null,null,null,null,""]
[{"$f":"IF(AND(ISBLANK(INDEX($G:$G,)), ISBLANK(INDEX($C:$C,))), \"\", 'PWS Records (System Entry)'!$D$4)","v":""},{"$f":"IF(AND(ISBLANK(INDEX($G:$G,)), ISBLANK(INDEX($C:$C,))), \"\", 'PWS Records (System Entry)'!$D$3)","v":""},null,null,null,null,null,null,null,null,null,null,null,null,null,null,null,null,null,null,""]
[{"$f":"IF(AND(ISBLANK(INDEX($G:$G,)), ISBLANK(INDEX($C:$C,))), \"\", 'PWS Records (System Entry)'!$D$4)","v":""},{"$f":"IF(AND(ISBLANK(INDEX($G:$G,)), ISBLANK(INDEX($C:$C,))), \"\", 'PWS Records (System Entry)'!$D$3)","v":""},null,null,null,null,null,null,null,null,null,null,null,null,null,null,null,null,null,null,""]
[{"$f":"IF(AND(ISBLANK(INDEX($G:$G,)), ISBLANK(INDEX($C:$C,))), \"\", 'PWS Records (System Entry)'!$D$4)","v":""},{"$f":"IF(AND(ISBLANK(INDEX($G:$G,)), ISBLANK(INDEX($C:$C,))), \"\", 'PWS Records (System Entry)'!$D$3)","v":""},null,null,null,null,null,null,null,null,null,null,null,null,null,null,null,null,null,null,""]
[{"$f":"IF(AND(ISBLANK(INDEX($G:$G,)), ISBLANK(INDEX($C:$C,))), \"\", 'PWS Records (System Entry)'!$D$4)","v":""},{"$f":"IF(AND(ISBLANK(INDEX($G:$G,)), ISBLANK(INDEX($C:$C,))), \"\", 'PWS Records (System Entry)'!$D$3)","v":""},null,null,null,null,null,null,null,null,null,null,null,null,null,null,null,null,null,null,""]
[{"$f":"IF(AND(ISBLANK(INDEX($G:$G,)), ISBLANK(INDEX($C:$C,))), \"\", 'PWS Records (System Entry)'!$D$4)","v":""},{"$f":"IF(AND(ISBLANK(INDEX($G:$G,)), ISBLANK(INDEX($C:$C,))), \"\", 'PWS Records (System Entry)'!$D$3)","v":""},null,null,null,null,null,null,null,null,null,null,null,null,null,null,null,null,null,null,""]
[{"$f":"IF(AND(ISBLANK(INDEX($G:$G,)), ISBLANK(INDEX($C:$C,))), \"\", 'PWS Records (System Entry)'!$D$4)","v":""},{"$f":"IF(AND(ISBLANK(INDEX($G:$G,)), ISBLANK(INDEX($C:$C,))), \"\", 'PWS Records (System Entry)'!$D$3)","v":""},null,null,null,null,null,null,null,null,null,null,null,null,null,null,null,null,null,null,""]
[{"$f":"IF(AND(ISBLANK(INDEX($G:$G,)), ISBLANK(INDEX($C:$C,))), \"\", 'PWS Records (System Entry)'!$D$4)","v":""},{"$f":"IF(AND(ISBLANK(INDEX($G:$G,)), ISBLANK(INDEX($C:$C,))), \"\", 'PWS Records (System Entry)'!$D$3)","v":""},null,null,null,null,null,null,null,null,null,null,null,null,null,null,null,null,null,null,""]
[{"$f":"IF(AND(ISBLANK(INDEX($G:$G,)), ISBLANK(INDEX($C:$C,))), \"\", 'PWS Records (System Entry)'!$D$4)","v":""},{"$f":"IF(AND(ISBLANK(INDEX($G:$G,)), ISBLANK(INDEX($C:$C,))), \"\", 'PWS Records (System Entry)'!$D$3)","v":""},null,null,null,null,null,null,null,null,null,null,null,null,null,null,null,null,null,null,""]
[{"$f":"IF(AND(ISBLANK(INDEX($G:$G,)), ISBLANK(INDEX($C:$C,))), \"\", 'PWS Records (System Entry)'!$D$4)","v":""},{"$f":"IF(AND(ISBLANK(INDEX($G:$G,)), ISBLANK(INDEX($C:$C,))), \"\", 'PWS Records (System Entry)'!$D$3)","v":""},null,null,null,null,null,null,null,null,null,null,null,null,null,null,null,null,null,null,""]
[{"$f":"IF(AND(ISBLANK(INDEX($G:$G,)), ISBLANK(INDEX($C:$C,))), \"\", 'PWS Records (System Entry)'!$D$4)","v":""},{"$f":"IF(AND(ISBLANK(INDEX($G:$G,)), ISBLANK(INDEX($C:$C,))), \"\", 'PWS Records (System Entry)'!$D$3)","v":""},null,null,null,null,null,null,null,null,null,null,null,null,null,null,null,null,null,null,""]
[{"$f":"IF(AND(ISBLANK(INDEX($G:$G,)), ISBLANK(INDEX($C:$C,))), \"\", 'PWS Records (System Entry)'!$D$4)","v":""},{"$f":"IF(AND(ISBLANK(INDEX($G:$G,)), ISBLANK(INDEX($C:$C,))), \"\", 'PWS Records (System Entry)'!$D$3)","v":""},null,null,null,null,null,null,null,null,null,null,null,null,null,null,null,null,null,null,""]
[{"$f":"IF(AND(ISBLANK(INDEX($G:$G,)), ISBLANK(INDEX($C:$C,))), \"\", 'PWS Records (System Entry)'!$D$4)","v":""},{"$f":"IF(AND(ISBLANK(INDEX($G:$G,)), ISBLANK(INDEX($C:$C,))), \"\", 'PWS Records (System Entry)'!$D$3)","v":""},null,null,null,null,null,null,null,null,null,null,null,null,null,null,null,null,null,null,""]
[{"$f":"IF(AND(ISBLANK(INDEX($G:$G,)), ISBLANK(INDEX($C:$C,))), \"\", 'PWS Records (System Entry)'!$D$4)","v":""},{"$f":"IF(AND(ISBLANK(INDEX($G:$G,)), ISBLANK(INDEX($C:$C,))), \"\", 'PWS Records (System Entry)'!$D$3)","v":""},null,null,null,null,null,null,null,null,null,null,null,null,null,null,null,null,null,null,""]
[{"$f":"IF(AND(ISBLANK(INDEX($G:$G,)), ISBLANK(INDEX($C:$C,))), \"\", 'PWS Records (System Entry)'!$D$4)","v":""},{"$f":"IF(AND(ISBLANK(INDEX($G:$G,)), ISBLANK(INDEX($C:$C,))), \"\", 'PWS Records (System Entry)'!$D$3)","v":""},null,null,null,null,null,null,null,null,null,null,null,null,null,null,null,null,null,null,""]
[{"$f":"IF(AND(ISBLANK(INDEX($G:$G,)), ISBLANK(INDEX($C:$C,))), \"\", 'PWS Records (System Entry)'!$D$4)","v":""},{"$f":"IF(AND(ISBLANK(INDEX($G:$G,)), ISBLANK(INDEX($C:$C,))), \"\", 'PWS Records (System Entry)'!$D$3)","v":""},null,null,null,null,null,null,null,null,null,null,null,null,null,null,null,null,null,null,""]
[{"$f":"IF(AND(ISBLANK(INDEX($G:$G,)), ISBLANK(INDEX($C:$C,))), \"\", 'PWS Records (System Entry)'!$D$4)","v":""},{"$f":"IF(AND(ISBLANK(INDEX($G:$G,)), ISBLANK(INDEX($C:$C,))), \"\", 'PWS Records (System Entry)'!$D$3)","v":""},null,null,null,null,null,null,null,null,null,null,null,null,null,null,null,null,null,null,""]
[{"$f":"IF(AND(ISBLANK(INDEX($G:$G,)), ISBLANK(INDEX($C:$C,))), \"\", 'PWS Records (System Entry)'!$D$4)","v":""},{"$f":"IF(AND(ISBLANK(INDEX($G:$G,)), ISBLANK(INDEX($C:$C,))), \"\", 'PWS Records (System Entry)'!$D$3)","v":""},null,null,null,null,null,null,null,null,null,null,null,null,null,null,null,null,null,null,""]
[{"$f":"IF(AND(ISBLANK(INDEX($G:$G,)), ISBLANK(INDEX($C:$C,))), \"\", 'PWS Records (System Entry)'!$D$4)","v":""},{"$f":"IF(AND(ISBLANK(INDEX($G:$G,)), ISBLANK(INDEX($C:$C,))), \"\", 'PWS Records (System Entry)'!$D$3)","v":""},null,null,null,null,null,null,null,null,null,null,null,null,null,null,null,null,null,null,""]
[{"$f":"IF(AND(ISBLANK(INDEX($G:$G,)), ISBLANK(INDEX($C:$C,))), \"\", 'PWS Records (System Entry)'!$D$4)","v":""},{"$f":"IF(AND(ISBLANK(INDEX($G:$G,)), ISBLANK(INDEX($C:$C,))), \"\", 'PWS Records (System Entry)'!$D$3)","v":""},null,null,null,null,null,null,null,null,null,null,null,null,null,null,null,null,null,null,""]
[{"$f":"IF(AND(ISBLANK(INDEX($G:$G,)), ISBLANK(INDEX($C:$C,))), \"\", 'PWS Records (System Entry)'!$D$4)","v":""},{"$f":"IF(AND(ISBLANK(INDEX($G:$G,)), ISBLANK(INDEX($C:$C,))), \"\", 'PWS Records (System Entry)'!$D$3)","v":""},null,null,null,null,null,null,null,null,null,null,null,null,null,null,null,null,null,null,""]
[{"$f":"IF(AND(ISBLANK(INDEX($G:$G,)), ISBLANK(INDEX($C:$C,))), \"\", 'PWS Records (System Entry)'!$D$4)","v":""},{"$f":"IF(AND(ISBLANK(INDEX($G:$G,)), ISBLANK(INDEX($C:$C,))), \"\", 'PWS Records (System Entry)'!$D$3)","v":""},null,null,null,null,null,null,null,null,null,null,null,null,null,null,null,null,null,null,""]
[{"$f":"IF(AND(ISBLANK(INDEX($G:$G,)), ISBLANK(INDEX($C:$C,))), \"\", 'PWS Records (System Entry)'!$D$4)","v":""},{"$f":"IF(AND(ISBLANK(INDEX($G:$G,)), ISBLANK(INDEX($C:$C,))), \"\", 'PWS Records (System Entry)'!$D$3)","v":""},null,null,null,null,null,null,null,null,null,null,null,null,null,null,null,null,null,null,""]
[{"$f":"IF(AND(ISBLANK(INDEX($G:$G,)), ISBLANK(INDEX($C:$C,))), \"\", 'PWS Records (System Entry)'!$D$4)","v":""},{"$f":"IF(AND(ISBLANK(INDEX($G:$G,)), ISBLANK(INDEX($C:$C,))), \"\", 'PWS Records (System Entry)'!$D$3)","v":""},null,null,null,null,null,null,null,null,null,null,null,null,null,null,null,null,null,null,""]
[{"$f":"IF(AND(ISBLANK(INDEX($G:$G,)), ISBLANK(INDEX($C:$C,))), \"\", 'PWS Records (System Entry)'!$D$4)","v":""},{"$f":"IF(AND(ISBLANK(INDEX($G:$G,)), ISBLANK(INDEX($C:$C,))), \"\", 'PWS Records (System Entry)'!$D$3)","v":""},null,null,null,null,null,null,null,null,null,null,null,null,null,null,null,null,null,null,""]
[{"$f":"IF(AND(ISBLANK(INDEX($G:$G,)), ISBLANK(INDEX($C:$C,))), \"\", 'PWS Records (System Entry)'!$D$4)","v":""},{"$f":"IF(AND(ISBLANK(INDEX($G:$G,)), ISBLANK(INDEX($C:$C,))), \"\", 'PWS Records (System Entry)'!$D$3)","v":""},null,null,null,null,null,null,null,null,null,null,null,null,null,null,null,null,null,null,""]
[{"$f":"IF(AND(ISBLANK(INDEX($G:$G,)), ISBLANK(INDEX($C:$C,))), \"\", 'PWS Records (System Entry)'!$D$4)","v":""},{"$f":"IF(AND(ISBLANK(INDEX($G:$G,)), ISBLANK(INDEX($C:$C,))), \"\", 'PWS Records (System Entry)'!$D$3)","v":""},null,null,null,null,null,null,null,null,null,null,null,null,null,null,null,null,null,null,""]
[{"$f":"IF(AND(ISBLANK(INDEX($G:$G,)), ISBLANK(INDEX($C:$C,))), \"\", 'PWS Records (System Entry)'!$D$4)","v":""},{"$f":"IF(AND(ISBLANK(INDEX($G:$G,)), ISBLANK(INDEX($C:$C,))), \"\", 'PWS Records (System Entry)'!$D$3)","v":""},null,null,null,null,null,null,null,null,null,null,null,null,null,null,null,null,null,null,""]
[{"$f":"IF(AND(ISBLANK(INDEX($G:$G,)), ISBLANK(INDEX($C:$C,))), \"\", 'PWS Records (System Entry)'!$D$4)","v":""},{"$f":"IF(AND(ISBLANK(INDEX($G:$G,)), ISBLANK(INDEX($C:$C,))), \"\", 'PWS Records (System Entry)'!$D$3)","v":""},null,null,null,null,null,null,null,null,null,null,null,null,null,null,null,null,null,null,{"$f":"IF(AND(INDEX($K:$K,)=\"\", INDEX($L:$L,)=\"\", INDEX($M:$M,)=\"\", INDEX($Q:$Q,)=\"\", INDEX($R:$R,)=\"\"), \"\", IF(OR(INDEX($K:$K,)=\"Lead\",INDEX($Q:$Q,)=\"Lead\"),\"Lead\",IF(OR(AND(OR(INDEX($M:$M,)=\"Yes\", INDEX($M:$M,)=\"Don't Know\", INDEX($M:$M,)=\"\"), INDEX($Q:$Q,)=\"Galvanized Iron/Steel\"), AND(INDEX($K:$K,)=\"Unknown\", INDEX($M:$M,)=\"No\", INDEX($Q:$Q,)=\"Galvanized Iron/Steel\")), \"Galvanized Requiring Replacement\", IF(OR(AND(OR(INDEX($K:$K,)=\"Galvanized Iron/Steel\", INDEX($K:$K,)=\"Non-Lead - Copper\", INDEX($K:$K,)=\"Non-Lead - Plastic\", INDEX($K:$K,)=\"Non-Lead - Other\", INDEX($K:$K,)=\"Non-Lead - Material Unknown\", INDEX($K:$K,)=\"No System Owned Portion\"), OR(INDEX($Q:$Q,)=\"Galvanized Iron/Steel\", INDEX($Q:$Q,)=\"Non-Lead - Copper\", INDEX($Q:$Q,)=\"Non-Lead - Plastic\", INDEX($Q:$Q,)=\"Non-Lead - Other\", INDEX($Q:$Q,)=\"Non-Lead - Predictive Model\", INDEX($Q:$Q,)=\"No Customer Owned Portion\")), AND(OR( INDEX($K:$K,)=\"Galvanized Iron/Steel\", INDEX($K:$K,)=\"Non-Lead - Copper\", INDEX($K:$K,)=\"Non-Lead - Plastic\", INDEX($K:$K,)=\"Non-Lead - Other\", INDEX($K:$K,)=\"Non-Lead - Material Unknown\", INDEX($K:$K,)=\"No System Owned Portion\"), INDEX($M:$M,)=\"No\", INDEX($Q:$Q,)=\"Non-Lead - Material Unknown\")), \"Non-Lead\", \"Lead Status Unknown\"))))","v":""}]
[{"$f":"IF(AND(ISBLANK(INDEX($G:$G,)), ISBLANK(INDEX($C:$C,))), \"\", 'PWS Records (System Entry)'!$D$4)","v":""},{"$f":"IF(AND(ISBLANK(INDEX($G:$G,)), ISBLANK(INDEX($C:$C,))), \"\", 'PWS Records (System Entry)'!$D$3)","v":""},null,null,null,null,null,null,null,null,null,null,null,null,null,null,null,null,null,null,""]
[{"$f":"IF(AND(ISBLANK(INDEX($G:$G,)), ISBLANK(INDEX($C:$C,))), \"\", 'PWS Records (System Entry)'!$D$4)","v":""},{"$f":"IF(AND(ISBLANK(INDEX($G:$G,)), ISBLANK(INDEX($C:$C,))), \"\", 'PWS Records (System Entry)'!$D$3)","v":""},null,null,null,null,null,null,null,null,null,null,null,null,null,null,null,null,null,null,""]
[{"$f":"IF(AND(ISBLANK(INDEX($G:$G,)), ISBLANK(INDEX($C:$C,))), \"\", 'PWS Records (System Entry)'!$D$4)","v":""},{"$f":"IF(AND(ISBLANK(INDEX($G:$G,)), ISBLANK(INDEX($C:$C,))), \"\", 'PWS Records (System Entry)'!$D$3)","v":""},null,null,null,null,null,null,null,null,null,null,null,null,null,null,null,null,null,null,""]
[{"$f":"IF(AND(ISBLANK(INDEX($G:$G,)), ISBLANK(INDEX($C:$C,))), \"\", 'PWS Records (System Entry)'!$D$4)","v":""},{"$f":"IF(AND(ISBLANK(INDEX($G:$G,)), ISBLANK(INDEX($C:$C,))), \"\", 'PWS Records (System Entry)'!$D$3)","v":""},null,null,null,null,null,null,null,null,null,null,null,null,null,null,null,null,null,null,""]
[{"$f":"IF(AND(ISBLANK(INDEX($G:$G,)), ISBLANK(INDEX($C:$C,))), \"\", 'PWS Records (System Entry)'!$D$4)","v":""},{"$f":"IF(AND(ISBLANK(INDEX($G:$G,)), ISBLANK(INDEX($C:$C,))), \"\", 'PWS Records (System Entry)'!$D$3)","v":""},null,null,null,null,null,null,null,null,null,null,null,null,null,null,null,null,null,null,""]
[{"$f":"IF(AND(ISBLANK(INDEX($G:$G,)), ISBLANK(INDEX($C:$C,))), \"\", 'PWS Records (System Entry)'!$D$4)","v":""},{"$f":"IF(AND(ISBLANK(INDEX($G:$G,)), ISBLANK(INDEX($C:$C,))), \"\", 'PWS Records (System Entry)'!$D$3)","v":""},null,null,null,null,null,null,null,null,null,null,null,null,null,null,null,null,null,null,""]
[{"$f":"IF(AND(ISBLANK(INDEX($G:$G,)), ISBLANK(INDEX($C:$C,))), \"\", 'PWS Records (System Entry)'!$D$4)","v":""},{"$f":"IF(AND(ISBLANK(INDEX($G:$G,)), ISBLANK(INDEX($C:$C,))), \"\", 'PWS Records (System Entry)'!$D$3)","v":""},null,null,null,null,null,null,null,null,null,null,null,null,null,null,null,null,null,null,""]
[{"$f":"IF(AND(ISBLANK(INDEX($G:$G,)), ISBLANK(INDEX($C:$C,))), \"\", 'PWS Records (System Entry)'!$D$4)","v":""},{"$f":"IF(AND(ISBLANK(INDEX($G:$G,)), ISBLANK(INDEX($C:$C,))), \"\", 'PWS Records (System Entry)'!$D$3)","v":""},null,null,null,null,null,null,null,null,null,null,null,null,null,null,null,null,null,null,""]
[{"$f":"IF(AND(ISBLANK(INDEX($G:$G,)), ISBLANK(INDEX($C:$C,))), \"\", 'PWS Records (System Entry)'!$D$4)","v":""},{"$f":"IF(AND(ISBLANK(INDEX($G:$G,)), ISBLANK(INDEX($C:$C,))), \"\", 'PWS Records (System Entry)'!$D$3)","v":""},null,null,null,null,null,null,null,null,null,null,null,null,null,null,null,null,null,null,""]
[{"$f":"IF(AND(ISBLANK(INDEX($G:$G,)), ISBLANK(INDEX($C:$C,))), \"\", 'PWS Records (System Entry)'!$D$4)","v":""},{"$f":"IF(AND(ISBLANK(INDEX($G:$G,)), ISBLANK(INDEX($C:$C,))), \"\", 'PWS Records (System Entry)'!$D$3)","v":""},null,null,null,null,null,null,null,null,null,null,null,null,null,null,null,null,null,null,""]
[{"$f":"IF(AND(ISBLANK(INDEX($G:$G,)), ISBLANK(INDEX($C:$C,))), \"\", 'PWS Records (System Entry)'!$D$4)","v":""},{"$f":"IF(AND(ISBLANK(INDEX($G:$G,)), ISBLANK(INDEX($C:$C,))), \"\", 'PWS Records (System Entry)'!$D$3)","v":""},null,null,null,null,null,null,null,null,null,null,null,null,null,null,null,null,null,null,""]
[{"$f":"IF(AND(ISBLANK(INDEX($G:$G,)), ISBLANK(INDEX($C:$C,))), \"\", 'PWS Records (System Entry)'!$D$4)","v":""},{"$f":"IF(AND(ISBLANK(INDEX($G:$G,)), ISBLANK(INDEX($C:$C,))), \"\", 'PWS Records (System Entry)'!$D$3)","v":""},null,null,null,null,null,null,null,null,null,null,null,null,null,null,null,null,null,null,""]
[{"$f":"IF(AND(ISBLANK(INDEX($G:$G,)), ISBLANK(INDEX($C:$C,))), \"\", 'PWS Records (System Entry)'!$D$4)","v":""},{"$f":"IF(AND(ISBLANK(INDEX($G:$G,)), ISBLANK(INDEX($C:$C,))), \"\", 'PWS Records (System Entry)'!$D$3)","v":""},null,null,null,null,null,null,null,null,null,null,null,null,null,null,null,null,null,null,""]
[{"$f":"IF(AND(ISBLANK(INDEX($G:$G,)), ISBLANK(INDEX($C:$C,))), \"\", 'PWS Records (System Entry)'!$D$4)","v":""},{"$f":"IF(AND(ISBLANK(INDEX($G:$G,)), ISBLANK(INDEX($C:$C,))), \"\", 'PWS Records (System Entry)'!$D$3)","v":""},null,null,null,null,null,null,null,null,null,null,null,null,null,null,null,null,null,null,""]
[{"$f":"IF(AND(ISBLANK(INDEX($G:$G,)), ISBLANK(INDEX($C:$C,))), \"\", 'PWS Records (System Entry)'!$D$4)","v":""},{"$f":"IF(AND(ISBLANK(INDEX($G:$G,)), ISBLANK(INDEX($C:$C,))), \"\", 'PWS Records (System Entry)'!$D$3)","v":""},null,null,null,null,null,null,null,null,null,null,null,null,null,null,null,null,null,null,""]
[{"$f":"IF(AND(ISBLANK(INDEX($G:$G,)), ISBLANK(INDEX($C:$C,))), \"\", 'PWS Records (System Entry)'!$D$4)","v":""},{"$f":"IF(AND(ISBLANK(INDEX($G:$G,)), ISBLANK(INDEX($C:$C,))), \"\", 'PWS Records (System Entry)'!$D$3)","v":""},null,null,null,null,null,null,null,null,null,null,null,null,null,null,null,null,null,null,""]
[{"$f":"IF(AND(ISBLANK(INDEX($G:$G,)), ISBLANK(INDEX($C:$C,))), \"\", 'PWS Records (System Entry)'!$D$4)","v":""},{"$f":"IF(AND(ISBLANK(INDEX($G:$G,)), ISBLANK(INDEX($C:$C,))), \"\", 'PWS Records (System Entry)'!$D$3)","v":""},null,null,null,null,null,null,null,null,null,null,null,null,null,null,null,null,null,null,""]
[{"$f":"IF(AND(ISBLANK(INDEX($G:$G,)), ISBLANK(INDEX($C:$C,))), \"\", 'PWS Records (System Entry)'!$D$4)","v":""},{"$f":"IF(AND(ISBLANK(INDEX($G:$G,)), ISBLANK(INDEX($C:$C,))), \"\", 'PWS Records (System Entry)'!$D$3)","v":""},null,null,null,null,null,null,null,null,null,null,null,null,null,null,null,null,null,null,""]
[{"$f":"IF(AND(ISBLANK(INDEX($G:$G,)), ISBLANK(INDEX($C:$C,))), \"\", 'PWS Records (System Entry)'!$D$4)","v":""},{"$f":"IF(AND(ISBLANK(INDEX($G:$G,)), ISBLANK(INDEX($C:$C,))), \"\", 'PWS Records (System Entry)'!$D$3)","v":""},null,null,null,null,null,null,null,null,null,null,null,null,null,null,null,null,null,null,""]
[{"$f":"IF(AND(ISBLANK(INDEX($G:$G,)), ISBLANK(INDEX($C:$C,))), \"\", 'PWS Records (System Entry)'!$D$4)","v":""},{"$f":"IF(AND(ISBLANK(INDEX($G:$G,)), ISBLANK(INDEX($C:$C,))), \"\", 'PWS Records (System Entry)'!$D$3)","v":""},null,null,null,null,null,null,null,null,null,null,null,null,null,null,null,null,null,null,""]
[{"$f":"IF(AND(ISBLANK(INDEX($G:$G,)), ISBLANK(INDEX($C:$C,))), \"\", 'PWS Records (System Entry)'!$D$4)","v":""},{"$f":"IF(AND(ISBLANK(INDEX($G:$G,)), ISBLANK(INDEX($C:$C,))), \"\", 'PWS Records (System Entry)'!$D$3)","v":""},null,null,null,null,null,null,null,null,null,null,null,null,null,null,null,null,null,null,""]
[{"$f":"IF(AND(ISBLANK(INDEX($G:$G,)), ISBLANK(INDEX($C:$C,))), \"\", 'PWS Records (System Entry)'!$D$4)","v":""},{"$f":"IF(AND(ISBLANK(INDEX($G:$G,)), ISBLANK(INDEX($C:$C,))), \"\", 'PWS Records (System Entry)'!$D$3)","v":""},null,null,null,null,null,null,null,null,null,null,null,null,null,null,null,null,null,null,""]
[{"$f":"IF(AND(ISBLANK(INDEX($G:$G,)), ISBLANK(INDEX($C:$C,))), \"\", 'PWS Records (System Entry)'!$D$4)","v":""},{"$f":"IF(AND(ISBLANK(INDEX($G:$G,)), ISBLANK(INDEX($C:$C,))), \"\", 'PWS Records (System Entry)'!$D$3)","v":""},null,null,null,null,null,null,null,null,null,null,null,null,null,null,null,null,null,null,""]
[{"$f":"IF(AND(ISBLANK(INDEX($G:$G,)), ISBLANK(INDEX($C:$C,))), \"\", 'PWS Records (System Entry)'!$D$4)","v":""},{"$f":"IF(AND(ISBLANK(INDEX($G:$G,)), ISBLANK(INDEX($C:$C,))), \"\", 'PWS Records (System Entry)'!$D$3)","v":""},null,null,null,null,null,null,null,null,null,null,null,null,null,null,null,null,null,null,""]
[{"$f":"IF(AND(ISBLANK(INDEX($G:$G,)), ISBLANK(INDEX($C:$C,))), \"\", 'PWS Records (System Entry)'!$D$4)","v":""},{"$f":"IF(AND(ISBLANK(INDEX($G:$G,)), ISBLANK(INDEX($C:$C,))), \"\", 'PWS Records (System Entry)'!$D$3)","v":""},null,null,null,null,null,null,null,null,null,null,null,null,null,null,null,null,null,null,""]
[{"$f":"IF(AND(ISBLANK(INDEX($G:$G,)), ISBLANK(INDEX($C:$C,))), \"\", 'PWS Records (System Entry)'!$D$4)","v":""},{"$f":"IF(AND(ISBLANK(INDEX($G:$G,)), ISBLANK(INDEX($C:$C,))), \"\", 'PWS Records (System Entry)'!$D$3)","v":""},null,null,null,null,null,null,null,null,null,null,null,null,null,null,null,null,null,null,""]
[{"$f":"IF(AND(ISBLANK(INDEX($G:$G,)), ISBLANK(INDEX($C:$C,))), \"\", 'PWS Records (System Entry)'!$D$4)","v":""},{"$f":"IF(AND(ISBLANK(INDEX($G:$G,)), ISBLANK(INDEX($C:$C,))), \"\", 'PWS Records (System Entry)'!$D$3)","v":""},null,null,null,null,null,null,null,null,null,null,null,null,null,null,null,null,null,null,""]
[{"$f":"IF(AND(ISBLANK(INDEX($G:$G,)), ISBLANK(INDEX($C:$C,))), \"\", 'PWS Records (System Entry)'!$D$4)","v":""},{"$f":"IF(AND(ISBLANK(INDEX($G:$G,)), ISBLANK(INDEX($C:$C,))), \"\", 'PWS Records (System Entry)'!$D$3)","v":""},null,null,null,null,null,null,null,null,null,null,null,null,null,null,null,null,null,null,""]
[{"$f":"IF(AND(ISBLANK(INDEX($G:$G,)), ISBLANK(INDEX($C:$C,))), \"\", 'PWS Records (System Entry)'!$D$4)","v":""},{"$f":"IF(AND(ISBLANK(INDEX($G:$G,)), ISBLANK(INDEX($C:$C,))), \"\", 'PWS Records (System Entry)'!$D$3)","v":""},null,null,null,null,null,null,null,null,null,null,null,null,null,null,null,null,null,null,""]
[{"$f":"IF(AND(ISBLANK(INDEX($G:$G,)), ISBLANK(INDEX($C:$C,))), \"\", 'PWS Records (System Entry)'!$D$4)","v":""},{"$f":"IF(AND(ISBLANK(INDEX($G:$G,)), ISBLANK(INDEX($C:$C,))), \"\", 'PWS Records (System Entry)'!$D$3)","v":""},null,null,null,null,null,null,null,null,null,null,null,null,null,null,null,null,null,null,""]
[{"$f":"IF(AND(ISBLANK(INDEX($G:$G,)), ISBLANK(INDEX($C:$C,))), \"\", 'PWS Records (System Entry)'!$D$4)","v":""},{"$f":"IF(AND(ISBLANK(INDEX($G:$G,)), ISBLANK(INDEX($C:$C,))), \"\", 'PWS Records (System Entry)'!$D$3)","v":""},null,null,null,null,null,null,null,null,null,null,null,null,null,null,null,null,null,null,""]
[{"$f":"IF(AND(ISBLANK(INDEX($G:$G,)), ISBLANK(INDEX($C:$C,))), \"\", 'PWS Records (System Entry)'!$D$4)","v":""},{"$f":"IF(AND(ISBLANK(INDEX($G:$G,)), ISBLANK(INDEX($C:$C,))), \"\", 'PWS Records (System Entry)'!$D$3)","v":""},null,null,null,null,null,null,null,null,null,null,null,null,null,null,null,null,null,null,""]
[{"$f":"IF(AND(ISBLANK(INDEX($G:$G,)), ISBLANK(INDEX($C:$C,))), \"\", 'PWS Records (System Entry)'!$D$4)","v":""},{"$f":"IF(AND(ISBLANK(INDEX($G:$G,)), ISBLANK(INDEX($C:$C,))), \"\", 'PWS Records (System Entry)'!$D$3)","v":""},null,null,null,null,null,null,null,null,null,null,null,null,null,null,null,null,null,null,""]
[{"$f":"IF(AND(ISBLANK(INDEX($G:$G,)), ISBLANK(INDEX($C:$C,))), \"\", 'PWS Records (System Entry)'!$D$4)","v":""},{"$f":"IF(AND(ISBLANK(INDEX($G:$G,)), ISBLANK(INDEX($C:$C,))), \"\", 'PWS Records (System Entry)'!$D$3)","v":""},null,null,null,null,null,null,null,null,null,null,null,null,null,null,null,null,null,null,""]
[{"$f":"IF(AND(ISBLANK(INDEX($G:$G,)), ISBLANK(INDEX($C:$C,))), \"\", 'PWS Records (System Entry)'!$D$4)","v":""},{"$f":"IF(AND(ISBLANK(INDEX($G:$G,)), ISBLANK(INDEX($C:$C,))), \"\", 'PWS Records (System Entry)'!$D$3)","v":""},null,null,null,null,null,null,null,null,null,null,null,null,null,null,null,null,null,null,""]
[{"$f":"IF(AND(ISBLANK(INDEX($G:$G,)), ISBLANK(INDEX($C:$C,))), \"\", 'PWS Records (System Entry)'!$D$4)","v":""},{"$f":"IF(AND(ISBLANK(INDEX($G:$G,)), ISBLANK(INDEX($C:$C,))), \"\", 'PWS Records (System Entry)'!$D$3)","v":""},null,null,null,null,null,null,null,null,null,null,null,null,null,null,null,null,null,null,""]
[{"$f":"IF(AND(ISBLANK(INDEX($G:$G,)), ISBLANK(INDEX($C:$C,))), \"\", 'PWS Records (System Entry)'!$D$4)","v":""},{"$f":"IF(AND(ISBLANK(INDEX($G:$G,)), ISBLANK(INDEX($C:$C,))), \"\", 'PWS Records (System Entry)'!$D$3)","v":""},null,null,null,null,null,null,null,null,null,null,null,null,null,null,null,null,null,null,""]
[{"$f":"IF(AND(ISBLANK(INDEX($G:$G,)), ISBLANK(INDEX($C:$C,))), \"\", 'PWS Records (System Entry)'!$D$4)","v":""},{"$f":"IF(AND(ISBLANK(INDEX($G:$G,)), ISBLANK(INDEX($C:$C,))), \"\", 'PWS Records (System Entry)'!$D$3)","v":""},null,null,null,null,null,null,null,null,null,null,null,null,null,null,null,null,null,null,""]
[{"$f":"IF(AND(ISBLANK(INDEX($G:$G,)), ISBLANK(INDEX($C:$C,))), \"\", 'PWS Records (System Entry)'!$D$4)","v":""},{"$f":"IF(AND(ISBLANK(INDEX($G:$G,)), ISBLANK(INDEX($C:$C,))), \"\", 'PWS Records (System Entry)'!$D$3)","v":""},null,null,null,null,null,null,null,null,null,null,null,null,null,null,null,null,null,null,""]
[{"$f":"IF(AND(ISBLANK(INDEX($G:$G,)), ISBLANK(INDEX($C:$C,))), \"\", 'PWS Records (System Entry)'!$D$4)","v":""},{"$f":"IF(AND(ISBLANK(INDEX($G:$G,)), ISBLANK(INDEX($C:$C,))), \"\", 'PWS Records (System Entry)'!$D$3)","v":""},null,null,null,null,null,null,null,null,null,null,null,null,null,null,null,null,null,null,""]
[{"$f":"IF(AND(ISBLANK(INDEX($G:$G,)), ISBLANK(INDEX($C:$C,))), \"\", 'PWS Records (System Entry)'!$D$4)","v":""},{"$f":"IF(AND(ISBLANK(INDEX($G:$G,)), ISBLANK(INDEX($C:$C,))), \"\", 'PWS Records (System Entry)'!$D$3)","v":""},null,null,null,null,null,null,null,null,null,null,null,null,null,null,null,null,null,null,""]
[{"$f":"IF(AND(ISBLANK(INDEX($G:$G,)), ISBLANK(INDEX($C:$C,))), \"\", 'PWS Records (System Entry)'!$D$4)","v":""},{"$f":"IF(AND(ISBLANK(INDEX($G:$G,)), ISBLANK(INDEX($C:$C,))), \"\", 'PWS Records (System Entry)'!$D$3)","v":""},null,null,null,null,null,null,null,null,null,null,null,null,null,null,null,null,null,null,""]
[{"$f":"IF(AND(ISBLANK(INDEX($G:$G,)), ISBLANK(INDEX($C:$C,))), \"\", 'PWS Records (System Entry)'!$D$4)","v":""},{"$f":"IF(AND(ISBLANK(INDEX($G:$G,)), ISBLANK(INDEX($C:$C,))), \"\", 'PWS Records (System Entry)'!$D$3)","v":""},null,null,null,null,null,null,null,null,null,null,null,null,null,null,null,null,null,null,""]
[{"$f":"IF(AND(ISBLANK(INDEX($G:$G,)), ISBLANK(INDEX($C:$C,))), \"\", 'PWS Records (System Entry)'!$D$4)","v":""},{"$f":"IF(AND(ISBLANK(INDEX($G:$G,)), ISBLANK(INDEX($C:$C,))), \"\", 'PWS Records (System Entry)'!$D$3)","v":""},null,null,null,null,null,null,null,null,null,null,null,null,null,null,null,null,null,null,""]
[{"$f":"IF(AND(ISBLANK(INDEX($G:$G,)), ISBLANK(INDEX($C:$C,))), \"\", 'PWS Records (System Entry)'!$D$4)","v":""},{"$f":"IF(AND(ISBLANK(INDEX($G:$G,)), ISBLANK(INDEX($C:$C,))), \"\", 'PWS Records (System Entry)'!$D$3)","v":""},null,null,null,null,null,null,null,null,null,null,null,null,null,null,null,null,null,null,""]
[{"$f":"IF(AND(ISBLANK(INDEX($G:$G,)), ISBLANK(INDEX($C:$C,))), \"\", 'PWS Records (System Entry)'!$D$4)","v":""},{"$f":"IF(AND(ISBLANK(INDEX($G:$G,)), ISBLANK(INDEX($C:$C,))), \"\", 'PWS Records (System Entry)'!$D$3)","v":""},null,null,null,null,null,null,null,null,null,null,null,null,null,null,null,null,null,null,""]
[{"$f":"IF(AND(ISBLANK(INDEX($G:$G,)), ISBLANK(INDEX($C:$C,))), \"\", 'PWS Records (System Entry)'!$D$4)","v":""},{"$f":"IF(AND(ISBLANK(INDEX($G:$G,)), ISBLANK(INDEX($C:$C,))), \"\", 'PWS Records (System Entry)'!$D$3)","v":""},null,null,null,null,null,null,null,null,null,null,null,null,null,null,null,null,null,null,""]
[{"$f":"IF(AND(ISBLANK(INDEX($G:$G,)), ISBLANK(INDEX($C:$C,))), \"\", 'PWS Records (System Entry)'!$D$4)","v":""},{"$f":"IF(AND(ISBLANK(INDEX($G:$G,)), ISBLANK(INDEX($C:$C,))), \"\", 'PWS Records (System Entry)'!$D$3)","v":""},null,null,null,null,null,null,null,null,null,null,null,null,null,null,null,null,null,null,""]
[{"$f":"IF(AND(ISBLANK(INDEX($G:$G,)), ISBLANK(INDEX($C:$C,))), \"\", 'PWS Records (System Entry)'!$D$4)","v":""},{"$f":"IF(AND(ISBLANK(INDEX($G:$G,)), ISBLANK(INDEX($C:$C,))), \"\", 'PWS Records (System Entry)'!$D$3)","v":""},null,null,null,null,null,null,null,null,null,null,null,null,null,null,null,null,null,null,""]
[{"$f":"IF(AND(ISBLANK(INDEX($G:$G,)), ISBLANK(INDEX($C:$C,))), \"\", 'PWS Records (System Entry)'!$D$4)","v":""},{"$f":"IF(AND(ISBLANK(INDEX($G:$G,)), ISBLANK(INDEX($C:$C,))), \"\", 'PWS Records (System Entry)'!$D$3)","v":""},null,null,null,null,null,null,null,null,null,null,null,null,null,null,null,null,null,null,""]
[{"$f":"IF(AND(ISBLANK(INDEX($G:$G,)), ISBLANK(INDEX($C:$C,))), \"\", 'PWS Records (System Entry)'!$D$4)","v":""},{"$f":"IF(AND(ISBLANK(INDEX($G:$G,)), ISBLANK(INDEX($C:$C,))), \"\", 'PWS Records (System Entry)'!$D$3)","v":""},null,null,null,null,null,null,null,null,null,null,null,null,null,null,null,null,null,null,""]
[{"$f":"IF(AND(ISBLANK(INDEX($G:$G,)), ISBLANK(INDEX($C:$C,))), \"\", 'PWS Records (System Entry)'!$D$4)","v":""},{"$f":"IF(AND(ISBLANK(INDEX($G:$G,)), ISBLANK(INDEX($C:$C,))), \"\", 'PWS Records (System Entry)'!$D$3)","v":""},null,null,null,null,null,null,null,null,null,null,null,null,null,null,null,null,null,null,""]
[{"$f":"IF(AND(ISBLANK(INDEX($G:$G,)), ISBLANK(INDEX($C:$C,))), \"\", 'PWS Records (System Entry)'!$D$4)","v":""},{"$f":"IF(AND(ISBLANK(INDEX($G:$G,)), ISBLANK(INDEX($C:$C,))), \"\", 'PWS Records (System Entry)'!$D$3)","v":""},null,null,null,null,null,null,null,null,null,null,null,null,null,null,null,null,null,null,""]
[{"$f":"IF(AND(ISBLANK(INDEX($G:$G,)), ISBLANK(INDEX($C:$C,))), \"\", 'PWS Records (System Entry)'!$D$4)","v":""},{"$f":"IF(AND(ISBLANK(INDEX($G:$G,)), ISBLANK(INDEX($C:$C,))), \"\", 'PWS Records (System Entry)'!$D$3)","v":""},null,null,null,null,null,null,null,null,null,null,null,null,null,null,null,null,null,null,""]
[{"$f":"IF(AND(ISBLANK(INDEX($G:$G,)), ISBLANK(INDEX($C:$C,))), \"\", 'PWS Records (System Entry)'!$D$4)","v":""},{"$f":"IF(AND(ISBLANK(INDEX($G:$G,)), ISBLANK(INDEX($C:$C,))), \"\", 'PWS Records (System Entry)'!$D$3)","v":""},null,null,null,null,null,null,null,null,null,null,null,null,null,null,null,null,null,null,""]
[{"$f":"IF(AND(ISBLANK(INDEX($G:$G,)), ISBLANK(INDEX($C:$C,))), \"\", 'PWS Records (System Entry)'!$D$4)","v":""},{"$f":"IF(AND(ISBLANK(INDEX($G:$G,)), ISBLANK(INDEX($C:$C,))), \"\", 'PWS Records (System Entry)'!$D$3)","v":""},null,null,null,null,null,null,null,null,null,null,null,null,null,null,null,null,null,null,""]
[{"$f":"IF(AND(ISBLANK(INDEX($G:$G,)), ISBLANK(INDEX($C:$C,))), \"\", 'PWS Records (System Entry)'!$D$4)","v":""},{"$f":"IF(AND(ISBLANK(INDEX($G:$G,)), ISBLANK(INDEX($C:$C,))), \"\", 'PWS Records (System Entry)'!$D$3)","v":""},null,null,null,null,null,null,null,null,null,null,null,null,null,null,null,null,null,null,""]
[{"$f":"IF(AND(ISBLANK(INDEX($G:$G,)), ISBLANK(INDEX($C:$C,))), \"\", 'PWS Records (System Entry)'!$D$4)","v":""},{"$f":"IF(AND(ISBLANK(INDEX($G:$G,)), ISBLANK(INDEX($C:$C,))), \"\", 'PWS Records (System Entry)'!$D$3)","v":""},null,null,null,null,null,null,null,null,null,null,null,null,null,null,null,null,null,null,""]
[{"$f":"IF(AND(ISBLANK(INDEX($G:$G,)), ISBLANK(INDEX($C:$C,))), \"\", 'PWS Records (System Entry)'!$D$4)","v":""},{"$f":"IF(AND(ISBLANK(INDEX($G:$G,)), ISBLANK(INDEX($C:$C,))), \"\", 'PWS Records (System Entry)'!$D$3)","v":""},null,null,null,null,null,null,null,null,null,null,null,null,null,null,null,null,null,null,""]
[{"$f":"IF(AND(ISBLANK(INDEX($G:$G,)), ISBLANK(INDEX($C:$C,))), \"\", 'PWS Records (System Entry)'!$D$4)","v":""},{"$f":"IF(AND(ISBLANK(INDEX($G:$G,)), ISBLANK(INDEX($C:$C,))), \"\", 'PWS Records (System Entry)'!$D$3)","v":""},null,null,null,null,null,null,null,null,null,null,null,null,null,null,null,null,null,null,""]
[{"$f":"IF(AND(ISBLANK(INDEX($G:$G,)), ISBLANK(INDEX($C:$C,))), \"\", 'PWS Records (System Entry)'!$D$4)","v":""},{"$f":"IF(AND(ISBLANK(INDEX($G:$G,)), ISBLANK(INDEX($C:$C,))), \"\", 'PWS Records (System Entry)'!$D$3)","v":""},null,null,null,null,null,null,null,null,null,null,null,null,null,null,null,null,null,null,""]
[{"$f":"IF(AND(ISBLANK(INDEX($G:$G,)), ISBLANK(INDEX($C:$C,))), \"\", 'PWS Records (System Entry)'!$D$4)","v":""},{"$f":"IF(AND(ISBLANK(INDEX($G:$G,)), ISBLANK(INDEX($C:$C,))), \"\", 'PWS Records (System Entry)'!$D$3)","v":""},null,null,null,null,null,null,null,null,null,null,null,null,null,null,null,null,null,null,""]
[{"$f":"IF(AND(ISBLANK(INDEX($G:$G,)), ISBLANK(INDEX($C:$C,))), \"\", 'PWS Records (System Entry)'!$D$4)","v":""},{"$f":"IF(AND(ISBLANK(INDEX($G:$G,)), ISBLANK(INDEX($C:$C,))), \"\", 'PWS Records (System Entry)'!$D$3)","v":""},null,null,null,null,null,null,null,null,null,null,null,null,null,null,null,null,null,null,""]
[{"$f":"IF(AND(ISBLANK(INDEX($G:$G,)), ISBLANK(INDEX($C:$C,))), \"\", 'PWS Records (System Entry)'!$D$4)","v":""},{"$f":"IF(AND(ISBLANK(INDEX($G:$G,)), ISBLANK(INDEX($C:$C,))), \"\", 'PWS Records (System Entry)'!$D$3)","v":""},null,null,null,null,null,null,null,null,null,null,null,null,null,null,null,null,null,null,{"$f":"IF(AND(INDEX($K:$K,)=\"\", INDEX($L:$L,)=\"\", INDEX($M:$M,)=\"\", INDEX($Q:$Q,)=\"\", INDEX($R:$R,)=\"\"), \"\", IF(OR(INDEX($K:$K,)=\"Lead\",INDEX($Q:$Q,)=\"Lead\"),\"Lead\",IF(OR(AND(OR(INDEX($M:$M,)=\"Yes\", INDEX($M:$M,)=\"Don't Know\", INDEX($M:$M,)=\"\"), INDEX($Q:$Q,)=\"Galvanized Iron/Steel\"), AND(INDEX($K:$K,)=\"Unknown\", INDEX($M:$M,)=\"No\", INDEX($Q:$Q,)=\"Galvanized Iron/Steel\")), \"Galvanized Requiring Replacement\", IF(OR(AND(OR(INDEX($K:$K,)=\"Galvanized Iron/Steel\", INDEX($K:$K,)=\"Non-Lead - Copper\", INDEX($K:$K,)=\"Non-Lead - Plastic\", INDEX($K:$K,)=\"Non-Lead - Other\", INDEX($K:$K,)=\"Non-Lead - Material Unknown\", INDEX($K:$K,)=\"No System Owned Portion\"), OR(INDEX($Q:$Q,)=\"Galvanized Iron/Steel\", INDEX($Q:$Q,)=\"Non-Lead - Copper\", INDEX($Q:$Q,)=\"Non-Lead - Plastic\", INDEX($Q:$Q,)=\"Non-Lead - Other\", INDEX($Q:$Q,)=\"Non-Lead - Predictive Model\", INDEX($Q:$Q,)=\"No Customer Owned Portion\")), AND(OR( INDEX($K:$K,)=\"Galvanized Iron/Steel\", INDEX($K:$K,)=\"Non-Lead - Copper\", INDEX($K:$K,)=\"Non-Lead - Plastic\", INDEX($K:$K,)=\"Non-Lead - Other\", INDEX($K:$K,)=\"Non-Lead - Material Unknown\", INDEX($K:$K,)=\"No System Owned Portion\"), INDEX($M:$M,)=\"No\", INDEX($Q:$Q,)=\"Non-Lead - Material Unknown\")), \"Non-Lead\", \"Lead Status Unknown\"))))","v":""}]
[{"$f":"IF(AND(ISBLANK(INDEX($G:$G,)), ISBLANK(INDEX($C:$C,))), \"\", 'PWS Records (System Entry)'!$D$4)","v":""},{"$f":"IF(AND(ISBLANK(INDEX($G:$G,)), ISBLANK(INDEX($C:$C,))), \"\", 'PWS Records (System Entry)'!$D$3)","v":""},null,null,null,null,null,null,null,null,null,null,null,null,null,null,null,null,null,null,""]
[{"$f":"IF(AND(ISBLANK(INDEX($G:$G,)), ISBLANK(INDEX($C:$C,))), \"\", 'PWS Records (System Entry)'!$D$4)","v":""},{"$f":"IF(AND(ISBLANK(INDEX($G:$G,)), ISBLANK(INDEX($C:$C,))), \"\", 'PWS Records (System Entry)'!$D$3)","v":""},null,null,null,null,null,null,null,null,null,null,null,null,null,null,null,null,null,null,""]
[{"$f":"IF(AND(ISBLANK(INDEX($G:$G,)), ISBLANK(INDEX($C:$C,))), \"\", 'PWS Records (System Entry)'!$D$4)","v":""},{"$f":"IF(AND(ISBLANK(INDEX($G:$G,)), ISBLANK(INDEX($C:$C,))), \"\", 'PWS Records (System Entry)'!$D$3)","v":""},null,null,null,null,null,null,null,null,null,null,null,null,null,null,null,null,null,null,""]
[{"$f":"IF(AND(ISBLANK(INDEX($G:$G,)), ISBLANK(INDEX($C:$C,))), \"\", 'PWS Records (System Entry)'!$D$4)","v":""},{"$f":"IF(AND(ISBLANK(INDEX($G:$G,)), ISBLANK(INDEX($C:$C,))), \"\", 'PWS Records (System Entry)'!$D$3)","v":""},null,null,null,null,null,null,null,null,null,null,null,null,null,null,null,null,null,null,""]
[{"$f":"IF(AND(ISBLANK(INDEX($G:$G,)), ISBLANK(INDEX($C:$C,))), \"\", 'PWS Records (System Entry)'!$D$4)","v":""},{"$f":"IF(AND(ISBLANK(INDEX($G:$G,)), ISBLANK(INDEX($C:$C,))), \"\", 'PWS Records (System Entry)'!$D$3)","v":""},null,null,null,null,null,null,null,null,null,null,null,null,null,null,null,null,null,null,""]
[{"$f":"IF(AND(ISBLANK(INDEX($G:$G,)), ISBLANK(INDEX($C:$C,))), \"\", 'PWS Records (System Entry)'!$D$4)","v":""},{"$f":"IF(AND(ISBLANK(INDEX($G:$G,)), ISBLANK(INDEX($C:$C,))), \"\", 'PWS Records (System Entry)'!$D$3)","v":""},null,null,null,null,null,null,null,null,null,null,null,null,null,null,null,null,null,null,""]
[{"$f":"IF(AND(ISBLANK(INDEX($G:$G,)), ISBLANK(INDEX($C:$C,))), \"\", 'PWS Records (System Entry)'!$D$4)","v":""},{"$f":"IF(AND(ISBLANK(INDEX($G:$G,)), ISBLANK(INDEX($C:$C,))), \"\", 'PWS Records (System Entry)'!$D$3)","v":""},null,null,null,null,null,null,null,null,null,null,null,null,null,null,null,null,null,null,""]
[{"$f":"IF(AND(ISBLANK(INDEX($G:$G,)), ISBLANK(INDEX($C:$C,))), \"\", 'PWS Records (System Entry)'!$D$4)","v":""},{"$f":"IF(AND(ISBLANK(INDEX($G:$G,)), ISBLANK(INDEX($C:$C,))), \"\", 'PWS Records (System Entry)'!$D$3)","v":""},null,null,null,null,null,null,null,null,null,null,null,null,null,null,null,null,null,null,""]
[{"$f":"IF(AND(ISBLANK(INDEX($G:$G,)), ISBLANK(INDEX($C:$C,))), \"\", 'PWS Records (System Entry)'!$D$4)","v":""},{"$f":"IF(AND(ISBLANK(INDEX($G:$G,)), ISBLANK(INDEX($C:$C,))), \"\", 'PWS Records (System Entry)'!$D$3)","v":""},null,null,null,null,null,null,null,null,null,null,null,null,null,null,null,null,null,null,""]
[{"$f":"IF(AND(ISBLANK(INDEX($G:$G,)), ISBLANK(INDEX($C:$C,))), \"\", 'PWS Records (System Entry)'!$D$4)","v":""},{"$f":"IF(AND(ISBLANK(INDEX($G:$G,)), ISBLANK(INDEX($C:$C,))), \"\", 'PWS Records (System Entry)'!$D$3)","v":""},null,null,null,null,null,null,null,null,null,null,null,null,null,null,null,null,null,null,""]
[{"$f":"IF(AND(ISBLANK(INDEX($G:$G,)), ISBLANK(INDEX($C:$C,))), \"\", 'PWS Records (System Entry)'!$D$4)","v":""},{"$f":"IF(AND(ISBLANK(INDEX($G:$G,)), ISBLANK(INDEX($C:$C,))), \"\", 'PWS Records (System Entry)'!$D$3)","v":""},null,null,null,null,null,null,null,null,null,null,null,null,null,null,null,null,null,null,""]
[{"$f":"IF(AND(ISBLANK(INDEX($G:$G,)), ISBLANK(INDEX($C:$C,))), \"\", 'PWS Records (System Entry)'!$D$4)","v":""},{"$f":"IF(AND(ISBLANK(INDEX($G:$G,)), ISBLANK(INDEX($C:$C,))), \"\", 'PWS Records (System Entry)'!$D$3)","v":""},null,null,null,null,null,null,null,null,null,null,null,null,null,null,null,null,null,null,""]
[{"$f":"IF(AND(ISBLANK(INDEX($G:$G,)), ISBLANK(INDEX($C:$C,))), \"\", 'PWS Records (System Entry)'!$D$4)","v":""},{"$f":"IF(AND(ISBLANK(INDEX($G:$G,)), ISBLANK(INDEX($C:$C,))), \"\", 'PWS Records (System Entry)'!$D$3)","v":""},null,null,null,null,null,null,null,null,null,null,null,null,null,null,null,null,null,null,""]
[{"$f":"IF(AND(ISBLANK(INDEX($G:$G,)), ISBLANK(INDEX($C:$C,))), \"\", 'PWS Records (System Entry)'!$D$4)","v":""},{"$f":"IF(AND(ISBLANK(INDEX($G:$G,)), ISBLANK(INDEX($C:$C,))), \"\", 'PWS Records (System Entry)'!$D$3)","v":""},null,null,null,null,null,null,null,null,null,null,null,null,null,null,null,null,null,null,""]
[{"$f":"IF(AND(ISBLANK(INDEX($G:$G,)), ISBLANK(INDEX($C:$C,))), \"\", 'PWS Records (System Entry)'!$D$4)","v":""},{"$f":"IF(AND(ISBLANK(INDEX($G:$G,)), ISBLANK(INDEX($C:$C,))), \"\", 'PWS Records (System Entry)'!$D$3)","v":""},null,null,null,null,null,null,null,null,null,null,null,null,null,null,null,null,null,null,""]
[{"$f":"IF(AND(ISBLANK(INDEX($G:$G,)), ISBLANK(INDEX($C:$C,))), \"\", 'PWS Records (System Entry)'!$D$4)","v":""},{"$f":"IF(AND(ISBLANK(INDEX($G:$G,)), ISBLANK(INDEX($C:$C,))), \"\", 'PWS Records (System Entry)'!$D$3)","v":""},null,null,null,null,null,null,null,null,null,null,null,null,null,null,null,null,null,null,""]
[{"$f":"IF(AND(ISBLANK(INDEX($G:$G,)), ISBLANK(INDEX($C:$C,))), \"\", 'PWS Records (System Entry)'!$D$4)","v":""},{"$f":"IF(AND(ISBLANK(INDEX($G:$G,)), ISBLANK(INDEX($C:$C,))), \"\", 'PWS Records (System Entry)'!$D$3)","v":""},null,null,null,null,null,null,null,null,null,null,null,null,null,null,null,null,null,null,""]
[{"$f":"IF(AND(ISBLANK(INDEX($G:$G,)), ISBLANK(INDEX($C:$C,))), \"\", 'PWS Records (System Entry)'!$D$4)","v":""},{"$f":"IF(AND(ISBLANK(INDEX($G:$G,)), ISBLANK(INDEX($C:$C,))), \"\", 'PWS Records (System Entry)'!$D$3)","v":""},null,null,null,null,null,null,null,null,null,null,null,null,null,null,null,null,null,null,""]
[{"$f":"IF(AND(ISBLANK(INDEX($G:$G,)), ISBLANK(INDEX($C:$C,))), \"\", 'PWS Records (System Entry)'!$D$4)","v":""},{"$f":"IF(AND(ISBLANK(INDEX($G:$G,)), ISBLANK(INDEX($C:$C,))), \"\", 'PWS Records (System Entry)'!$D$3)","v":""},null,null,null,null,null,null,null,null,null,null,null,null,null,null,null,null,null,null,""]
[{"$f":"IF(AND(ISBLANK(INDEX($G:$G,)), ISBLANK(INDEX($C:$C,))), \"\", 'PWS Records (System Entry)'!$D$4)","v":""},{"$f":"IF(AND(ISBLANK(INDEX($G:$G,)), ISBLANK(INDEX($C:$C,))), \"\", 'PWS Records (System Entry)'!$D$3)","v":""},null,null,null,null,null,null,null,null,null,null,null,null,null,null,null,null,null,null,""]
[{"$f":"IF(AND(ISBLANK(INDEX($G:$G,)), ISBLANK(INDEX($C:$C,))), \"\", 'PWS Records (System Entry)'!$D$4)","v":""},{"$f":"IF(AND(ISBLANK(INDEX($G:$G,)), ISBLANK(INDEX($C:$C,))), \"\", 'PWS Records (System Entry)'!$D$3)","v":""},null,null,null,null,null,null,null,null,null,null,null,null,null,null,null,null,null,null,""]
[{"$f":"IF(AND(ISBLANK(INDEX($G:$G,)), ISBLANK(INDEX($C:$C,))), \"\", 'PWS Records (System Entry)'!$D$4)","v":""},{"$f":"IF(AND(ISBLANK(INDEX($G:$G,)), ISBLANK(INDEX($C:$C,))), \"\", 'PWS Records (System Entry)'!$D$3)","v":""},null,null,null,null,null,null,null,null,null,null,null,null,null,null,null,null,null,null,""]
[{"$f":"IF(AND(ISBLANK(INDEX($G:$G,)), ISBLANK(INDEX($C:$C,))), \"\", 'PWS Records (System Entry)'!$D$4)","v":""},{"$f":"IF(AND(ISBLANK(INDEX($G:$G,)), ISBLANK(INDEX($C:$C,))), \"\", 'PWS Records (System Entry)'!$D$3)","v":""},null,null,null,null,null,null,null,null,null,null,null,null,null,null,null,null,null,null,""]
[{"$f":"IF(AND(ISBLANK(INDEX($G:$G,)), ISBLANK(INDEX($C:$C,))), \"\", 'PWS Records (System Entry)'!$D$4)","v":""},{"$f":"IF(AND(ISBLANK(INDEX($G:$G,)), ISBLANK(INDEX($C:$C,))), \"\", 'PWS Records (System Entry)'!$D$3)","v":""},null,null,null,null,null,null,null,null,null,null,null,null,null,null,null,null,null,null,""]
[{"$f":"IF(AND(ISBLANK(INDEX($G:$G,)), ISBLANK(INDEX($C:$C,))), \"\", 'PWS Records (System Entry)'!$D$4)","v":""},{"$f":"IF(AND(ISBLANK(INDEX($G:$G,)), ISBLANK(INDEX($C:$C,))), \"\", 'PWS Records (System Entry)'!$D$3)","v":""},null,null,null,null,null,null,null,null,null,null,null,null,null,null,null,null,null,null,""]
[{"$f":"IF(AND(ISBLANK(INDEX($G:$G,)), ISBLANK(INDEX($C:$C,))), \"\", 'PWS Records (System Entry)'!$D$4)","v":""},{"$f":"IF(AND(ISBLANK(INDEX($G:$G,)), ISBLANK(INDEX($C:$C,))), \"\", 'PWS Records (System Entry)'!$D$3)","v":""},null,null,null,null,null,null,null,null,null,null,null,null,null,null,null,null,null,null,""]
[{"$f":"IF(AND(ISBLANK(INDEX($G:$G,)), ISBLANK(INDEX($C:$C,))), \"\", 'PWS Records (System Entry)'!$D$4)","v":""},{"$f":"IF(AND(ISBLANK(INDEX($G:$G,)), ISBLANK(INDEX($C:$C,))), \"\", 'PWS Records (System Entry)'!$D$3)","v":""},null,null,null,null,null,null,null,null,null,null,null,null,null,null,null,null,null,null,""]
[{"$f":"IF(AND(ISBLANK(INDEX($G:$G,)), ISBLANK(INDEX($C:$C,))), \"\", 'PWS Records (System Entry)'!$D$4)","v":""},{"$f":"IF(AND(ISBLANK(INDEX($G:$G,)), ISBLANK(INDEX($C:$C,))), \"\", 'PWS Records (System Entry)'!$D$3)","v":""},null,null,null,null,null,null,null,null,null,null,null,null,null,null,null,null,null,null,""]
[{"$f":"IF(AND(ISBLANK(INDEX($G:$G,)), ISBLANK(INDEX($C:$C,))), \"\", 'PWS Records (System Entry)'!$D$4)","v":""},{"$f":"IF(AND(ISBLANK(INDEX($G:$G,)), ISBLANK(INDEX($C:$C,))), \"\", 'PWS Records (System Entry)'!$D$3)","v":""},null,null,null,null,null,null,null,null,null,null,null,null,null,null,null,null,null,null,""]
[{"$f":"IF(AND(ISBLANK(INDEX($G:$G,)), ISBLANK(INDEX($C:$C,))), \"\", 'PWS Records (System Entry)'!$D$4)","v":""},{"$f":"IF(AND(ISBLANK(INDEX($G:$G,)), ISBLANK(INDEX($C:$C,))), \"\", 'PWS Records (System Entry)'!$D$3)","v":""},null,null,null,null,null,null,null,null,null,null,null,null,null,null,null,null,null,null,""]
[{"$f":"IF(AND(ISBLANK(INDEX($G:$G,)), ISBLANK(INDEX($C:$C,))), \"\", 'PWS Records (System Entry)'!$D$4)","v":""},{"$f":"IF(AND(ISBLANK(INDEX($G:$G,)), ISBLANK(INDEX($C:$C,))), \"\", 'PWS Records (System Entry)'!$D$3)","v":""},null,null,null,null,null,null,null,null,null,null,null,null,null,null,null,null,null,null,""]
[{"$f":"IF(AND(ISBLANK(INDEX($G:$G,)), ISBLANK(INDEX($C:$C,))), \"\", 'PWS Records (System Entry)'!$D$4)","v":""},{"$f":"IF(AND(ISBLANK(INDEX($G:$G,)), ISBLANK(INDEX($C:$C,))), \"\", 'PWS Records (System Entry)'!$D$3)","v":""},null,null,null,null,null,null,null,null,null,null,null,null,null,null,null,null,null,null,""]
[{"$f":"IF(AND(ISBLANK(INDEX($G:$G,)), ISBLANK(INDEX($C:$C,))), \"\", 'PWS Records (System Entry)'!$D$4)","v":""},{"$f":"IF(AND(ISBLANK(INDEX($G:$G,)), ISBLANK(INDEX($C:$C,))), \"\", 'PWS Records (System Entry)'!$D$3)","v":""},null,null,null,null,null,null,null,null,null,null,null,null,null,null,null,null,null,null,""]
[{"$f":"IF(AND(ISBLANK(INDEX($G:$G,)), ISBLANK(INDEX($C:$C,))), \"\", 'PWS Records (System Entry)'!$D$4)","v":""},{"$f":"IF(AND(ISBLANK(INDEX($G:$G,)), ISBLANK(INDEX($C:$C,))), \"\", 'PWS Records (System Entry)'!$D$3)","v":""},null,null,null,null,null,null,null,null,null,null,null,null,null,null,null,null,null,null,""]
[{"$f":"IF(AND(ISBLANK(INDEX($G:$G,)), ISBLANK(INDEX($C:$C,))), \"\", 'PWS Records (System Entry)'!$D$4)","v":""},{"$f":"IF(AND(ISBLANK(INDEX($G:$G,)), ISBLANK(INDEX($C:$C,))), \"\", 'PWS Records (System Entry)'!$D$3)","v":""},null,null,null,null,null,null,null,null,null,null,null,null,null,null,null,null,null,null,""]
[{"$f":"IF(AND(ISBLANK(INDEX($G:$G,)), ISBLANK(INDEX($C:$C,))), \"\", 'PWS Records (System Entry)'!$D$4)","v":""},{"$f":"IF(AND(ISBLANK(INDEX($G:$G,)), ISBLANK(INDEX($C:$C,))), \"\", 'PWS Records (System Entry)'!$D$3)","v":""},null,null,null,null,null,null,null,null,null,null,null,null,null,null,null,null,null,null,""]
[{"$f":"IF(AND(ISBLANK(INDEX($G:$G,)), ISBLANK(INDEX($C:$C,))), \"\", 'PWS Records (System Entry)'!$D$4)","v":""},{"$f":"IF(AND(ISBLANK(INDEX($G:$G,)), ISBLANK(INDEX($C:$C,))), \"\", 'PWS Records (System Entry)'!$D$3)","v":""},null,null,null,null,null,null,null,null,null,null,null,null,null,null,null,null,null,null,""]
[{"$f":"IF(AND(ISBLANK(INDEX($G:$G,)), ISBLANK(INDEX($C:$C,))), \"\", 'PWS Records (System Entry)'!$D$4)","v":""},{"$f":"IF(AND(ISBLANK(INDEX($G:$G,)), ISBLANK(INDEX($C:$C,))), \"\", 'PWS Records (System Entry)'!$D$3)","v":""},null,null,null,null,null,null,null,null,null,null,null,null,null,null,null,null,null,null,""]
[{"$f":"IF(AND(ISBLANK(INDEX($G:$G,)), ISBLANK(INDEX($C:$C,))), \"\", 'PWS Records (System Entry)'!$D$4)","v":""},{"$f":"IF(AND(ISBLANK(INDEX($G:$G,)), ISBLANK(INDEX($C:$C,))), \"\", 'PWS Records (System Entry)'!$D$3)","v":""},null,null,null,null,null,null,null,null,null,null,null,null,null,null,null,null,null,null,""]
[{"$f":"IF(AND(ISBLANK(INDEX($G:$G,)), ISBLANK(INDEX($C:$C,))), \"\", 'PWS Records (System Entry)'!$D$4)","v":""},{"$f":"IF(AND(ISBLANK(INDEX($G:$G,)), ISBLANK(INDEX($C:$C,))), \"\", 'PWS Records (System Entry)'!$D$3)","v":""},null,null,null,null,null,null,null,null,null,null,null,null,null,null,null,null,null,null,""]
[{"$f":"IF(AND(ISBLANK(INDEX($G:$G,)), ISBLANK(INDEX($C:$C,))), \"\", 'PWS Records (System Entry)'!$D$4)","v":""},{"$f":"IF(AND(ISBLANK(INDEX($G:$G,)), ISBLANK(INDEX($C:$C,))), \"\", 'PWS Records (System Entry)'!$D$3)","v":""},null,null,null,null,null,null,null,null,null,null,null,null,null,null,null,null,null,null,""]
[{"$f":"IF(AND(ISBLANK(INDEX($G:$G,)), ISBLANK(INDEX($C:$C,))), \"\", 'PWS Records (System Entry)'!$D$4)","v":""},{"$f":"IF(AND(ISBLANK(INDEX($G:$G,)), ISBLANK(INDEX($C:$C,))), \"\", 'PWS Records (System Entry)'!$D$3)","v":""},null,null,null,null,null,null,null,null,null,null,null,null,null,null,null,null,null,null,""]
[{"$f":"IF(AND(ISBLANK(INDEX($G:$G,)), ISBLANK(INDEX($C:$C,))), \"\", 'PWS Records (System Entry)'!$D$4)","v":""},{"$f":"IF(AND(ISBLANK(INDEX($G:$G,)), ISBLANK(INDEX($C:$C,))), \"\", 'PWS Records (System Entry)'!$D$3)","v":""},null,null,null,null,null,null,null,null,null,null,null,null,null,null,null,null,null,null,""]
[{"$f":"IF(AND(ISBLANK(INDEX($G:$G,)), ISBLANK(INDEX($C:$C,))), \"\", 'PWS Records (System Entry)'!$D$4)","v":""},{"$f":"IF(AND(ISBLANK(INDEX($G:$G,)), ISBLANK(INDEX($C:$C,))), \"\", 'PWS Records (System Entry)'!$D$3)","v":""},null,null,null,null,null,null,null,null,null,null,null,null,null,null,null,null,null,null,""]
[{"$f":"IF(AND(ISBLANK(INDEX($G:$G,)), ISBLANK(INDEX($C:$C,))), \"\", 'PWS Records (System Entry)'!$D$4)","v":""},{"$f":"IF(AND(ISBLANK(INDEX($G:$G,)), ISBLANK(INDEX($C:$C,))), \"\", 'PWS Records (System Entry)'!$D$3)","v":""},null,null,null,null,null,null,null,null,null,null,null,null,null,null,null,null,null,null,""]
[{"$f":"IF(AND(ISBLANK(INDEX($G:$G,)), ISBLANK(INDEX($C:$C,))), \"\", 'PWS Records (System Entry)'!$D$4)","v":""},{"$f":"IF(AND(ISBLANK(INDEX($G:$G,)), ISBLANK(INDEX($C:$C,))), \"\", 'PWS Records (System Entry)'!$D$3)","v":""},null,null,null,null,null,null,null,null,null,null,null,null,null,null,null,null,null,null,""]
[{"$f":"IF(AND(ISBLANK(INDEX($G:$G,)), ISBLANK(INDEX($C:$C,))), \"\", 'PWS Records (System Entry)'!$D$4)","v":""},{"$f":"IF(AND(ISBLANK(INDEX($G:$G,)), ISBLANK(INDEX($C:$C,))), \"\", 'PWS Records (System Entry)'!$D$3)","v":""},null,null,null,null,null,null,null,null,null,null,null,null,null,null,null,null,null,null,""]
[{"$f":"IF(AND(ISBLANK(INDEX($G:$G,)), ISBLANK(INDEX($C:$C,))), \"\", 'PWS Records (System Entry)'!$D$4)","v":""},{"$f":"IF(AND(ISBLANK(INDEX($G:$G,)), ISBLANK(INDEX($C:$C,))), \"\", 'PWS Records (System Entry)'!$D$3)","v":""},null,null,null,null,null,null,null,null,null,null,null,null,null,null,null,null,null,null,""]
[{"$f":"IF(AND(ISBLANK(INDEX($G:$G,)), ISBLANK(INDEX($C:$C,))), \"\", 'PWS Records (System Entry)'!$D$4)","v":""},{"$f":"IF(AND(ISBLANK(INDEX($G:$G,)), ISBLANK(INDEX($C:$C,))), \"\", 'PWS Records (System Entry)'!$D$3)","v":""},null,null,null,null,null,null,null,null,null,null,null,null,null,null,null,null,null,null,""]
[{"$f":"IF(AND(ISBLANK(INDEX($G:$G,)), ISBLANK(INDEX($C:$C,))), \"\", 'PWS Records (System Entry)'!$D$4)","v":""},{"$f":"IF(AND(ISBLANK(INDEX($G:$G,)), ISBLANK(INDEX($C:$C,))), \"\", 'PWS Records (System Entry)'!$D$3)","v":""},null,null,null,null,null,null,null,null,null,null,null,null,null,null,null,null,null,null,""]
[{"$f":"IF(AND(ISBLANK(INDEX($G:$G,)), ISBLANK(INDEX($C:$C,))), \"\", 'PWS Records (System Entry)'!$D$4)","v":""},{"$f":"IF(AND(ISBLANK(INDEX($G:$G,)), ISBLANK(INDEX($C:$C,))), \"\", 'PWS Records (System Entry)'!$D$3)","v":""},null,null,null,null,null,null,null,null,null,null,null,null,null,null,null,null,null,null,""]
[{"$f":"IF(AND(ISBLANK(INDEX($G:$G,)), ISBLANK(INDEX($C:$C,))), \"\", 'PWS Records (System Entry)'!$D$4)","v":""},{"$f":"IF(AND(ISBLANK(INDEX($G:$G,)), ISBLANK(INDEX($C:$C,))), \"\", 'PWS Records (System Entry)'!$D$3)","v":""},null,null,null,null,null,null,null,null,null,null,null,null,null,null,null,null,null,null,""]
[{"$f":"IF(AND(ISBLANK(INDEX($G:$G,)), ISBLANK(INDEX($C:$C,))), \"\", 'PWS Records (System Entry)'!$D$4)","v":""},{"$f":"IF(AND(ISBLANK(INDEX($G:$G,)), ISBLANK(INDEX($C:$C,))), \"\", 'PWS Records (System Entry)'!$D$3)","v":""},null,null,null,null,null,null,null,null,null,null,null,null,null,null,null,null,null,null,""]
[{"$f":"IF(AND(ISBLANK(INDEX($G:$G,)), ISBLANK(INDEX($C:$C,))), \"\", 'PWS Records (System Entry)'!$D$4)","v":""},{"$f":"IF(AND(ISBLANK(INDEX($G:$G,)), ISBLANK(INDEX($C:$C,))), \"\", 'PWS Records (System Entry)'!$D$3)","v":""},null,null,null,null,null,null,null,null,null,null,null,null,null,null,null,null,null,null,""]
[{"$f":"IF(AND(ISBLANK(INDEX($G:$G,)), ISBLANK(INDEX($C:$C,))), \"\", 'PWS Records (System Entry)'!$D$4)","v":""},{"$f":"IF(AND(ISBLANK(INDEX($G:$G,)), ISBLANK(INDEX($C:$C,))), \"\", 'PWS Records (System Entry)'!$D$3)","v":""},null,null,null,null,null,null,null,null,null,null,null,null,null,null,null,null,null,null,""]
[{"$f":"IF(AND(ISBLANK(INDEX($G:$G,)), ISBLANK(INDEX($C:$C,))), \"\", 'PWS Records (System Entry)'!$D$4)","v":""},{"$f":"IF(AND(ISBLANK(INDEX($G:$G,)), ISBLANK(INDEX($C:$C,))), \"\", 'PWS Records (System Entry)'!$D$3)","v":""},null,null,null,null,null,null,null,null,null,null,null,null,null,null,null,null,null,null,""]
[{"$f":"IF(AND(ISBLANK(INDEX($G:$G,)), ISBLANK(INDEX($C:$C,))), \"\", 'PWS Records (System Entry)'!$D$4)","v":""},{"$f":"IF(AND(ISBLANK(INDEX($G:$G,)), ISBLANK(INDEX($C:$C,))), \"\", 'PWS Records (System Entry)'!$D$3)","v":""},null,null,null,null,null,null,null,null,null,null,null,null,null,null,null,null,null,null,""]
[{"$f":"IF(AND(ISBLANK(INDEX($G:$G,)), ISBLANK(INDEX($C:$C,))), \"\", 'PWS Records (System Entry)'!$D$4)","v":""},{"$f":"IF(AND(ISBLANK(INDEX($G:$G,)), ISBLANK(INDEX($C:$C,))), \"\", 'PWS Records (System Entry)'!$D$3)","v":""},null,null,null,null,null,null,null,null,null,null,null,null,null,null,null,null,null,null,""]
[{"$f":"IF(AND(ISBLANK(INDEX($G:$G,)), ISBLANK(INDEX($C:$C,))), \"\", 'PWS Records (System Entry)'!$D$4)","v":""},{"$f":"IF(AND(ISBLANK(INDEX($G:$G,)), ISBLANK(INDEX($C:$C,))), \"\", 'PWS Records (System Entry)'!$D$3)","v":""},null,null,null,null,null,null,null,null,null,null,null,null,null,null,null,null,null,null,""]
[{"$f":"IF(AND(ISBLANK(INDEX($G:$G,)), ISBLANK(INDEX($C:$C,))), \"\", 'PWS Records (System Entry)'!$D$4)","v":""},{"$f":"IF(AND(ISBLANK(INDEX($G:$G,)), ISBLANK(INDEX($C:$C,))), \"\", 'PWS Records (System Entry)'!$D$3)","v":""},null,null,null,null,null,null,null,null,null,null,null,null,null,null,null,null,null,null,""]
[{"$f":"IF(AND(ISBLANK(INDEX($G:$G,)), ISBLANK(INDEX($C:$C,))), \"\", 'PWS Records (System Entry)'!$D$4)","v":""},{"$f":"IF(AND(ISBLANK(INDEX($G:$G,)), ISBLANK(INDEX($C:$C,))), \"\", 'PWS Records (System Entry)'!$D$3)","v":""},null,null,null,null,null,null,null,null,null,null,null,null,null,null,null,null,null,null,""]
[{"$f":"IF(AND(ISBLANK(INDEX($G:$G,)), ISBLANK(INDEX($C:$C,))), \"\", 'PWS Records (System Entry)'!$D$4)","v":""},{"$f":"IF(AND(ISBLANK(INDEX($G:$G,)), ISBLANK(INDEX($C:$C,))), \"\", 'PWS Records (System Entry)'!$D$3)","v":""},null,null,null,null,null,null,null,null,null,null,null,null,null,null,null,null,null,null,""]
[{"$f":"IF(AND(ISBLANK(INDEX($G:$G,)), ISBLANK(INDEX($C:$C,))), \"\", 'PWS Records (System Entry)'!$D$4)","v":""},{"$f":"IF(AND(ISBLANK(INDEX($G:$G,)), ISBLANK(INDEX($C:$C,))), \"\", 'PWS Records (System Entry)'!$D$3)","v":""},null,null,null,null,null,null,null,null,null,null,null,null,null,null,null,null,null,null,""]
[{"$f":"IF(AND(ISBLANK(INDEX($G:$G,)), ISBLANK(INDEX($C:$C,))), \"\", 'PWS Records (System Entry)'!$D$4)","v":""},{"$f":"IF(AND(ISBLANK(INDEX($G:$G,)), ISBLANK(INDEX($C:$C,))), \"\", 'PWS Records (System Entry)'!$D$3)","v":""},null,null,null,null,null,null,null,null,null,null,null,null,null,null,null,null,null,null,{"$f":"IF(AND(INDEX($K:$K,)=\"\", INDEX($L:$L,)=\"\", INDEX($M:$M,)=\"\", INDEX($Q:$Q,)=\"\", INDEX($R:$R,)=\"\"), \"\", IF(OR(INDEX($K:$K,)=\"Lead\",INDEX($Q:$Q,)=\"Lead\"),\"Lead\",IF(OR(AND(OR(INDEX($M:$M,)=\"Yes\", INDEX($M:$M,)=\"Don't Know\", INDEX($M:$M,)=\"\"), INDEX($Q:$Q,)=\"Galvanized Iron/Steel\"), AND(INDEX($K:$K,)=\"Unknown\", INDEX($M:$M,)=\"No\", INDEX($Q:$Q,)=\"Galvanized Iron/Steel\")), \"Galvanized Requiring Replacement\", IF(OR(AND(OR(INDEX($K:$K,)=\"Galvanized Iron/Steel\", INDEX($K:$K,)=\"Non-Lead - Copper\", INDEX($K:$K,)=\"Non-Lead - Plastic\", INDEX($K:$K,)=\"Non-Lead - Other\", INDEX($K:$K,)=\"Non-Lead - Material Unknown\", INDEX($K:$K,)=\"No System Owned Portion\"), OR(INDEX($Q:$Q,)=\"Galvanized Iron/Steel\", INDEX($Q:$Q,)=\"Non-Lead - Copper\", INDEX($Q:$Q,)=\"Non-Lead - Plastic\", INDEX($Q:$Q,)=\"Non-Lead - Other\", INDEX($Q:$Q,)=\"Non-Lead - Predictive Model\", INDEX($Q:$Q,)=\"No Customer Owned Portion\")), AND(OR( INDEX($K:$K,)=\"Galvanized Iron/Steel\", INDEX($K:$K,)=\"Non-Lead - Copper\", INDEX($K:$K,)=\"Non-Lead - Plastic\", INDEX($K:$K,)=\"Non-Lead - Other\", INDEX($K:$K,)=\"Non-Lead - Material Unknown\", INDEX($K:$K,)=\"No System Owned Portion\"), INDEX($M:$M,)=\"No\", INDEX($Q:$Q,)=\"Non-Lead - Material Unknown\")), \"Non-Lead\", \"Lead Status Unknown\"))))","v":""}]
[{"$f":"IF(AND(ISBLANK(INDEX($G:$G,)), ISBLANK(INDEX($C:$C,))), \"\", 'PWS Records (System Entry)'!$D$4)","v":""},{"$f":"IF(AND(ISBLANK(INDEX($G:$G,)), ISBLANK(INDEX($C:$C,))), \"\", 'PWS Records (System Entry)'!$D$3)","v":""},null,null,null,null,null,null,null,null,null,null,null,null,null,null,null,null,null,null,""]
[{"$f":"IF(AND(ISBLANK(INDEX($G:$G,)), ISBLANK(INDEX($C:$C,))), \"\", 'PWS Records (System Entry)'!$D$4)","v":""},{"$f":"IF(AND(ISBLANK(INDEX($G:$G,)), ISBLANK(INDEX($C:$C,))), \"\", 'PWS Records (System Entry)'!$D$3)","v":""},null,null,null,null,null,null,null,null,null,null,null,null,null,null,null,null,null,null,""]
[{"$f":"IF(AND(ISBLANK(INDEX($G:$G,)), ISBLANK(INDEX($C:$C,))), \"\", 'PWS Records (System Entry)'!$D$4)","v":""},{"$f":"IF(AND(ISBLANK(INDEX($G:$G,)), ISBLANK(INDEX($C:$C,))), \"\", 'PWS Records (System Entry)'!$D$3)","v":""},null,null,null,null,null,null,null,null,null,null,null,null,null,null,null,null,null,null,""]
[{"$f":"IF(AND(ISBLANK(INDEX($G:$G,)), ISBLANK(INDEX($C:$C,))), \"\", 'PWS Records (System Entry)'!$D$4)","v":""},{"$f":"IF(AND(ISBLANK(INDEX($G:$G,)), ISBLANK(INDEX($C:$C,))), \"\", 'PWS Records (System Entry)'!$D$3)","v":""},null,null,null,null,null,null,null,null,null,null,null,null,null,null,null,null,null,null,""]
[{"$f":"IF(AND(ISBLANK(INDEX($G:$G,)), ISBLANK(INDEX($C:$C,))), \"\", 'PWS Records (System Entry)'!$D$4)","v":""},{"$f":"IF(AND(ISBLANK(INDEX($G:$G,)), ISBLANK(INDEX($C:$C,))), \"\", 'PWS Records (System Entry)'!$D$3)","v":""},null,null,null,null,null,null,null,null,null,null,null,null,null,null,null,null,null,null,""]
[{"$f":"IF(AND(ISBLANK(INDEX($G:$G,)), ISBLANK(INDEX($C:$C,))), \"\", 'PWS Records (System Entry)'!$D$4)","v":""},{"$f":"IF(AND(ISBLANK(INDEX($G:$G,)), ISBLANK(INDEX($C:$C,))), \"\", 'PWS Records (System Entry)'!$D$3)","v":""},null,null,null,null,null,null,null,null,null,null,null,null,null,null,null,null,null,null,""]
[{"$f":"IF(AND(ISBLANK(INDEX($G:$G,)), ISBLANK(INDEX($C:$C,))), \"\", 'PWS Records (System Entry)'!$D$4)","v":""},{"$f":"IF(AND(ISBLANK(INDEX($G:$G,)), ISBLANK(INDEX($C:$C,))), \"\", 'PWS Records (System Entry)'!$D$3)","v":""},null,null,null,null,null,null,null,null,null,null,null,null,null,null,null,null,null,null,""]
[{"$f":"IF(AND(ISBLANK(INDEX($G:$G,)), ISBLANK(INDEX($C:$C,))), \"\", 'PWS Records (System Entry)'!$D$4)","v":""},{"$f":"IF(AND(ISBLANK(INDEX($G:$G,)), ISBLANK(INDEX($C:$C,))), \"\", 'PWS Records (System Entry)'!$D$3)","v":""},null,null,null,null,null,null,null,null,null,null,null,null,null,null,null,null,null,null,""]
[{"$f":"IF(AND(ISBLANK(INDEX($G:$G,)), ISBLANK(INDEX($C:$C,))), \"\", 'PWS Records (System Entry)'!$D$4)","v":""},{"$f":"IF(AND(ISBLANK(INDEX($G:$G,)), ISBLANK(INDEX($C:$C,))), \"\", 'PWS Records (System Entry)'!$D$3)","v":""},null,null,null,null,null,null,null,null,null,null,null,null,null,null,null,null,null,null,""]
[{"$f":"IF(AND(ISBLANK(INDEX($G:$G,)), ISBLANK(INDEX($C:$C,))), \"\", 'PWS Records (System Entry)'!$D$4)","v":""},{"$f":"IF(AND(ISBLANK(INDEX($G:$G,)), ISBLANK(INDEX($C:$C,))), \"\", 'PWS Records (System Entry)'!$D$3)","v":""},null,null,null,null,null,null,null,null,null,null,null,null,null,null,null,null,null,null,""]
[{"$f":"IF(AND(ISBLANK(INDEX($G:$G,)), ISBLANK(INDEX($C:$C,))), \"\", 'PWS Records (System Entry)'!$D$4)","v":""},{"$f":"IF(AND(ISBLANK(INDEX($G:$G,)), ISBLANK(INDEX($C:$C,))), \"\", 'PWS Records (System Entry)'!$D$3)","v":""},null,null,null,null,null,null,null,null,null,null,null,null,null,null,null,null,null,null,""]
[{"$f":"IF(AND(ISBLANK(INDEX($G:$G,)), ISBLANK(INDEX($C:$C,))), \"\", 'PWS Records (System Entry)'!$D$4)","v":""},{"$f":"IF(AND(ISBLANK(INDEX($G:$G,)), ISBLANK(INDEX($C:$C,))), \"\", 'PWS Records (System Entry)'!$D$3)","v":""},null,null,null,null,null,null,null,null,null,null,null,null,null,null,null,null,null,null,""]
[{"$f":"IF(AND(ISBLANK(INDEX($G:$G,)), ISBLANK(INDEX($C:$C,))), \"\", 'PWS Records (System Entry)'!$D$4)","v":""},{"$f":"IF(AND(ISBLANK(INDEX($G:$G,)), ISBLANK(INDEX($C:$C,))), \"\", 'PWS Records (System Entry)'!$D$3)","v":""},null,null,null,null,null,null,null,null,null,null,null,null,null,null,null,null,null,null,""]
[{"$f":"IF(AND(ISBLANK(INDEX($G:$G,)), ISBLANK(INDEX($C:$C,))), \"\", 'PWS Records (System Entry)'!$D$4)","v":""},{"$f":"IF(AND(ISBLANK(INDEX($G:$G,)), ISBLANK(INDEX($C:$C,))), \"\", 'PWS Records (System Entry)'!$D$3)","v":""},null,null,null,null,null,null,null,null,null,null,null,null,null,null,null,null,null,null,""]
[{"$f":"IF(AND(ISBLANK(INDEX($G:$G,)), ISBLANK(INDEX($C:$C,))), \"\", 'PWS Records (System Entry)'!$D$4)","v":""},{"$f":"IF(AND(ISBLANK(INDEX($G:$G,)), ISBLANK(INDEX($C:$C,))), \"\", 'PWS Records (System Entry)'!$D$3)","v":""},null,null,null,null,null,null,null,null,null,null,null,null,null,null,null,null,null,null,""]
[{"$f":"IF(AND(ISBLANK(INDEX($G:$G,)), ISBLANK(INDEX($C:$C,))), \"\", 'PWS Records (System Entry)'!$D$4)","v":""},{"$f":"IF(AND(ISBLANK(INDEX($G:$G,)), ISBLANK(INDEX($C:$C,))), \"\", 'PWS Records (System Entry)'!$D$3)","v":""},null,null,null,null,null,null,null,null,null,null,null,null,null,null,null,null,null,null,""]
[{"$f":"IF(AND(ISBLANK(INDEX($G:$G,)), ISBLANK(INDEX($C:$C,))), \"\", 'PWS Records (System Entry)'!$D$4)","v":""},{"$f":"IF(AND(ISBLANK(INDEX($G:$G,)), ISBLANK(INDEX($C:$C,))), \"\", 'PWS Records (System Entry)'!$D$3)","v":""},null,null,null,null,null,null,null,null,null,null,null,null,null,null,null,null,null,null,""]
[{"$f":"IF(AND(ISBLANK(INDEX($G:$G,)), ISBLANK(INDEX($C:$C,))), \"\", 'PWS Records (System Entry)'!$D$4)","v":""},{"$f":"IF(AND(ISBLANK(INDEX($G:$G,)), ISBLANK(INDEX($C:$C,))), \"\", 'PWS Records (System Entry)'!$D$3)","v":""},null,null,null,null,null,null,null,null,null,null,null,null,null,null,null,null,null,null,""]
[{"$f":"IF(AND(ISBLANK(INDEX($G:$G,)), ISBLANK(INDEX($C:$C,))), \"\", 'PWS Records (System Entry)'!$D$4)","v":""},{"$f":"IF(AND(ISBLANK(INDEX($G:$G,)), ISBLANK(INDEX($C:$C,))), \"\", 'PWS Records (System Entry)'!$D$3)","v":""},null,null,null,null,null,null,null,null,null,null,null,null,null,null,null,null,null,null,""]
[{"$f":"IF(AND(ISBLANK(INDEX($G:$G,)), ISBLANK(INDEX($C:$C,))), \"\", 'PWS Records (System Entry)'!$D$4)","v":""},{"$f":"IF(AND(ISBLANK(INDEX($G:$G,)), ISBLANK(INDEX($C:$C,))), \"\", 'PWS Records (System Entry)'!$D$3)","v":""},null,null,null,null,null,null,null,null,null,null,null,null,null,null,null,null,null,null,""]
[{"$f":"IF(AND(ISBLANK(INDEX($G:$G,)), ISBLANK(INDEX($C:$C,))), \"\", 'PWS Records (System Entry)'!$D$4)","v":""},{"$f":"IF(AND(ISBLANK(INDEX($G:$G,)), ISBLANK(INDEX($C:$C,))), \"\", 'PWS Records (System Entry)'!$D$3)","v":""},null,null,null,null,null,null,null,null,null,null,null,null,null,null,null,null,null,null,""]
[{"$f":"IF(AND(ISBLANK(INDEX($G:$G,)), ISBLANK(INDEX($C:$C,))), \"\", 'PWS Records (System Entry)'!$D$4)","v":""},{"$f":"IF(AND(ISBLANK(INDEX($G:$G,)), ISBLANK(INDEX($C:$C,))), \"\", 'PWS Records (System Entry)'!$D$3)","v":""},null,null,null,null,null,null,null,null,null,null,null,null,null,null,null,null,null,null,""]
[{"$f":"IF(AND(ISBLANK(INDEX($G:$G,)), ISBLANK(INDEX($C:$C,))), \"\", 'PWS Records (System Entry)'!$D$4)","v":""},{"$f":"IF(AND(ISBLANK(INDEX($G:$G,)), ISBLANK(INDEX($C:$C,))), \"\", 'PWS Records (System Entry)'!$D$3)","v":""},null,null,null,null,null,null,null,null,null,null,null,null,null,null,null,null,null,null,""]
[{"$f":"IF(AND(ISBLANK(INDEX($G:$G,)), ISBLANK(INDEX($C:$C,))), \"\", 'PWS Records (System Entry)'!$D$4)","v":""},{"$f":"IF(AND(ISBLANK(INDEX($G:$G,)), ISBLANK(INDEX($C:$C,))), \"\", 'PWS Records (System Entry)'!$D$3)","v":""},null,null,null,null,null,null,null,null,null,null,null,null,null,null,null,null,null,null,""]
[{"$f":"IF(AND(ISBLANK(INDEX($G:$G,)), ISBLANK(INDEX($C:$C,))), \"\", 'PWS Records (System Entry)'!$D$4)","v":""},{"$f":"IF(AND(ISBLANK(INDEX($G:$G,)), ISBLANK(INDEX($C:$C,))), \"\", 'PWS Records (System Entry)'!$D$3)","v":""},null,null,null,null,null,null,null,null,null,null,null,null,null,null,null,null,null,null,""]
[{"$f":"IF(AND(ISBLANK(INDEX($G:$G,)), ISBLANK(INDEX($C:$C,))), \"\", 'PWS Records (System Entry)'!$D$4)","v":""},{"$f":"IF(AND(ISBLANK(INDEX($G:$G,)), ISBLANK(INDEX($C:$C,))), \"\", 'PWS Records (System Entry)'!$D$3)","v":""},null,null,null,null,null,null,null,null,null,null,null,null,null,null,null,null,null,null,""]
[{"$f":"IF(AND(ISBLANK(INDEX($G:$G,)), ISBLANK(INDEX($C:$C,))), \"\", 'PWS Records (System Entry)'!$D$4)","v":""},{"$f":"IF(AND(ISBLANK(INDEX($G:$G,)), ISBLANK(INDEX($C:$C,))), \"\", 'PWS Records (System Entry)'!$D$3)","v":""},null,null,null,null,null,null,null,null,null,null,null,null,null,null,null,null,null,null,""]
[{"$f":"IF(AND(ISBLANK(INDEX($G:$G,)), ISBLANK(INDEX($C:$C,))), \"\", 'PWS Records (System Entry)'!$D$4)","v":""},{"$f":"IF(AND(ISBLANK(INDEX($G:$G,)), ISBLANK(INDEX($C:$C,))), \"\", 'PWS Records (System Entry)'!$D$3)","v":""},null,null,null,null,null,null,null,null,null,null,null,null,null,null,null,null,null,null,""]
[{"$f":"IF(AND(ISBLANK(INDEX($G:$G,)), ISBLANK(INDEX($C:$C,))), \"\", 'PWS Records (System Entry)'!$D$4)","v":""},{"$f":"IF(AND(ISBLANK(INDEX($G:$G,)), ISBLANK(INDEX($C:$C,))), \"\", 'PWS Records (System Entry)'!$D$3)","v":""},null,null,null,null,null,null,null,null,null,null,null,null,null,null,null,null,null,null,""]
[{"$f":"IF(AND(ISBLANK(INDEX($G:$G,)), ISBLANK(INDEX($C:$C,))), \"\", 'PWS Records (System Entry)'!$D$4)","v":""},{"$f":"IF(AND(ISBLANK(INDEX($G:$G,)), ISBLANK(INDEX($C:$C,))), \"\", 'PWS Records (System Entry)'!$D$3)","v":""},null,null,null,null,null,null,null,null,null,null,null,null,null,null,null,null,null,null,""]
[{"$f":"IF(AND(ISBLANK(INDEX($G:$G,)), ISBLANK(INDEX($C:$C,))), \"\", 'PWS Records (System Entry)'!$D$4)","v":""},{"$f":"IF(AND(ISBLANK(INDEX($G:$G,)), ISBLANK(INDEX($C:$C,))), \"\", 'PWS Records (System Entry)'!$D$3)","v":""},null,null,null,null,null,null,null,null,null,null,null,null,null,null,null,null,null,null,""]
[{"$f":"IF(AND(ISBLANK(INDEX($G:$G,)), ISBLANK(INDEX($C:$C,))), \"\", 'PWS Records (System Entry)'!$D$4)","v":""},{"$f":"IF(AND(ISBLANK(INDEX($G:$G,)), ISBLANK(INDEX($C:$C,))), \"\", 'PWS Records (System Entry)'!$D$3)","v":""},null,null,null,null,null,null,null,null,null,null,null,null,null,null,null,null,null,null,""]
[{"$f":"IF(AND(ISBLANK(INDEX($G:$G,)), ISBLANK(INDEX($C:$C,))), \"\", 'PWS Records (System Entry)'!$D$4)","v":""},{"$f":"IF(AND(ISBLANK(INDEX($G:$G,)), ISBLANK(INDEX($C:$C,))), \"\", 'PWS Records (System Entry)'!$D$3)","v":""},null,null,null,null,null,null,null,null,null,null,null,null,null,null,null,null,null,null,""]
[{"$f":"IF(AND(ISBLANK(INDEX($G:$G,)), ISBLANK(INDEX($C:$C,))), \"\", 'PWS Records (System Entry)'!$D$4)","v":""},{"$f":"IF(AND(ISBLANK(INDEX($G:$G,)), ISBLANK(INDEX($C:$C,))), \"\", 'PWS Records (System Entry)'!$D$3)","v":""},null,null,null,null,null,null,null,null,null,null,null,null,null,null,null,null,null,null,""]
[{"$f":"IF(AND(ISBLANK(INDEX($G:$G,)), ISBLANK(INDEX($C:$C,))), \"\", 'PWS Records (System Entry)'!$D$4)","v":""},{"$f":"IF(AND(ISBLANK(INDEX($G:$G,)), ISBLANK(INDEX($C:$C,))), \"\", 'PWS Records (System Entry)'!$D$3)","v":""},null,null,null,null,null,null,null,null,null,null,null,null,null,null,null,null,null,null,""]
[{"$f":"IF(AND(ISBLANK(INDEX($G:$G,)), ISBLANK(INDEX($C:$C,))), \"\", 'PWS Records (System Entry)'!$D$4)","v":""},{"$f":"IF(AND(ISBLANK(INDEX($G:$G,)), ISBLANK(INDEX($C:$C,))), \"\", 'PWS Records (System Entry)'!$D$3)","v":""},null,null,null,null,null,null,null,null,null,null,null,null,null,null,null,null,null,null,""]
[{"$f":"IF(AND(ISBLANK(INDEX($G:$G,)), ISBLANK(INDEX($C:$C,))), \"\", 'PWS Records (System Entry)'!$D$4)","v":""},{"$f":"IF(AND(ISBLANK(INDEX($G:$G,)), ISBLANK(INDEX($C:$C,))), \"\", 'PWS Records (System Entry)'!$D$3)","v":""},null,null,null,null,null,null,null,null,null,null,null,null,null,null,null,null,null,null,""]
[{"$f":"IF(AND(ISBLANK(INDEX($G:$G,)), ISBLANK(INDEX($C:$C,))), \"\", 'PWS Records (System Entry)'!$D$4)","v":""},{"$f":"IF(AND(ISBLANK(INDEX($G:$G,)), ISBLANK(INDEX($C:$C,))), \"\", 'PWS Records (System Entry)'!$D$3)","v":""},null,null,null,null,null,null,null,null,null,null,null,null,null,null,null,null,null,null,""]
[{"$f":"IF(AND(ISBLANK(INDEX($G:$G,)), ISBLANK(INDEX($C:$C,))), \"\", 'PWS Records (System Entry)'!$D$4)","v":""},{"$f":"IF(AND(ISBLANK(INDEX($G:$G,)), ISBLANK(INDEX($C:$C,))), \"\", 'PWS Records (System Entry)'!$D$3)","v":""},null,null,null,null,null,null,null,null,null,null,null,null,null,null,null,null,null,null,""]
[{"$f":"IF(AND(ISBLANK(INDEX($G:$G,)), ISBLANK(INDEX($C:$C,))), \"\", 'PWS Records (System Entry)'!$D$4)","v":""},{"$f":"IF(AND(ISBLANK(INDEX($G:$G,)), ISBLANK(INDEX($C:$C,))), \"\", 'PWS Records (System Entry)'!$D$3)","v":""},null,null,null,null,null,null,null,null,null,null,null,null,null,null,null,null,null,null,""]
[{"$f":"IF(AND(ISBLANK(INDEX($G:$G,)), ISBLANK(INDEX($C:$C,))), \"\", 'PWS Records (System Entry)'!$D$4)","v":""},{"$f":"IF(AND(ISBLANK(INDEX($G:$G,)), ISBLANK(INDEX($C:$C,))), \"\", 'PWS Records (System Entry)'!$D$3)","v":""},null,null,null,null,null,null,null,null,null,null,null,null,null,null,null,null,null,null,""]
[{"$f":"IF(AND(ISBLANK(INDEX($G:$G,)), ISBLANK(INDEX($C:$C,))), \"\", 'PWS Records (System Entry)'!$D$4)","v":""},{"$f":"IF(AND(ISBLANK(INDEX($G:$G,)), ISBLANK(INDEX($C:$C,))), \"\", 'PWS Records (System Entry)'!$D$3)","v":""},null,null,null,null,null,null,null,null,null,null,null,null,null,null,null,null,null,null,""]
[{"$f":"IF(AND(ISBLANK(INDEX($G:$G,)), ISBLANK(INDEX($C:$C,))), \"\", 'PWS Records (System Entry)'!$D$4)","v":""},{"$f":"IF(AND(ISBLANK(INDEX($G:$G,)), ISBLANK(INDEX($C:$C,))), \"\", 'PWS Records (System Entry)'!$D$3)","v":""},null,null,null,null,null,null,null,null,null,null,null,null,null,null,null,null,null,null,""]
[{"$f":"IF(AND(ISBLANK(INDEX($G:$G,)), ISBLANK(INDEX($C:$C,))), \"\", 'PWS Records (System Entry)'!$D$4)","v":""},{"$f":"IF(AND(ISBLANK(INDEX($G:$G,)), ISBLANK(INDEX($C:$C,))), \"\", 'PWS Records (System Entry)'!$D$3)","v":""},null,null,null,null,null,null,null,null,null,null,null,null,null,null,null,null,null,null,""]
[{"$f":"IF(AND(ISBLANK(INDEX($G:$G,)), ISBLANK(INDEX($C:$C,))), \"\", 'PWS Records (System Entry)'!$D$4)","v":""},{"$f":"IF(AND(ISBLANK(INDEX($G:$G,)), ISBLANK(INDEX($C:$C,))), \"\", 'PWS Records (System Entry)'!$D$3)","v":""},null,null,null,null,null,null,null,null,null,null,null,null,null,null,null,null,null,null,""]
[{"$f":"IF(AND(ISBLANK(INDEX($G:$G,)), ISBLANK(INDEX($C:$C,))), \"\", 'PWS Records (System Entry)'!$D$4)","v":""},{"$f":"IF(AND(ISBLANK(INDEX($G:$G,)), ISBLANK(INDEX($C:$C,))), \"\", 'PWS Records (System Entry)'!$D$3)","v":""},null,null,null,null,null,null,null,null,null,null,null,null,null,null,null,null,null,null,""]
[{"$f":"IF(AND(ISBLANK(INDEX($G:$G,)), ISBLANK(INDEX($C:$C,))), \"\", 'PWS Records (System Entry)'!$D$4)","v":""},{"$f":"IF(AND(ISBLANK(INDEX($G:$G,)), ISBLANK(INDEX($C:$C,))), \"\", 'PWS Records (System Entry)'!$D$3)","v":""},null,null,null,null,null,null,null,null,null,null,null,null,null,null,null,null,null,null,""]
[{"$f":"IF(AND(ISBLANK(INDEX($G:$G,)), ISBLANK(INDEX($C:$C,))), \"\", 'PWS Records (System Entry)'!$D$4)","v":""},{"$f":"IF(AND(ISBLANK(INDEX($G:$G,)), ISBLANK(INDEX($C:$C,))), \"\", 'PWS Records (System Entry)'!$D$3)","v":""},null,null,null,null,null,null,null,null,null,null,null,null,null,null,null,null,null,null,""]
[{"$f":"IF(AND(ISBLANK(INDEX($G:$G,)), ISBLANK(INDEX($C:$C,))), \"\", 'PWS Records (System Entry)'!$D$4)","v":""},{"$f":"IF(AND(ISBLANK(INDEX($G:$G,)), ISBLANK(INDEX($C:$C,))), \"\", 'PWS Records (System Entry)'!$D$3)","v":""},null,null,null,null,null,null,null,null,null,null,null,null,null,null,null,null,null,null,""]
[{"$f":"IF(AND(ISBLANK(INDEX($G:$G,)), ISBLANK(INDEX($C:$C,))), \"\", 'PWS Records (System Entry)'!$D$4)","v":""},{"$f":"IF(AND(ISBLANK(INDEX($G:$G,)), ISBLANK(INDEX($C:$C,))), \"\", 'PWS Records (System Entry)'!$D$3)","v":""},null,null,null,null,null,null,null,null,null,null,null,null,null,null,null,null,null,null,""]
[{"$f":"IF(AND(ISBLANK(INDEX($G:$G,)), ISBLANK(INDEX($C:$C,))), \"\", 'PWS Records (System Entry)'!$D$4)","v":""},{"$f":"IF(AND(ISBLANK(INDEX($G:$G,)), ISBLANK(INDEX($C:$C,))), \"\", 'PWS Records (System Entry)'!$D$3)","v":""},null,null,null,null,null,null,null,null,null,null,null,null,null,null,null,null,null,null,""]
[{"$f":"IF(AND(ISBLANK(INDEX($G:$G,)), ISBLANK(INDEX($C:$C,))), \"\", 'PWS Records (System Entry)'!$D$4)","v":""},{"$f":"IF(AND(ISBLANK(INDEX($G:$G,)), ISBLANK(INDEX($C:$C,))), \"\", 'PWS Records (System Entry)'!$D$3)","v":""},null,null,null,null,null,null,null,null,null,null,null,null,null,null,null,null,null,null,""]
[{"$f":"IF(AND(ISBLANK(INDEX($G:$G,)), ISBLANK(INDEX($C:$C,))), \"\", 'PWS Records (System Entry)'!$D$4)","v":""},{"$f":"IF(AND(ISBLANK(INDEX($G:$G,)), ISBLANK(INDEX($C:$C,))), \"\", 'PWS Records (System Entry)'!$D$3)","v":""},null,null,null,null,null,null,null,null,null,null,null,null,null,null,null,null,null,null,""]
[{"$f":"IF(AND(ISBLANK(INDEX($G:$G,)), ISBLANK(INDEX($C:$C,))), \"\", 'PWS Records (System Entry)'!$D$4)","v":""},{"$f":"IF(AND(ISBLANK(INDEX($G:$G,)), ISBLANK(INDEX($C:$C,))), \"\", 'PWS Records (System Entry)'!$D$3)","v":""},null,null,null,null,null,null,null,null,null,null,null,null,null,null,null,null,null,null,""]
[{"$f":"IF(AND(ISBLANK(INDEX($G:$G,)), ISBLANK(INDEX($C:$C,))), \"\", 'PWS Records (System Entry)'!$D$4)","v":""},{"$f":"IF(AND(ISBLANK(INDEX($G:$G,)), ISBLANK(INDEX($C:$C,))), \"\", 'PWS Records (System Entry)'!$D$3)","v":""},null,null,null,null,null,null,null,null,null,null,null,null,null,null,null,null,null,null,""]
[{"$f":"IF(AND(ISBLANK(INDEX($G:$G,)), ISBLANK(INDEX($C:$C,))), \"\", 'PWS Records (System Entry)'!$D$4)","v":""},{"$f":"IF(AND(ISBLANK(INDEX($G:$G,)), ISBLANK(INDEX($C:$C,))), \"\", 'PWS Records (System Entry)'!$D$3)","v":""},null,null,null,null,null,null,null,null,null,null,null,null,null,null,null,null,null,null,""]
[{"$f":"IF(AND(ISBLANK(INDEX($G:$G,)), ISBLANK(INDEX($C:$C,))), \"\", 'PWS Records (System Entry)'!$D$4)","v":""},{"$f":"IF(AND(ISBLANK(INDEX($G:$G,)), ISBLANK(INDEX($C:$C,))), \"\", 'PWS Records (System Entry)'!$D$3)","v":""},null,null,null,null,null,null,null,null,null,null,null,null,null,null,null,null,null,null,""]
[{"$f":"IF(AND(ISBLANK(INDEX($G:$G,)), ISBLANK(INDEX($C:$C,))), \"\", 'PWS Records (System Entry)'!$D$4)","v":""},{"$f":"IF(AND(ISBLANK(INDEX($G:$G,)), ISBLANK(INDEX($C:$C,))), \"\", 'PWS Records (System Entry)'!$D$3)","v":""},null,null,null,null,null,null,null,null,null,null,null,null,null,null,null,null,null,null,""]
[{"$f":"IF(AND(ISBLANK(INDEX($G:$G,)), ISBLANK(INDEX($C:$C,))), \"\", 'PWS Records (System Entry)'!$D$4)","v":""},{"$f":"IF(AND(ISBLANK(INDEX($G:$G,)), ISBLANK(INDEX($C:$C,))), \"\", 'PWS Records (System Entry)'!$D$3)","v":""},null,null,null,null,null,null,null,null,null,null,null,null,null,null,null,null,null,null,""]
[{"$f":"IF(AND(ISBLANK(INDEX($G:$G,)), ISBLANK(INDEX($C:$C,))), \"\", 'PWS Records (System Entry)'!$D$4)","v":""},{"$f":"IF(AND(ISBLANK(INDEX($G:$G,)), ISBLANK(INDEX($C:$C,))), \"\", 'PWS Records (System Entry)'!$D$3)","v":""},null,null,null,null,null,null,null,null,null,null,null,null,null,null,null,null,null,null,""]
[{"$f":"IF(AND(ISBLANK(INDEX($G:$G,)), ISBLANK(INDEX($C:$C,))), \"\", 'PWS Records (System Entry)'!$D$4)","v":""},{"$f":"IF(AND(ISBLANK(INDEX($G:$G,)), ISBLANK(INDEX($C:$C,))), \"\", 'PWS Records (System Entry)'!$D$3)","v":""},null,null,null,null,null,null,null,null,null,null,null,null,null,null,null,null,null,null,""]
[{"$f":"IF(AND(ISBLANK(INDEX($G:$G,)), ISBLANK(INDEX($C:$C,))), \"\", 'PWS Records (System Entry)'!$D$4)","v":""},{"$f":"IF(AND(ISBLANK(INDEX($G:$G,)), ISBLANK(INDEX($C:$C,))), \"\", 'PWS Records (System Entry)'!$D$3)","v":""},null,null,null,null,null,null,null,null,null,null,null,null,null,null,null,null,null,null,""]
[{"$f":"IF(AND(ISBLANK(INDEX($G:$G,)), ISBLANK(INDEX($C:$C,))), \"\", 'PWS Records (System Entry)'!$D$4)","v":""},{"$f":"IF(AND(ISBLANK(INDEX($G:$G,)), ISBLANK(INDEX($C:$C,))), \"\", 'PWS Records (System Entry)'!$D$3)","v":""},null,null,null,null,null,null,null,null,null,null,null,null,null,null,null,null,null,null,""]
[{"$f":"IF(AND(ISBLANK(INDEX($G:$G,)), ISBLANK(INDEX($C:$C,))), \"\", 'PWS Records (System Entry)'!$D$4)","v":""},{"$f":"IF(AND(ISBLANK(INDEX($G:$G,)), ISBLANK(INDEX($C:$C,))), \"\", 'PWS Records (System Entry)'!$D$3)","v":""},null,null,null,null,null,null,null,null,null,null,null,null,null,null,null,null,null,null,{"$f":"IF(AND(INDEX($K:$K,)=\"\", INDEX($L:$L,)=\"\", INDEX($M:$M,)=\"\", INDEX($Q:$Q,)=\"\", INDEX($R:$R,)=\"\"), \"\", IF(OR(INDEX($K:$K,)=\"Lead\",INDEX($Q:$Q,)=\"Lead\"),\"Lead\",IF(OR(AND(OR(INDEX($M:$M,)=\"Yes\", INDEX($M:$M,)=\"Don't Know\", INDEX($M:$M,)=\"\"), INDEX($Q:$Q,)=\"Galvanized Iron/Steel\"), AND(INDEX($K:$K,)=\"Unknown\", INDEX($M:$M,)=\"No\", INDEX($Q:$Q,)=\"Galvanized Iron/Steel\")), \"Galvanized Requiring Replacement\", IF(OR(AND(OR(INDEX($K:$K,)=\"Galvanized Iron/Steel\", INDEX($K:$K,)=\"Non-Lead - Copper\", INDEX($K:$K,)=\"Non-Lead - Plastic\", INDEX($K:$K,)=\"Non-Lead - Other\", INDEX($K:$K,)=\"Non-Lead - Material Unknown\", INDEX($K:$K,)=\"No System Owned Portion\"), OR(INDEX($Q:$Q,)=\"Galvanized Iron/Steel\", INDEX($Q:$Q,)=\"Non-Lead - Copper\", INDEX($Q:$Q,)=\"Non-Lead - Plastic\", INDEX($Q:$Q,)=\"Non-Lead - Other\", INDEX($Q:$Q,)=\"Non-Lead - Predictive Model\", INDEX($Q:$Q,)=\"No Customer Owned Portion\")), AND(OR( INDEX($K:$K,)=\"Galvanized Iron/Steel\", INDEX($K:$K,)=\"Non-Lead - Copper\", INDEX($K:$K,)=\"Non-Lead - Plastic\", INDEX($K:$K,)=\"Non-Lead - Other\", INDEX($K:$K,)=\"Non-Lead - Material Unknown\", INDEX($K:$K,)=\"No System Owned Portion\"), INDEX($M:$M,)=\"No\", INDEX($Q:$Q,)=\"Non-Lead - Material Unknown\")), \"Non-Lead\", \"Lead Status Unknown\"))))","v":""}]
[{"$f":"IF(AND(ISBLANK(INDEX($G:$G,)), ISBLANK(INDEX($C:$C,))), \"\", 'PWS Records (System Entry)'!$D$4)","v":""},{"$f":"IF(AND(ISBLANK(INDEX($G:$G,)), ISBLANK(INDEX($C:$C,))), \"\", 'PWS Records (System Entry)'!$D$3)","v":""},null,null,null,null,null,null,null,null,null,null,null,null,null,null,null,null,null,null,""]
[{"$f":"IF(AND(ISBLANK(INDEX($G:$G,)), ISBLANK(INDEX($C:$C,))), \"\", 'PWS Records (System Entry)'!$D$4)","v":""},{"$f":"IF(AND(ISBLANK(INDEX($G:$G,)), ISBLANK(INDEX($C:$C,))), \"\", 'PWS Records (System Entry)'!$D$3)","v":""},null,null,null,null,null,null,null,null,null,null,null,null,null,null,null,null,null,null,""]
[{"$f":"IF(AND(ISBLANK(INDEX($G:$G,)), ISBLANK(INDEX($C:$C,))), \"\", 'PWS Records (System Entry)'!$D$4)","v":""},{"$f":"IF(AND(ISBLANK(INDEX($G:$G,)), ISBLANK(INDEX($C:$C,))), \"\", 'PWS Records (System Entry)'!$D$3)","v":""},null,null,null,null,null,null,null,null,null,null,null,null,null,null,null,null,null,null,""]
[{"$f":"IF(AND(ISBLANK(INDEX($G:$G,)), ISBLANK(INDEX($C:$C,))), \"\", 'PWS Records (System Entry)'!$D$4)","v":""},{"$f":"IF(AND(ISBLANK(INDEX($G:$G,)), ISBLANK(INDEX($C:$C,))), \"\", 'PWS Records (System Entry)'!$D$3)","v":""},null,null,null,null,null,null,null,null,null,null,null,null,null,null,null,null,null,null,""]
[{"$f":"IF(AND(ISBLANK(INDEX($G:$G,)), ISBLANK(INDEX($C:$C,))), \"\", 'PWS Records (System Entry)'!$D$4)","v":""},{"$f":"IF(AND(ISBLANK(INDEX($G:$G,)), ISBLANK(INDEX($C:$C,))), \"\", 'PWS Records (System Entry)'!$D$3)","v":""},null,null,null,null,null,null,null,null,null,null,null,null,null,null,null,null,null,null,""]
[{"$f":"IF(AND(ISBLANK(INDEX($G:$G,)), ISBLANK(INDEX($C:$C,))), \"\", 'PWS Records (System Entry)'!$D$4)","v":""},{"$f":"IF(AND(ISBLANK(INDEX($G:$G,)), ISBLANK(INDEX($C:$C,))), \"\", 'PWS Records (System Entry)'!$D$3)","v":""},null,null,null,null,null,null,null,null,null,null,null,null,null,null,null,null,null,null,""]
[{"$f":"IF(AND(ISBLANK(INDEX($G:$G,)), ISBLANK(INDEX($C:$C,))), \"\", 'PWS Records (System Entry)'!$D$4)","v":""},{"$f":"IF(AND(ISBLANK(INDEX($G:$G,)), ISBLANK(INDEX($C:$C,))), \"\", 'PWS Records (System Entry)'!$D$3)","v":""},null,null,null,null,null,null,null,null,null,null,null,null,null,null,null,null,null,null,""]
[{"$f":"IF(AND(ISBLANK(INDEX($G:$G,)), ISBLANK(INDEX($C:$C,))), \"\", 'PWS Records (System Entry)'!$D$4)","v":""},{"$f":"IF(AND(ISBLANK(INDEX($G:$G,)), ISBLANK(INDEX($C:$C,))), \"\", 'PWS Records (System Entry)'!$D$3)","v":""},null,null,null,null,null,null,null,null,null,null,null,null,null,null,null,null,null,null,""]
[{"$f":"IF(AND(ISBLANK(INDEX($G:$G,)), ISBLANK(INDEX($C:$C,))), \"\", 'PWS Records (System Entry)'!$D$4)","v":""},{"$f":"IF(AND(ISBLANK(INDEX($G:$G,)), ISBLANK(INDEX($C:$C,))), \"\", 'PWS Records (System Entry)'!$D$3)","v":""},null,null,null,null,null,null,null,null,null,null,null,null,null,null,null,null,null,null,""]
[{"$f":"IF(AND(ISBLANK(INDEX($G:$G,)), ISBLANK(INDEX($C:$C,))), \"\", 'PWS Records (System Entry)'!$D$4)","v":""},{"$f":"IF(AND(ISBLANK(INDEX($G:$G,)), ISBLANK(INDEX($C:$C,))), \"\", 'PWS Records (System Entry)'!$D$3)","v":""},null,null,null,null,null,null,null,null,null,null,null,null,null,null,null,null,null,null,""]
[{"$f":"IF(AND(ISBLANK(INDEX($G:$G,)), ISBLANK(INDEX($C:$C,))), \"\", 'PWS Records (System Entry)'!$D$4)","v":""},{"$f":"IF(AND(ISBLANK(INDEX($G:$G,)), ISBLANK(INDEX($C:$C,))), \"\", 'PWS Records (System Entry)'!$D$3)","v":""},null,null,null,null,null,null,null,null,null,null,null,null,null,null,null,null,null,null,""]
[{"$f":"IF(AND(ISBLANK(INDEX($G:$G,)), ISBLANK(INDEX($C:$C,))), \"\", 'PWS Records (System Entry)'!$D$4)","v":""},{"$f":"IF(AND(ISBLANK(INDEX($G:$G,)), ISBLANK(INDEX($C:$C,))), \"\", 'PWS Records (System Entry)'!$D$3)","v":""},null,null,null,null,null,null,null,null,null,null,null,null,null,null,null,null,null,null,""]
[{"$f":"IF(AND(ISBLANK(INDEX($G:$G,)), ISBLANK(INDEX($C:$C,))), \"\", 'PWS Records (System Entry)'!$D$4)","v":""},{"$f":"IF(AND(ISBLANK(INDEX($G:$G,)), ISBLANK(INDEX($C:$C,))), \"\", 'PWS Records (System Entry)'!$D$3)","v":""},null,null,null,null,null,null,null,null,null,null,null,null,null,null,null,null,null,null,""]
[{"$f":"IF(AND(ISBLANK(INDEX($G:$G,)), ISBLANK(INDEX($C:$C,))), \"\", 'PWS Records (System Entry)'!$D$4)","v":""},{"$f":"IF(AND(ISBLANK(INDEX($G:$G,)), ISBLANK(INDEX($C:$C,))), \"\", 'PWS Records (System Entry)'!$D$3)","v":""},null,null,null,null,null,null,null,null,null,null,null,null,null,null,null,null,null,null,""]
[{"$f":"IF(AND(ISBLANK(INDEX($G:$G,)), ISBLANK(INDEX($C:$C,))), \"\", 'PWS Records (System Entry)'!$D$4)","v":""},{"$f":"IF(AND(ISBLANK(INDEX($G:$G,)), ISBLANK(INDEX($C:$C,))), \"\", 'PWS Records (System Entry)'!$D$3)","v":""},null,null,null,null,null,null,null,null,null,null,null,null,null,null,null,null,null,null,""]
[{"$f":"IF(AND(ISBLANK(INDEX($G:$G,)), ISBLANK(INDEX($C:$C,))), \"\", 'PWS Records (System Entry)'!$D$4)","v":""},{"$f":"IF(AND(ISBLANK(INDEX($G:$G,)), ISBLANK(INDEX($C:$C,))), \"\", 'PWS Records (System Entry)'!$D$3)","v":""},null,null,null,null,null,null,null,null,null,null,null,null,null,null,null,null,null,null,""]
[{"$f":"IF(AND(ISBLANK(INDEX($G:$G,)), ISBLANK(INDEX($C:$C,))), \"\", 'PWS Records (System Entry)'!$D$4)","v":""},{"$f":"IF(AND(ISBLANK(INDEX($G:$G,)), ISBLANK(INDEX($C:$C,))), \"\", 'PWS Records (System Entry)'!$D$3)","v":""},null,null,null,null,null,null,null,null,null,null,null,null,null,null,null,null,null,null,""]
[{"$f":"IF(AND(ISBLANK(INDEX($G:$G,)), ISBLANK(INDEX($C:$C,))), \"\", 'PWS Records (System Entry)'!$D$4)","v":""},{"$f":"IF(AND(ISBLANK(INDEX($G:$G,)), ISBLANK(INDEX($C:$C,))), \"\", 'PWS Records (System Entry)'!$D$3)","v":""},null,null,null,null,null,null,null,null,null,null,null,null,null,null,null,null,null,null,""]
[{"$f":"IF(AND(ISBLANK(INDEX($G:$G,)), ISBLANK(INDEX($C:$C,))), \"\", 'PWS Records (System Entry)'!$D$4)","v":""},{"$f":"IF(AND(ISBLANK(INDEX($G:$G,)), ISBLANK(INDEX($C:$C,))), \"\", 'PWS Records (System Entry)'!$D$3)","v":""},null,null,null,null,null,null,null,null,null,null,null,null,null,null,null,null,null,null,""]
[{"$f":"IF(AND(ISBLANK(INDEX($G:$G,)), ISBLANK(INDEX($C:$C,))), \"\", 'PWS Records (System Entry)'!$D$4)","v":""},{"$f":"IF(AND(ISBLANK(INDEX($G:$G,)), ISBLANK(INDEX($C:$C,))), \"\", 'PWS Records (System Entry)'!$D$3)","v":""},null,null,null,null,null,null,null,null,null,null,null,null,null,null,null,null,null,null,""]
[{"$f":"IF(AND(ISBLANK(INDEX($G:$G,)), ISBLANK(INDEX($C:$C,))), \"\", 'PWS Records (System Entry)'!$D$4)","v":""},{"$f":"IF(AND(ISBLANK(INDEX($G:$G,)), ISBLANK(INDEX($C:$C,))), \"\", 'PWS Records (System Entry)'!$D$3)","v":""},null,null,null,null,null,null,null,null,null,null,null,null,null,null,null,null,null,null,""]
[{"$f":"IF(AND(ISBLANK(INDEX($G:$G,)), ISBLANK(INDEX($C:$C,))), \"\", 'PWS Records (System Entry)'!$D$4)","v":""},{"$f":"IF(AND(ISBLANK(INDEX($G:$G,)), ISBLANK(INDEX($C:$C,))), \"\", 'PWS Records (System Entry)'!$D$3)","v":""},null,null,null,null,null,null,null,null,null,null,null,null,null,null,null,null,null,null,""]
[{"$f":"IF(AND(ISBLANK(INDEX($G:$G,)), ISBLANK(INDEX($C:$C,))), \"\", 'PWS Records (System Entry)'!$D$4)","v":""},{"$f":"IF(AND(ISBLANK(INDEX($G:$G,)), ISBLANK(INDEX($C:$C,))), \"\", 'PWS Records (System Entry)'!$D$3)","v":""},null,null,null,null,null,null,null,null,null,null,null,null,null,null,null,null,null,null,""]
[{"$f":"IF(AND(ISBLANK(INDEX($G:$G,)), ISBLANK(INDEX($C:$C,))), \"\", 'PWS Records (System Entry)'!$D$4)","v":""},{"$f":"IF(AND(ISBLANK(INDEX($G:$G,)), ISBLANK(INDEX($C:$C,))), \"\", 'PWS Records (System Entry)'!$D$3)","v":""},null,null,null,null,null,null,null,null,null,null,null,null,null,null,null,null,null,null,""]
[{"$f":"IF(AND(ISBLANK(INDEX($G:$G,)), ISBLANK(INDEX($C:$C,))), \"\", 'PWS Records (System Entry)'!$D$4)","v":""},{"$f":"IF(AND(ISBLANK(INDEX($G:$G,)), ISBLANK(INDEX($C:$C,))), \"\", 'PWS Records (System Entry)'!$D$3)","v":""},null,null,null,null,null,null,null,null,null,null,null,null,null,null,null,null,null,null,""]
[{"$f":"IF(AND(ISBLANK(INDEX($G:$G,)), ISBLANK(INDEX($C:$C,))), \"\", 'PWS Records (System Entry)'!$D$4)","v":""},{"$f":"IF(AND(ISBLANK(INDEX($G:$G,)), ISBLANK(INDEX($C:$C,))), \"\", 'PWS Records (System Entry)'!$D$3)","v":""},null,null,null,null,null,null,null,null,null,null,null,null,null,null,null,null,null,null,""]
[{"$f":"IF(AND(ISBLANK(INDEX($G:$G,)), ISBLANK(INDEX($C:$C,))), \"\", 'PWS Records (System Entry)'!$D$4)","v":""},{"$f":"IF(AND(ISBLANK(INDEX($G:$G,)), ISBLANK(INDEX($C:$C,))), \"\", 'PWS Records (System Entry)'!$D$3)","v":""},null,null,null,null,null,null,null,null,null,null,null,null,null,null,null,null,null,null,""]
[{"$f":"IF(AND(ISBLANK(INDEX($G:$G,)), ISBLANK(INDEX($C:$C,))), \"\", 'PWS Records (System Entry)'!$D$4)","v":""},{"$f":"IF(AND(ISBLANK(INDEX($G:$G,)), ISBLANK(INDEX($C:$C,))), \"\", 'PWS Records (System Entry)'!$D$3)","v":""},null,null,null,null,null,null,null,null,null,null,null,null,null,null,null,null,null,null,""]
[{"$f":"IF(AND(ISBLANK(INDEX($G:$G,)), ISBLANK(INDEX($C:$C,))), \"\", 'PWS Records (System Entry)'!$D$4)","v":""},{"$f":"IF(AND(ISBLANK(INDEX($G:$G,)), ISBLANK(INDEX($C:$C,))), \"\", 'PWS Records (System Entry)'!$D$3)","v":""},null,null,null,null,null,null,null,null,null,null,null,null,null,null,null,null,null,null,""]
[{"$f":"IF(AND(ISBLANK(INDEX($G:$G,)), ISBLANK(INDEX($C:$C,))), \"\", 'PWS Records (System Entry)'!$D$4)","v":""},{"$f":"IF(AND(ISBLANK(INDEX($G:$G,)), ISBLANK(INDEX($C:$C,))), \"\", 'PWS Records (System Entry)'!$D$3)","v":""},null,null,null,null,null,null,null,null,null,null,null,null,null,null,null,null,null,null,""]
[{"$f":"IF(AND(ISBLANK(INDEX($G:$G,)), ISBLANK(INDEX($C:$C,))), \"\", 'PWS Records (System Entry)'!$D$4)","v":""},{"$f":"IF(AND(ISBLANK(INDEX($G:$G,)), ISBLANK(INDEX($C:$C,))), \"\", 'PWS Records (System Entry)'!$D$3)","v":""},null,null,null,null,null,null,null,null,null,null,null,null,null,null,null,null,null,null,""]
[{"$f":"IF(AND(ISBLANK(INDEX($G:$G,)), ISBLANK(INDEX($C:$C,))), \"\", 'PWS Records (System Entry)'!$D$4)","v":""},{"$f":"IF(AND(ISBLANK(INDEX($G:$G,)), ISBLANK(INDEX($C:$C,))), \"\", 'PWS Records (System Entry)'!$D$3)","v":""},null,null,null,null,null,null,null,null,null,null,null,null,null,null,null,null,null,null,""]
[{"$f":"IF(AND(ISBLANK(INDEX($G:$G,)), ISBLANK(INDEX($C:$C,))), \"\", 'PWS Records (System Entry)'!$D$4)","v":""},{"$f":"IF(AND(ISBLANK(INDEX($G:$G,)), ISBLANK(INDEX($C:$C,))), \"\", 'PWS Records (System Entry)'!$D$3)","v":""},null,null,null,null,null,null,null,null,null,null,null,null,null,null,null,null,null,null,""]
[{"$f":"IF(AND(ISBLANK(INDEX($G:$G,)), ISBLANK(INDEX($C:$C,))), \"\", 'PWS Records (System Entry)'!$D$4)","v":""},{"$f":"IF(AND(ISBLANK(INDEX($G:$G,)), ISBLANK(INDEX($C:$C,))), \"\", 'PWS Records (System Entry)'!$D$3)","v":""},null,null,null,null,null,null,null,null,null,null,null,null,null,null,null,null,null,null,""]
[{"$f":"IF(AND(ISBLANK(INDEX($G:$G,)), ISBLANK(INDEX($C:$C,))), \"\", 'PWS Records (System Entry)'!$D$4)","v":""},{"$f":"IF(AND(ISBLANK(INDEX($G:$G,)), ISBLANK(INDEX($C:$C,))), \"\", 'PWS Records (System Entry)'!$D$3)","v":""},null,null,null,null,null,null,null,null,null,null,null,null,null,null,null,null,null,null,""]
[{"$f":"IF(AND(ISBLANK(INDEX($G:$G,)), ISBLANK(INDEX($C:$C,))), \"\", 'PWS Records (System Entry)'!$D$4)","v":""},{"$f":"IF(AND(ISBLANK(INDEX($G:$G,)), ISBLANK(INDEX($C:$C,))), \"\", 'PWS Records (System Entry)'!$D$3)","v":""},null,null,null,null,null,null,null,null,null,null,null,null,null,null,null,null,null,null,""]
[{"$f":"IF(AND(ISBLANK(INDEX($G:$G,)), ISBLANK(INDEX($C:$C,))), \"\", 'PWS Records (System Entry)'!$D$4)","v":""},{"$f":"IF(AND(ISBLANK(INDEX($G:$G,)), ISBLANK(INDEX($C:$C,))), \"\", 'PWS Records (System Entry)'!$D$3)","v":""},null,null,null,null,null,null,null,null,null,null,null,null,null,null,null,null,null,null,""]
[{"$f":"IF(AND(ISBLANK(INDEX($G:$G,)), ISBLANK(INDEX($C:$C,))), \"\", 'PWS Records (System Entry)'!$D$4)","v":""},{"$f":"IF(AND(ISBLANK(INDEX($G:$G,)), ISBLANK(INDEX($C:$C,))), \"\", 'PWS Records (System Entry)'!$D$3)","v":""},null,null,null,null,null,null,null,null,null,null,null,null,null,null,null,null,null,null,""]
[{"$f":"IF(AND(ISBLANK(INDEX($G:$G,)), ISBLANK(INDEX($C:$C,))), \"\", 'PWS Records (System Entry)'!$D$4)","v":""},{"$f":"IF(AND(ISBLANK(INDEX($G:$G,)), ISBLANK(INDEX($C:$C,))), \"\", 'PWS Records (System Entry)'!$D$3)","v":""},null,null,null,null,null,null,null,null,null,null,null,null,null,null,null,null,null,null,""]
[{"$f":"IF(AND(ISBLANK(INDEX($G:$G,)), ISBLANK(INDEX($C:$C,))), \"\", 'PWS Records (System Entry)'!$D$4)","v":""},{"$f":"IF(AND(ISBLANK(INDEX($G:$G,)), ISBLANK(INDEX($C:$C,))), \"\", 'PWS Records (System Entry)'!$D$3)","v":""},null,null,null,null,null,null,null,null,null,null,null,null,null,null,null,null,null,null,""]
[{"$f":"IF(AND(ISBLANK(INDEX($G:$G,)), ISBLANK(INDEX($C:$C,))), \"\", 'PWS Records (System Entry)'!$D$4)","v":""},{"$f":"IF(AND(ISBLANK(INDEX($G:$G,)), ISBLANK(INDEX($C:$C,))), \"\", 'PWS Records (System Entry)'!$D$3)","v":""},null,null,null,null,null,null,null,null,null,null,null,null,null,null,null,null,null,null,""]
[{"$f":"IF(AND(ISBLANK(INDEX($G:$G,)), ISBLANK(INDEX($C:$C,))), \"\", 'PWS Records (System Entry)'!$D$4)","v":""},{"$f":"IF(AND(ISBLANK(INDEX($G:$G,)), ISBLANK(INDEX($C:$C,))), \"\", 'PWS Records (System Entry)'!$D$3)","v":""},null,null,null,null,null,null,null,null,null,null,null,null,null,null,null,null,null,null,""]
[{"$f":"IF(AND(ISBLANK(INDEX($G:$G,)), ISBLANK(INDEX($C:$C,))), \"\", 'PWS Records (System Entry)'!$D$4)","v":""},{"$f":"IF(AND(ISBLANK(INDEX($G:$G,)), ISBLANK(INDEX($C:$C,))), \"\", 'PWS Records (System Entry)'!$D$3)","v":""},null,null,null,null,null,null,null,null,null,null,null,null,null,null,null,null,null,null,""]
[{"$f":"IF(AND(ISBLANK(INDEX($G:$G,)), ISBLANK(INDEX($C:$C,))), \"\", 'PWS Records (System Entry)'!$D$4)","v":""},{"$f":"IF(AND(ISBLANK(INDEX($G:$G,)), ISBLANK(INDEX($C:$C,))), \"\", 'PWS Records (System Entry)'!$D$3)","v":""},null,null,null,null,null,null,null,null,null,null,null,null,null,null,null,null,null,null,""]
[{"$f":"IF(AND(ISBLANK(INDEX($G:$G,)), ISBLANK(INDEX($C:$C,))), \"\", 'PWS Records (System Entry)'!$D$4)","v":""},{"$f":"IF(AND(ISBLANK(INDEX($G:$G,)), ISBLANK(INDEX($C:$C,))), \"\", 'PWS Records (System Entry)'!$D$3)","v":""},null,null,null,null,null,null,null,null,null,null,null,null,null,null,null,null,null,null,""]
[{"$f":"IF(AND(ISBLANK(INDEX($G:$G,)), ISBLANK(INDEX($C:$C,))), \"\", 'PWS Records (System Entry)'!$D$4)","v":""},{"$f":"IF(AND(ISBLANK(INDEX($G:$G,)), ISBLANK(INDEX($C:$C,))), \"\", 'PWS Records (System Entry)'!$D$3)","v":""},null,null,null,null,null,null,null,null,null,null,null,null,null,null,null,null,null,null,""]
[{"$f":"IF(AND(ISBLANK(INDEX($G:$G,)), ISBLANK(INDEX($C:$C,))), \"\", 'PWS Records (System Entry)'!$D$4)","v":""},{"$f":"IF(AND(ISBLANK(INDEX($G:$G,)), ISBLANK(INDEX($C:$C,))), \"\", 'PWS Records (System Entry)'!$D$3)","v":""},null,null,null,null,null,null,null,null,null,null,null,null,null,null,null,null,null,null,""]
[{"$f":"IF(AND(ISBLANK(INDEX($G:$G,)), ISBLANK(INDEX($C:$C,))), \"\", 'PWS Records (System Entry)'!$D$4)","v":""},{"$f":"IF(AND(ISBLANK(INDEX($G:$G,)), ISBLANK(INDEX($C:$C,))), \"\", 'PWS Records (System Entry)'!$D$3)","v":""},null,null,null,null,null,null,null,null,null,null,null,null,null,null,null,null,null,null,""]
[{"$f":"IF(AND(ISBLANK(INDEX($G:$G,)), ISBLANK(INDEX($C:$C,))), \"\", 'PWS Records (System Entry)'!$D$4)","v":""},{"$f":"IF(AND(ISBLANK(INDEX($G:$G,)), ISBLANK(INDEX($C:$C,))), \"\", 'PWS Records (System Entry)'!$D$3)","v":""},null,null,null,null,null,null,null,null,null,null,null,null,null,null,null,null,null,null,""]
[{"$f":"IF(AND(ISBLANK(INDEX($G:$G,)), ISBLANK(INDEX($C:$C,))), \"\", 'PWS Records (System Entry)'!$D$4)","v":""},{"$f":"IF(AND(ISBLANK(INDEX($G:$G,)), ISBLANK(INDEX($C:$C,))), \"\", 'PWS Records (System Entry)'!$D$3)","v":""},null,null,null,null,null,null,null,null,null,null,null,null,null,null,null,null,null,null,""]
[{"$f":"IF(AND(ISBLANK(INDEX($G:$G,)), ISBLANK(INDEX($C:$C,))), \"\", 'PWS Records (System Entry)'!$D$4)","v":""},{"$f":"IF(AND(ISBLANK(INDEX($G:$G,)), ISBLANK(INDEX($C:$C,))), \"\", 'PWS Records (System Entry)'!$D$3)","v":""},null,null,null,null,null,null,null,null,null,null,null,null,null,null,null,null,null,null,""]
[{"$f":"IF(AND(ISBLANK(INDEX($G:$G,)), ISBLANK(INDEX($C:$C,))), \"\", 'PWS Records (System Entry)'!$D$4)","v":""},{"$f":"IF(AND(ISBLANK(INDEX($G:$G,)), ISBLANK(INDEX($C:$C,))), \"\", 'PWS Records (System Entry)'!$D$3)","v":""},null,null,null,null,null,null,null,null,null,null,null,null,null,null,null,null,null,null,""]
[{"$f":"IF(AND(ISBLANK(INDEX($G:$G,)), ISBLANK(INDEX($C:$C,))), \"\", 'PWS Records (System Entry)'!$D$4)","v":""},{"$f":"IF(AND(ISBLANK(INDEX($G:$G,)), ISBLANK(INDEX($C:$C,))), \"\", 'PWS Records (System Entry)'!$D$3)","v":""},null,null,null,null,null,null,null,null,null,null,null,null,null,null,null,null,null,null,""]
[{"$f":"IF(AND(ISBLANK(INDEX($G:$G,)), ISBLANK(INDEX($C:$C,))), \"\", 'PWS Records (System Entry)'!$D$4)","v":""},{"$f":"IF(AND(ISBLANK(INDEX($G:$G,)), ISBLANK(INDEX($C:$C,))), \"\", 'PWS Records (System Entry)'!$D$3)","v":""},null,null,null,null,null,null,null,null,null,null,null,null,null,null,null,null,null,null,""]
[{"$f":"IF(AND(ISBLANK(INDEX($G:$G,)), ISBLANK(INDEX($C:$C,))), \"\", 'PWS Records (System Entry)'!$D$4)","v":""},{"$f":"IF(AND(ISBLANK(INDEX($G:$G,)), ISBLANK(INDEX($C:$C,))), \"\", 'PWS Records (System Entry)'!$D$3)","v":""},null,null,null,null,null,null,null,null,null,null,null,null,null,null,null,null,null,null,""]
[{"$f":"IF(AND(ISBLANK(INDEX($G:$G,)), ISBLANK(INDEX($C:$C,))), \"\", 'PWS Records (System Entry)'!$D$4)","v":""},{"$f":"IF(AND(ISBLANK(INDEX($G:$G,)), ISBLANK(INDEX($C:$C,))), \"\", 'PWS Records (System Entry)'!$D$3)","v":""},null,null,null,null,null,null,null,null,null,null,null,null,null,null,null,null,null,null,""]
[{"$f":"IF(AND(ISBLANK(INDEX($G:$G,)), ISBLANK(INDEX($C:$C,))), \"\", 'PWS Records (System Entry)'!$D$4)","v":""},{"$f":"IF(AND(ISBLANK(INDEX($G:$G,)), ISBLANK(INDEX($C:$C,))), \"\", 'PWS Records (System Entry)'!$D$3)","v":""},null,null,null,null,null,null,null,null,null,null,null,null,null,null,null,null,null,null,""]
[{"$f":"IF(AND(ISBLANK(INDEX($G:$G,)), ISBLANK(INDEX($C:$C,))), \"\", 'PWS Records (System Entry)'!$D$4)","v":""},{"$f":"IF(AND(ISBLANK(INDEX($G:$G,)), ISBLANK(INDEX($C:$C,))), \"\", 'PWS Records (System Entry)'!$D$3)","v":""},null,null,null,null,null,null,null,null,null,null,null,null,null,null,null,null,null,null,""]
[{"$f":"IF(AND(ISBLANK(INDEX($G:$G,)), ISBLANK(INDEX($C:$C,))), \"\", 'PWS Records (System Entry)'!$D$4)","v":""},{"$f":"IF(AND(ISBLANK(INDEX($G:$G,)), ISBLANK(INDEX($C:$C,))), \"\", 'PWS Records (System Entry)'!$D$3)","v":""},null,null,null,null,null,null,null,null,null,null,null,null,null,null,null,null,null,null,""]
[{"$f":"IF(AND(ISBLANK(INDEX($G:$G,)), ISBLANK(INDEX($C:$C,))), \"\", 'PWS Records (System Entry)'!$D$4)","v":""},{"$f":"IF(AND(ISBLANK(INDEX($G:$G,)), ISBLANK(INDEX($C:$C,))), \"\", 'PWS Records (System Entry)'!$D$3)","v":""},null,null,null,null,null,null,null,null,null,null,null,null,null,null,null,null,null,null,""]
[{"$f":"IF(AND(ISBLANK(INDEX($G:$G,)), ISBLANK(INDEX($C:$C,))), \"\", 'PWS Records (System Entry)'!$D$4)","v":""},{"$f":"IF(AND(ISBLANK(INDEX($G:$G,)), ISBLANK(INDEX($C:$C,))), \"\", 'PWS Records (System Entry)'!$D$3)","v":""},null,null,null,null,null,null,null,null,null,null,null,null,null,null,null,null,null,null,""]
[{"$f":"IF(AND(ISBLANK(INDEX($G:$G,)), ISBLANK(INDEX($C:$C,))), \"\", 'PWS Records (System Entry)'!$D$4)","v":""},{"$f":"IF(AND(ISBLANK(INDEX($G:$G,)), ISBLANK(INDEX($C:$C,))), \"\", 'PWS Records (System Entry)'!$D$3)","v":""},null,null,null,null,null,null,null,null,null,null,null,null,null,null,null,null,null,null,""]
[{"$f":"IF(AND(ISBLANK(INDEX($G:$G,)), ISBLANK(INDEX($C:$C,))), \"\", 'PWS Records (System Entry)'!$D$4)","v":""},{"$f":"IF(AND(ISBLANK(INDEX($G:$G,)), ISBLANK(INDEX($C:$C,))), \"\", 'PWS Records (System Entry)'!$D$3)","v":""},null,null,null,null,null,null,null,null,null,null,null,null,null,null,null,null,null,null,""]
[{"$f":"IF(AND(ISBLANK(INDEX($G:$G,)), ISBLANK(INDEX($C:$C,))), \"\", 'PWS Records (System Entry)'!$D$4)","v":""},{"$f":"IF(AND(ISBLANK(INDEX($G:$G,)), ISBLANK(INDEX($C:$C,))), \"\", 'PWS Records (System Entry)'!$D$3)","v":""},null,null,null,null,null,null,null,null,null,null,null,null,null,null,null,null,null,null,{"$f":"IF(AND(INDEX($K:$K,)=\"\", INDEX($L:$L,)=\"\", INDEX($M:$M,)=\"\", INDEX($Q:$Q,)=\"\", INDEX($R:$R,)=\"\"), \"\", IF(OR(INDEX($K:$K,)=\"Lead\",INDEX($Q:$Q,)=\"Lead\"),\"Lead\",IF(OR(AND(OR(INDEX($M:$M,)=\"Yes\", INDEX($M:$M,)=\"Don't Know\", INDEX($M:$M,)=\"\"), INDEX($Q:$Q,)=\"Galvanized Iron/Steel\"), AND(INDEX($K:$K,)=\"Unknown\", INDEX($M:$M,)=\"No\", INDEX($Q:$Q,)=\"Galvanized Iron/Steel\")), \"Galvanized Requiring Replacement\", IF(OR(AND(OR(INDEX($K:$K,)=\"Galvanized Iron/Steel\", INDEX($K:$K,)=\"Non-Lead - Copper\", INDEX($K:$K,)=\"Non-Lead - Plastic\", INDEX($K:$K,)=\"Non-Lead - Other\", INDEX($K:$K,)=\"Non-Lead - Material Unknown\", INDEX($K:$K,)=\"No System Owned Portion\"), OR(INDEX($Q:$Q,)=\"Galvanized Iron/Steel\", INDEX($Q:$Q,)=\"Non-Lead - Copper\", INDEX($Q:$Q,)=\"Non-Lead - Plastic\", INDEX($Q:$Q,)=\"Non-Lead - Other\", INDEX($Q:$Q,)=\"Non-Lead - Predictive Model\", INDEX($Q:$Q,)=\"No Customer Owned Portion\")), AND(OR( INDEX($K:$K,)=\"Galvanized Iron/Steel\", INDEX($K:$K,)=\"Non-Lead - Copper\", INDEX($K:$K,)=\"Non-Lead - Plastic\", INDEX($K:$K,)=\"Non-Lead - Other\", INDEX($K:$K,)=\"Non-Lead - Material Unknown\", INDEX($K:$K,)=\"No System Owned Portion\"), INDEX($M:$M,)=\"No\", INDEX($Q:$Q,)=\"Non-Lead - Material Unknown\")), \"Non-Lead\", \"Lead Status Unknown\"))))","v":""}]
[{"$f":"IF(AND(ISBLANK(INDEX($G:$G,)), ISBLANK(INDEX($C:$C,))), \"\", 'PWS Records (System Entry)'!$D$4)","v":""},{"$f":"IF(AND(ISBLANK(INDEX($G:$G,)), ISBLANK(INDEX($C:$C,))), \"\", 'PWS Records (System Entry)'!$D$3)","v":""},null,null,null,null,null,null,null,null,null,null,null,null,null,null,null,null,null,null,""]
[{"$f":"IF(AND(ISBLANK(INDEX($G:$G,)), ISBLANK(INDEX($C:$C,))), \"\", 'PWS Records (System Entry)'!$D$4)","v":""},{"$f":"IF(AND(ISBLANK(INDEX($G:$G,)), ISBLANK(INDEX($C:$C,))), \"\", 'PWS Records (System Entry)'!$D$3)","v":""},null,null,null,null,null,null,null,null,null,null,null,null,null,null,null,null,null,null,""]
[{"$f":"IF(AND(ISBLANK(INDEX($G:$G,)), ISBLANK(INDEX($C:$C,))), \"\", 'PWS Records (System Entry)'!$D$4)","v":""},{"$f":"IF(AND(ISBLANK(INDEX($G:$G,)), ISBLANK(INDEX($C:$C,))), \"\", 'PWS Records (System Entry)'!$D$3)","v":""},null,null,null,null,null,null,null,null,null,null,null,null,null,null,null,null,null,null,""]
[{"$f":"IF(AND(ISBLANK(INDEX($G:$G,)), ISBLANK(INDEX($C:$C,))), \"\", 'PWS Records (System Entry)'!$D$4)","v":""},{"$f":"IF(AND(ISBLANK(INDEX($G:$G,)), ISBLANK(INDEX($C:$C,))), \"\", 'PWS Records (System Entry)'!$D$3)","v":""},null,null,null,null,null,null,null,null,null,null,null,null,null,null,null,null,null,null,""]
[{"$f":"IF(AND(ISBLANK(INDEX($G:$G,)), ISBLANK(INDEX($C:$C,))), \"\", 'PWS Records (System Entry)'!$D$4)","v":""},{"$f":"IF(AND(ISBLANK(INDEX($G:$G,)), ISBLANK(INDEX($C:$C,))), \"\", 'PWS Records (System Entry)'!$D$3)","v":""},null,null,null,null,null,null,null,null,null,null,null,null,null,null,null,null,null,null,""]
[{"$f":"IF(AND(ISBLANK(INDEX($G:$G,)), ISBLANK(INDEX($C:$C,))), \"\", 'PWS Records (System Entry)'!$D$4)","v":""},{"$f":"IF(AND(ISBLANK(INDEX($G:$G,)), ISBLANK(INDEX($C:$C,))), \"\", 'PWS Records (System Entry)'!$D$3)","v":""},null,null,null,null,null,null,null,null,null,null,null,null,null,null,null,null,null,null,""]
[{"$f":"IF(AND(ISBLANK(INDEX($G:$G,)), ISBLANK(INDEX($C:$C,))), \"\", 'PWS Records (System Entry)'!$D$4)","v":""},{"$f":"IF(AND(ISBLANK(INDEX($G:$G,)), ISBLANK(INDEX($C:$C,))), \"\", 'PWS Records (System Entry)'!$D$3)","v":""},null,null,null,null,null,null,null,null,null,null,null,null,null,null,null,null,null,null,""]
[{"$f":"IF(AND(ISBLANK(INDEX($G:$G,)), ISBLANK(INDEX($C:$C,))), \"\", 'PWS Records (System Entry)'!$D$4)","v":""},{"$f":"IF(AND(ISBLANK(INDEX($G:$G,)), ISBLANK(INDEX($C:$C,))), \"\", 'PWS Records (System Entry)'!$D$3)","v":""},null,null,null,null,null,null,null,null,null,null,null,null,null,null,null,null,null,null,""]
[{"$f":"IF(AND(ISBLANK(INDEX($G:$G,)), ISBLANK(INDEX($C:$C,))), \"\", 'PWS Records (System Entry)'!$D$4)","v":""},{"$f":"IF(AND(ISBLANK(INDEX($G:$G,)), ISBLANK(INDEX($C:$C,))), \"\", 'PWS Records (System Entry)'!$D$3)","v":""},null,null,null,null,null,null,null,null,null,null,null,null,null,null,null,null,null,null,""]
[{"$f":"IF(AND(ISBLANK(INDEX($G:$G,)), ISBLANK(INDEX($C:$C,))), \"\", 'PWS Records (System Entry)'!$D$4)","v":""},{"$f":"IF(AND(ISBLANK(INDEX($G:$G,)), ISBLANK(INDEX($C:$C,))), \"\", 'PWS Records (System Entry)'!$D$3)","v":""},null,null,null,null,null,null,null,null,null,null,null,null,null,null,null,null,null,null,""]
[{"$f":"IF(AND(ISBLANK(INDEX($G:$G,)), ISBLANK(INDEX($C:$C,))), \"\", 'PWS Records (System Entry)'!$D$4)","v":""},{"$f":"IF(AND(ISBLANK(INDEX($G:$G,)), ISBLANK(INDEX($C:$C,))), \"\", 'PWS Records (System Entry)'!$D$3)","v":""},null,null,null,null,null,null,null,null,null,null,null,null,null,null,null,null,null,null,""]
[{"$f":"IF(AND(ISBLANK(INDEX($G:$G,)), ISBLANK(INDEX($C:$C,))), \"\", 'PWS Records (System Entry)'!$D$4)","v":""},{"$f":"IF(AND(ISBLANK(INDEX($G:$G,)), ISBLANK(INDEX($C:$C,))), \"\", 'PWS Records (System Entry)'!$D$3)","v":""},null,null,null,null,null,null,null,null,null,null,null,null,null,null,null,null,null,null,""]
[{"$f":"IF(AND(ISBLANK(INDEX($G:$G,)), ISBLANK(INDEX($C:$C,))), \"\", 'PWS Records (System Entry)'!$D$4)","v":""},{"$f":"IF(AND(ISBLANK(INDEX($G:$G,)), ISBLANK(INDEX($C:$C,))), \"\", 'PWS Records (System Entry)'!$D$3)","v":""},null,null,null,null,null,null,null,null,null,null,null,null,null,null,null,null,null,null,""]
[{"$f":"IF(AND(ISBLANK(INDEX($G:$G,)), ISBLANK(INDEX($C:$C,))), \"\", 'PWS Records (System Entry)'!$D$4)","v":""},{"$f":"IF(AND(ISBLANK(INDEX($G:$G,)), ISBLANK(INDEX($C:$C,))), \"\", 'PWS Records (System Entry)'!$D$3)","v":""},null,null,null,null,null,null,null,null,null,null,null,null,null,null,null,null,null,null,""]
[{"$f":"IF(AND(ISBLANK(INDEX($G:$G,)), ISBLANK(INDEX($C:$C,))), \"\", 'PWS Records (System Entry)'!$D$4)","v":""},{"$f":"IF(AND(ISBLANK(INDEX($G:$G,)), ISBLANK(INDEX($C:$C,))), \"\", 'PWS Records (System Entry)'!$D$3)","v":""},null,null,null,null,null,null,null,null,null,null,null,null,null,null,null,null,null,null,""]
[{"$f":"IF(AND(ISBLANK(INDEX($G:$G,)), ISBLANK(INDEX($C:$C,))), \"\", 'PWS Records (System Entry)'!$D$4)","v":""},{"$f":"IF(AND(ISBLANK(INDEX($G:$G,)), ISBLANK(INDEX($C:$C,))), \"\", 'PWS Records (System Entry)'!$D$3)","v":""},null,null,null,null,null,null,null,null,null,null,null,null,null,null,null,null,null,null,""]
[{"$f":"IF(AND(ISBLANK(INDEX($G:$G,)), ISBLANK(INDEX($C:$C,))), \"\", 'PWS Records (System Entry)'!$D$4)","v":""},{"$f":"IF(AND(ISBLANK(INDEX($G:$G,)), ISBLANK(INDEX($C:$C,))), \"\", 'PWS Records (System Entry)'!$D$3)","v":""},null,null,null,null,null,null,null,null,null,null,null,null,null,null,null,null,null,null,""]
[{"$f":"IF(AND(ISBLANK(INDEX($G:$G,)), ISBLANK(INDEX($C:$C,))), \"\", 'PWS Records (System Entry)'!$D$4)","v":""},{"$f":"IF(AND(ISBLANK(INDEX($G:$G,)), ISBLANK(INDEX($C:$C,))), \"\", 'PWS Records (System Entry)'!$D$3)","v":""},null,null,null,null,null,null,null,null,null,null,null,null,null,null,null,null,null,null,""]
[{"$f":"IF(AND(ISBLANK(INDEX($G:$G,)), ISBLANK(INDEX($C:$C,))), \"\", 'PWS Records (System Entry)'!$D$4)","v":""},{"$f":"IF(AND(ISBLANK(INDEX($G:$G,)), ISBLANK(INDEX($C:$C,))), \"\", 'PWS Records (System Entry)'!$D$3)","v":""},null,null,null,null,null,null,null,null,null,null,null,null,null,null,null,null,null,null,""]
[{"$f":"IF(AND(ISBLANK(INDEX($G:$G,)), ISBLANK(INDEX($C:$C,))), \"\", 'PWS Records (System Entry)'!$D$4)","v":""},{"$f":"IF(AND(ISBLANK(INDEX($G:$G,)), ISBLANK(INDEX($C:$C,))), \"\", 'PWS Records (System Entry)'!$D$3)","v":""},null,null,null,null,null,null,null,null,null,null,null,null,null,null,null,null,null,null,""]
[{"$f":"IF(AND(ISBLANK(INDEX($G:$G,)), ISBLANK(INDEX($C:$C,))), \"\", 'PWS Records (System Entry)'!$D$4)","v":""},{"$f":"IF(AND(ISBLANK(INDEX($G:$G,)), ISBLANK(INDEX($C:$C,))), \"\", 'PWS Records (System Entry)'!$D$3)","v":""},null,null,null,null,null,null,null,null,null,null,null,null,null,null,null,null,null,null,""]
[{"$f":"IF(AND(ISBLANK(INDEX($G:$G,)), ISBLANK(INDEX($C:$C,))), \"\", 'PWS Records (System Entry)'!$D$4)","v":""},{"$f":"IF(AND(ISBLANK(INDEX($G:$G,)), ISBLANK(INDEX($C:$C,))), \"\", 'PWS Records (System Entry)'!$D$3)","v":""},null,null,null,null,null,null,null,null,null,null,null,null,null,null,null,null,null,null,""]
[{"$f":"IF(AND(ISBLANK(INDEX($G:$G,)), ISBLANK(INDEX($C:$C,))), \"\", 'PWS Records (System Entry)'!$D$4)","v":""},{"$f":"IF(AND(ISBLANK(INDEX($G:$G,)), ISBLANK(INDEX($C:$C,))), \"\", 'PWS Records (System Entry)'!$D$3)","v":""},null,null,null,null,null,null,null,null,null,null,null,null,null,null,null,null,null,null,""]
[{"$f":"IF(AND(ISBLANK(INDEX($G:$G,)), ISBLANK(INDEX($C:$C,))), \"\", 'PWS Records (System Entry)'!$D$4)","v":""},{"$f":"IF(AND(ISBLANK(INDEX($G:$G,)), ISBLANK(INDEX($C:$C,))), \"\", 'PWS Records (System Entry)'!$D$3)","v":""},null,null,null,null,null,null,null,null,null,null,null,null,null,null,null,null,null,null,""]
[{"$f":"IF(AND(ISBLANK(INDEX($G:$G,)), ISBLANK(INDEX($C:$C,))), \"\", 'PWS Records (System Entry)'!$D$4)","v":""},{"$f":"IF(AND(ISBLANK(INDEX($G:$G,)), ISBLANK(INDEX($C:$C,))), \"\", 'PWS Records (System Entry)'!$D$3)","v":""},null,null,null,null,null,null,null,null,null,null,null,null,null,null,null,null,null,null,""]
[{"$f":"IF(AND(ISBLANK(INDEX($G:$G,)), ISBLANK(INDEX($C:$C,))), \"\", 'PWS Records (System Entry)'!$D$4)","v":""},{"$f":"IF(AND(ISBLANK(INDEX($G:$G,)), ISBLANK(INDEX($C:$C,))), \"\", 'PWS Records (System Entry)'!$D$3)","v":""},null,null,null,null,null,null,null,null,null,null,null,null,null,null,null,null,null,null,""]
[{"$f":"IF(AND(ISBLANK(INDEX($G:$G,)), ISBLANK(INDEX($C:$C,))), \"\", 'PWS Records (System Entry)'!$D$4)","v":""},{"$f":"IF(AND(ISBLANK(INDEX($G:$G,)), ISBLANK(INDEX($C:$C,))), \"\", 'PWS Records (System Entry)'!$D$3)","v":""},null,null,null,null,null,null,null,null,null,null,null,null,null,null,null,null,null,null,""]
[{"$f":"IF(AND(ISBLANK(INDEX($G:$G,)), ISBLANK(INDEX($C:$C,))), \"\", 'PWS Records (System Entry)'!$D$4)","v":""},{"$f":"IF(AND(ISBLANK(INDEX($G:$G,)), ISBLANK(INDEX($C:$C,))), \"\", 'PWS Records (System Entry)'!$D$3)","v":""},null,null,null,null,null,null,null,null,null,null,null,null,null,null,null,null,null,null,""]
[{"$f":"IF(AND(ISBLANK(INDEX($G:$G,)), ISBLANK(INDEX($C:$C,))), \"\", 'PWS Records (System Entry)'!$D$4)","v":""},{"$f":"IF(AND(ISBLANK(INDEX($G:$G,)), ISBLANK(INDEX($C:$C,))), \"\", 'PWS Records (System Entry)'!$D$3)","v":""},null,null,null,null,null,null,null,null,null,null,null,null,null,null,null,null,null,null,""]
[{"$f":"IF(AND(ISBLANK(INDEX($G:$G,)), ISBLANK(INDEX($C:$C,))), \"\", 'PWS Records (System Entry)'!$D$4)","v":""},{"$f":"IF(AND(ISBLANK(INDEX($G:$G,)), ISBLANK(INDEX($C:$C,))), \"\", 'PWS Records (System Entry)'!$D$3)","v":""},null,null,null,null,null,null,null,null,null,null,null,null,null,null,null,null,null,null,""]
[{"$f":"IF(AND(ISBLANK(INDEX($G:$G,)), ISBLANK(INDEX($C:$C,))), \"\", 'PWS Records (System Entry)'!$D$4)","v":""},{"$f":"IF(AND(ISBLANK(INDEX($G:$G,)), ISBLANK(INDEX($C:$C,))), \"\", 'PWS Records (System Entry)'!$D$3)","v":""},null,null,null,null,null,null,null,null,null,null,null,null,null,null,null,null,null,null,""]
[{"$f":"IF(AND(ISBLANK(INDEX($G:$G,)), ISBLANK(INDEX($C:$C,))), \"\", 'PWS Records (System Entry)'!$D$4)","v":""},{"$f":"IF(AND(ISBLANK(INDEX($G:$G,)), ISBLANK(INDEX($C:$C,))), \"\", 'PWS Records (System Entry)'!$D$3)","v":""},null,null,null,null,null,null,null,null,null,null,null,null,null,null,null,null,null,null,""]
[{"$f":"IF(AND(ISBLANK(INDEX($G:$G,)), ISBLANK(INDEX($C:$C,))), \"\", 'PWS Records (System Entry)'!$D$4)","v":""},{"$f":"IF(AND(ISBLANK(INDEX($G:$G,)), ISBLANK(INDEX($C:$C,))), \"\", 'PWS Records (System Entry)'!$D$3)","v":""},null,null,null,null,null,null,null,null,null,null,null,null,null,null,null,null,null,null,""]
[{"$f":"IF(AND(ISBLANK(INDEX($G:$G,)), ISBLANK(INDEX($C:$C,))), \"\", 'PWS Records (System Entry)'!$D$4)","v":""},{"$f":"IF(AND(ISBLANK(INDEX($G:$G,)), ISBLANK(INDEX($C:$C,))), \"\", 'PWS Records (System Entry)'!$D$3)","v":""},null,null,null,null,null,null,null,null,null,null,null,null,null,null,null,null,null,null,""]
[{"$f":"IF(AND(ISBLANK(INDEX($G:$G,)), ISBLANK(INDEX($C:$C,))), \"\", 'PWS Records (System Entry)'!$D$4)","v":""},{"$f":"IF(AND(ISBLANK(INDEX($G:$G,)), ISBLANK(INDEX($C:$C,))), \"\", 'PWS Records (System Entry)'!$D$3)","v":""},null,null,null,null,null,null,null,null,null,null,null,null,null,null,null,null,null,null,""]
[{"$f":"IF(AND(ISBLANK(INDEX($G:$G,)), ISBLANK(INDEX($C:$C,))), \"\", 'PWS Records (System Entry)'!$D$4)","v":""},{"$f":"IF(AND(ISBLANK(INDEX($G:$G,)), ISBLANK(INDEX($C:$C,))), \"\", 'PWS Records (System Entry)'!$D$3)","v":""},null,null,null,null,null,null,null,null,null,null,null,null,null,null,null,null,null,null,""]
[{"$f":"IF(AND(ISBLANK(INDEX($G:$G,)), ISBLANK(INDEX($C:$C,))), \"\", 'PWS Records (System Entry)'!$D$4)","v":""},{"$f":"IF(AND(ISBLANK(INDEX($G:$G,)), ISBLANK(INDEX($C:$C,))), \"\", 'PWS Records (System Entry)'!$D$3)","v":""},null,null,null,null,null,null,null,null,null,null,null,null,null,null,null,null,null,null,""]
[{"$f":"IF(AND(ISBLANK(INDEX($G:$G,)), ISBLANK(INDEX($C:$C,))), \"\", 'PWS Records (System Entry)'!$D$4)","v":""},{"$f":"IF(AND(ISBLANK(INDEX($G:$G,)), ISBLANK(INDEX($C:$C,))), \"\", 'PWS Records (System Entry)'!$D$3)","v":""},null,null,null,null,null,null,null,null,null,null,null,null,null,null,null,null,null,null,""]
[{"$f":"IF(AND(ISBLANK(INDEX($G:$G,)), ISBLANK(INDEX($C:$C,))), \"\", 'PWS Records (System Entry)'!$D$4)","v":""},{"$f":"IF(AND(ISBLANK(INDEX($G:$G,)), ISBLANK(INDEX($C:$C,))), \"\", 'PWS Records (System Entry)'!$D$3)","v":""},null,null,null,null,null,null,null,null,null,null,null,null,null,null,null,null,null,null,""]
[{"$f":"IF(AND(ISBLANK(INDEX($G:$G,)), ISBLANK(INDEX($C:$C,))), \"\", 'PWS Records (System Entry)'!$D$4)","v":""},{"$f":"IF(AND(ISBLANK(INDEX($G:$G,)), ISBLANK(INDEX($C:$C,))), \"\", 'PWS Records (System Entry)'!$D$3)","v":""},null,null,null,null,null,null,null,null,null,null,null,null,null,null,null,null,null,null,""]
[{"$f":"IF(AND(ISBLANK(INDEX($G:$G,)), ISBLANK(INDEX($C:$C,))), \"\", 'PWS Records (System Entry)'!$D$4)","v":""},{"$f":"IF(AND(ISBLANK(INDEX($G:$G,)), ISBLANK(INDEX($C:$C,))), \"\", 'PWS Records (System Entry)'!$D$3)","v":""},null,null,null,null,null,null,null,null,null,null,null,null,null,null,null,null,null,null,""]
[{"$f":"IF(AND(ISBLANK(INDEX($G:$G,)), ISBLANK(INDEX($C:$C,))), \"\", 'PWS Records (System Entry)'!$D$4)","v":""},{"$f":"IF(AND(ISBLANK(INDEX($G:$G,)), ISBLANK(INDEX($C:$C,))), \"\", 'PWS Records (System Entry)'!$D$3)","v":""},null,null,null,null,null,null,null,null,null,null,null,null,null,null,null,null,null,null,""]
[{"$f":"IF(AND(ISBLANK(INDEX($G:$G,)), ISBLANK(INDEX($C:$C,))), \"\", 'PWS Records (System Entry)'!$D$4)","v":""},{"$f":"IF(AND(ISBLANK(INDEX($G:$G,)), ISBLANK(INDEX($C:$C,))), \"\", 'PWS Records (System Entry)'!$D$3)","v":""},null,null,null,null,null,null,null,null,null,null,null,null,null,null,null,null,null,null,""]
[{"$f":"IF(AND(ISBLANK(INDEX($G:$G,)), ISBLANK(INDEX($C:$C,))), \"\", 'PWS Records (System Entry)'!$D$4)","v":""},{"$f":"IF(AND(ISBLANK(INDEX($G:$G,)), ISBLANK(INDEX($C:$C,))), \"\", 'PWS Records (System Entry)'!$D$3)","v":""},null,null,null,null,null,null,null,null,null,null,null,null,null,null,null,null,null,null,""]
[{"$f":"IF(AND(ISBLANK(INDEX($G:$G,)), ISBLANK(INDEX($C:$C,))), \"\", 'PWS Records (System Entry)'!$D$4)","v":""},{"$f":"IF(AND(ISBLANK(INDEX($G:$G,)), ISBLANK(INDEX($C:$C,))), \"\", 'PWS Records (System Entry)'!$D$3)","v":""},null,null,null,null,null,null,null,null,null,null,null,null,null,null,null,null,null,null,""]
[{"$f":"IF(AND(ISBLANK(INDEX($G:$G,)), ISBLANK(INDEX($C:$C,))), \"\", 'PWS Records (System Entry)'!$D$4)","v":""},{"$f":"IF(AND(ISBLANK(INDEX($G:$G,)), ISBLANK(INDEX($C:$C,))), \"\", 'PWS Records (System Entry)'!$D$3)","v":""},null,null,null,null,null,null,null,null,null,null,null,null,null,null,null,null,null,null,""]
[{"$f":"IF(AND(ISBLANK(INDEX($G:$G,)), ISBLANK(INDEX($C:$C,))), \"\", 'PWS Records (System Entry)'!$D$4)","v":""},{"$f":"IF(AND(ISBLANK(INDEX($G:$G,)), ISBLANK(INDEX($C:$C,))), \"\", 'PWS Records (System Entry)'!$D$3)","v":""},null,null,null,null,null,null,null,null,null,null,null,null,null,null,null,null,null,null,""]
[{"$f":"IF(AND(ISBLANK(INDEX($G:$G,)), ISBLANK(INDEX($C:$C,))), \"\", 'PWS Records (System Entry)'!$D$4)","v":""},{"$f":"IF(AND(ISBLANK(INDEX($G:$G,)), ISBLANK(INDEX($C:$C,))), \"\", 'PWS Records (System Entry)'!$D$3)","v":""},null,null,null,null,null,null,null,null,null,null,null,null,null,null,null,null,null,null,""]
[{"$f":"IF(AND(ISBLANK(INDEX($G:$G,)), ISBLANK(INDEX($C:$C,))), \"\", 'PWS Records (System Entry)'!$D$4)","v":""},{"$f":"IF(AND(ISBLANK(INDEX($G:$G,)), ISBLANK(INDEX($C:$C,))), \"\", 'PWS Records (System Entry)'!$D$3)","v":""},null,null,null,null,null,null,null,null,null,null,null,null,null,null,null,null,null,null,""]
[{"$f":"IF(AND(ISBLANK(INDEX($G:$G,)), ISBLANK(INDEX($C:$C,))), \"\", 'PWS Records (System Entry)'!$D$4)","v":""},{"$f":"IF(AND(ISBLANK(INDEX($G:$G,)), ISBLANK(INDEX($C:$C,))), \"\", 'PWS Records (System Entry)'!$D$3)","v":""},null,null,null,null,null,null,null,null,null,null,null,null,null,null,null,null,null,null,""]
[{"$f":"IF(AND(ISBLANK(INDEX($G:$G,)), ISBLANK(INDEX($C:$C,))), \"\", 'PWS Records (System Entry)'!$D$4)","v":""},{"$f":"IF(AND(ISBLANK(INDEX($G:$G,)), ISBLANK(INDEX($C:$C,))), \"\", 'PWS Records (System Entry)'!$D$3)","v":""},null,null,null,null,null,null,null,null,null,null,null,null,null,null,null,null,null,null,""]
[{"$f":"IF(AND(ISBLANK(INDEX($G:$G,)), ISBLANK(INDEX($C:$C,))), \"\", 'PWS Records (System Entry)'!$D$4)","v":""},{"$f":"IF(AND(ISBLANK(INDEX($G:$G,)), ISBLANK(INDEX($C:$C,))), \"\", 'PWS Records (System Entry)'!$D$3)","v":""},null,null,null,null,null,null,null,null,null,null,null,null,null,null,null,null,null,null,""]
[{"$f":"IF(AND(ISBLANK(INDEX($G:$G,)), ISBLANK(INDEX($C:$C,))), \"\", 'PWS Records (System Entry)'!$D$4)","v":""},{"$f":"IF(AND(ISBLANK(INDEX($G:$G,)), ISBLANK(INDEX($C:$C,))), \"\", 'PWS Records (System Entry)'!$D$3)","v":""},null,null,null,null,null,null,null,null,null,null,null,null,null,null,null,null,null,null,""]
[{"$f":"IF(AND(ISBLANK(INDEX($G:$G,)), ISBLANK(INDEX($C:$C,))), \"\", 'PWS Records (System Entry)'!$D$4)","v":""},{"$f":"IF(AND(ISBLANK(INDEX($G:$G,)), ISBLANK(INDEX($C:$C,))), \"\", 'PWS Records (System Entry)'!$D$3)","v":""},null,null,null,null,null,null,null,null,null,null,null,null,null,null,null,null,null,null,""]
[{"$f":"IF(AND(ISBLANK(INDEX($G:$G,)), ISBLANK(INDEX($C:$C,))), \"\", 'PWS Records (System Entry)'!$D$4)","v":""},{"$f":"IF(AND(ISBLANK(INDEX($G:$G,)), ISBLANK(INDEX($C:$C,))), \"\", 'PWS Records (System Entry)'!$D$3)","v":""},null,null,null,null,null,null,null,null,null,null,null,null,null,null,null,null,null,null,""]
[{"$f":"IF(AND(ISBLANK(INDEX($G:$G,)), ISBLANK(INDEX($C:$C,))), \"\", 'PWS Records (System Entry)'!$D$4)","v":""},{"$f":"IF(AND(ISBLANK(INDEX($G:$G,)), ISBLANK(INDEX($C:$C,))), \"\", 'PWS Records (System Entry)'!$D$3)","v":""},null,null,null,null,null,null,null,null,null,null,null,null,null,null,null,null,null,null,""]
[{"$f":"IF(AND(ISBLANK(INDEX($G:$G,)), ISBLANK(INDEX($C:$C,))), \"\", 'PWS Records (System Entry)'!$D$4)","v":""},{"$f":"IF(AND(ISBLANK(INDEX($G:$G,)), ISBLANK(INDEX($C:$C,))), \"\", 'PWS Records (System Entry)'!$D$3)","v":""},null,null,null,null,null,null,null,null,null,null,null,null,null,null,null,null,null,null,""]
[{"$f":"IF(AND(ISBLANK(INDEX($G:$G,)), ISBLANK(INDEX($C:$C,))), \"\", 'PWS Records (System Entry)'!$D$4)","v":""},{"$f":"IF(AND(ISBLANK(INDEX($G:$G,)), ISBLANK(INDEX($C:$C,))), \"\", 'PWS Records (System Entry)'!$D$3)","v":""},null,null,null,null,null,null,null,null,null,null,null,null,null,null,null,null,null,null,""]
[{"$f":"IF(AND(ISBLANK(INDEX($G:$G,)), ISBLANK(INDEX($C:$C,))), \"\", 'PWS Records (System Entry)'!$D$4)","v":""},{"$f":"IF(AND(ISBLANK(INDEX($G:$G,)), ISBLANK(INDEX($C:$C,))), \"\", 'PWS Records (System Entry)'!$D$3)","v":""},null,null,null,null,null,null,null,null,null,null,null,null,null,null,null,null,null,null,""]
[{"$f":"IF(AND(ISBLANK(INDEX($G:$G,)), ISBLANK(INDEX($C:$C,))), \"\", 'PWS Records (System Entry)'!$D$4)","v":""},{"$f":"IF(AND(ISBLANK(INDEX($G:$G,)), ISBLANK(INDEX($C:$C,))), \"\", 'PWS Records (System Entry)'!$D$3)","v":""},null,null,null,null,null,null,null,null,null,null,null,null,null,null,null,null,null,null,""]
[{"$f":"IF(AND(ISBLANK(INDEX($G:$G,)), ISBLANK(INDEX($C:$C,))), \"\", 'PWS Records (System Entry)'!$D$4)","v":""},{"$f":"IF(AND(ISBLANK(INDEX($G:$G,)), ISBLANK(INDEX($C:$C,))), \"\", 'PWS Records (System Entry)'!$D$3)","v":""},null,null,null,null,null,null,null,null,null,null,null,null,null,null,null,null,null,null,""]
[{"$f":"IF(AND(ISBLANK(INDEX($G:$G,)), ISBLANK(INDEX($C:$C,))), \"\", 'PWS Records (System Entry)'!$D$4)","v":""},{"$f":"IF(AND(ISBLANK(INDEX($G:$G,)), ISBLANK(INDEX($C:$C,))), \"\", 'PWS Records (System Entry)'!$D$3)","v":""},null,null,null,null,null,null,null,null,null,null,null,null,null,null,null,null,null,null,""]
[{"$f":"IF(AND(ISBLANK(INDEX($G:$G,)), ISBLANK(INDEX($C:$C,))), \"\", 'PWS Records (System Entry)'!$D$4)","v":""},{"$f":"IF(AND(ISBLANK(INDEX($G:$G,)), ISBLANK(INDEX($C:$C,))), \"\", 'PWS Records (System Entry)'!$D$3)","v":""},null,null,null,null,null,null,null,null,null,null,null,null,null,null,null,null,null,null,""]
[{"$f":"IF(AND(ISBLANK(INDEX($G:$G,)), ISBLANK(INDEX($C:$C,))), \"\", 'PWS Records (System Entry)'!$D$4)","v":""},{"$f":"IF(AND(ISBLANK(INDEX($G:$G,)), ISBLANK(INDEX($C:$C,))), \"\", 'PWS Records (System Entry)'!$D$3)","v":""},null,null,null,null,null,null,null,null,null,null,null,null,null,null,null,null,null,null,{"$f":"IF(AND(INDEX($K:$K,)=\"\", INDEX($L:$L,)=\"\", INDEX($M:$M,)=\"\", INDEX($Q:$Q,)=\"\", INDEX($R:$R,)=\"\"), \"\", IF(OR(INDEX($K:$K,)=\"Lead\",INDEX($Q:$Q,)=\"Lead\"),\"Lead\",IF(OR(AND(OR(INDEX($M:$M,)=\"Yes\", INDEX($M:$M,)=\"Don't Know\", INDEX($M:$M,)=\"\"), INDEX($Q:$Q,)=\"Galvanized Iron/Steel\"), AND(INDEX($K:$K,)=\"Unknown\", INDEX($M:$M,)=\"No\", INDEX($Q:$Q,)=\"Galvanized Iron/Steel\")), \"Galvanized Requiring Replacement\", IF(OR(AND(OR(INDEX($K:$K,)=\"Galvanized Iron/Steel\", INDEX($K:$K,)=\"Non-Lead - Copper\", INDEX($K:$K,)=\"Non-Lead - Plastic\", INDEX($K:$K,)=\"Non-Lead - Other\", INDEX($K:$K,)=\"Non-Lead - Material Unknown\", INDEX($K:$K,)=\"No System Owned Portion\"), OR(INDEX($Q:$Q,)=\"Galvanized Iron/Steel\", INDEX($Q:$Q,)=\"Non-Lead - Copper\", INDEX($Q:$Q,)=\"Non-Lead - Plastic\", INDEX($Q:$Q,)=\"Non-Lead - Other\", INDEX($Q:$Q,)=\"Non-Lead - Predictive Model\", INDEX($Q:$Q,)=\"No Customer Owned Portion\")), AND(OR( INDEX($K:$K,)=\"Galvanized Iron/Steel\", INDEX($K:$K,)=\"Non-Lead - Copper\", INDEX($K:$K,)=\"Non-Lead - Plastic\", INDEX($K:$K,)=\"Non-Lead - Other\", INDEX($K:$K,)=\"Non-Lead - Material Unknown\", INDEX($K:$K,)=\"No System Owned Portion\"), INDEX($M:$M,)=\"No\", INDEX($Q:$Q,)=\"Non-Lead - Material Unknown\")), \"Non-Lead\", \"Lead Status Unknown\"))))","v":""}]
[{"$f":"IF(AND(ISBLANK(INDEX($G:$G,)), ISBLANK(INDEX($C:$C,))), \"\", 'PWS Records (System Entry)'!$D$4)","v":""},{"$f":"IF(AND(ISBLANK(INDEX($G:$G,)), ISBLANK(INDEX($C:$C,))), \"\", 'PWS Records (System Entry)'!$D$3)","v":""},null,null,null,null,null,null,null,null,null,null,null,null,null,null,null,null,null,null,""]
[{"$f":"IF(AND(ISBLANK(INDEX($G:$G,)), ISBLANK(INDEX($C:$C,))), \"\", 'PWS Records (System Entry)'!$D$4)","v":""},{"$f":"IF(AND(ISBLANK(INDEX($G:$G,)), ISBLANK(INDEX($C:$C,))), \"\", 'PWS Records (System Entry)'!$D$3)","v":""},null,null,null,null,null,null,null,null,null,null,null,null,null,null,null,null,null,null,""]
[{"$f":"IF(AND(ISBLANK(INDEX($G:$G,)), ISBLANK(INDEX($C:$C,))), \"\", 'PWS Records (System Entry)'!$D$4)","v":""},{"$f":"IF(AND(ISBLANK(INDEX($G:$G,)), ISBLANK(INDEX($C:$C,))), \"\", 'PWS Records (System Entry)'!$D$3)","v":""},null,null,null,null,null,null,null,null,null,null,null,null,null,null,null,null,null,null,""]
[{"$f":"IF(AND(ISBLANK(INDEX($G:$G,)), ISBLANK(INDEX($C:$C,))), \"\", 'PWS Records (System Entry)'!$D$4)","v":""},{"$f":"IF(AND(ISBLANK(INDEX($G:$G,)), ISBLANK(INDEX($C:$C,))), \"\", 'PWS Records (System Entry)'!$D$3)","v":""},null,null,null,null,null,null,null,null,null,null,null,null,null,null,null,null,null,null,""]
[{"$f":"IF(AND(ISBLANK(INDEX($G:$G,)), ISBLANK(INDEX($C:$C,))), \"\", 'PWS Records (System Entry)'!$D$4)","v":""},{"$f":"IF(AND(ISBLANK(INDEX($G:$G,)), ISBLANK(INDEX($C:$C,))), \"\", 'PWS Records (System Entry)'!$D$3)","v":""},null,null,null,null,null,null,null,null,null,null,null,null,null,null,null,null,null,null,""]
[{"$f":"IF(AND(ISBLANK(INDEX($G:$G,)), ISBLANK(INDEX($C:$C,))), \"\", 'PWS Records (System Entry)'!$D$4)","v":""},{"$f":"IF(AND(ISBLANK(INDEX($G:$G,)), ISBLANK(INDEX($C:$C,))), \"\", 'PWS Records (System Entry)'!$D$3)","v":""},null,null,null,null,null,null,null,null,null,null,null,null,null,null,null,null,null,null,""]
[{"$f":"IF(AND(ISBLANK(INDEX($G:$G,)), ISBLANK(INDEX($C:$C,))), \"\", 'PWS Records (System Entry)'!$D$4)","v":""},{"$f":"IF(AND(ISBLANK(INDEX($G:$G,)), ISBLANK(INDEX($C:$C,))), \"\", 'PWS Records (System Entry)'!$D$3)","v":""},null,null,null,null,null,null,null,null,null,null,null,null,null,null,null,null,null,null,""]
[{"$f":"IF(AND(ISBLANK(INDEX($G:$G,)), ISBLANK(INDEX($C:$C,))), \"\", 'PWS Records (System Entry)'!$D$4)","v":""},{"$f":"IF(AND(ISBLANK(INDEX($G:$G,)), ISBLANK(INDEX($C:$C,))), \"\", 'PWS Records (System Entry)'!$D$3)","v":""},null,null,null,null,null,null,null,null,null,null,null,null,null,null,null,null,null,null,""]
[{"$f":"IF(AND(ISBLANK(INDEX($G:$G,)), ISBLANK(INDEX($C:$C,))), \"\", 'PWS Records (System Entry)'!$D$4)","v":""},{"$f":"IF(AND(ISBLANK(INDEX($G:$G,)), ISBLANK(INDEX($C:$C,))), \"\", 'PWS Records (System Entry)'!$D$3)","v":""},null,null,null,null,null,null,null,null,null,null,null,null,null,null,null,null,null,null,""]
[{"$f":"IF(AND(ISBLANK(INDEX($G:$G,)), ISBLANK(INDEX($C:$C,))), \"\", 'PWS Records (System Entry)'!$D$4)","v":""},{"$f":"IF(AND(ISBLANK(INDEX($G:$G,)), ISBLANK(INDEX($C:$C,))), \"\", 'PWS Records (System Entry)'!$D$3)","v":""},null,null,null,null,null,null,null,null,null,null,null,null,null,null,null,null,null,null,""]
[{"$f":"IF(AND(ISBLANK(INDEX($G:$G,)), ISBLANK(INDEX($C:$C,))), \"\", 'PWS Records (System Entry)'!$D$4)","v":""},{"$f":"IF(AND(ISBLANK(INDEX($G:$G,)), ISBLANK(INDEX($C:$C,))), \"\", 'PWS Records (System Entry)'!$D$3)","v":""},null,null,null,null,null,null,null,null,null,null,null,null,null,null,null,null,null,null,""]
[{"$f":"IF(AND(ISBLANK(INDEX($G:$G,)), ISBLANK(INDEX($C:$C,))), \"\", 'PWS Records (System Entry)'!$D$4)","v":""},{"$f":"IF(AND(ISBLANK(INDEX($G:$G,)), ISBLANK(INDEX($C:$C,))), \"\", 'PWS Records (System Entry)'!$D$3)","v":""},null,null,null,null,null,null,null,null,null,null,null,null,null,null,null,null,null,null,""]
[{"$f":"IF(AND(ISBLANK(INDEX($G:$G,)), ISBLANK(INDEX($C:$C,))), \"\", 'PWS Records (System Entry)'!$D$4)","v":""},{"$f":"IF(AND(ISBLANK(INDEX($G:$G,)), ISBLANK(INDEX($C:$C,))), \"\", 'PWS Records (System Entry)'!$D$3)","v":""},null,null,null,null,null,null,null,null,null,null,null,null,null,null,null,null,null,null,""]
[{"$f":"IF(AND(ISBLANK(INDEX($G:$G,)), ISBLANK(INDEX($C:$C,))), \"\", 'PWS Records (System Entry)'!$D$4)","v":""},{"$f":"IF(AND(ISBLANK(INDEX($G:$G,)), ISBLANK(INDEX($C:$C,))), \"\", 'PWS Records (System Entry)'!$D$3)","v":""},null,null,null,null,null,null,null,null,null,null,null,null,null,null,null,null,null,null,""]
[{"$f":"IF(AND(ISBLANK(INDEX($G:$G,)), ISBLANK(INDEX($C:$C,))), \"\", 'PWS Records (System Entry)'!$D$4)","v":""},{"$f":"IF(AND(ISBLANK(INDEX($G:$G,)), ISBLANK(INDEX($C:$C,))), \"\", 'PWS Records (System Entry)'!$D$3)","v":""},null,null,null,null,null,null,null,null,null,null,null,null,null,null,null,null,null,null,""]
[{"$f":"IF(AND(ISBLANK(INDEX($G:$G,)), ISBLANK(INDEX($C:$C,))), \"\", 'PWS Records (System Entry)'!$D$4)","v":""},{"$f":"IF(AND(ISBLANK(INDEX($G:$G,)), ISBLANK(INDEX($C:$C,))), \"\", 'PWS Records (System Entry)'!$D$3)","v":""},null,null,null,null,null,null,null,null,null,null,null,null,null,null,null,null,null,null,""]
[{"$f":"IF(AND(ISBLANK(INDEX($G:$G,)), ISBLANK(INDEX($C:$C,))), \"\", 'PWS Records (System Entry)'!$D$4)","v":""},{"$f":"IF(AND(ISBLANK(INDEX($G:$G,)), ISBLANK(INDEX($C:$C,))), \"\", 'PWS Records (System Entry)'!$D$3)","v":""},null,null,null,null,null,null,null,null,null,null,null,null,null,null,null,null,null,null,""]
[{"$f":"IF(AND(ISBLANK(INDEX($G:$G,)), ISBLANK(INDEX($C:$C,))), \"\", 'PWS Records (System Entry)'!$D$4)","v":""},{"$f":"IF(AND(ISBLANK(INDEX($G:$G,)), ISBLANK(INDEX($C:$C,))), \"\", 'PWS Records (System Entry)'!$D$3)","v":""},null,null,null,null,null,null,null,null,null,null,null,null,null,null,null,null,null,null,""]
[{"$f":"IF(AND(ISBLANK(INDEX($G:$G,)), ISBLANK(INDEX($C:$C,))), \"\", 'PWS Records (System Entry)'!$D$4)","v":""},{"$f":"IF(AND(ISBLANK(INDEX($G:$G,)), ISBLANK(INDEX($C:$C,))), \"\", 'PWS Records (System Entry)'!$D$3)","v":""},null,null,null,null,null,null,null,null,null,null,null,null,null,null,null,null,null,null,""]
[{"$f":"IF(AND(ISBLANK(INDEX($G:$G,)), ISBLANK(INDEX($C:$C,))), \"\", 'PWS Records (System Entry)'!$D$4)","v":""},{"$f":"IF(AND(ISBLANK(INDEX($G:$G,)), ISBLANK(INDEX($C:$C,))), \"\", 'PWS Records (System Entry)'!$D$3)","v":""},null,null,null,null,null,null,null,null,null,null,null,null,null,null,null,null,null,null,""]
[{"$f":"IF(AND(ISBLANK(INDEX($G:$G,)), ISBLANK(INDEX($C:$C,))), \"\", 'PWS Records (System Entry)'!$D$4)","v":""},{"$f":"IF(AND(ISBLANK(INDEX($G:$G,)), ISBLANK(INDEX($C:$C,))), \"\", 'PWS Records (System Entry)'!$D$3)","v":""},null,null,null,null,null,null,null,null,null,null,null,null,null,null,null,null,null,null,""]
[{"$f":"IF(AND(ISBLANK(INDEX($G:$G,)), ISBLANK(INDEX($C:$C,))), \"\", 'PWS Records (System Entry)'!$D$4)","v":""},{"$f":"IF(AND(ISBLANK(INDEX($G:$G,)), ISBLANK(INDEX($C:$C,))), \"\", 'PWS Records (System Entry)'!$D$3)","v":""},null,null,null,null,null,null,null,null,null,null,null,null,null,null,null,null,null,null,""]
[{"$f":"IF(AND(ISBLANK(INDEX($G:$G,)), ISBLANK(INDEX($C:$C,))), \"\", 'PWS Records (System Entry)'!$D$4)","v":""},{"$f":"IF(AND(ISBLANK(INDEX($G:$G,)), ISBLANK(INDEX($C:$C,))), \"\", 'PWS Records (System Entry)'!$D$3)","v":""},null,null,null,null,null,null,null,null,null,null,null,null,null,null,null,null,null,null,""]
[{"$f":"IF(AND(ISBLANK(INDEX($G:$G,)), ISBLANK(INDEX($C:$C,))), \"\", 'PWS Records (System Entry)'!$D$4)","v":""},{"$f":"IF(AND(ISBLANK(INDEX($G:$G,)), ISBLANK(INDEX($C:$C,))), \"\", 'PWS Records (System Entry)'!$D$3)","v":""},null,null,null,null,null,null,null,null,null,null,null,null,null,null,null,null,null,null,""]
[{"$f":"IF(AND(ISBLANK(INDEX($G:$G,)), ISBLANK(INDEX($C:$C,))), \"\", 'PWS Records (System Entry)'!$D$4)","v":""},{"$f":"IF(AND(ISBLANK(INDEX($G:$G,)), ISBLANK(INDEX($C:$C,))), \"\", 'PWS Records (System Entry)'!$D$3)","v":""},null,null,null,null,null,null,null,null,null,null,null,null,null,null,null,null,null,null,""]
[{"$f":"IF(AND(ISBLANK(INDEX($G:$G,)), ISBLANK(INDEX($C:$C,))), \"\", 'PWS Records (System Entry)'!$D$4)","v":""},{"$f":"IF(AND(ISBLANK(INDEX($G:$G,)), ISBLANK(INDEX($C:$C,))), \"\", 'PWS Records (System Entry)'!$D$3)","v":""},null,null,null,null,null,null,null,null,null,null,null,null,null,null,null,null,null,null,""]
[{"$f":"IF(AND(ISBLANK(INDEX($G:$G,)), ISBLANK(INDEX($C:$C,))), \"\", 'PWS Records (System Entry)'!$D$4)","v":""},{"$f":"IF(AND(ISBLANK(INDEX($G:$G,)), ISBLANK(INDEX($C:$C,))), \"\", 'PWS Records (System Entry)'!$D$3)","v":""},null,null,null,null,null,null,null,null,null,null,null,null,null,null,null,null,null,null,""]
[{"$f":"IF(AND(ISBLANK(INDEX($G:$G,)), ISBLANK(INDEX($C:$C,))), \"\", 'PWS Records (System Entry)'!$D$4)","v":""},{"$f":"IF(AND(ISBLANK(INDEX($G:$G,)), ISBLANK(INDEX($C:$C,))), \"\", 'PWS Records (System Entry)'!$D$3)","v":""},null,null,null,null,null,null,null,null,null,null,null,null,null,null,null,null,null,null,""]
[{"$f":"IF(AND(ISBLANK(INDEX($G:$G,)), ISBLANK(INDEX($C:$C,))), \"\", 'PWS Records (System Entry)'!$D$4)","v":""},{"$f":"IF(AND(ISBLANK(INDEX($G:$G,)), ISBLANK(INDEX($C:$C,))), \"\", 'PWS Records (System Entry)'!$D$3)","v":""},null,null,null,null,null,null,null,null,null,null,null,null,null,null,null,null,null,null,""]
[{"$f":"IF(AND(ISBLANK(INDEX($G:$G,)), ISBLANK(INDEX($C:$C,))), \"\", 'PWS Records (System Entry)'!$D$4)","v":""},{"$f":"IF(AND(ISBLANK(INDEX($G:$G,)), ISBLANK(INDEX($C:$C,))), \"\", 'PWS Records (System Entry)'!$D$3)","v":""},null,null,null,null,null,null,null,null,null,null,null,null,null,null,null,null,null,null,""]
[{"$f":"IF(AND(ISBLANK(INDEX($G:$G,)), ISBLANK(INDEX($C:$C,))), \"\", 'PWS Records (System Entry)'!$D$4)","v":""},{"$f":"IF(AND(ISBLANK(INDEX($G:$G,)), ISBLANK(INDEX($C:$C,))), \"\", 'PWS Records (System Entry)'!$D$3)","v":""},null,null,null,null,null,null,null,null,null,null,null,null,null,null,null,null,null,null,""]
[{"$f":"IF(AND(ISBLANK(INDEX($G:$G,)), ISBLANK(INDEX($C:$C,))), \"\", 'PWS Records (System Entry)'!$D$4)","v":""},{"$f":"IF(AND(ISBLANK(INDEX($G:$G,)), ISBLANK(INDEX($C:$C,))), \"\", 'PWS Records (System Entry)'!$D$3)","v":""},null,null,null,null,null,null,null,null,null,null,null,null,null,null,null,null,null,null,""]
[{"$f":"IF(AND(ISBLANK(INDEX($G:$G,)), ISBLANK(INDEX($C:$C,))), \"\", 'PWS Records (System Entry)'!$D$4)","v":""},{"$f":"IF(AND(ISBLANK(INDEX($G:$G,)), ISBLANK(INDEX($C:$C,))), \"\", 'PWS Records (System Entry)'!$D$3)","v":""},null,null,null,null,null,null,null,null,null,null,null,null,null,null,null,null,null,null,""]
[{"$f":"IF(AND(ISBLANK(INDEX($G:$G,)), ISBLANK(INDEX($C:$C,))), \"\", 'PWS Records (System Entry)'!$D$4)","v":""},{"$f":"IF(AND(ISBLANK(INDEX($G:$G,)), ISBLANK(INDEX($C:$C,))), \"\", 'PWS Records (System Entry)'!$D$3)","v":""},null,null,null,null,null,null,null,null,null,null,null,null,null,null,null,null,null,null,""]
[{"$f":"IF(AND(ISBLANK(INDEX($G:$G,)), ISBLANK(INDEX($C:$C,))), \"\", 'PWS Records (System Entry)'!$D$4)","v":""},{"$f":"IF(AND(ISBLANK(INDEX($G:$G,)), ISBLANK(INDEX($C:$C,))), \"\", 'PWS Records (System Entry)'!$D$3)","v":""},null,null,null,null,null,null,null,null,null,null,null,null,null,null,null,null,null,null,""]
[{"$f":"IF(AND(ISBLANK(INDEX($G:$G,)), ISBLANK(INDEX($C:$C,))), \"\", 'PWS Records (System Entry)'!$D$4)","v":""},{"$f":"IF(AND(ISBLANK(INDEX($G:$G,)), ISBLANK(INDEX($C:$C,))), \"\", 'PWS Records (System Entry)'!$D$3)","v":""},null,null,null,null,null,null,null,null,null,null,null,null,null,null,null,null,null,null,""]
[{"$f":"IF(AND(ISBLANK(INDEX($G:$G,)), ISBLANK(INDEX($C:$C,))), \"\", 'PWS Records (System Entry)'!$D$4)","v":""},{"$f":"IF(AND(ISBLANK(INDEX($G:$G,)), ISBLANK(INDEX($C:$C,))), \"\", 'PWS Records (System Entry)'!$D$3)","v":""},null,null,null,null,null,null,null,null,null,null,null,null,null,null,null,null,null,null,""]
[{"$f":"IF(AND(ISBLANK(INDEX($G:$G,)), ISBLANK(INDEX($C:$C,))), \"\", 'PWS Records (System Entry)'!$D$4)","v":""},{"$f":"IF(AND(ISBLANK(INDEX($G:$G,)), ISBLANK(INDEX($C:$C,))), \"\", 'PWS Records (System Entry)'!$D$3)","v":""},null,null,null,null,null,null,null,null,null,null,null,null,null,null,null,null,null,null,""]
[{"$f":"IF(AND(ISBLANK(INDEX($G:$G,)), ISBLANK(INDEX($C:$C,))), \"\", 'PWS Records (System Entry)'!$D$4)","v":""},{"$f":"IF(AND(ISBLANK(INDEX($G:$G,)), ISBLANK(INDEX($C:$C,))), \"\", 'PWS Records (System Entry)'!$D$3)","v":""},null,null,null,null,null,null,null,null,null,null,null,null,null,null,null,null,null,null,""]
[{"$f":"IF(AND(ISBLANK(INDEX($G:$G,)), ISBLANK(INDEX($C:$C,))), \"\", 'PWS Records (System Entry)'!$D$4)","v":""},{"$f":"IF(AND(ISBLANK(INDEX($G:$G,)), ISBLANK(INDEX($C:$C,))), \"\", 'PWS Records (System Entry)'!$D$3)","v":""},null,null,null,null,null,null,null,null,null,null,null,null,null,null,null,null,null,null,""]
[{"$f":"IF(AND(ISBLANK(INDEX($G:$G,)), ISBLANK(INDEX($C:$C,))), \"\", 'PWS Records (System Entry)'!$D$4)","v":""},{"$f":"IF(AND(ISBLANK(INDEX($G:$G,)), ISBLANK(INDEX($C:$C,))), \"\", 'PWS Records (System Entry)'!$D$3)","v":""},null,null,null,null,null,null,null,null,null,null,null,null,null,null,null,null,null,null,""]
[{"$f":"IF(AND(ISBLANK(INDEX($G:$G,)), ISBLANK(INDEX($C:$C,))), \"\", 'PWS Records (System Entry)'!$D$4)","v":""},{"$f":"IF(AND(ISBLANK(INDEX($G:$G,)), ISBLANK(INDEX($C:$C,))), \"\", 'PWS Records (System Entry)'!$D$3)","v":""},null,null,null,null,null,null,null,null,null,null,null,null,null,null,null,null,null,null,""]
[{"$f":"IF(AND(ISBLANK(INDEX($G:$G,)), ISBLANK(INDEX($C:$C,))), \"\", 'PWS Records (System Entry)'!$D$4)","v":""},{"$f":"IF(AND(ISBLANK(INDEX($G:$G,)), ISBLANK(INDEX($C:$C,))), \"\", 'PWS Records (System Entry)'!$D$3)","v":""},null,null,null,null,null,null,null,null,null,null,null,null,null,null,null,null,null,null,""]
[{"$f":"IF(AND(ISBLANK(INDEX($G:$G,)), ISBLANK(INDEX($C:$C,))), \"\", 'PWS Records (System Entry)'!$D$4)","v":""},{"$f":"IF(AND(ISBLANK(INDEX($G:$G,)), ISBLANK(INDEX($C:$C,))), \"\", 'PWS Records (System Entry)'!$D$3)","v":""},null,null,null,null,null,null,null,null,null,null,null,null,null,null,null,null,null,null,""]
[{"$f":"IF(AND(ISBLANK(INDEX($G:$G,)), ISBLANK(INDEX($C:$C,))), \"\", 'PWS Records (System Entry)'!$D$4)","v":""},{"$f":"IF(AND(ISBLANK(INDEX($G:$G,)), ISBLANK(INDEX($C:$C,))), \"\", 'PWS Records (System Entry)'!$D$3)","v":""},null,null,null,null,null,null,null,null,null,null,null,null,null,null,null,null,null,null,""]
[{"$f":"IF(AND(ISBLANK(INDEX($G:$G,)), ISBLANK(INDEX($C:$C,))), \"\", 'PWS Records (System Entry)'!$D$4)","v":""},{"$f":"IF(AND(ISBLANK(INDEX($G:$G,)), ISBLANK(INDEX($C:$C,))), \"\", 'PWS Records (System Entry)'!$D$3)","v":""},null,null,null,null,null,null,null,null,null,null,null,null,null,null,null,null,null,null,""]
[{"$f":"IF(AND(ISBLANK(INDEX($G:$G,)), ISBLANK(INDEX($C:$C,))), \"\", 'PWS Records (System Entry)'!$D$4)","v":""},{"$f":"IF(AND(ISBLANK(INDEX($G:$G,)), ISBLANK(INDEX($C:$C,))), \"\", 'PWS Records (System Entry)'!$D$3)","v":""},null,null,null,null,null,null,null,null,null,null,null,null,null,null,null,null,null,null,""]
[{"$f":"IF(AND(ISBLANK(INDEX($G:$G,)), ISBLANK(INDEX($C:$C,))), \"\", 'PWS Records (System Entry)'!$D$4)","v":""},{"$f":"IF(AND(ISBLANK(INDEX($G:$G,)), ISBLANK(INDEX($C:$C,))), \"\", 'PWS Records (System Entry)'!$D$3)","v":""},null,null,null,null,null,null,null,null,null,null,null,null,null,null,null,null,null,null,""]
[{"$f":"IF(AND(ISBLANK(INDEX($G:$G,)), ISBLANK(INDEX($C:$C,))), \"\", 'PWS Records (System Entry)'!$D$4)","v":""},{"$f":"IF(AND(ISBLANK(INDEX($G:$G,)), ISBLANK(INDEX($C:$C,))), \"\", 'PWS Records (System Entry)'!$D$3)","v":""},null,null,null,null,null,null,null,null,null,null,null,null,null,null,null,null,null,null,""]
[{"$f":"IF(AND(ISBLANK(INDEX($G:$G,)), ISBLANK(INDEX($C:$C,))), \"\", 'PWS Records (System Entry)'!$D$4)","v":""},{"$f":"IF(AND(ISBLANK(INDEX($G:$G,)), ISBLANK(INDEX($C:$C,))), \"\", 'PWS Records (System Entry)'!$D$3)","v":""},null,null,null,null,null,null,null,null,null,null,null,null,null,null,null,null,null,null,""]
[{"$f":"IF(AND(ISBLANK(INDEX($G:$G,)), ISBLANK(INDEX($C:$C,))), \"\", 'PWS Records (System Entry)'!$D$4)","v":""},{"$f":"IF(AND(ISBLANK(INDEX($G:$G,)), ISBLANK(INDEX($C:$C,))), \"\", 'PWS Records (System Entry)'!$D$3)","v":""},null,null,null,null,null,null,null,null,null,null,null,null,null,null,null,null,null,null,""]
[{"$f":"IF(AND(ISBLANK(INDEX($G:$G,)), ISBLANK(INDEX($C:$C,))), \"\", 'PWS Records (System Entry)'!$D$4)","v":""},{"$f":"IF(AND(ISBLANK(INDEX($G:$G,)), ISBLANK(INDEX($C:$C,))), \"\", 'PWS Records (System Entry)'!$D$3)","v":""},null,null,null,null,null,null,null,null,null,null,null,null,null,null,null,null,null,null,""]
[{"$f":"IF(AND(ISBLANK(INDEX($G:$G,)), ISBLANK(INDEX($C:$C,))), \"\", 'PWS Records (System Entry)'!$D$4)","v":""},{"$f":"IF(AND(ISBLANK(INDEX($G:$G,)), ISBLANK(INDEX($C:$C,))), \"\", 'PWS Records (System Entry)'!$D$3)","v":""},null,null,null,null,null,null,null,null,null,null,null,null,null,null,null,null,null,null,""]
[{"$f":"IF(AND(ISBLANK(INDEX($G:$G,)), ISBLANK(INDEX($C:$C,))), \"\", 'PWS Records (System Entry)'!$D$4)","v":""},{"$f":"IF(AND(ISBLANK(INDEX($G:$G,)), ISBLANK(INDEX($C:$C,))), \"\", 'PWS Records (System Entry)'!$D$3)","v":""},null,null,null,null,null,null,null,null,null,null,null,null,null,null,null,null,null,null,""]
[{"$f":"IF(AND(ISBLANK(INDEX($G:$G,)), ISBLANK(INDEX($C:$C,))), \"\", 'PWS Records (System Entry)'!$D$4)","v":""},{"$f":"IF(AND(ISBLANK(INDEX($G:$G,)), ISBLANK(INDEX($C:$C,))), \"\", 'PWS Records (System Entry)'!$D$3)","v":""},null,null,null,null,null,null,null,null,null,null,null,null,null,null,null,null,null,null,""]
[{"$f":"IF(AND(ISBLANK(INDEX($G:$G,)), ISBLANK(INDEX($C:$C,))), \"\", 'PWS Records (System Entry)'!$D$4)","v":""},{"$f":"IF(AND(ISBLANK(INDEX($G:$G,)), ISBLANK(INDEX($C:$C,))), \"\", 'PWS Records (System Entry)'!$D$3)","v":""},null,null,null,null,null,null,null,null,null,null,null,null,null,null,null,null,null,null,""]
[{"$f":"IF(AND(ISBLANK(INDEX($G:$G,)), ISBLANK(INDEX($C:$C,))), \"\", 'PWS Records (System Entry)'!$D$4)","v":""},{"$f":"IF(AND(ISBLANK(INDEX($G:$G,)), ISBLANK(INDEX($C:$C,))), \"\", 'PWS Records (System Entry)'!$D$3)","v":""},null,null,null,null,null,null,null,null,null,null,null,null,null,null,null,null,null,null,""]
[{"$f":"IF(AND(ISBLANK(INDEX($G:$G,)), ISBLANK(INDEX($C:$C,))), \"\", 'PWS Records (System Entry)'!$D$4)","v":""},{"$f":"IF(AND(ISBLANK(INDEX($G:$G,)), ISBLANK(INDEX($C:$C,))), \"\", 'PWS Records (System Entry)'!$D$3)","v":""},null,null,null,null,null,null,null,null,null,null,null,null,null,null,null,null,null,null,""]
[{"$f":"IF(AND(ISBLANK(INDEX($G:$G,)), ISBLANK(INDEX($C:$C,))), \"\", 'PWS Records (System Entry)'!$D$4)","v":""},{"$f":"IF(AND(ISBLANK(INDEX($G:$G,)), ISBLANK(INDEX($C:$C,))), \"\", 'PWS Records (System Entry)'!$D$3)","v":""},null,null,null,null,null,null,null,null,null,null,null,null,null,null,null,null,null,null,""]
[{"$f":"IF(AND(ISBLANK(INDEX($G:$G,)), ISBLANK(INDEX($C:$C,))), \"\", 'PWS Records (System Entry)'!$D$4)","v":""},{"$f":"IF(AND(ISBLANK(INDEX($G:$G,)), ISBLANK(INDEX($C:$C,))), \"\", 'PWS Records (System Entry)'!$D$3)","v":""},null,null,null,null,null,null,null,null,null,null,null,null,null,null,null,null,null,null,""]
[{"$f":"IF(AND(ISBLANK(INDEX($G:$G,)), ISBLANK(INDEX($C:$C,))), \"\", 'PWS Records (System Entry)'!$D$4)","v":""},{"$f":"IF(AND(ISBLANK(INDEX($G:$G,)), ISBLANK(INDEX($C:$C,))), \"\", 'PWS Records (System Entry)'!$D$3)","v":""},null,null,null,null,null,null,null,null,null,null,null,null,null,null,null,null,null,null,""]
[{"$f":"IF(AND(ISBLANK(INDEX($G:$G,)), ISBLANK(INDEX($C:$C,))), \"\", 'PWS Records (System Entry)'!$D$4)","v":""},{"$f":"IF(AND(ISBLANK(INDEX($G:$G,)), ISBLANK(INDEX($C:$C,))), \"\", 'PWS Records (System Entry)'!$D$3)","v":""},null,null,null,null,null,null,null,null,null,null,null,null,null,null,null,null,null,null,""]
[{"$f":"IF(AND(ISBLANK(INDEX($G:$G,)), ISBLANK(INDEX($C:$C,))), \"\", 'PWS Records (System Entry)'!$D$4)","v":""},{"$f":"IF(AND(ISBLANK(INDEX($G:$G,)), ISBLANK(INDEX($C:$C,))), \"\", 'PWS Records (System Entry)'!$D$3)","v":""},null,null,null,null,null,null,null,null,null,null,null,null,null,null,null,null,null,null,""]
[{"$f":"IF(AND(ISBLANK(INDEX($G:$G,)), ISBLANK(INDEX($C:$C,))), \"\", 'PWS Records (System Entry)'!$D$4)","v":""},{"$f":"IF(AND(ISBLANK(INDEX($G:$G,)), ISBLANK(INDEX($C:$C,))), \"\", 'PWS Records (System Entry)'!$D$3)","v":""},null,null,null,null,null,null,null,null,null,null,null,null,null,null,null,null,null,null,{"$f":"IF(AND(INDEX($K:$K,)=\"\", INDEX($L:$L,)=\"\", INDEX($M:$M,)=\"\", INDEX($Q:$Q,)=\"\", INDEX($R:$R,)=\"\"), \"\", IF(OR(INDEX($K:$K,)=\"Lead\",INDEX($Q:$Q,)=\"Lead\"),\"Lead\",IF(OR(AND(OR(INDEX($M:$M,)=\"Yes\", INDEX($M:$M,)=\"Don't Know\", INDEX($M:$M,)=\"\"), INDEX($Q:$Q,)=\"Galvanized Iron/Steel\"), AND(INDEX($K:$K,)=\"Unknown\", INDEX($M:$M,)=\"No\", INDEX($Q:$Q,)=\"Galvanized Iron/Steel\")), \"Galvanized Requiring Replacement\", IF(OR(AND(OR(INDEX($K:$K,)=\"Galvanized Iron/Steel\", INDEX($K:$K,)=\"Non-Lead - Copper\", INDEX($K:$K,)=\"Non-Lead - Plastic\", INDEX($K:$K,)=\"Non-Lead - Other\", INDEX($K:$K,)=\"Non-Lead - Material Unknown\", INDEX($K:$K,)=\"No System Owned Portion\"), OR(INDEX($Q:$Q,)=\"Galvanized Iron/Steel\", INDEX($Q:$Q,)=\"Non-Lead - Copper\", INDEX($Q:$Q,)=\"Non-Lead - Plastic\", INDEX($Q:$Q,)=\"Non-Lead - Other\", INDEX($Q:$Q,)=\"Non-Lead - Predictive Model\", INDEX($Q:$Q,)=\"No Customer Owned Portion\")), AND(OR( INDEX($K:$K,)=\"Galvanized Iron/Steel\", INDEX($K:$K,)=\"Non-Lead - Copper\", INDEX($K:$K,)=\"Non-Lead - Plastic\", INDEX($K:$K,)=\"Non-Lead - Other\", INDEX($K:$K,)=\"Non-Lead - Material Unknown\", INDEX($K:$K,)=\"No System Owned Portion\"), INDEX($M:$M,)=\"No\", INDEX($Q:$Q,)=\"Non-Lead - Material Unknown\")), \"Non-Lead\", \"Lead Status Unknown\"))))","v":""}]
[{"$f":"IF(AND(ISBLANK(INDEX($G:$G,)), ISBLANK(INDEX($C:$C,))), \"\", 'PWS Records (System Entry)'!$D$4)","v":""},{"$f":"IF(AND(ISBLANK(INDEX($G:$G,)), ISBLANK(INDEX($C:$C,))), \"\", 'PWS Records (System Entry)'!$D$3)","v":""},null,null,null,null,null,null,null,null,null,null,null,null,null,null,null,null,null,null,""]
[{"$f":"IF(AND(ISBLANK(INDEX($G:$G,)), ISBLANK(INDEX($C:$C,))), \"\", 'PWS Records (System Entry)'!$D$4)","v":""},{"$f":"IF(AND(ISBLANK(INDEX($G:$G,)), ISBLANK(INDEX($C:$C,))), \"\", 'PWS Records (System Entry)'!$D$3)","v":""},null,null,null,null,null,null,null,null,null,null,null,null,null,null,null,null,null,null,""]
[{"$f":"IF(AND(ISBLANK(INDEX($G:$G,)), ISBLANK(INDEX($C:$C,))), \"\", 'PWS Records (System Entry)'!$D$4)","v":""},{"$f":"IF(AND(ISBLANK(INDEX($G:$G,)), ISBLANK(INDEX($C:$C,))), \"\", 'PWS Records (System Entry)'!$D$3)","v":""},null,null,null,null,null,null,null,null,null,null,null,null,null,null,null,null,null,null,""]
[{"$f":"IF(AND(ISBLANK(INDEX($G:$G,)), ISBLANK(INDEX($C:$C,))), \"\", 'PWS Records (System Entry)'!$D$4)","v":""},{"$f":"IF(AND(ISBLANK(INDEX($G:$G,)), ISBLANK(INDEX($C:$C,))), \"\", 'PWS Records (System Entry)'!$D$3)","v":""},null,null,null,null,null,null,null,null,null,null,null,null,null,null,null,null,null,null,""]
[{"$f":"IF(AND(ISBLANK(INDEX($G:$G,)), ISBLANK(INDEX($C:$C,))), \"\", 'PWS Records (System Entry)'!$D$4)","v":""},{"$f":"IF(AND(ISBLANK(INDEX($G:$G,)), ISBLANK(INDEX($C:$C,))), \"\", 'PWS Records (System Entry)'!$D$3)","v":""},null,null,null,null,null,null,null,null,null,null,null,null,null,null,null,null,null,null,""]
[{"$f":"IF(AND(ISBLANK(INDEX($G:$G,)), ISBLANK(INDEX($C:$C,))), \"\", 'PWS Records (System Entry)'!$D$4)","v":""},{"$f":"IF(AND(ISBLANK(INDEX($G:$G,)), ISBLANK(INDEX($C:$C,))), \"\", 'PWS Records (System Entry)'!$D$3)","v":""},null,null,null,null,null,null,null,null,null,null,null,null,null,null,null,null,null,null,""]
[{"$f":"IF(AND(ISBLANK(INDEX($G:$G,)), ISBLANK(INDEX($C:$C,))), \"\", 'PWS Records (System Entry)'!$D$4)","v":""},{"$f":"IF(AND(ISBLANK(INDEX($G:$G,)), ISBLANK(INDEX($C:$C,))), \"\", 'PWS Records (System Entry)'!$D$3)","v":""},null,null,null,null,null,null,null,null,null,null,null,null,null,null,null,null,null,null,""]
[{"$f":"IF(AND(ISBLANK(INDEX($G:$G,)), ISBLANK(INDEX($C:$C,))), \"\", 'PWS Records (System Entry)'!$D$4)","v":""},{"$f":"IF(AND(ISBLANK(INDEX($G:$G,)), ISBLANK(INDEX($C:$C,))), \"\", 'PWS Records (System Entry)'!$D$3)","v":""},null,null,null,null,null,null,null,null,null,null,null,null,null,null,null,null,null,null,""]
[{"$f":"IF(AND(ISBLANK(INDEX($G:$G,)), ISBLANK(INDEX($C:$C,))), \"\", 'PWS Records (System Entry)'!$D$4)","v":""},{"$f":"IF(AND(ISBLANK(INDEX($G:$G,)), ISBLANK(INDEX($C:$C,))), \"\", 'PWS Records (System Entry)'!$D$3)","v":""},null,null,null,null,null,null,null,null,null,null,null,null,null,null,null,null,null,null,""]
[{"$f":"IF(AND(ISBLANK(INDEX($G:$G,)), ISBLANK(INDEX($C:$C,))), \"\", 'PWS Records (System Entry)'!$D$4)","v":""},{"$f":"IF(AND(ISBLANK(INDEX($G:$G,)), ISBLANK(INDEX($C:$C,))), \"\", 'PWS Records (System Entry)'!$D$3)","v":""},null,null,null,null,null,null,null,null,null,null,null,null,null,null,null,null,null,null,""]
[{"$f":"IF(AND(ISBLANK(INDEX($G:$G,)), ISBLANK(INDEX($C:$C,))), \"\", 'PWS Records (System Entry)'!$D$4)","v":""},{"$f":"IF(AND(ISBLANK(INDEX($G:$G,)), ISBLANK(INDEX($C:$C,))), \"\", 'PWS Records (System Entry)'!$D$3)","v":""},null,null,null,null,null,null,null,null,null,null,null,null,null,null,null,null,null,null,""]
[{"$f":"IF(AND(ISBLANK(INDEX($G:$G,)), ISBLANK(INDEX($C:$C,))), \"\", 'PWS Records (System Entry)'!$D$4)","v":""},{"$f":"IF(AND(ISBLANK(INDEX($G:$G,)), ISBLANK(INDEX($C:$C,))), \"\", 'PWS Records (System Entry)'!$D$3)","v":""},null,null,null,null,null,null,null,null,null,null,null,null,null,null,null,null,null,null,""]
[{"$f":"IF(AND(ISBLANK(INDEX($G:$G,)), ISBLANK(INDEX($C:$C,))), \"\", 'PWS Records (System Entry)'!$D$4)","v":""},{"$f":"IF(AND(ISBLANK(INDEX($G:$G,)), ISBLANK(INDEX($C:$C,))), \"\", 'PWS Records (System Entry)'!$D$3)","v":""},null,null,null,null,null,null,null,null,null,null,null,null,null,null,null,null,null,null,""]
[{"$f":"IF(AND(ISBLANK(INDEX($G:$G,)), ISBLANK(INDEX($C:$C,))), \"\", 'PWS Records (System Entry)'!$D$4)","v":""},{"$f":"IF(AND(ISBLANK(INDEX($G:$G,)), ISBLANK(INDEX($C:$C,))), \"\", 'PWS Records (System Entry)'!$D$3)","v":""},null,null,null,null,null,null,null,null,null,null,null,null,null,null,null,null,null,null,""]
[{"$f":"IF(AND(ISBLANK(INDEX($G:$G,)), ISBLANK(INDEX($C:$C,))), \"\", 'PWS Records (System Entry)'!$D$4)","v":""},{"$f":"IF(AND(ISBLANK(INDEX($G:$G,)), ISBLANK(INDEX($C:$C,))), \"\", 'PWS Records (System Entry)'!$D$3)","v":""},null,null,null,null,null,null,null,null,null,null,null,null,null,null,null,null,null,null,""]
[{"$f":"IF(AND(ISBLANK(INDEX($G:$G,)), ISBLANK(INDEX($C:$C,))), \"\", 'PWS Records (System Entry)'!$D$4)","v":""},{"$f":"IF(AND(ISBLANK(INDEX($G:$G,)), ISBLANK(INDEX($C:$C,))), \"\", 'PWS Records (System Entry)'!$D$3)","v":""},null,null,null,null,null,null,null,null,null,null,null,null,null,null,null,null,null,null,""]
[{"$f":"IF(AND(ISBLANK(INDEX($G:$G,)), ISBLANK(INDEX($C:$C,))), \"\", 'PWS Records (System Entry)'!$D$4)","v":""},{"$f":"IF(AND(ISBLANK(INDEX($G:$G,)), ISBLANK(INDEX($C:$C,))), \"\", 'PWS Records (System Entry)'!$D$3)","v":""},null,null,null,null,null,null,null,null,null,null,null,null,null,null,null,null,null,null,""]
[{"$f":"IF(AND(ISBLANK(INDEX($G:$G,)), ISBLANK(INDEX($C:$C,))), \"\", 'PWS Records (System Entry)'!$D$4)","v":""},{"$f":"IF(AND(ISBLANK(INDEX($G:$G,)), ISBLANK(INDEX($C:$C,))), \"\", 'PWS Records (System Entry)'!$D$3)","v":""},null,null,null,null,null,null,null,null,null,null,null,null,null,null,null,null,null,null,""]
[{"$f":"IF(AND(ISBLANK(INDEX($G:$G,)), ISBLANK(INDEX($C:$C,))), \"\", 'PWS Records (System Entry)'!$D$4)","v":""},{"$f":"IF(AND(ISBLANK(INDEX($G:$G,)), ISBLANK(INDEX($C:$C,))), \"\", 'PWS Records (System Entry)'!$D$3)","v":""},null,null,null,null,null,null,null,null,null,null,null,null,null,null,null,null,null,null,""]
[{"$f":"IF(AND(ISBLANK(INDEX($G:$G,)), ISBLANK(INDEX($C:$C,))), \"\", 'PWS Records (System Entry)'!$D$4)","v":""},{"$f":"IF(AND(ISBLANK(INDEX($G:$G,)), ISBLANK(INDEX($C:$C,))), \"\", 'PWS Records (System Entry)'!$D$3)","v":""},null,null,null,null,null,null,null,null,null,null,null,null,null,null,null,null,null,null,""]
[{"$f":"IF(AND(ISBLANK(INDEX($G:$G,)), ISBLANK(INDEX($C:$C,))), \"\", 'PWS Records (System Entry)'!$D$4)","v":""},{"$f":"IF(AND(ISBLANK(INDEX($G:$G,)), ISBLANK(INDEX($C:$C,))), \"\", 'PWS Records (System Entry)'!$D$3)","v":""},null,null,null,null,null,null,null,null,null,null,null,null,null,null,null,null,null,null,""]
[{"$f":"IF(AND(ISBLANK(INDEX($G:$G,)), ISBLANK(INDEX($C:$C,))), \"\", 'PWS Records (System Entry)'!$D$4)","v":""},{"$f":"IF(AND(ISBLANK(INDEX($G:$G,)), ISBLANK(INDEX($C:$C,))), \"\", 'PWS Records (System Entry)'!$D$3)","v":""},null,null,null,null,null,null,null,null,null,null,null,null,null,null,null,null,null,null,""]
[{"$f":"IF(AND(ISBLANK(INDEX($G:$G,)), ISBLANK(INDEX($C:$C,))), \"\", 'PWS Records (System Entry)'!$D$4)","v":""},{"$f":"IF(AND(ISBLANK(INDEX($G:$G,)), ISBLANK(INDEX($C:$C,))), \"\", 'PWS Records (System Entry)'!$D$3)","v":""},null,null,null,null,null,null,null,null,null,null,null,null,null,null,null,null,null,null,""]
[{"$f":"IF(AND(ISBLANK(INDEX($G:$G,)), ISBLANK(INDEX($C:$C,))), \"\", 'PWS Records (System Entry)'!$D$4)","v":""},{"$f":"IF(AND(ISBLANK(INDEX($G:$G,)), ISBLANK(INDEX($C:$C,))), \"\", 'PWS Records (System Entry)'!$D$3)","v":""},null,null,null,null,null,null,null,null,null,null,null,null,null,null,null,null,null,null,""]
[{"$f":"IF(AND(ISBLANK(INDEX($G:$G,)), ISBLANK(INDEX($C:$C,))), \"\", 'PWS Records (System Entry)'!$D$4)","v":""},{"$f":"IF(AND(ISBLANK(INDEX($G:$G,)), ISBLANK(INDEX($C:$C,))), \"\", 'PWS Records (System Entry)'!$D$3)","v":""},null,null,null,null,null,null,null,null,null,null,null,null,null,null,null,null,null,null,""]
[{"$f":"IF(AND(ISBLANK(INDEX($G:$G,)), ISBLANK(INDEX($C:$C,))), \"\", 'PWS Records (System Entry)'!$D$4)","v":""},{"$f":"IF(AND(ISBLANK(INDEX($G:$G,)), ISBLANK(INDEX($C:$C,))), \"\", 'PWS Records (System Entry)'!$D$3)","v":""},null,null,null,null,null,null,null,null,null,null,null,null,null,null,null,null,null,null,""]
[{"$f":"IF(AND(ISBLANK(INDEX($G:$G,)), ISBLANK(INDEX($C:$C,))), \"\", 'PWS Records (System Entry)'!$D$4)","v":""},{"$f":"IF(AND(ISBLANK(INDEX($G:$G,)), ISBLANK(INDEX($C:$C,))), \"\", 'PWS Records (System Entry)'!$D$3)","v":""},null,null,null,null,null,null,null,null,null,null,null,null,null,null,null,null,null,null,""]
[{"$f":"IF(AND(ISBLANK(INDEX($G:$G,)), ISBLANK(INDEX($C:$C,))), \"\", 'PWS Records (System Entry)'!$D$4)","v":""},{"$f":"IF(AND(ISBLANK(INDEX($G:$G,)), ISBLANK(INDEX($C:$C,))), \"\", 'PWS Records (System Entry)'!$D$3)","v":""},null,null,null,null,null,null,null,null,null,null,null,null,null,null,null,null,null,null,""]
[{"$f":"IF(AND(ISBLANK(INDEX($G:$G,)), ISBLANK(INDEX($C:$C,))), \"\", 'PWS Records (System Entry)'!$D$4)","v":""},{"$f":"IF(AND(ISBLANK(INDEX($G:$G,)), ISBLANK(INDEX($C:$C,))), \"\", 'PWS Records (System Entry)'!$D$3)","v":""},null,null,null,null,null,null,null,null,null,null,null,null,null,null,null,null,null,null,""]
[{"$f":"IF(AND(ISBLANK(INDEX($G:$G,)), ISBLANK(INDEX($C:$C,))), \"\", 'PWS Records (System Entry)'!$D$4)","v":""},{"$f":"IF(AND(ISBLANK(INDEX($G:$G,)), ISBLANK(INDEX($C:$C,))), \"\", 'PWS Records (System Entry)'!$D$3)","v":""},null,null,null,null,null,null,null,null,null,null,null,null,null,null,null,null,null,null,""]
[{"$f":"IF(AND(ISBLANK(INDEX($G:$G,)), ISBLANK(INDEX($C:$C,))), \"\", 'PWS Records (System Entry)'!$D$4)","v":""},{"$f":"IF(AND(ISBLANK(INDEX($G:$G,)), ISBLANK(INDEX($C:$C,))), \"\", 'PWS Records (System Entry)'!$D$3)","v":""},null,null,null,null,null,null,null,null,null,null,null,null,null,null,null,null,null,null,""]
[{"$f":"IF(AND(ISBLANK(INDEX($G:$G,)), ISBLANK(INDEX($C:$C,))), \"\", 'PWS Records (System Entry)'!$D$4)","v":""},{"$f":"IF(AND(ISBLANK(INDEX($G:$G,)), ISBLANK(INDEX($C:$C,))), \"\", 'PWS Records (System Entry)'!$D$3)","v":""},null,null,null,null,null,null,null,null,null,null,null,null,null,null,null,null,null,null,""]
[{"$f":"IF(AND(ISBLANK(INDEX($G:$G,)), ISBLANK(INDEX($C:$C,))), \"\", 'PWS Records (System Entry)'!$D$4)","v":""},{"$f":"IF(AND(ISBLANK(INDEX($G:$G,)), ISBLANK(INDEX($C:$C,))), \"\", 'PWS Records (System Entry)'!$D$3)","v":""},null,null,null,null,null,null,null,null,null,null,null,null,null,null,null,null,null,null,""]
[{"$f":"IF(AND(ISBLANK(INDEX($G:$G,)), ISBLANK(INDEX($C:$C,))), \"\", 'PWS Records (System Entry)'!$D$4)","v":""},{"$f":"IF(AND(ISBLANK(INDEX($G:$G,)), ISBLANK(INDEX($C:$C,))), \"\", 'PWS Records (System Entry)'!$D$3)","v":""},null,null,null,null,null,null,null,null,null,null,null,null,null,null,null,null,null,null,""]
[{"$f":"IF(AND(ISBLANK(INDEX($G:$G,)), ISBLANK(INDEX($C:$C,))), \"\", 'PWS Records (System Entry)'!$D$4)","v":""},{"$f":"IF(AND(ISBLANK(INDEX($G:$G,)), ISBLANK(INDEX($C:$C,))), \"\", 'PWS Records (System Entry)'!$D$3)","v":""},null,null,null,null,null,null,null,null,null,null,null,null,null,null,null,null,null,null,""]
[{"$f":"IF(AND(ISBLANK(INDEX($G:$G,)), ISBLANK(INDEX($C:$C,))), \"\", 'PWS Records (System Entry)'!$D$4)","v":""},{"$f":"IF(AND(ISBLANK(INDEX($G:$G,)), ISBLANK(INDEX($C:$C,))), \"\", 'PWS Records (System Entry)'!$D$3)","v":""},null,null,null,null,null,null,null,null,null,null,null,null,null,null,null,null,null,null,""]
[{"$f":"IF(AND(ISBLANK(INDEX($G:$G,)), ISBLANK(INDEX($C:$C,))), \"\", 'PWS Records (System Entry)'!$D$4)","v":""},{"$f":"IF(AND(ISBLANK(INDEX($G:$G,)), ISBLANK(INDEX($C:$C,))), \"\", 'PWS Records (System Entry)'!$D$3)","v":""},null,null,null,null,null,null,null,null,null,null,null,null,null,null,null,null,null,null,""]
[{"$f":"IF(AND(ISBLANK(INDEX($G:$G,)), ISBLANK(INDEX($C:$C,))), \"\", 'PWS Records (System Entry)'!$D$4)","v":""},{"$f":"IF(AND(ISBLANK(INDEX($G:$G,)), ISBLANK(INDEX($C:$C,))), \"\", 'PWS Records (System Entry)'!$D$3)","v":""},null,null,null,null,null,null,null,null,null,null,null,null,null,null,null,null,null,null,""]
[{"$f":"IF(AND(ISBLANK(INDEX($G:$G,)), ISBLANK(INDEX($C:$C,))), \"\", 'PWS Records (System Entry)'!$D$4)","v":""},{"$f":"IF(AND(ISBLANK(INDEX($G:$G,)), ISBLANK(INDEX($C:$C,))), \"\", 'PWS Records (System Entry)'!$D$3)","v":""},null,null,null,null,null,null,null,null,null,null,null,null,null,null,null,null,null,null,""]
[{"$f":"IF(AND(ISBLANK(INDEX($G:$G,)), ISBLANK(INDEX($C:$C,))), \"\", 'PWS Records (System Entry)'!$D$4)","v":""},{"$f":"IF(AND(ISBLANK(INDEX($G:$G,)), ISBLANK(INDEX($C:$C,))), \"\", 'PWS Records (System Entry)'!$D$3)","v":""},null,null,null,null,null,null,null,null,null,null,null,null,null,null,null,null,null,null,""]
[{"$f":"IF(AND(ISBLANK(INDEX($G:$G,)), ISBLANK(INDEX($C:$C,))), \"\", 'PWS Records (System Entry)'!$D$4)","v":""},{"$f":"IF(AND(ISBLANK(INDEX($G:$G,)), ISBLANK(INDEX($C:$C,))), \"\", 'PWS Records (System Entry)'!$D$3)","v":""},null,null,null,null,null,null,null,null,null,null,null,null,null,null,null,null,null,null,""]
[{"$f":"IF(AND(ISBLANK(INDEX($G:$G,)), ISBLANK(INDEX($C:$C,))), \"\", 'PWS Records (System Entry)'!$D$4)","v":""},{"$f":"IF(AND(ISBLANK(INDEX($G:$G,)), ISBLANK(INDEX($C:$C,))), \"\", 'PWS Records (System Entry)'!$D$3)","v":""},null,null,null,null,null,null,null,null,null,null,null,null,null,null,null,null,null,null,""]
[{"$f":"IF(AND(ISBLANK(INDEX($G:$G,)), ISBLANK(INDEX($C:$C,))), \"\", 'PWS Records (System Entry)'!$D$4)","v":""},{"$f":"IF(AND(ISBLANK(INDEX($G:$G,)), ISBLANK(INDEX($C:$C,))), \"\", 'PWS Records (System Entry)'!$D$3)","v":""},null,null,null,null,null,null,null,null,null,null,null,null,null,null,null,null,null,null,""]
[{"$f":"IF(AND(ISBLANK(INDEX($G:$G,)), ISBLANK(INDEX($C:$C,))), \"\", 'PWS Records (System Entry)'!$D$4)","v":""},{"$f":"IF(AND(ISBLANK(INDEX($G:$G,)), ISBLANK(INDEX($C:$C,))), \"\", 'PWS Records (System Entry)'!$D$3)","v":""},null,null,null,null,null,null,null,null,null,null,null,null,null,null,null,null,null,null,""]
[{"$f":"IF(AND(ISBLANK(INDEX($G:$G,)), ISBLANK(INDEX($C:$C,))), \"\", 'PWS Records (System Entry)'!$D$4)","v":""},{"$f":"IF(AND(ISBLANK(INDEX($G:$G,)), ISBLANK(INDEX($C:$C,))), \"\", 'PWS Records (System Entry)'!$D$3)","v":""},null,null,null,null,null,null,null,null,null,null,null,null,null,null,null,null,null,null,""]
[{"$f":"IF(AND(ISBLANK(INDEX($G:$G,)), ISBLANK(INDEX($C:$C,))), \"\", 'PWS Records (System Entry)'!$D$4)","v":""},{"$f":"IF(AND(ISBLANK(INDEX($G:$G,)), ISBLANK(INDEX($C:$C,))), \"\", 'PWS Records (System Entry)'!$D$3)","v":""},null,null,null,null,null,null,null,null,null,null,null,null,null,null,null,null,null,null,""]
[{"$f":"IF(AND(ISBLANK(INDEX($G:$G,)), ISBLANK(INDEX($C:$C,))), \"\", 'PWS Records (System Entry)'!$D$4)","v":""},{"$f":"IF(AND(ISBLANK(INDEX($G:$G,)), ISBLANK(INDEX($C:$C,))), \"\", 'PWS Records (System Entry)'!$D$3)","v":""},null,null,null,null,null,null,null,null,null,null,null,null,null,null,null,null,null,null,""]
[{"$f":"IF(AND(ISBLANK(INDEX($G:$G,)), ISBLANK(INDEX($C:$C,))), \"\", 'PWS Records (System Entry)'!$D$4)","v":""},{"$f":"IF(AND(ISBLANK(INDEX($G:$G,)), ISBLANK(INDEX($C:$C,))), \"\", 'PWS Records (System Entry)'!$D$3)","v":""},null,null,null,null,null,null,null,null,null,null,null,null,null,null,null,null,null,null,""]
[{"$f":"IF(AND(ISBLANK(INDEX($G:$G,)), ISBLANK(INDEX($C:$C,))), \"\", 'PWS Records (System Entry)'!$D$4)","v":""},{"$f":"IF(AND(ISBLANK(INDEX($G:$G,)), ISBLANK(INDEX($C:$C,))), \"\", 'PWS Records (System Entry)'!$D$3)","v":""},null,null,null,null,null,null,null,null,null,null,null,null,null,null,null,null,null,null,""]
[{"$f":"IF(AND(ISBLANK(INDEX($G:$G,)), ISBLANK(INDEX($C:$C,))), \"\", 'PWS Records (System Entry)'!$D$4)","v":""},{"$f":"IF(AND(ISBLANK(INDEX($G:$G,)), ISBLANK(INDEX($C:$C,))), \"\", 'PWS Records (System Entry)'!$D$3)","v":""},null,null,null,null,null,null,null,null,null,null,null,null,null,null,null,null,null,null,""]
[{"$f":"IF(AND(ISBLANK(INDEX($G:$G,)), ISBLANK(INDEX($C:$C,))), \"\", 'PWS Records (System Entry)'!$D$4)","v":""},{"$f":"IF(AND(ISBLANK(INDEX($G:$G,)), ISBLANK(INDEX($C:$C,))), \"\", 'PWS Records (System Entry)'!$D$3)","v":""},null,null,null,null,null,null,null,null,null,null,null,null,null,null,null,null,null,null,""]
[{"$f":"IF(AND(ISBLANK(INDEX($G:$G,)), ISBLANK(INDEX($C:$C,))), \"\", 'PWS Records (System Entry)'!$D$4)","v":""},{"$f":"IF(AND(ISBLANK(INDEX($G:$G,)), ISBLANK(INDEX($C:$C,))), \"\", 'PWS Records (System Entry)'!$D$3)","v":""},null,null,null,null,null,null,null,null,null,null,null,null,null,null,null,null,null,null,""]
[{"$f":"IF(AND(ISBLANK(INDEX($G:$G,)), ISBLANK(INDEX($C:$C,))), \"\", 'PWS Records (System Entry)'!$D$4)","v":""},{"$f":"IF(AND(ISBLANK(INDEX($G:$G,)), ISBLANK(INDEX($C:$C,))), \"\", 'PWS Records (System Entry)'!$D$3)","v":""},null,null,null,null,null,null,null,null,null,null,null,null,null,null,null,null,null,null,""]
[{"$f":"IF(AND(ISBLANK(INDEX($G:$G,)), ISBLANK(INDEX($C:$C,))), \"\", 'PWS Records (System Entry)'!$D$4)","v":""},{"$f":"IF(AND(ISBLANK(INDEX($G:$G,)), ISBLANK(INDEX($C:$C,))), \"\", 'PWS Records (System Entry)'!$D$3)","v":""},null,null,null,null,null,null,null,null,null,null,null,null,null,null,null,null,null,null,""]
[{"$f":"IF(AND(ISBLANK(INDEX($G:$G,)), ISBLANK(INDEX($C:$C,))), \"\", 'PWS Records (System Entry)'!$D$4)","v":""},{"$f":"IF(AND(ISBLANK(INDEX($G:$G,)), ISBLANK(INDEX($C:$C,))), \"\", 'PWS Records (System Entry)'!$D$3)","v":""},null,null,null,null,null,null,null,null,null,null,null,null,null,null,null,null,null,null,""]
[{"$f":"IF(AND(ISBLANK(INDEX($G:$G,)), ISBLANK(INDEX($C:$C,))), \"\", 'PWS Records (System Entry)'!$D$4)","v":""},{"$f":"IF(AND(ISBLANK(INDEX($G:$G,)), ISBLANK(INDEX($C:$C,))), \"\", 'PWS Records (System Entry)'!$D$3)","v":""},null,null,null,null,null,null,null,null,null,null,null,null,null,null,null,null,null,null,""]
[{"$f":"IF(AND(ISBLANK(INDEX($G:$G,)), ISBLANK(INDEX($C:$C,))), \"\", 'PWS Records (System Entry)'!$D$4)","v":""},{"$f":"IF(AND(ISBLANK(INDEX($G:$G,)), ISBLANK(INDEX($C:$C,))), \"\", 'PWS Records (System Entry)'!$D$3)","v":""},null,null,null,null,null,null,null,null,null,null,null,null,null,null,null,null,null,null,""]
[{"$f":"IF(AND(ISBLANK(INDEX($G:$G,)), ISBLANK(INDEX($C:$C,))), \"\", 'PWS Records (System Entry)'!$D$4)","v":""},{"$f":"IF(AND(ISBLANK(INDEX($G:$G,)), ISBLANK(INDEX($C:$C,))), \"\", 'PWS Records (System Entry)'!$D$3)","v":""},null,null,null,null,null,null,null,null,null,null,null,null,null,null,null,null,null,null,""]
[{"$f":"IF(AND(ISBLANK(INDEX($G:$G,)), ISBLANK(INDEX($C:$C,))), \"\", 'PWS Records (System Entry)'!$D$4)","v":""},{"$f":"IF(AND(ISBLANK(INDEX($G:$G,)), ISBLANK(INDEX($C:$C,))), \"\", 'PWS Records (System Entry)'!$D$3)","v":""},null,null,null,null,null,null,null,null,null,null,null,null,null,null,null,null,null,null,""]
[{"$f":"IF(AND(ISBLANK(INDEX($G:$G,)), ISBLANK(INDEX($C:$C,))), \"\", 'PWS Records (System Entry)'!$D$4)","v":""},{"$f":"IF(AND(ISBLANK(INDEX($G:$G,)), ISBLANK(INDEX($C:$C,))), \"\", 'PWS Records (System Entry)'!$D$3)","v":""},null,null,null,null,null,null,null,null,null,null,null,null,null,null,null,null,null,null,""]
[{"$f":"IF(AND(ISBLANK(INDEX($G:$G,)), ISBLANK(INDEX($C:$C,))), \"\", 'PWS Records (System Entry)'!$D$4)","v":""},{"$f":"IF(AND(ISBLANK(INDEX($G:$G,)), ISBLANK(INDEX($C:$C,))), \"\", 'PWS Records (System Entry)'!$D$3)","v":""},null,null,null,null,null,null,null,null,null,null,null,null,null,null,null,null,null,null,""]
[{"$f":"IF(AND(ISBLANK(INDEX($G:$G,)), ISBLANK(INDEX($C:$C,))), \"\", 'PWS Records (System Entry)'!$D$4)","v":""},{"$f":"IF(AND(ISBLANK(INDEX($G:$G,)), ISBLANK(INDEX($C:$C,))), \"\", 'PWS Records (System Entry)'!$D$3)","v":""},null,null,null,null,null,null,null,null,null,null,null,null,null,null,null,null,null,null,""]
[{"$f":"IF(AND(ISBLANK(INDEX($G:$G,)), ISBLANK(INDEX($C:$C,))), \"\", 'PWS Records (System Entry)'!$D$4)","v":""},{"$f":"IF(AND(ISBLANK(INDEX($G:$G,)), ISBLANK(INDEX($C:$C,))), \"\", 'PWS Records (System Entry)'!$D$3)","v":""},null,null,null,null,null,null,null,null,null,null,null,null,null,null,null,null,null,null,""]
[{"$f":"IF(AND(ISBLANK(INDEX($G:$G,)), ISBLANK(INDEX($C:$C,))), \"\", 'PWS Records (System Entry)'!$D$4)","v":""},{"$f":"IF(AND(ISBLANK(INDEX($G:$G,)), ISBLANK(INDEX($C:$C,))), \"\", 'PWS Records (System Entry)'!$D$3)","v":""},null,null,null,null,null,null,null,null,null,null,null,null,null,null,null,null,null,null,{"$f":"IF(AND(INDEX($K:$K,)=\"\", INDEX($L:$L,)=\"\", INDEX($M:$M,)=\"\", INDEX($Q:$Q,)=\"\", INDEX($R:$R,)=\"\"), \"\", IF(OR(INDEX($K:$K,)=\"Lead\",INDEX($Q:$Q,)=\"Lead\"),\"Lead\",IF(OR(AND(OR(INDEX($M:$M,)=\"Yes\", INDEX($M:$M,)=\"Don't Know\", INDEX($M:$M,)=\"\"), INDEX($Q:$Q,)=\"Galvanized Iron/Steel\"), AND(INDEX($K:$K,)=\"Unknown\", INDEX($M:$M,)=\"No\", INDEX($Q:$Q,)=\"Galvanized Iron/Steel\")), \"Galvanized Requiring Replacement\", IF(OR(AND(OR(INDEX($K:$K,)=\"Galvanized Iron/Steel\", INDEX($K:$K,)=\"Non-Lead - Copper\", INDEX($K:$K,)=\"Non-Lead - Plastic\", INDEX($K:$K,)=\"Non-Lead - Other\", INDEX($K:$K,)=\"Non-Lead - Material Unknown\", INDEX($K:$K,)=\"No System Owned Portion\"), OR(INDEX($Q:$Q,)=\"Galvanized Iron/Steel\", INDEX($Q:$Q,)=\"Non-Lead - Copper\", INDEX($Q:$Q,)=\"Non-Lead - Plastic\", INDEX($Q:$Q,)=\"Non-Lead - Other\", INDEX($Q:$Q,)=\"Non-Lead - Predictive Model\", INDEX($Q:$Q,)=\"No Customer Owned Portion\")), AND(OR( INDEX($K:$K,)=\"Galvanized Iron/Steel\", INDEX($K:$K,)=\"Non-Lead - Copper\", INDEX($K:$K,)=\"Non-Lead - Plastic\", INDEX($K:$K,)=\"Non-Lead - Other\", INDEX($K:$K,)=\"Non-Lead - Material Unknown\", INDEX($K:$K,)=\"No System Owned Portion\"), INDEX($M:$M,)=\"No\", INDEX($Q:$Q,)=\"Non-Lead - Material Unknown\")), \"Non-Lead\", \"Lead Status Unknown\"))))","v":""}]
[{"$f":"IF(AND(ISBLANK(INDEX($G:$G,)), ISBLANK(INDEX($C:$C,))), \"\", 'PWS Records (System Entry)'!$D$4)","v":""},{"$f":"IF(AND(ISBLANK(INDEX($G:$G,)), ISBLANK(INDEX($C:$C,))), \"\", 'PWS Records (System Entry)'!$D$3)","v":""},null,null,null,null,null,null,null,null,null,null,null,null,null,null,null,null,null,null,""]
[{"$f":"IF(AND(ISBLANK(INDEX($G:$G,)), ISBLANK(INDEX($C:$C,))), \"\", 'PWS Records (System Entry)'!$D$4)","v":""},{"$f":"IF(AND(ISBLANK(INDEX($G:$G,)), ISBLANK(INDEX($C:$C,))), \"\", 'PWS Records (System Entry)'!$D$3)","v":""},null,null,null,null,null,null,null,null,null,null,null,null,null,null,null,null,null,null,""]
[{"$f":"IF(AND(ISBLANK(INDEX($G:$G,)), ISBLANK(INDEX($C:$C,))), \"\", 'PWS Records (System Entry)'!$D$4)","v":""},{"$f":"IF(AND(ISBLANK(INDEX($G:$G,)), ISBLANK(INDEX($C:$C,))), \"\", 'PWS Records (System Entry)'!$D$3)","v":""},null,null,null,null,null,null,null,null,null,null,null,null,null,null,null,null,null,null,""]
[{"$f":"IF(AND(ISBLANK(INDEX($G:$G,)), ISBLANK(INDEX($C:$C,))), \"\", 'PWS Records (System Entry)'!$D$4)","v":""},{"$f":"IF(AND(ISBLANK(INDEX($G:$G,)), ISBLANK(INDEX($C:$C,))), \"\", 'PWS Records (System Entry)'!$D$3)","v":""},null,null,null,null,null,null,null,null,null,null,null,null,null,null,null,null,null,null,""]
[{"$f":"IF(AND(ISBLANK(INDEX($G:$G,)), ISBLANK(INDEX($C:$C,))), \"\", 'PWS Records (System Entry)'!$D$4)","v":""},{"$f":"IF(AND(ISBLANK(INDEX($G:$G,)), ISBLANK(INDEX($C:$C,))), \"\", 'PWS Records (System Entry)'!$D$3)","v":""},null,null,null,null,null,null,null,null,null,null,null,null,null,null,null,null,null,null,""]
[{"$f":"IF(AND(ISBLANK(INDEX($G:$G,)), ISBLANK(INDEX($C:$C,))), \"\", 'PWS Records (System Entry)'!$D$4)","v":""},{"$f":"IF(AND(ISBLANK(INDEX($G:$G,)), ISBLANK(INDEX($C:$C,))), \"\", 'PWS Records (System Entry)'!$D$3)","v":""},null,null,null,null,null,null,null,null,null,null,null,null,null,null,null,null,null,null,""]
[{"$f":"IF(AND(ISBLANK(INDEX($G:$G,)), ISBLANK(INDEX($C:$C,))), \"\", 'PWS Records (System Entry)'!$D$4)","v":""},{"$f":"IF(AND(ISBLANK(INDEX($G:$G,)), ISBLANK(INDEX($C:$C,))), \"\", 'PWS Records (System Entry)'!$D$3)","v":""},null,null,null,null,null,null,null,null,null,null,null,null,null,null,null,null,null,null,""]
[{"$f":"IF(AND(ISBLANK(INDEX($G:$G,)), ISBLANK(INDEX($C:$C,))), \"\", 'PWS Records (System Entry)'!$D$4)","v":""},{"$f":"IF(AND(ISBLANK(INDEX($G:$G,)), ISBLANK(INDEX($C:$C,))), \"\", 'PWS Records (System Entry)'!$D$3)","v":""},null,null,null,null,null,null,null,null,null,null,null,null,null,null,null,null,null,null,""]
[{"$f":"IF(AND(ISBLANK(INDEX($G:$G,)), ISBLANK(INDEX($C:$C,))), \"\", 'PWS Records (System Entry)'!$D$4)","v":""},{"$f":"IF(AND(ISBLANK(INDEX($G:$G,)), ISBLANK(INDEX($C:$C,))), \"\", 'PWS Records (System Entry)'!$D$3)","v":""},null,null,null,null,null,null,null,null,null,null,null,null,null,null,null,null,null,null,""]
[{"$f":"IF(AND(ISBLANK(INDEX($G:$G,)), ISBLANK(INDEX($C:$C,))), \"\", 'PWS Records (System Entry)'!$D$4)","v":""},{"$f":"IF(AND(ISBLANK(INDEX($G:$G,)), ISBLANK(INDEX($C:$C,))), \"\", 'PWS Records (System Entry)'!$D$3)","v":""},null,null,null,null,null,null,null,null,null,null,null,null,null,null,null,null,null,null,""]
[{"$f":"IF(AND(ISBLANK(INDEX($G:$G,)), ISBLANK(INDEX($C:$C,))), \"\", 'PWS Records (System Entry)'!$D$4)","v":""},{"$f":"IF(AND(ISBLANK(INDEX($G:$G,)), ISBLANK(INDEX($C:$C,))), \"\", 'PWS Records (System Entry)'!$D$3)","v":""},null,null,null,null,null,null,null,null,null,null,null,null,null,null,null,null,null,null,""]
[{"$f":"IF(AND(ISBLANK(INDEX($G:$G,)), ISBLANK(INDEX($C:$C,))), \"\", 'PWS Records (System Entry)'!$D$4)","v":""},{"$f":"IF(AND(ISBLANK(INDEX($G:$G,)), ISBLANK(INDEX($C:$C,))), \"\", 'PWS Records (System Entry)'!$D$3)","v":""},null,null,null,null,null,null,null,null,null,null,null,null,null,null,null,null,null,null,""]
[{"$f":"IF(AND(ISBLANK(INDEX($G:$G,)), ISBLANK(INDEX($C:$C,))), \"\", 'PWS Records (System Entry)'!$D$4)","v":""},{"$f":"IF(AND(ISBLANK(INDEX($G:$G,)), ISBLANK(INDEX($C:$C,))), \"\", 'PWS Records (System Entry)'!$D$3)","v":""},null,null,null,null,null,null,null,null,null,null,null,null,null,null,null,null,null,null,""]
[{"$f":"IF(AND(ISBLANK(INDEX($G:$G,)), ISBLANK(INDEX($C:$C,))), \"\", 'PWS Records (System Entry)'!$D$4)","v":""},{"$f":"IF(AND(ISBLANK(INDEX($G:$G,)), ISBLANK(INDEX($C:$C,))), \"\", 'PWS Records (System Entry)'!$D$3)","v":""},null,null,null,null,null,null,null,null,null,null,null,null,null,null,null,null,null,null,""]
[{"$f":"IF(AND(ISBLANK(INDEX($G:$G,)), ISBLANK(INDEX($C:$C,))), \"\", 'PWS Records (System Entry)'!$D$4)","v":""},{"$f":"IF(AND(ISBLANK(INDEX($G:$G,)), ISBLANK(INDEX($C:$C,))), \"\", 'PWS Records (System Entry)'!$D$3)","v":""},null,null,null,null,null,null,null,null,null,null,null,null,null,null,null,null,null,null,""]
[{"$f":"IF(AND(ISBLANK(INDEX($G:$G,)), ISBLANK(INDEX($C:$C,))), \"\", 'PWS Records (System Entry)'!$D$4)","v":""},{"$f":"IF(AND(ISBLANK(INDEX($G:$G,)), ISBLANK(INDEX($C:$C,))), \"\", 'PWS Records (System Entry)'!$D$3)","v":""},null,null,null,null,null,null,null,null,null,null,null,null,null,null,null,null,null,null,""]
[{"$f":"IF(AND(ISBLANK(INDEX($G:$G,)), ISBLANK(INDEX($C:$C,))), \"\", 'PWS Records (System Entry)'!$D$4)","v":""},{"$f":"IF(AND(ISBLANK(INDEX($G:$G,)), ISBLANK(INDEX($C:$C,))), \"\", 'PWS Records (System Entry)'!$D$3)","v":""},null,null,null,null,null,null,null,null,null,null,null,null,null,null,null,null,null,null,""]
[{"$f":"IF(AND(ISBLANK(INDEX($G:$G,)), ISBLANK(INDEX($C:$C,))), \"\", 'PWS Records (System Entry)'!$D$4)","v":""},{"$f":"IF(AND(ISBLANK(INDEX($G:$G,)), ISBLANK(INDEX($C:$C,))), \"\", 'PWS Records (System Entry)'!$D$3)","v":""},null,null,null,null,null,null,null,null,null,null,null,null,null,null,null,null,null,null,""]
[{"$f":"IF(AND(ISBLANK(INDEX($G:$G,)), ISBLANK(INDEX($C:$C,))), \"\", 'PWS Records (System Entry)'!$D$4)","v":""},{"$f":"IF(AND(ISBLANK(INDEX($G:$G,)), ISBLANK(INDEX($C:$C,))), \"\", 'PWS Records (System Entry)'!$D$3)","v":""},null,null,null,null,null,null,null,null,null,null,null,null,null,null,null,null,null,null,""]
[{"$f":"IF(AND(ISBLANK(INDEX($G:$G,)), ISBLANK(INDEX($C:$C,))), \"\", 'PWS Records (System Entry)'!$D$4)","v":""},{"$f":"IF(AND(ISBLANK(INDEX($G:$G,)), ISBLANK(INDEX($C:$C,))), \"\", 'PWS Records (System Entry)'!$D$3)","v":""},null,null,null,null,null,null,null,null,null,null,null,null,null,null,null,null,null,null,""]
[{"$f":"IF(AND(ISBLANK(INDEX($G:$G,)), ISBLANK(INDEX($C:$C,))), \"\", 'PWS Records (System Entry)'!$D$4)","v":""},{"$f":"IF(AND(ISBLANK(INDEX($G:$G,)), ISBLANK(INDEX($C:$C,))), \"\", 'PWS Records (System Entry)'!$D$3)","v":""},null,null,null,null,null,null,null,null,null,null,null,null,null,null,null,null,null,null,""]
[{"$f":"IF(AND(ISBLANK(INDEX($G:$G,)), ISBLANK(INDEX($C:$C,))), \"\", 'PWS Records (System Entry)'!$D$4)","v":""},{"$f":"IF(AND(ISBLANK(INDEX($G:$G,)), ISBLANK(INDEX($C:$C,))), \"\", 'PWS Records (System Entry)'!$D$3)","v":""},null,null,null,null,null,null,null,null,null,null,null,null,null,null,null,null,null,null,""]
[{"$f":"IF(AND(ISBLANK(INDEX($G:$G,)), ISBLANK(INDEX($C:$C,))), \"\", 'PWS Records (System Entry)'!$D$4)","v":""},{"$f":"IF(AND(ISBLANK(INDEX($G:$G,)), ISBLANK(INDEX($C:$C,))), \"\", 'PWS Records (System Entry)'!$D$3)","v":""},null,null,null,null,null,null,null,null,null,null,null,null,null,null,null,null,null,null,""]
[{"$f":"IF(AND(ISBLANK(INDEX($G:$G,)), ISBLANK(INDEX($C:$C,))), \"\", 'PWS Records (System Entry)'!$D$4)","v":""},{"$f":"IF(AND(ISBLANK(INDEX($G:$G,)), ISBLANK(INDEX($C:$C,))), \"\", 'PWS Records (System Entry)'!$D$3)","v":""},null,null,null,null,null,null,null,null,null,null,null,null,null,null,null,null,null,null,""]
[{"$f":"IF(AND(ISBLANK(INDEX($G:$G,)), ISBLANK(INDEX($C:$C,))), \"\", 'PWS Records (System Entry)'!$D$4)","v":""},{"$f":"IF(AND(ISBLANK(INDEX($G:$G,)), ISBLANK(INDEX($C:$C,))), \"\", 'PWS Records (System Entry)'!$D$3)","v":""},null,null,null,null,null,null,null,null,null,null,null,null,null,null,null,null,null,null,""]
[{"$f":"IF(AND(ISBLANK(INDEX($G:$G,)), ISBLANK(INDEX($C:$C,))), \"\", 'PWS Records (System Entry)'!$D$4)","v":""},{"$f":"IF(AND(ISBLANK(INDEX($G:$G,)), ISBLANK(INDEX($C:$C,))), \"\", 'PWS Records (System Entry)'!$D$3)","v":""},null,null,null,null,null,null,null,null,null,null,null,null,null,null,null,null,null,null,""]
[{"$f":"IF(AND(ISBLANK(INDEX($G:$G,)), ISBLANK(INDEX($C:$C,))), \"\", 'PWS Records (System Entry)'!$D$4)","v":""},{"$f":"IF(AND(ISBLANK(INDEX($G:$G,)), ISBLANK(INDEX($C:$C,))), \"\", 'PWS Records (System Entry)'!$D$3)","v":""},null,null,null,null,null,null,null,null,null,null,null,null,null,null,null,null,null,null,""]
[{"$f":"IF(AND(ISBLANK(INDEX($G:$G,)), ISBLANK(INDEX($C:$C,))), \"\", 'PWS Records (System Entry)'!$D$4)","v":""},{"$f":"IF(AND(ISBLANK(INDEX($G:$G,)), ISBLANK(INDEX($C:$C,))), \"\", 'PWS Records (System Entry)'!$D$3)","v":""},null,null,null,null,null,null,null,null,null,null,null,null,null,null,null,null,null,null,""]
[{"$f":"IF(AND(ISBLANK(INDEX($G:$G,)), ISBLANK(INDEX($C:$C,))), \"\", 'PWS Records (System Entry)'!$D$4)","v":""},{"$f":"IF(AND(ISBLANK(INDEX($G:$G,)), ISBLANK(INDEX($C:$C,))), \"\", 'PWS Records (System Entry)'!$D$3)","v":""},null,null,null,null,null,null,null,null,null,null,null,null,null,null,null,null,null,null,""]
[{"$f":"IF(AND(ISBLANK(INDEX($G:$G,)), ISBLANK(INDEX($C:$C,))), \"\", 'PWS Records (System Entry)'!$D$4)","v":""},{"$f":"IF(AND(ISBLANK(INDEX($G:$G,)), ISBLANK(INDEX($C:$C,))), \"\", 'PWS Records (System Entry)'!$D$3)","v":""},null,null,null,null,null,null,null,null,null,null,null,null,null,null,null,null,null,null,""]
[{"$f":"IF(AND(ISBLANK(INDEX($G:$G,)), ISBLANK(INDEX($C:$C,))), \"\", 'PWS Records (System Entry)'!$D$4)","v":""},{"$f":"IF(AND(ISBLANK(INDEX($G:$G,)), ISBLANK(INDEX($C:$C,))), \"\", 'PWS Records (System Entry)'!$D$3)","v":""},null,null,null,null,null,null,null,null,null,null,null,null,null,null,null,null,null,null,""]
[{"$f":"IF(AND(ISBLANK(INDEX($G:$G,)), ISBLANK(INDEX($C:$C,))), \"\", 'PWS Records (System Entry)'!$D$4)","v":""},{"$f":"IF(AND(ISBLANK(INDEX($G:$G,)), ISBLANK(INDEX($C:$C,))), \"\", 'PWS Records (System Entry)'!$D$3)","v":""},null,null,null,null,null,null,null,null,null,null,null,null,null,null,null,null,null,null,""]
[{"$f":"IF(AND(ISBLANK(INDEX($G:$G,)), ISBLANK(INDEX($C:$C,))), \"\", 'PWS Records (System Entry)'!$D$4)","v":""},{"$f":"IF(AND(ISBLANK(INDEX($G:$G,)), ISBLANK(INDEX($C:$C,))), \"\", 'PWS Records (System Entry)'!$D$3)","v":""},null,null,null,null,null,null,null,null,null,null,null,null,null,null,null,null,null,null,""]
[{"$f":"IF(AND(ISBLANK(INDEX($G:$G,)), ISBLANK(INDEX($C:$C,))), \"\", 'PWS Records (System Entry)'!$D$4)","v":""},{"$f":"IF(AND(ISBLANK(INDEX($G:$G,)), ISBLANK(INDEX($C:$C,))), \"\", 'PWS Records (System Entry)'!$D$3)","v":""},null,null,null,null,null,null,null,null,null,null,null,null,null,null,null,null,null,null,""]
[{"$f":"IF(AND(ISBLANK(INDEX($G:$G,)), ISBLANK(INDEX($C:$C,))), \"\", 'PWS Records (System Entry)'!$D$4)","v":""},{"$f":"IF(AND(ISBLANK(INDEX($G:$G,)), ISBLANK(INDEX($C:$C,))), \"\", 'PWS Records (System Entry)'!$D$3)","v":""},null,null,null,null,null,null,null,null,null,null,null,null,null,null,null,null,null,null,""]
[{"$f":"IF(AND(ISBLANK(INDEX($G:$G,)), ISBLANK(INDEX($C:$C,))), \"\", 'PWS Records (System Entry)'!$D$4)","v":""},{"$f":"IF(AND(ISBLANK(INDEX($G:$G,)), ISBLANK(INDEX($C:$C,))), \"\", 'PWS Records (System Entry)'!$D$3)","v":""},null,null,null,null,null,null,null,null,null,null,null,null,null,null,null,null,null,null,""]
[{"$f":"IF(AND(ISBLANK(INDEX($G:$G,)), ISBLANK(INDEX($C:$C,))), \"\", 'PWS Records (System Entry)'!$D$4)","v":""},{"$f":"IF(AND(ISBLANK(INDEX($G:$G,)), ISBLANK(INDEX($C:$C,))), \"\", 'PWS Records (System Entry)'!$D$3)","v":""},null,null,null,null,null,null,null,null,null,null,null,null,null,null,null,null,null,null,""]
[{"$f":"IF(AND(ISBLANK(INDEX($G:$G,)), ISBLANK(INDEX($C:$C,))), \"\", 'PWS Records (System Entry)'!$D$4)","v":""},{"$f":"IF(AND(ISBLANK(INDEX($G:$G,)), ISBLANK(INDEX($C:$C,))), \"\", 'PWS Records (System Entry)'!$D$3)","v":""},null,null,null,null,null,null,null,null,null,null,null,null,null,null,null,null,null,null,""]
[{"$f":"IF(AND(ISBLANK(INDEX($G:$G,)), ISBLANK(INDEX($C:$C,))), \"\", 'PWS Records (System Entry)'!$D$4)","v":""},{"$f":"IF(AND(ISBLANK(INDEX($G:$G,)), ISBLANK(INDEX($C:$C,))), \"\", 'PWS Records (System Entry)'!$D$3)","v":""},null,null,null,null,null,null,null,null,null,null,null,null,null,null,null,null,null,null,""]
[{"$f":"IF(AND(ISBLANK(INDEX($G:$G,)), ISBLANK(INDEX($C:$C,))), \"\", 'PWS Records (System Entry)'!$D$4)","v":""},{"$f":"IF(AND(ISBLANK(INDEX($G:$G,)), ISBLANK(INDEX($C:$C,))), \"\", 'PWS Records (System Entry)'!$D$3)","v":""},null,null,null,null,null,null,null,null,null,null,null,null,null,null,null,null,null,null,""]
[{"$f":"IF(AND(ISBLANK(INDEX($G:$G,)), ISBLANK(INDEX($C:$C,))), \"\", 'PWS Records (System Entry)'!$D$4)","v":""},{"$f":"IF(AND(ISBLANK(INDEX($G:$G,)), ISBLANK(INDEX($C:$C,))), \"\", 'PWS Records (System Entry)'!$D$3)","v":""},null,null,null,null,null,null,null,null,null,null,null,null,null,null,null,null,null,null,""]
[{"$f":"IF(AND(ISBLANK(INDEX($G:$G,)), ISBLANK(INDEX($C:$C,))), \"\", 'PWS Records (System Entry)'!$D$4)","v":""},{"$f":"IF(AND(ISBLANK(INDEX($G:$G,)), ISBLANK(INDEX($C:$C,))), \"\", 'PWS Records (System Entry)'!$D$3)","v":""},null,null,null,null,null,null,null,null,null,null,null,null,null,null,null,null,null,null,""]
[{"$f":"IF(AND(ISBLANK(INDEX($G:$G,)), ISBLANK(INDEX($C:$C,))), \"\", 'PWS Records (System Entry)'!$D$4)","v":""},{"$f":"IF(AND(ISBLANK(INDEX($G:$G,)), ISBLANK(INDEX($C:$C,))), \"\", 'PWS Records (System Entry)'!$D$3)","v":""},null,null,null,null,null,null,null,null,null,null,null,null,null,null,null,null,null,null,""]
[{"$f":"IF(AND(ISBLANK(INDEX($G:$G,)), ISBLANK(INDEX($C:$C,))), \"\", 'PWS Records (System Entry)'!$D$4)","v":""},{"$f":"IF(AND(ISBLANK(INDEX($G:$G,)), ISBLANK(INDEX($C:$C,))), \"\", 'PWS Records (System Entry)'!$D$3)","v":""},null,null,null,null,null,null,null,null,null,null,null,null,null,null,null,null,null,null,""]
[{"$f":"IF(AND(ISBLANK(INDEX($G:$G,)), ISBLANK(INDEX($C:$C,))), \"\", 'PWS Records (System Entry)'!$D$4)","v":""},{"$f":"IF(AND(ISBLANK(INDEX($G:$G,)), ISBLANK(INDEX($C:$C,))), \"\", 'PWS Records (System Entry)'!$D$3)","v":""},null,null,null,null,null,null,null,null,null,null,null,null,null,null,null,null,null,null,""]
[{"$f":"IF(AND(ISBLANK(INDEX($G:$G,)), ISBLANK(INDEX($C:$C,))), \"\", 'PWS Records (System Entry)'!$D$4)","v":""},{"$f":"IF(AND(ISBLANK(INDEX($G:$G,)), ISBLANK(INDEX($C:$C,))), \"\", 'PWS Records (System Entry)'!$D$3)","v":""},null,null,null,null,null,null,null,null,null,null,null,null,null,null,null,null,null,null,""]
[{"$f":"IF(AND(ISBLANK(INDEX($G:$G,)), ISBLANK(INDEX($C:$C,))), \"\", 'PWS Records (System Entry)'!$D$4)","v":""},{"$f":"IF(AND(ISBLANK(INDEX($G:$G,)), ISBLANK(INDEX($C:$C,))), \"\", 'PWS Records (System Entry)'!$D$3)","v":""},null,null,null,null,null,null,null,null,null,null,null,null,null,null,null,null,null,null,""]
[{"$f":"IF(AND(ISBLANK(INDEX($G:$G,)), ISBLANK(INDEX($C:$C,))), \"\", 'PWS Records (System Entry)'!$D$4)","v":""},{"$f":"IF(AND(ISBLANK(INDEX($G:$G,)), ISBLANK(INDEX($C:$C,))), \"\", 'PWS Records (System Entry)'!$D$3)","v":""},null,null,null,null,null,null,null,null,null,null,null,null,null,null,null,null,null,null,""]
[{"$f":"IF(AND(ISBLANK(INDEX($G:$G,)), ISBLANK(INDEX($C:$C,))), \"\", 'PWS Records (System Entry)'!$D$4)","v":""},{"$f":"IF(AND(ISBLANK(INDEX($G:$G,)), ISBLANK(INDEX($C:$C,))), \"\", 'PWS Records (System Entry)'!$D$3)","v":""},null,null,null,null,null,null,null,null,null,null,null,null,null,null,null,null,null,null,""]
[{"$f":"IF(AND(ISBLANK(INDEX($G:$G,)), ISBLANK(INDEX($C:$C,))), \"\", 'PWS Records (System Entry)'!$D$4)","v":""},{"$f":"IF(AND(ISBLANK(INDEX($G:$G,)), ISBLANK(INDEX($C:$C,))), \"\", 'PWS Records (System Entry)'!$D$3)","v":""},null,null,null,null,null,null,null,null,null,null,null,null,null,null,null,null,null,null,""]
[{"$f":"IF(AND(ISBLANK(INDEX($G:$G,)), ISBLANK(INDEX($C:$C,))), \"\", 'PWS Records (System Entry)'!$D$4)","v":""},{"$f":"IF(AND(ISBLANK(INDEX($G:$G,)), ISBLANK(INDEX($C:$C,))), \"\", 'PWS Records (System Entry)'!$D$3)","v":""},null,null,null,null,null,null,null,null,null,null,null,null,null,null,null,null,null,null,""]
[{"$f":"IF(AND(ISBLANK(INDEX($G:$G,)), ISBLANK(INDEX($C:$C,))), \"\", 'PWS Records (System Entry)'!$D$4)","v":""},{"$f":"IF(AND(ISBLANK(INDEX($G:$G,)), ISBLANK(INDEX($C:$C,))), \"\", 'PWS Records (System Entry)'!$D$3)","v":""},null,null,null,null,null,null,null,null,null,null,null,null,null,null,null,null,null,null,""]
[{"$f":"IF(AND(ISBLANK(INDEX($G:$G,)), ISBLANK(INDEX($C:$C,))), \"\", 'PWS Records (System Entry)'!$D$4)","v":""},{"$f":"IF(AND(ISBLANK(INDEX($G:$G,)), ISBLANK(INDEX($C:$C,))), \"\", 'PWS Records (System Entry)'!$D$3)","v":""},null,null,null,null,null,null,null,null,null,null,null,null,null,null,null,null,null,null,""]
[{"$f":"IF(AND(ISBLANK(INDEX($G:$G,)), ISBLANK(INDEX($C:$C,))), \"\", 'PWS Records (System Entry)'!$D$4)","v":""},{"$f":"IF(AND(ISBLANK(INDEX($G:$G,)), ISBLANK(INDEX($C:$C,))), \"\", 'PWS Records (System Entry)'!$D$3)","v":""},null,null,null,null,null,null,null,null,null,null,null,null,null,null,null,null,null,null,""]
[{"$f":"IF(AND(ISBLANK(INDEX($G:$G,)), ISBLANK(INDEX($C:$C,))), \"\", 'PWS Records (System Entry)'!$D$4)","v":""},{"$f":"IF(AND(ISBLANK(INDEX($G:$G,)), ISBLANK(INDEX($C:$C,))), \"\", 'PWS Records (System Entry)'!$D$3)","v":""},null,null,null,null,null,null,null,null,null,null,null,null,null,null,null,null,null,null,""]
[{"$f":"IF(AND(ISBLANK(INDEX($G:$G,)), ISBLANK(INDEX($C:$C,))), \"\", 'PWS Records (System Entry)'!$D$4)","v":""},{"$f":"IF(AND(ISBLANK(INDEX($G:$G,)), ISBLANK(INDEX($C:$C,))), \"\", 'PWS Records (System Entry)'!$D$3)","v":""},null,null,null,null,null,null,null,null,null,null,null,null,null,null,null,null,null,null,""]
[{"$f":"IF(AND(ISBLANK(INDEX($G:$G,)), ISBLANK(INDEX($C:$C,))), \"\", 'PWS Records (System Entry)'!$D$4)","v":""},{"$f":"IF(AND(ISBLANK(INDEX($G:$G,)), ISBLANK(INDEX($C:$C,))), \"\", 'PWS Records (System Entry)'!$D$3)","v":""},null,null,null,null,null,null,null,null,null,null,null,null,null,null,null,null,null,null,""]
[{"$f":"IF(AND(ISBLANK(INDEX($G:$G,)), ISBLANK(INDEX($C:$C,))), \"\", 'PWS Records (System Entry)'!$D$4)","v":""},{"$f":"IF(AND(ISBLANK(INDEX($G:$G,)), ISBLANK(INDEX($C:$C,))), \"\", 'PWS Records (System Entry)'!$D$3)","v":""},null,null,null,null,null,null,null,null,null,null,null,null,null,null,null,null,null,null,""]
[{"$f":"IF(AND(ISBLANK(INDEX($G:$G,)), ISBLANK(INDEX($C:$C,))), \"\", 'PWS Records (System Entry)'!$D$4)","v":""},{"$f":"IF(AND(ISBLANK(INDEX($G:$G,)), ISBLANK(INDEX($C:$C,))), \"\", 'PWS Records (System Entry)'!$D$3)","v":""},null,null,null,null,null,null,null,null,null,null,null,null,null,null,null,null,null,null,""]
[{"$f":"IF(AND(ISBLANK(INDEX($G:$G,)), ISBLANK(INDEX($C:$C,))), \"\", 'PWS Records (System Entry)'!$D$4)","v":""},{"$f":"IF(AND(ISBLANK(INDEX($G:$G,)), ISBLANK(INDEX($C:$C,))), \"\", 'PWS Records (System Entry)'!$D$3)","v":""},null,null,null,null,null,null,null,null,null,null,null,null,null,null,null,null,null,null,""]
[{"$f":"IF(AND(ISBLANK(INDEX($G:$G,)), ISBLANK(INDEX($C:$C,))), \"\", 'PWS Records (System Entry)'!$D$4)","v":""},{"$f":"IF(AND(ISBLANK(INDEX($G:$G,)), ISBLANK(INDEX($C:$C,))), \"\", 'PWS Records (System Entry)'!$D$3)","v":""},null,null,null,null,null,null,null,null,null,null,null,null,null,null,null,null,null,null,""]
[{"$f":"IF(AND(ISBLANK(INDEX($G:$G,)), ISBLANK(INDEX($C:$C,))), \"\", 'PWS Records (System Entry)'!$D$4)","v":""},{"$f":"IF(AND(ISBLANK(INDEX($G:$G,)), ISBLANK(INDEX($C:$C,))), \"\", 'PWS Records (System Entry)'!$D$3)","v":""},null,null,null,null,null,null,null,null,null,null,null,null,null,null,null,null,null,null,""]
[{"$f":"IF(AND(ISBLANK(INDEX($G:$G,)), ISBLANK(INDEX($C:$C,))), \"\", 'PWS Records (System Entry)'!$D$4)","v":""},{"$f":"IF(AND(ISBLANK(INDEX($G:$G,)), ISBLANK(INDEX($C:$C,))), \"\", 'PWS Records (System Entry)'!$D$3)","v":""},null,null,null,null,null,null,null,null,null,null,null,null,null,null,null,null,null,null,""]
[{"$f":"IF(AND(ISBLANK(INDEX($G:$G,)), ISBLANK(INDEX($C:$C,))), \"\", 'PWS Records (System Entry)'!$D$4)","v":""},{"$f":"IF(AND(ISBLANK(INDEX($G:$G,)), ISBLANK(INDEX($C:$C,))), \"\", 'PWS Records (System Entry)'!$D$3)","v":""},null,null,null,null,null,null,null,null,null,null,null,null,null,null,null,null,null,null,{"$f":"IF(AND(INDEX($K:$K,)=\"\", INDEX($L:$L,)=\"\", INDEX($M:$M,)=\"\", INDEX($Q:$Q,)=\"\", INDEX($R:$R,)=\"\"), \"\", IF(OR(INDEX($K:$K,)=\"Lead\",INDEX($Q:$Q,)=\"Lead\"),\"Lead\",IF(OR(AND(OR(INDEX($M:$M,)=\"Yes\", INDEX($M:$M,)=\"Don't Know\", INDEX($M:$M,)=\"\"), INDEX($Q:$Q,)=\"Galvanized Iron/Steel\"), AND(INDEX($K:$K,)=\"Unknown\", INDEX($M:$M,)=\"No\", INDEX($Q:$Q,)=\"Galvanized Iron/Steel\")), \"Galvanized Requiring Replacement\", IF(OR(AND(OR(INDEX($K:$K,)=\"Galvanized Iron/Steel\", INDEX($K:$K,)=\"Non-Lead - Copper\", INDEX($K:$K,)=\"Non-Lead - Plastic\", INDEX($K:$K,)=\"Non-Lead - Other\", INDEX($K:$K,)=\"Non-Lead - Material Unknown\", INDEX($K:$K,)=\"No System Owned Portion\"), OR(INDEX($Q:$Q,)=\"Galvanized Iron/Steel\", INDEX($Q:$Q,)=\"Non-Lead - Copper\", INDEX($Q:$Q,)=\"Non-Lead - Plastic\", INDEX($Q:$Q,)=\"Non-Lead - Other\", INDEX($Q:$Q,)=\"Non-Lead - Predictive Model\", INDEX($Q:$Q,)=\"No Customer Owned Portion\")), AND(OR( INDEX($K:$K,)=\"Galvanized Iron/Steel\", INDEX($K:$K,)=\"Non-Lead - Copper\", INDEX($K:$K,)=\"Non-Lead - Plastic\", INDEX($K:$K,)=\"Non-Lead - Other\", INDEX($K:$K,)=\"Non-Lead - Material Unknown\", INDEX($K:$K,)=\"No System Owned Portion\"), INDEX($M:$M,)=\"No\", INDEX($Q:$Q,)=\"Non-Lead - Material Unknown\")), \"Non-Lead\", \"Lead Status Unknown\"))))","v":""}]
[{"$f":"IF(AND(ISBLANK(INDEX($G:$G,)), ISBLANK(INDEX($C:$C,))), \"\", 'PWS Records (System Entry)'!$D$4)","v":""},{"$f":"IF(AND(ISBLANK(INDEX($G:$G,)), ISBLANK(INDEX($C:$C,))), \"\", 'PWS Records (System Entry)'!$D$3)","v":""},null,null,null,null,null,null,null,null,null,null,null,null,null,null,null,null,null,null,""]
[{"$f":"IF(AND(ISBLANK(INDEX($G:$G,)), ISBLANK(INDEX($C:$C,))), \"\", 'PWS Records (System Entry)'!$D$4)","v":""},{"$f":"IF(AND(ISBLANK(INDEX($G:$G,)), ISBLANK(INDEX($C:$C,))), \"\", 'PWS Records (System Entry)'!$D$3)","v":""},null,null,null,null,null,null,null,null,null,null,null,null,null,null,null,null,null,null,""]
[{"$f":"IF(AND(ISBLANK(INDEX($G:$G,)), ISBLANK(INDEX($C:$C,))), \"\", 'PWS Records (System Entry)'!$D$4)","v":""},{"$f":"IF(AND(ISBLANK(INDEX($G:$G,)), ISBLANK(INDEX($C:$C,))), \"\", 'PWS Records (System Entry)'!$D$3)","v":""},null,null,null,null,null,null,null,null,null,null,null,null,null,null,null,null,null,null,""]
[{"$f":"IF(AND(ISBLANK(INDEX($G:$G,)), ISBLANK(INDEX($C:$C,))), \"\", 'PWS Records (System Entry)'!$D$4)","v":""},{"$f":"IF(AND(ISBLANK(INDEX($G:$G,)), ISBLANK(INDEX($C:$C,))), \"\", 'PWS Records (System Entry)'!$D$3)","v":""},null,null,null,null,null,null,null,null,null,null,null,null,null,null,null,null,null,null,""]
[{"$f":"IF(AND(ISBLANK(INDEX($G:$G,)), ISBLANK(INDEX($C:$C,))), \"\", 'PWS Records (System Entry)'!$D$4)","v":""},{"$f":"IF(AND(ISBLANK(INDEX($G:$G,)), ISBLANK(INDEX($C:$C,))), \"\", 'PWS Records (System Entry)'!$D$3)","v":""},null,null,null,null,null,null,null,null,null,null,null,null,null,null,null,null,null,null,""]
[{"$f":"IF(AND(ISBLANK(INDEX($G:$G,)), ISBLANK(INDEX($C:$C,))), \"\", 'PWS Records (System Entry)'!$D$4)","v":""},{"$f":"IF(AND(ISBLANK(INDEX($G:$G,)), ISBLANK(INDEX($C:$C,))), \"\", 'PWS Records (System Entry)'!$D$3)","v":""},null,null,null,null,null,null,null,null,null,null,null,null,null,null,null,null,null,null,""]
[{"$f":"IF(AND(ISBLANK(INDEX($G:$G,)), ISBLANK(INDEX($C:$C,))), \"\", 'PWS Records (System Entry)'!$D$4)","v":""},{"$f":"IF(AND(ISBLANK(INDEX($G:$G,)), ISBLANK(INDEX($C:$C,))), \"\", 'PWS Records (System Entry)'!$D$3)","v":""},null,null,null,null,null,null,null,null,null,null,null,null,null,null,null,null,null,null,""]
[{"$f":"IF(AND(ISBLANK(INDEX($G:$G,)), ISBLANK(INDEX($C:$C,))), \"\", 'PWS Records (System Entry)'!$D$4)","v":""},{"$f":"IF(AND(ISBLANK(INDEX($G:$G,)), ISBLANK(INDEX($C:$C,))), \"\", 'PWS Records (System Entry)'!$D$3)","v":""},null,null,null,null,null,null,null,null,null,null,null,null,null,null,null,null,null,null,""]
[{"$f":"IF(AND(ISBLANK(INDEX($G:$G,)), ISBLANK(INDEX($C:$C,))), \"\", 'PWS Records (System Entry)'!$D$4)","v":""},{"$f":"IF(AND(ISBLANK(INDEX($G:$G,)), ISBLANK(INDEX($C:$C,))), \"\", 'PWS Records (System Entry)'!$D$3)","v":""},null,null,null,null,null,null,null,null,null,null,null,null,null,null,null,null,null,null,""]
[{"$f":"IF(AND(ISBLANK(INDEX($G:$G,)), ISBLANK(INDEX($C:$C,))), \"\", 'PWS Records (System Entry)'!$D$4)","v":""},{"$f":"IF(AND(ISBLANK(INDEX($G:$G,)), ISBLANK(INDEX($C:$C,))), \"\", 'PWS Records (System Entry)'!$D$3)","v":""},null,null,null,null,null,null,null,null,null,null,null,null,null,null,null,null,null,null,""]
[{"$f":"IF(AND(ISBLANK(INDEX($G:$G,)), ISBLANK(INDEX($C:$C,))), \"\", 'PWS Records (System Entry)'!$D$4)","v":""},{"$f":"IF(AND(ISBLANK(INDEX($G:$G,)), ISBLANK(INDEX($C:$C,))), \"\", 'PWS Records (System Entry)'!$D$3)","v":""},null,null,null,null,null,null,null,null,null,null,null,null,null,null,null,null,null,null,""]
[{"$f":"IF(AND(ISBLANK(INDEX($G:$G,)), ISBLANK(INDEX($C:$C,))), \"\", 'PWS Records (System Entry)'!$D$4)","v":""},{"$f":"IF(AND(ISBLANK(INDEX($G:$G,)), ISBLANK(INDEX($C:$C,))), \"\", 'PWS Records (System Entry)'!$D$3)","v":""},null,null,null,null,null,null,null,null,null,null,null,null,null,null,null,null,null,null,""]
[{"$f":"IF(AND(ISBLANK(INDEX($G:$G,)), ISBLANK(INDEX($C:$C,))), \"\", 'PWS Records (System Entry)'!$D$4)","v":""},{"$f":"IF(AND(ISBLANK(INDEX($G:$G,)), ISBLANK(INDEX($C:$C,))), \"\", 'PWS Records (System Entry)'!$D$3)","v":""},null,null,null,null,null,null,null,null,null,null,null,null,null,null,null,null,null,null,""]
[{"$f":"IF(AND(ISBLANK(INDEX($G:$G,)), ISBLANK(INDEX($C:$C,))), \"\", 'PWS Records (System Entry)'!$D$4)","v":""},{"$f":"IF(AND(ISBLANK(INDEX($G:$G,)), ISBLANK(INDEX($C:$C,))), \"\", 'PWS Records (System Entry)'!$D$3)","v":""},null,null,null,null,null,null,null,null,null,null,null,null,null,null,null,null,null,null,""]
[{"$f":"IF(AND(ISBLANK(INDEX($G:$G,)), ISBLANK(INDEX($C:$C,))), \"\", 'PWS Records (System Entry)'!$D$4)","v":""},{"$f":"IF(AND(ISBLANK(INDEX($G:$G,)), ISBLANK(INDEX($C:$C,))), \"\", 'PWS Records (System Entry)'!$D$3)","v":""},null,null,null,null,null,null,null,null,null,null,null,null,null,null,null,null,null,null,""]
[{"$f":"IF(AND(ISBLANK(INDEX($G:$G,)), ISBLANK(INDEX($C:$C,))), \"\", 'PWS Records (System Entry)'!$D$4)","v":""},{"$f":"IF(AND(ISBLANK(INDEX($G:$G,)), ISBLANK(INDEX($C:$C,))), \"\", 'PWS Records (System Entry)'!$D$3)","v":""},null,null,null,null,null,null,null,null,null,null,null,null,null,null,null,null,null,null,""]
[{"$f":"IF(AND(ISBLANK(INDEX($G:$G,)), ISBLANK(INDEX($C:$C,))), \"\", 'PWS Records (System Entry)'!$D$4)","v":""},{"$f":"IF(AND(ISBLANK(INDEX($G:$G,)), ISBLANK(INDEX($C:$C,))), \"\", 'PWS Records (System Entry)'!$D$3)","v":""},null,null,null,null,null,null,null,null,null,null,null,null,null,null,null,null,null,null,""]
[{"$f":"IF(AND(ISBLANK(INDEX($G:$G,)), ISBLANK(INDEX($C:$C,))), \"\", 'PWS Records (System Entry)'!$D$4)","v":""},{"$f":"IF(AND(ISBLANK(INDEX($G:$G,)), ISBLANK(INDEX($C:$C,))), \"\", 'PWS Records (System Entry)'!$D$3)","v":""},null,null,null,null,null,null,null,null,null,null,null,null,null,null,null,null,null,null,""]
[{"$f":"IF(AND(ISBLANK(INDEX($G:$G,)), ISBLANK(INDEX($C:$C,))), \"\", 'PWS Records (System Entry)'!$D$4)","v":""},{"$f":"IF(AND(ISBLANK(INDEX($G:$G,)), ISBLANK(INDEX($C:$C,))), \"\", 'PWS Records (System Entry)'!$D$3)","v":""},null,null,null,null,null,null,null,null,null,null,null,null,null,null,null,null,null,null,""]
[{"$f":"IF(AND(ISBLANK(INDEX($G:$G,)), ISBLANK(INDEX($C:$C,))), \"\", 'PWS Records (System Entry)'!$D$4)","v":""},{"$f":"IF(AND(ISBLANK(INDEX($G:$G,)), ISBLANK(INDEX($C:$C,))), \"\", 'PWS Records (System Entry)'!$D$3)","v":""},null,null,null,null,null,null,null,null,null,null,null,null,null,null,null,null,null,null,""]
[{"$f":"IF(AND(ISBLANK(INDEX($G:$G,)), ISBLANK(INDEX($C:$C,))), \"\", 'PWS Records (System Entry)'!$D$4)","v":""},{"$f":"IF(AND(ISBLANK(INDEX($G:$G,)), ISBLANK(INDEX($C:$C,))), \"\", 'PWS Records (System Entry)'!$D$3)","v":""},null,null,null,null,null,null,null,null,null,null,null,null,null,null,null,null,null,null,""]
[{"$f":"IF(AND(ISBLANK(INDEX($G:$G,)), ISBLANK(INDEX($C:$C,))), \"\", 'PWS Records (System Entry)'!$D$4)","v":""},{"$f":"IF(AND(ISBLANK(INDEX($G:$G,)), ISBLANK(INDEX($C:$C,))), \"\", 'PWS Records (System Entry)'!$D$3)","v":""},null,null,null,null,null,null,null,null,null,null,null,null,null,null,null,null,null,null,""]
[{"$f":"IF(AND(ISBLANK(INDEX($G:$G,)), ISBLANK(INDEX($C:$C,))), \"\", 'PWS Records (System Entry)'!$D$4)","v":""},{"$f":"IF(AND(ISBLANK(INDEX($G:$G,)), ISBLANK(INDEX($C:$C,))), \"\", 'PWS Records (System Entry)'!$D$3)","v":""},null,null,null,null,null,null,null,null,null,null,null,null,null,null,null,null,null,null,""]
[{"$f":"IF(AND(ISBLANK(INDEX($G:$G,)), ISBLANK(INDEX($C:$C,))), \"\", 'PWS Records (System Entry)'!$D$4)","v":""},{"$f":"IF(AND(ISBLANK(INDEX($G:$G,)), ISBLANK(INDEX($C:$C,))), \"\", 'PWS Records (System Entry)'!$D$3)","v":""},null,null,null,null,null,null,null,null,null,null,null,null,null,null,null,null,null,null,""]
[{"$f":"IF(AND(ISBLANK(INDEX($G:$G,)), ISBLANK(INDEX($C:$C,))), \"\", 'PWS Records (System Entry)'!$D$4)","v":""},{"$f":"IF(AND(ISBLANK(INDEX($G:$G,)), ISBLANK(INDEX($C:$C,))), \"\", 'PWS Records (System Entry)'!$D$3)","v":""},null,null,null,null,null,null,null,null,null,null,null,null,null,null,null,null,null,null,""]
[{"$f":"IF(AND(ISBLANK(INDEX($G:$G,)), ISBLANK(INDEX($C:$C,))), \"\", 'PWS Records (System Entry)'!$D$4)","v":""},{"$f":"IF(AND(ISBLANK(INDEX($G:$G,)), ISBLANK(INDEX($C:$C,))), \"\", 'PWS Records (System Entry)'!$D$3)","v":""},null,null,null,null,null,null,null,null,null,null,null,null,null,null,null,null,null,null,""]
[{"$f":"IF(AND(ISBLANK(INDEX($G:$G,)), ISBLANK(INDEX($C:$C,))), \"\", 'PWS Records (System Entry)'!$D$4)","v":""},{"$f":"IF(AND(ISBLANK(INDEX($G:$G,)), ISBLANK(INDEX($C:$C,))), \"\", 'PWS Records (System Entry)'!$D$3)","v":""},null,null,null,null,null,null,null,null,null,null,null,null,null,null,null,null,null,null,""]
[{"$f":"IF(AND(ISBLANK(INDEX($G:$G,)), ISBLANK(INDEX($C:$C,))), \"\", 'PWS Records (System Entry)'!$D$4)","v":""},{"$f":"IF(AND(ISBLANK(INDEX($G:$G,)), ISBLANK(INDEX($C:$C,))), \"\", 'PWS Records (System Entry)'!$D$3)","v":""},null,null,null,null,null,null,null,null,null,null,null,null,null,null,null,null,null,null,""]
[{"$f":"IF(AND(ISBLANK(INDEX($G:$G,)), ISBLANK(INDEX($C:$C,))), \"\", 'PWS Records (System Entry)'!$D$4)","v":""},{"$f":"IF(AND(ISBLANK(INDEX($G:$G,)), ISBLANK(INDEX($C:$C,))), \"\", 'PWS Records (System Entry)'!$D$3)","v":""},null,null,null,null,null,null,null,null,null,null,null,null,null,null,null,null,null,null,""]
[{"$f":"IF(AND(ISBLANK(INDEX($G:$G,)), ISBLANK(INDEX($C:$C,))), \"\", 'PWS Records (System Entry)'!$D$4)","v":""},{"$f":"IF(AND(ISBLANK(INDEX($G:$G,)), ISBLANK(INDEX($C:$C,))), \"\", 'PWS Records (System Entry)'!$D$3)","v":""},null,null,null,null,null,null,null,null,null,null,null,null,null,null,null,null,null,null,""]
[{"$f":"IF(AND(ISBLANK(INDEX($G:$G,)), ISBLANK(INDEX($C:$C,))), \"\", 'PWS Records (System Entry)'!$D$4)","v":""},{"$f":"IF(AND(ISBLANK(INDEX($G:$G,)), ISBLANK(INDEX($C:$C,))), \"\", 'PWS Records (System Entry)'!$D$3)","v":""},null,null,null,null,null,null,null,null,null,null,null,null,null,null,null,null,null,null,""]
[{"$f":"IF(AND(ISBLANK(INDEX($G:$G,)), ISBLANK(INDEX($C:$C,))), \"\", 'PWS Records (System Entry)'!$D$4)","v":""},{"$f":"IF(AND(ISBLANK(INDEX($G:$G,)), ISBLANK(INDEX($C:$C,))), \"\", 'PWS Records (System Entry)'!$D$3)","v":""},null,null,null,null,null,null,null,null,null,null,null,null,null,null,null,null,null,null,""]
[{"$f":"IF(AND(ISBLANK(INDEX($G:$G,)), ISBLANK(INDEX($C:$C,))), \"\", 'PWS Records (System Entry)'!$D$4)","v":""},{"$f":"IF(AND(ISBLANK(INDEX($G:$G,)), ISBLANK(INDEX($C:$C,))), \"\", 'PWS Records (System Entry)'!$D$3)","v":""},null,null,null,null,null,null,null,null,null,null,null,null,null,null,null,null,null,null,""]
[{"$f":"IF(AND(ISBLANK(INDEX($G:$G,)), ISBLANK(INDEX($C:$C,))), \"\", 'PWS Records (System Entry)'!$D$4)","v":""},{"$f":"IF(AND(ISBLANK(INDEX($G:$G,)), ISBLANK(INDEX($C:$C,))), \"\", 'PWS Records (System Entry)'!$D$3)","v":""},null,null,null,null,null,null,null,null,null,null,null,null,null,null,null,null,null,null,""]
[{"$f":"IF(AND(ISBLANK(INDEX($G:$G,)), ISBLANK(INDEX($C:$C,))), \"\", 'PWS Records (System Entry)'!$D$4)","v":""},{"$f":"IF(AND(ISBLANK(INDEX($G:$G,)), ISBLANK(INDEX($C:$C,))), \"\", 'PWS Records (System Entry)'!$D$3)","v":""},null,null,null,null,null,null,null,null,null,null,null,null,null,null,null,null,null,null,""]
[{"$f":"IF(AND(ISBLANK(INDEX($G:$G,)), ISBLANK(INDEX($C:$C,))), \"\", 'PWS Records (System Entry)'!$D$4)","v":""},{"$f":"IF(AND(ISBLANK(INDEX($G:$G,)), ISBLANK(INDEX($C:$C,))), \"\", 'PWS Records (System Entry)'!$D$3)","v":""},null,null,null,null,null,null,null,null,null,null,null,null,null,null,null,null,null,null,""]
[{"$f":"IF(AND(ISBLANK(INDEX($G:$G,)), ISBLANK(INDEX($C:$C,))), \"\", 'PWS Records (System Entry)'!$D$4)","v":""},{"$f":"IF(AND(ISBLANK(INDEX($G:$G,)), ISBLANK(INDEX($C:$C,))), \"\", 'PWS Records (System Entry)'!$D$3)","v":""},null,null,null,null,null,null,null,null,null,null,null,null,null,null,null,null,null,null,""]
[{"$f":"IF(AND(ISBLANK(INDEX($G:$G,)), ISBLANK(INDEX($C:$C,))), \"\", 'PWS Records (System Entry)'!$D$4)","v":""},{"$f":"IF(AND(ISBLANK(INDEX($G:$G,)), ISBLANK(INDEX($C:$C,))), \"\", 'PWS Records (System Entry)'!$D$3)","v":""},null,null,null,null,null,null,null,null,null,null,null,null,null,null,null,null,null,null,""]
[{"$f":"IF(AND(ISBLANK(INDEX($G:$G,)), ISBLANK(INDEX($C:$C,))), \"\", 'PWS Records (System Entry)'!$D$4)","v":""},{"$f":"IF(AND(ISBLANK(INDEX($G:$G,)), ISBLANK(INDEX($C:$C,))), \"\", 'PWS Records (System Entry)'!$D$3)","v":""},null,null,null,null,null,null,null,null,null,null,null,null,null,null,null,null,null,null,""]
[{"$f":"IF(AND(ISBLANK(INDEX($G:$G,)), ISBLANK(INDEX($C:$C,))), \"\", 'PWS Records (System Entry)'!$D$4)","v":""},{"$f":"IF(AND(ISBLANK(INDEX($G:$G,)), ISBLANK(INDEX($C:$C,))), \"\", 'PWS Records (System Entry)'!$D$3)","v":""},null,null,null,null,null,null,null,null,null,null,null,null,null,null,null,null,null,null,""]
[{"$f":"IF(AND(ISBLANK(INDEX($G:$G,)), ISBLANK(INDEX($C:$C,))), \"\", 'PWS Records (System Entry)'!$D$4)","v":""},{"$f":"IF(AND(ISBLANK(INDEX($G:$G,)), ISBLANK(INDEX($C:$C,))), \"\", 'PWS Records (System Entry)'!$D$3)","v":""},null,null,null,null,null,null,null,null,null,null,null,null,null,null,null,null,null,null,""]
[{"$f":"IF(AND(ISBLANK(INDEX($G:$G,)), ISBLANK(INDEX($C:$C,))), \"\", 'PWS Records (System Entry)'!$D$4)","v":""},{"$f":"IF(AND(ISBLANK(INDEX($G:$G,)), ISBLANK(INDEX($C:$C,))), \"\", 'PWS Records (System Entry)'!$D$3)","v":""},null,null,null,null,null,null,null,null,null,null,null,null,null,null,null,null,null,null,""]
[{"$f":"IF(AND(ISBLANK(INDEX($G:$G,)), ISBLANK(INDEX($C:$C,))), \"\", 'PWS Records (System Entry)'!$D$4)","v":""},{"$f":"IF(AND(ISBLANK(INDEX($G:$G,)), ISBLANK(INDEX($C:$C,))), \"\", 'PWS Records (System Entry)'!$D$3)","v":""},null,null,null,null,null,null,null,null,null,null,null,null,null,null,null,null,null,null,""]
[{"$f":"IF(AND(ISBLANK(INDEX($G:$G,)), ISBLANK(INDEX($C:$C,))), \"\", 'PWS Records (System Entry)'!$D$4)","v":""},{"$f":"IF(AND(ISBLANK(INDEX($G:$G,)), ISBLANK(INDEX($C:$C,))), \"\", 'PWS Records (System Entry)'!$D$3)","v":""},null,null,null,null,null,null,null,null,null,null,null,null,null,null,null,null,null,null,""]
[{"$f":"IF(AND(ISBLANK(INDEX($G:$G,)), ISBLANK(INDEX($C:$C,))), \"\", 'PWS Records (System Entry)'!$D$4)","v":""},{"$f":"IF(AND(ISBLANK(INDEX($G:$G,)), ISBLANK(INDEX($C:$C,))), \"\", 'PWS Records (System Entry)'!$D$3)","v":""},null,null,null,null,null,null,null,null,null,null,null,null,null,null,null,null,null,null,""]
[{"$f":"IF(AND(ISBLANK(INDEX($G:$G,)), ISBLANK(INDEX($C:$C,))), \"\", 'PWS Records (System Entry)'!$D$4)","v":""},{"$f":"IF(AND(ISBLANK(INDEX($G:$G,)), ISBLANK(INDEX($C:$C,))), \"\", 'PWS Records (System Entry)'!$D$3)","v":""},null,null,null,null,null,null,null,null,null,null,null,null,null,null,null,null,null,null,""]
[{"$f":"IF(AND(ISBLANK(INDEX($G:$G,)), ISBLANK(INDEX($C:$C,))), \"\", 'PWS Records (System Entry)'!$D$4)","v":""},{"$f":"IF(AND(ISBLANK(INDEX($G:$G,)), ISBLANK(INDEX($C:$C,))), \"\", 'PWS Records (System Entry)'!$D$3)","v":""},null,null,null,null,null,null,null,null,null,null,null,null,null,null,null,null,null,null,""]
[{"$f":"IF(AND(ISBLANK(INDEX($G:$G,)), ISBLANK(INDEX($C:$C,))), \"\", 'PWS Records (System Entry)'!$D$4)","v":""},{"$f":"IF(AND(ISBLANK(INDEX($G:$G,)), ISBLANK(INDEX($C:$C,))), \"\", 'PWS Records (System Entry)'!$D$3)","v":""},null,null,null,null,null,null,null,null,null,null,null,null,null,null,null,null,null,null,""]
[{"$f":"IF(AND(ISBLANK(INDEX($G:$G,)), ISBLANK(INDEX($C:$C,))), \"\", 'PWS Records (System Entry)'!$D$4)","v":""},{"$f":"IF(AND(ISBLANK(INDEX($G:$G,)), ISBLANK(INDEX($C:$C,))), \"\", 'PWS Records (System Entry)'!$D$3)","v":""},null,null,null,null,null,null,null,null,null,null,null,null,null,null,null,null,null,null,""]
[{"$f":"IF(AND(ISBLANK(INDEX($G:$G,)), ISBLANK(INDEX($C:$C,))), \"\", 'PWS Records (System Entry)'!$D$4)","v":""},{"$f":"IF(AND(ISBLANK(INDEX($G:$G,)), ISBLANK(INDEX($C:$C,))), \"\", 'PWS Records (System Entry)'!$D$3)","v":""},null,null,null,null,null,null,null,null,null,null,null,null,null,null,null,null,null,null,""]
[{"$f":"IF(AND(ISBLANK(INDEX($G:$G,)), ISBLANK(INDEX($C:$C,))), \"\", 'PWS Records (System Entry)'!$D$4)","v":""},{"$f":"IF(AND(ISBLANK(INDEX($G:$G,)), ISBLANK(INDEX($C:$C,))), \"\", 'PWS Records (System Entry)'!$D$3)","v":""},null,null,null,null,null,null,null,null,null,null,null,null,null,null,null,null,null,null,""]
[{"$f":"IF(AND(ISBLANK(INDEX($G:$G,)), ISBLANK(INDEX($C:$C,))), \"\", 'PWS Records (System Entry)'!$D$4)","v":""},{"$f":"IF(AND(ISBLANK(INDEX($G:$G,)), ISBLANK(INDEX($C:$C,))), \"\", 'PWS Records (System Entry)'!$D$3)","v":""},null,null,null,null,null,null,null,null,null,null,null,null,null,null,null,null,null,null,""]
[{"$f":"IF(AND(ISBLANK(INDEX($G:$G,)), ISBLANK(INDEX($C:$C,))), \"\", 'PWS Records (System Entry)'!$D$4)","v":""},{"$f":"IF(AND(ISBLANK(INDEX($G:$G,)), ISBLANK(INDEX($C:$C,))), \"\", 'PWS Records (System Entry)'!$D$3)","v":""},null,null,null,null,null,null,null,null,null,null,null,null,null,null,null,null,null,null,""]
[{"$f":"IF(AND(ISBLANK(INDEX($G:$G,)), ISBLANK(INDEX($C:$C,))), \"\", 'PWS Records (System Entry)'!$D$4)","v":""},{"$f":"IF(AND(ISBLANK(INDEX($G:$G,)), ISBLANK(INDEX($C:$C,))), \"\", 'PWS Records (System Entry)'!$D$3)","v":""},null,null,null,null,null,null,null,null,null,null,null,null,null,null,null,null,null,null,""]
[{"$f":"IF(AND(ISBLANK(INDEX($G:$G,)), ISBLANK(INDEX($C:$C,))), \"\", 'PWS Records (System Entry)'!$D$4)","v":""},{"$f":"IF(AND(ISBLANK(INDEX($G:$G,)), ISBLANK(INDEX($C:$C,))), \"\", 'PWS Records (System Entry)'!$D$3)","v":""},null,null,null,null,null,null,null,null,null,null,null,null,null,null,null,null,null,null,""]
[{"$f":"IF(AND(ISBLANK(INDEX($G:$G,)), ISBLANK(INDEX($C:$C,))), \"\", 'PWS Records (System Entry)'!$D$4)","v":""},{"$f":"IF(AND(ISBLANK(INDEX($G:$G,)), ISBLANK(INDEX($C:$C,))), \"\", 'PWS Records (System Entry)'!$D$3)","v":""},null,null,null,null,null,null,null,null,null,null,null,null,null,null,null,null,null,null,""]
[{"$f":"IF(AND(ISBLANK(INDEX($G:$G,)), ISBLANK(INDEX($C:$C,))), \"\", 'PWS Records (System Entry)'!$D$4)","v":""},{"$f":"IF(AND(ISBLANK(INDEX($G:$G,)), ISBLANK(INDEX($C:$C,))), \"\", 'PWS Records (System Entry)'!$D$3)","v":""},null,null,null,null,null,null,null,null,null,null,null,null,null,null,null,null,null,null,""]
[{"$f":"IF(AND(ISBLANK(INDEX($G:$G,)), ISBLANK(INDEX($C:$C,))), \"\", 'PWS Records (System Entry)'!$D$4)","v":""},{"$f":"IF(AND(ISBLANK(INDEX($G:$G,)), ISBLANK(INDEX($C:$C,))), \"\", 'PWS Records (System Entry)'!$D$3)","v":""},null,null,null,null,null,null,null,null,null,null,null,null,null,null,null,null,null,null,""]
[{"$f":"IF(AND(ISBLANK(INDEX($G:$G,)), ISBLANK(INDEX($C:$C,))), \"\", 'PWS Records (System Entry)'!$D$4)","v":""},{"$f":"IF(AND(ISBLANK(INDEX($G:$G,)), ISBLANK(INDEX($C:$C,))), \"\", 'PWS Records (System Entry)'!$D$3)","v":""},null,null,null,null,null,null,null,null,null,null,null,null,null,null,null,null,null,null,""]
[{"$f":"IF(AND(ISBLANK(INDEX($G:$G,)), ISBLANK(INDEX($C:$C,))), \"\", 'PWS Records (System Entry)'!$D$4)","v":""},{"$f":"IF(AND(ISBLANK(INDEX($G:$G,)), ISBLANK(INDEX($C:$C,))), \"\", 'PWS Records (System Entry)'!$D$3)","v":""},null,null,null,null,null,null,null,null,null,null,null,null,null,null,null,null,null,null,""]
[{"$f":"IF(AND(ISBLANK(INDEX($G:$G,)), ISBLANK(INDEX($C:$C,))), \"\", 'PWS Records (System Entry)'!$D$4)","v":""},{"$f":"IF(AND(ISBLANK(INDEX($G:$G,)), ISBLANK(INDEX($C:$C,))), \"\", 'PWS Records (System Entry)'!$D$3)","v":""},null,null,null,null,null,null,null,null,null,null,null,null,null,null,null,null,null,null,""]
[{"$f":"IF(AND(ISBLANK(INDEX($G:$G,)), ISBLANK(INDEX($C:$C,))), \"\", 'PWS Records (System Entry)'!$D$4)","v":""},{"$f":"IF(AND(ISBLANK(INDEX($G:$G,)), ISBLANK(INDEX($C:$C,))), \"\", 'PWS Records (System Entry)'!$D$3)","v":""},null,null,null,null,null,null,null,null,null,null,null,null,null,null,null,null,null,null,""]
[{"$f":"IF(AND(ISBLANK(INDEX($G:$G,)), ISBLANK(INDEX($C:$C,))), \"\", 'PWS Records (System Entry)'!$D$4)","v":""},{"$f":"IF(AND(ISBLANK(INDEX($G:$G,)), ISBLANK(INDEX($C:$C,))), \"\", 'PWS Records (System Entry)'!$D$3)","v":""},null,null,null,null,null,null,null,null,null,null,null,null,null,null,null,null,null,null,""]
[{"$f":"IF(AND(ISBLANK(INDEX($G:$G,)), ISBLANK(INDEX($C:$C,))), \"\", 'PWS Records (System Entry)'!$D$4)","v":""},{"$f":"IF(AND(ISBLANK(INDEX($G:$G,)), ISBLANK(INDEX($C:$C,))), \"\", 'PWS Records (System Entry)'!$D$3)","v":""},null,null,null,null,null,null,null,null,null,null,null,null,null,null,null,null,null,null,{"$f":"IF(AND(INDEX($K:$K,)=\"\", INDEX($L:$L,)=\"\", INDEX($M:$M,)=\"\", INDEX($Q:$Q,)=\"\", INDEX($R:$R,)=\"\"), \"\", IF(OR(INDEX($K:$K,)=\"Lead\",INDEX($Q:$Q,)=\"Lead\"),\"Lead\",IF(OR(AND(OR(INDEX($M:$M,)=\"Yes\", INDEX($M:$M,)=\"Don't Know\", INDEX($M:$M,)=\"\"), INDEX($Q:$Q,)=\"Galvanized Iron/Steel\"), AND(INDEX($K:$K,)=\"Unknown\", INDEX($M:$M,)=\"No\", INDEX($Q:$Q,)=\"Galvanized Iron/Steel\")), \"Galvanized Requiring Replacement\", IF(OR(AND(OR(INDEX($K:$K,)=\"Galvanized Iron/Steel\", INDEX($K:$K,)=\"Non-Lead - Copper\", INDEX($K:$K,)=\"Non-Lead - Plastic\", INDEX($K:$K,)=\"Non-Lead - Other\", INDEX($K:$K,)=\"Non-Lead - Material Unknown\", INDEX($K:$K,)=\"No System Owned Portion\"), OR(INDEX($Q:$Q,)=\"Galvanized Iron/Steel\", INDEX($Q:$Q,)=\"Non-Lead - Copper\", INDEX($Q:$Q,)=\"Non-Lead - Plastic\", INDEX($Q:$Q,)=\"Non-Lead - Other\", INDEX($Q:$Q,)=\"Non-Lead - Predictive Model\", INDEX($Q:$Q,)=\"No Customer Owned Portion\")), AND(OR( INDEX($K:$K,)=\"Galvanized Iron/Steel\", INDEX($K:$K,)=\"Non-Lead - Copper\", INDEX($K:$K,)=\"Non-Lead - Plastic\", INDEX($K:$K,)=\"Non-Lead - Other\", INDEX($K:$K,)=\"Non-Lead - Material Unknown\", INDEX($K:$K,)=\"No System Owned Portion\"), INDEX($M:$M,)=\"No\", INDEX($Q:$Q,)=\"Non-Lead - Material Unknown\")), \"Non-Lead\", \"Lead Status Unknown\"))))","v":""}]
[{"$f":"IF(AND(ISBLANK(INDEX($G:$G,)), ISBLANK(INDEX($C:$C,))), \"\", 'PWS Records (System Entry)'!$D$4)","v":""},{"$f":"IF(AND(ISBLANK(INDEX($G:$G,)), ISBLANK(INDEX($C:$C,))), \"\", 'PWS Records (System Entry)'!$D$3)","v":""},null,null,null,null,null,null,null,null,null,null,null,null,null,null,null,null,null,null,""]
[{"$f":"IF(AND(ISBLANK(INDEX($G:$G,)), ISBLANK(INDEX($C:$C,))), \"\", 'PWS Records (System Entry)'!$D$4)","v":""},{"$f":"IF(AND(ISBLANK(INDEX($G:$G,)), ISBLANK(INDEX($C:$C,))), \"\", 'PWS Records (System Entry)'!$D$3)","v":""},null,null,null,null,null,null,null,null,null,null,null,null,null,null,null,null,null,null,""]
[{"$f":"IF(AND(ISBLANK(INDEX($G:$G,)), ISBLANK(INDEX($C:$C,))), \"\", 'PWS Records (System Entry)'!$D$4)","v":""},{"$f":"IF(AND(ISBLANK(INDEX($G:$G,)), ISBLANK(INDEX($C:$C,))), \"\", 'PWS Records (System Entry)'!$D$3)","v":""},null,null,null,null,null,null,null,null,null,null,null,null,null,null,null,null,null,null,""]
[{"$f":"IF(AND(ISBLANK(INDEX($G:$G,)), ISBLANK(INDEX($C:$C,))), \"\", 'PWS Records (System Entry)'!$D$4)","v":""},{"$f":"IF(AND(ISBLANK(INDEX($G:$G,)), ISBLANK(INDEX($C:$C,))), \"\", 'PWS Records (System Entry)'!$D$3)","v":""},null,null,null,null,null,null,null,null,null,null,null,null,null,null,null,null,null,null,""]
[{"$f":"IF(AND(ISBLANK(INDEX($G:$G,)), ISBLANK(INDEX($C:$C,))), \"\", 'PWS Records (System Entry)'!$D$4)","v":""},{"$f":"IF(AND(ISBLANK(INDEX($G:$G,)), ISBLANK(INDEX($C:$C,))), \"\", 'PWS Records (System Entry)'!$D$3)","v":""},null,null,null,null,null,null,null,null,null,null,null,null,null,null,null,null,null,null,""]
[{"$f":"IF(AND(ISBLANK(INDEX($G:$G,)), ISBLANK(INDEX($C:$C,))), \"\", 'PWS Records (System Entry)'!$D$4)","v":""},{"$f":"IF(AND(ISBLANK(INDEX($G:$G,)), ISBLANK(INDEX($C:$C,))), \"\", 'PWS Records (System Entry)'!$D$3)","v":""},null,null,null,null,null,null,null,null,null,null,null,null,null,null,null,null,null,null,""]
[{"$f":"IF(AND(ISBLANK(INDEX($G:$G,)), ISBLANK(INDEX($C:$C,))), \"\", 'PWS Records (System Entry)'!$D$4)","v":""},{"$f":"IF(AND(ISBLANK(INDEX($G:$G,)), ISBLANK(INDEX($C:$C,))), \"\", 'PWS Records (System Entry)'!$D$3)","v":""},null,null,null,null,null,null,null,null,null,null,null,null,null,null,null,null,null,null,""]
[{"$f":"IF(AND(ISBLANK(INDEX($G:$G,)), ISBLANK(INDEX($C:$C,))), \"\", 'PWS Records (System Entry)'!$D$4)","v":""},{"$f":"IF(AND(ISBLANK(INDEX($G:$G,)), ISBLANK(INDEX($C:$C,))), \"\", 'PWS Records (System Entry)'!$D$3)","v":""},null,null,null,null,null,null,null,null,null,null,null,null,null,null,null,null,null,null,""]
[{"$f":"IF(AND(ISBLANK(INDEX($G:$G,)), ISBLANK(INDEX($C:$C,))), \"\", 'PWS Records (System Entry)'!$D$4)","v":""},{"$f":"IF(AND(ISBLANK(INDEX($G:$G,)), ISBLANK(INDEX($C:$C,))), \"\", 'PWS Records (System Entry)'!$D$3)","v":""},null,null,null,null,null,null,null,null,null,null,null,null,null,null,null,null,null,null,""]
[{"$f":"IF(AND(ISBLANK(INDEX($G:$G,)), ISBLANK(INDEX($C:$C,))), \"\", 'PWS Records (System Entry)'!$D$4)","v":""},{"$f":"IF(AND(ISBLANK(INDEX($G:$G,)), ISBLANK(INDEX($C:$C,))), \"\", 'PWS Records (System Entry)'!$D$3)","v":""},null,null,null,null,null,null,null,null,null,null,null,null,null,null,null,null,null,null,""]
[{"$f":"IF(AND(ISBLANK(INDEX($G:$G,)), ISBLANK(INDEX($C:$C,))), \"\", 'PWS Records (System Entry)'!$D$4)","v":""},{"$f":"IF(AND(ISBLANK(INDEX($G:$G,)), ISBLANK(INDEX($C:$C,))), \"\", 'PWS Records (System Entry)'!$D$3)","v":""},null,null,null,null,null,null,null,null,null,null,null,null,null,null,null,null,null,null,""]
[{"$f":"IF(AND(ISBLANK(INDEX($G:$G,)), ISBLANK(INDEX($C:$C,))), \"\", 'PWS Records (System Entry)'!$D$4)","v":""},{"$f":"IF(AND(ISBLANK(INDEX($G:$G,)), ISBLANK(INDEX($C:$C,))), \"\", 'PWS Records (System Entry)'!$D$3)","v":""},null,null,null,null,null,null,null,null,null,null,null,null,null,null,null,null,null,null,""]
[{"$f":"IF(AND(ISBLANK(INDEX($G:$G,)), ISBLANK(INDEX($C:$C,))), \"\", 'PWS Records (System Entry)'!$D$4)","v":""},{"$f":"IF(AND(ISBLANK(INDEX($G:$G,)), ISBLANK(INDEX($C:$C,))), \"\", 'PWS Records (System Entry)'!$D$3)","v":""},null,null,null,null,null,null,null,null,null,null,null,null,null,null,null,null,null,null,""]
[{"$f":"IF(AND(ISBLANK(INDEX($G:$G,)), ISBLANK(INDEX($C:$C,))), \"\", 'PWS Records (System Entry)'!$D$4)","v":""},{"$f":"IF(AND(ISBLANK(INDEX($G:$G,)), ISBLANK(INDEX($C:$C,))), \"\", 'PWS Records (System Entry)'!$D$3)","v":""},null,null,null,null,null,null,null,null,null,null,null,null,null,null,null,null,null,null,""]
[{"$f":"IF(AND(ISBLANK(INDEX($G:$G,)), ISBLANK(INDEX($C:$C,))), \"\", 'PWS Records (System Entry)'!$D$4)","v":""},{"$f":"IF(AND(ISBLANK(INDEX($G:$G,)), ISBLANK(INDEX($C:$C,))), \"\", 'PWS Records (System Entry)'!$D$3)","v":""},null,null,null,null,null,null,null,null,null,null,null,null,null,null,null,null,null,null,""]
[{"$f":"IF(AND(ISBLANK(INDEX($G:$G,)), ISBLANK(INDEX($C:$C,))), \"\", 'PWS Records (System Entry)'!$D$4)","v":""},{"$f":"IF(AND(ISBLANK(INDEX($G:$G,)), ISBLANK(INDEX($C:$C,))), \"\", 'PWS Records (System Entry)'!$D$3)","v":""},null,null,null,null,null,null,null,null,null,null,null,null,null,null,null,null,null,null,""]
[{"$f":"IF(AND(ISBLANK(INDEX($G:$G,)), ISBLANK(INDEX($C:$C,))), \"\", 'PWS Records (System Entry)'!$D$4)","v":""},{"$f":"IF(AND(ISBLANK(INDEX($G:$G,)), ISBLANK(INDEX($C:$C,))), \"\", 'PWS Records (System Entry)'!$D$3)","v":""},null,null,null,null,null,null,null,null,null,null,null,null,null,null,null,null,null,null,""]
[{"$f":"IF(AND(ISBLANK(INDEX($G:$G,)), ISBLANK(INDEX($C:$C,))), \"\", 'PWS Records (System Entry)'!$D$4)","v":""},{"$f":"IF(AND(ISBLANK(INDEX($G:$G,)), ISBLANK(INDEX($C:$C,))), \"\", 'PWS Records (System Entry)'!$D$3)","v":""},null,null,null,null,null,null,null,null,null,null,null,null,null,null,null,null,null,null,""]
[{"$f":"IF(AND(ISBLANK(INDEX($G:$G,)), ISBLANK(INDEX($C:$C,))), \"\", 'PWS Records (System Entry)'!$D$4)","v":""},{"$f":"IF(AND(ISBLANK(INDEX($G:$G,)), ISBLANK(INDEX($C:$C,))), \"\", 'PWS Records (System Entry)'!$D$3)","v":""},null,null,null,null,null,null,null,null,null,null,null,null,null,null,null,null,null,null,""]
[{"$f":"IF(AND(ISBLANK(INDEX($G:$G,)), ISBLANK(INDEX($C:$C,))), \"\", 'PWS Records (System Entry)'!$D$4)","v":""},{"$f":"IF(AND(ISBLANK(INDEX($G:$G,)), ISBLANK(INDEX($C:$C,))), \"\", 'PWS Records (System Entry)'!$D$3)","v":""},null,null,null,null,null,null,null,null,null,null,null,null,null,null,null,null,null,null,""]
[{"$f":"IF(AND(ISBLANK(INDEX($G:$G,)), ISBLANK(INDEX($C:$C,))), \"\", 'PWS Records (System Entry)'!$D$4)","v":""},{"$f":"IF(AND(ISBLANK(INDEX($G:$G,)), ISBLANK(INDEX($C:$C,))), \"\", 'PWS Records (System Entry)'!$D$3)","v":""},null,null,null,null,null,null,null,null,null,null,null,null,null,null,null,null,null,null,""]
[{"$f":"IF(AND(ISBLANK(INDEX($G:$G,)), ISBLANK(INDEX($C:$C,))), \"\", 'PWS Records (System Entry)'!$D$4)","v":""},{"$f":"IF(AND(ISBLANK(INDEX($G:$G,)), ISBLANK(INDEX($C:$C,))), \"\", 'PWS Records (System Entry)'!$D$3)","v":""},null,null,null,null,null,null,null,null,null,null,null,null,null,null,null,null,null,null,""]
[{"$f":"IF(AND(ISBLANK(INDEX($G:$G,)), ISBLANK(INDEX($C:$C,))), \"\", 'PWS Records (System Entry)'!$D$4)","v":""},{"$f":"IF(AND(ISBLANK(INDEX($G:$G,)), ISBLANK(INDEX($C:$C,))), \"\", 'PWS Records (System Entry)'!$D$3)","v":""},null,null,null,null,null,null,null,null,null,null,null,null,null,null,null,null,null,null,""]
[{"$f":"IF(AND(ISBLANK(INDEX($G:$G,)), ISBLANK(INDEX($C:$C,))), \"\", 'PWS Records (System Entry)'!$D$4)","v":""},{"$f":"IF(AND(ISBLANK(INDEX($G:$G,)), ISBLANK(INDEX($C:$C,))), \"\", 'PWS Records (System Entry)'!$D$3)","v":""},null,null,null,null,null,null,null,null,null,null,null,null,null,null,null,null,null,null,""]
[{"$f":"IF(AND(ISBLANK(INDEX($G:$G,)), ISBLANK(INDEX($C:$C,))), \"\", 'PWS Records (System Entry)'!$D$4)","v":""},{"$f":"IF(AND(ISBLANK(INDEX($G:$G,)), ISBLANK(INDEX($C:$C,))), \"\", 'PWS Records (System Entry)'!$D$3)","v":""},null,null,null,null,null,null,null,null,null,null,null,null,null,null,null,null,null,null,""]
[{"$f":"IF(AND(ISBLANK(INDEX($G:$G,)), ISBLANK(INDEX($C:$C,))), \"\", 'PWS Records (System Entry)'!$D$4)","v":""},{"$f":"IF(AND(ISBLANK(INDEX($G:$G,)), ISBLANK(INDEX($C:$C,))), \"\", 'PWS Records (System Entry)'!$D$3)","v":""},null,null,null,null,null,null,null,null,null,null,null,null,null,null,null,null,null,null,""]
[{"$f":"IF(AND(ISBLANK(INDEX($G:$G,)), ISBLANK(INDEX($C:$C,))), \"\", 'PWS Records (System Entry)'!$D$4)","v":""},{"$f":"IF(AND(ISBLANK(INDEX($G:$G,)), ISBLANK(INDEX($C:$C,))), \"\", 'PWS Records (System Entry)'!$D$3)","v":""},null,null,null,null,null,null,null,null,null,null,null,null,null,null,null,null,null,null,""]
[{"$f":"IF(AND(ISBLANK(INDEX($G:$G,)), ISBLANK(INDEX($C:$C,))), \"\", 'PWS Records (System Entry)'!$D$4)","v":""},{"$f":"IF(AND(ISBLANK(INDEX($G:$G,)), ISBLANK(INDEX($C:$C,))), \"\", 'PWS Records (System Entry)'!$D$3)","v":""},null,null,null,null,null,null,null,null,null,null,null,null,null,null,null,null,null,null,""]
[{"$f":"IF(AND(ISBLANK(INDEX($G:$G,)), ISBLANK(INDEX($C:$C,))), \"\", 'PWS Records (System Entry)'!$D$4)","v":""},{"$f":"IF(AND(ISBLANK(INDEX($G:$G,)), ISBLANK(INDEX($C:$C,))), \"\", 'PWS Records (System Entry)'!$D$3)","v":""},null,null,null,null,null,null,null,null,null,null,null,null,null,null,null,null,null,null,""]
[{"$f":"IF(AND(ISBLANK(INDEX($G:$G,)), ISBLANK(INDEX($C:$C,))), \"\", 'PWS Records (System Entry)'!$D$4)","v":""},{"$f":"IF(AND(ISBLANK(INDEX($G:$G,)), ISBLANK(INDEX($C:$C,))), \"\", 'PWS Records (System Entry)'!$D$3)","v":""},null,null,null,null,null,null,null,null,null,null,null,null,null,null,null,null,null,null,""]
[{"$f":"IF(AND(ISBLANK(INDEX($G:$G,)), ISBLANK(INDEX($C:$C,))), \"\", 'PWS Records (System Entry)'!$D$4)","v":""},{"$f":"IF(AND(ISBLANK(INDEX($G:$G,)), ISBLANK(INDEX($C:$C,))), \"\", 'PWS Records (System Entry)'!$D$3)","v":""},null,null,null,null,null,null,null,null,null,null,null,null,null,null,null,null,null,null,""]
[{"$f":"IF(AND(ISBLANK(INDEX($G:$G,)), ISBLANK(INDEX($C:$C,))), \"\", 'PWS Records (System Entry)'!$D$4)","v":""},{"$f":"IF(AND(ISBLANK(INDEX($G:$G,)), ISBLANK(INDEX($C:$C,))), \"\", 'PWS Records (System Entry)'!$D$3)","v":""},null,null,null,null,null,null,null,null,null,null,null,null,null,null,null,null,null,null,""]
[{"$f":"IF(AND(ISBLANK(INDEX($G:$G,)), ISBLANK(INDEX($C:$C,))), \"\", 'PWS Records (System Entry)'!$D$4)","v":""},{"$f":"IF(AND(ISBLANK(INDEX($G:$G,)), ISBLANK(INDEX($C:$C,))), \"\", 'PWS Records (System Entry)'!$D$3)","v":""},null,null,null,null,null,null,null,null,null,null,null,null,null,null,null,null,null,null,""]
[{"$f":"IF(AND(ISBLANK(INDEX($G:$G,)), ISBLANK(INDEX($C:$C,))), \"\", 'PWS Records (System Entry)'!$D$4)","v":""},{"$f":"IF(AND(ISBLANK(INDEX($G:$G,)), ISBLANK(INDEX($C:$C,))), \"\", 'PWS Records (System Entry)'!$D$3)","v":""},null,null,null,null,null,null,null,null,null,null,null,null,null,null,null,null,null,null,""]
[{"$f":"IF(AND(ISBLANK(INDEX($G:$G,)), ISBLANK(INDEX($C:$C,))), \"\", 'PWS Records (System Entry)'!$D$4)","v":""},{"$f":"IF(AND(ISBLANK(INDEX($G:$G,)), ISBLANK(INDEX($C:$C,))), \"\", 'PWS Records (System Entry)'!$D$3)","v":""},null,null,null,null,null,null,null,null,null,null,null,null,null,null,null,null,null,null,""]
[{"$f":"IF(AND(ISBLANK(INDEX($G:$G,)), ISBLANK(INDEX($C:$C,))), \"\", 'PWS Records (System Entry)'!$D$4)","v":""},{"$f":"IF(AND(ISBLANK(INDEX($G:$G,)), ISBLANK(INDEX($C:$C,))), \"\", 'PWS Records (System Entry)'!$D$3)","v":""},null,null,null,null,null,null,null,null,null,null,null,null,null,null,null,null,null,null,""]
[{"$f":"IF(AND(ISBLANK(INDEX($G:$G,)), ISBLANK(INDEX($C:$C,))), \"\", 'PWS Records (System Entry)'!$D$4)","v":""},{"$f":"IF(AND(ISBLANK(INDEX($G:$G,)), ISBLANK(INDEX($C:$C,))), \"\", 'PWS Records (System Entry)'!$D$3)","v":""},null,null,null,null,null,null,null,null,null,null,null,null,null,null,null,null,null,null,""]
[{"$f":"IF(AND(ISBLANK(INDEX($G:$G,)), ISBLANK(INDEX($C:$C,))), \"\", 'PWS Records (System Entry)'!$D$4)","v":""},{"$f":"IF(AND(ISBLANK(INDEX($G:$G,)), ISBLANK(INDEX($C:$C,))), \"\", 'PWS Records (System Entry)'!$D$3)","v":""},null,null,null,null,null,null,null,null,null,null,null,null,null,null,null,null,null,null,""]
[{"$f":"IF(AND(ISBLANK(INDEX($G:$G,)), ISBLANK(INDEX($C:$C,))), \"\", 'PWS Records (System Entry)'!$D$4)","v":""},{"$f":"IF(AND(ISBLANK(INDEX($G:$G,)), ISBLANK(INDEX($C:$C,))), \"\", 'PWS Records (System Entry)'!$D$3)","v":""},null,null,null,null,null,null,null,null,null,null,null,null,null,null,null,null,null,null,""]
[{"$f":"IF(AND(ISBLANK(INDEX($G:$G,)), ISBLANK(INDEX($C:$C,))), \"\", 'PWS Records (System Entry)'!$D$4)","v":""},{"$f":"IF(AND(ISBLANK(INDEX($G:$G,)), ISBLANK(INDEX($C:$C,))), \"\", 'PWS Records (System Entry)'!$D$3)","v":""},null,null,null,null,null,null,null,null,null,null,null,null,null,null,null,null,null,null,""]
[{"$f":"IF(AND(ISBLANK(INDEX($G:$G,)), ISBLANK(INDEX($C:$C,))), \"\", 'PWS Records (System Entry)'!$D$4)","v":""},{"$f":"IF(AND(ISBLANK(INDEX($G:$G,)), ISBLANK(INDEX($C:$C,))), \"\", 'PWS Records (System Entry)'!$D$3)","v":""},null,null,null,null,null,null,null,null,null,null,null,null,null,null,null,null,null,null,""]
[{"$f":"IF(AND(ISBLANK(INDEX($G:$G,)), ISBLANK(INDEX($C:$C,))), \"\", 'PWS Records (System Entry)'!$D$4)","v":""},{"$f":"IF(AND(ISBLANK(INDEX($G:$G,)), ISBLANK(INDEX($C:$C,))), \"\", 'PWS Records (System Entry)'!$D$3)","v":""},null,null,null,null,null,null,null,null,null,null,null,null,null,null,null,null,null,null,""]
[{"$f":"IF(AND(ISBLANK(INDEX($G:$G,)), ISBLANK(INDEX($C:$C,))), \"\", 'PWS Records (System Entry)'!$D$4)","v":""},{"$f":"IF(AND(ISBLANK(INDEX($G:$G,)), ISBLANK(INDEX($C:$C,))), \"\", 'PWS Records (System Entry)'!$D$3)","v":""},null,null,null,null,null,null,null,null,null,null,null,null,null,null,null,null,null,null,""]
[{"$f":"IF(AND(ISBLANK(INDEX($G:$G,)), ISBLANK(INDEX($C:$C,))), \"\", 'PWS Records (System Entry)'!$D$4)","v":""},{"$f":"IF(AND(ISBLANK(INDEX($G:$G,)), ISBLANK(INDEX($C:$C,))), \"\", 'PWS Records (System Entry)'!$D$3)","v":""},null,null,null,null,null,null,null,null,null,null,null,null,null,null,null,null,null,null,""]
[{"$f":"IF(AND(ISBLANK(INDEX($G:$G,)), ISBLANK(INDEX($C:$C,))), \"\", 'PWS Records (System Entry)'!$D$4)","v":""},{"$f":"IF(AND(ISBLANK(INDEX($G:$G,)), ISBLANK(INDEX($C:$C,))), \"\", 'PWS Records (System Entry)'!$D$3)","v":""},null,null,null,null,null,null,null,null,null,null,null,null,null,null,null,null,null,null,""]
[{"$f":"IF(AND(ISBLANK(INDEX($G:$G,)), ISBLANK(INDEX($C:$C,))), \"\", 'PWS Records (System Entry)'!$D$4)","v":""},{"$f":"IF(AND(ISBLANK(INDEX($G:$G,)), ISBLANK(INDEX($C:$C,))), \"\", 'PWS Records (System Entry)'!$D$3)","v":""},null,null,null,null,null,null,null,null,null,null,null,null,null,null,null,null,null,null,""]
[{"$f":"IF(AND(ISBLANK(INDEX($G:$G,)), ISBLANK(INDEX($C:$C,))), \"\", 'PWS Records (System Entry)'!$D$4)","v":""},{"$f":"IF(AND(ISBLANK(INDEX($G:$G,)), ISBLANK(INDEX($C:$C,))), \"\", 'PWS Records (System Entry)'!$D$3)","v":""},null,null,null,null,null,null,null,null,null,null,null,null,null,null,null,null,null,null,""]
[{"$f":"IF(AND(ISBLANK(INDEX($G:$G,)), ISBLANK(INDEX($C:$C,))), \"\", 'PWS Records (System Entry)'!$D$4)","v":""},{"$f":"IF(AND(ISBLANK(INDEX($G:$G,)), ISBLANK(INDEX($C:$C,))), \"\", 'PWS Records (System Entry)'!$D$3)","v":""},null,null,null,null,null,null,null,null,null,null,null,null,null,null,null,null,null,null,""]
[{"$f":"IF(AND(ISBLANK(INDEX($G:$G,)), ISBLANK(INDEX($C:$C,))), \"\", 'PWS Records (System Entry)'!$D$4)","v":""},{"$f":"IF(AND(ISBLANK(INDEX($G:$G,)), ISBLANK(INDEX($C:$C,))), \"\", 'PWS Records (System Entry)'!$D$3)","v":""},null,null,null,null,null,null,null,null,null,null,null,null,null,null,null,null,null,null,""]
[{"$f":"IF(AND(ISBLANK(INDEX($G:$G,)), ISBLANK(INDEX($C:$C,))), \"\", 'PWS Records (System Entry)'!$D$4)","v":""},{"$f":"IF(AND(ISBLANK(INDEX($G:$G,)), ISBLANK(INDEX($C:$C,))), \"\", 'PWS Records (System Entry)'!$D$3)","v":""},null,null,null,null,null,null,null,null,null,null,null,null,null,null,null,null,null,null,""]
[{"$f":"IF(AND(ISBLANK(INDEX($G:$G,)), ISBLANK(INDEX($C:$C,))), \"\", 'PWS Records (System Entry)'!$D$4)","v":""},{"$f":"IF(AND(ISBLANK(INDEX($G:$G,)), ISBLANK(INDEX($C:$C,))), \"\", 'PWS Records (System Entry)'!$D$3)","v":""},null,null,null,null,null,null,null,null,null,null,null,null,null,null,null,null,null,null,""]
[{"$f":"IF(AND(ISBLANK(INDEX($G:$G,)), ISBLANK(INDEX($C:$C,))), \"\", 'PWS Records (System Entry)'!$D$4)","v":""},{"$f":"IF(AND(ISBLANK(INDEX($G:$G,)), ISBLANK(INDEX($C:$C,))), \"\", 'PWS Records (System Entry)'!$D$3)","v":""},null,null,null,null,null,null,null,null,null,null,null,null,null,null,null,null,null,null,""]
[{"$f":"IF(AND(ISBLANK(INDEX($G:$G,)), ISBLANK(INDEX($C:$C,))), \"\", 'PWS Records (System Entry)'!$D$4)","v":""},{"$f":"IF(AND(ISBLANK(INDEX($G:$G,)), ISBLANK(INDEX($C:$C,))), \"\", 'PWS Records (System Entry)'!$D$3)","v":""},null,null,null,null,null,null,null,null,null,null,null,null,null,null,null,null,null,null,""]
[{"$f":"IF(AND(ISBLANK(INDEX($G:$G,)), ISBLANK(INDEX($C:$C,))), \"\", 'PWS Records (System Entry)'!$D$4)","v":""},{"$f":"IF(AND(ISBLANK(INDEX($G:$G,)), ISBLANK(INDEX($C:$C,))), \"\", 'PWS Records (System Entry)'!$D$3)","v":""},null,null,null,null,null,null,null,null,null,null,null,null,null,null,null,null,null,null,""]
[{"$f":"IF(AND(ISBLANK(INDEX($G:$G,)), ISBLANK(INDEX($C:$C,))), \"\", 'PWS Records (System Entry)'!$D$4)","v":""},{"$f":"IF(AND(ISBLANK(INDEX($G:$G,)), ISBLANK(INDEX($C:$C,))), \"\", 'PWS Records (System Entry)'!$D$3)","v":""},null,null,null,null,null,null,null,null,null,null,null,null,null,null,null,null,null,null,""]
[{"$f":"IF(AND(ISBLANK(INDEX($G:$G,)), ISBLANK(INDEX($C:$C,))), \"\", 'PWS Records (System Entry)'!$D$4)","v":""},{"$f":"IF(AND(ISBLANK(INDEX($G:$G,)), ISBLANK(INDEX($C:$C,))), \"\", 'PWS Records (System Entry)'!$D$3)","v":""},null,null,null,null,null,null,null,null,null,null,null,null,null,null,null,null,null,null,""]
[{"$f":"IF(AND(ISBLANK(INDEX($G:$G,)), ISBLANK(INDEX($C:$C,))), \"\", 'PWS Records (System Entry)'!$D$4)","v":""},{"$f":"IF(AND(ISBLANK(INDEX($G:$G,)), ISBLANK(INDEX($C:$C,))), \"\", 'PWS Records (System Entry)'!$D$3)","v":""},null,null,null,null,null,null,null,null,null,null,null,null,null,null,null,null,null,null,""]
[{"$f":"IF(AND(ISBLANK(INDEX($G:$G,)), ISBLANK(INDEX($C:$C,))), \"\", 'PWS Records (System Entry)'!$D$4)","v":""},{"$f":"IF(AND(ISBLANK(INDEX($G:$G,)), ISBLANK(INDEX($C:$C,))), \"\", 'PWS Records (System Entry)'!$D$3)","v":""},null,null,null,null,null,null,null,null,null,null,null,null,null,null,null,null,null,null,""]
[{"$f":"IF(AND(ISBLANK(INDEX($G:$G,)), ISBLANK(INDEX($C:$C,))), \"\", 'PWS Records (System Entry)'!$D$4)","v":""},{"$f":"IF(AND(ISBLANK(INDEX($G:$G,)), ISBLANK(INDEX($C:$C,))), \"\", 'PWS Records (System Entry)'!$D$3)","v":""},null,null,null,null,null,null,null,null,null,null,null,null,null,null,null,null,null,null,""]
[{"$f":"IF(AND(ISBLANK(INDEX($G:$G,)), ISBLANK(INDEX($C:$C,))), \"\", 'PWS Records (System Entry)'!$D$4)","v":""},{"$f":"IF(AND(ISBLANK(INDEX($G:$G,)), ISBLANK(INDEX($C:$C,))), \"\", 'PWS Records (System Entry)'!$D$3)","v":""},null,null,null,null,null,null,null,null,null,null,null,null,null,null,null,null,null,null,""]
[{"$f":"IF(AND(ISBLANK(INDEX($G:$G,)), ISBLANK(INDEX($C:$C,))), \"\", 'PWS Records (System Entry)'!$D$4)","v":""},{"$f":"IF(AND(ISBLANK(INDEX($G:$G,)), ISBLANK(INDEX($C:$C,))), \"\", 'PWS Records (System Entry)'!$D$3)","v":""},null,null,null,null,null,null,null,null,null,null,null,null,null,null,null,null,null,null,""]
[{"$f":"IF(AND(ISBLANK(INDEX($G:$G,)), ISBLANK(INDEX($C:$C,))), \"\", 'PWS Records (System Entry)'!$D$4)","v":""},{"$f":"IF(AND(ISBLANK(INDEX($G:$G,)), ISBLANK(INDEX($C:$C,))), \"\", 'PWS Records (System Entry)'!$D$3)","v":""},null,null,null,null,null,null,null,null,null,null,null,null,null,null,null,null,null,null,""]
[{"$f":"IF(AND(ISBLANK(INDEX($G:$G,)), ISBLANK(INDEX($C:$C,))), \"\", 'PWS Records (System Entry)'!$D$4)","v":""},{"$f":"IF(AND(ISBLANK(INDEX($G:$G,)), ISBLANK(INDEX($C:$C,))), \"\", 'PWS Records (System Entry)'!$D$3)","v":""},null,null,null,null,null,null,null,null,null,null,null,null,null,null,null,null,null,null,""]
[{"$f":"IF(AND(ISBLANK(INDEX($G:$G,)), ISBLANK(INDEX($C:$C,))), \"\", 'PWS Records (System Entry)'!$D$4)","v":""},{"$f":"IF(AND(ISBLANK(INDEX($G:$G,)), ISBLANK(INDEX($C:$C,))), \"\", 'PWS Records (System Entry)'!$D$3)","v":""},null,null,null,null,null,null,null,null,null,null,null,null,null,null,null,null,null,null,{"$f":"IF(AND(INDEX($K:$K,)=\"\", INDEX($L:$L,)=\"\", INDEX($M:$M,)=\"\", INDEX($Q:$Q,)=\"\", INDEX($R:$R,)=\"\"), \"\", IF(OR(INDEX($K:$K,)=\"Lead\",INDEX($Q:$Q,)=\"Lead\"),\"Lead\",IF(OR(AND(OR(INDEX($M:$M,)=\"Yes\", INDEX($M:$M,)=\"Don't Know\", INDEX($M:$M,)=\"\"), INDEX($Q:$Q,)=\"Galvanized Iron/Steel\"), AND(INDEX($K:$K,)=\"Unknown\", INDEX($M:$M,)=\"No\", INDEX($Q:$Q,)=\"Galvanized Iron/Steel\")), \"Galvanized Requiring Replacement\", IF(OR(AND(OR(INDEX($K:$K,)=\"Galvanized Iron/Steel\", INDEX($K:$K,)=\"Non-Lead - Copper\", INDEX($K:$K,)=\"Non-Lead - Plastic\", INDEX($K:$K,)=\"Non-Lead - Other\", INDEX($K:$K,)=\"Non-Lead - Material Unknown\", INDEX($K:$K,)=\"No System Owned Portion\"), OR(INDEX($Q:$Q,)=\"Galvanized Iron/Steel\", INDEX($Q:$Q,)=\"Non-Lead - Copper\", INDEX($Q:$Q,)=\"Non-Lead - Plastic\", INDEX($Q:$Q,)=\"Non-Lead - Other\", INDEX($Q:$Q,)=\"Non-Lead - Predictive Model\", INDEX($Q:$Q,)=\"No Customer Owned Portion\")), AND(OR( INDEX($K:$K,)=\"Galvanized Iron/Steel\", INDEX($K:$K,)=\"Non-Lead - Copper\", INDEX($K:$K,)=\"Non-Lead - Plastic\", INDEX($K:$K,)=\"Non-Lead - Other\", INDEX($K:$K,)=\"Non-Lead - Material Unknown\", INDEX($K:$K,)=\"No System Owned Portion\"), INDEX($M:$M,)=\"No\", INDEX($Q:$Q,)=\"Non-Lead - Material Unknown\")), \"Non-Lead\", \"Lead Status Unknown\"))))","v":""}]
[{"$f":"IF(AND(ISBLANK(INDEX($G:$G,)), ISBLANK(INDEX($C:$C,))), \"\", 'PWS Records (System Entry)'!$D$4)","v":""},{"$f":"IF(AND(ISBLANK(INDEX($G:$G,)), ISBLANK(INDEX($C:$C,))), \"\", 'PWS Records (System Entry)'!$D$3)","v":""},null,null,null,null,null,null,null,null,null,null,null,null,null,null,null,null,null,null,""]
[{"$f":"IF(AND(ISBLANK(INDEX($G:$G,)), ISBLANK(INDEX($C:$C,))), \"\", 'PWS Records (System Entry)'!$D$4)","v":""},{"$f":"IF(AND(ISBLANK(INDEX($G:$G,)), ISBLANK(INDEX($C:$C,))), \"\", 'PWS Records (System Entry)'!$D$3)","v":""},null,null,null,null,null,null,null,null,null,null,null,null,null,null,null,null,null,null,""]
[{"$f":"IF(AND(ISBLANK(INDEX($G:$G,)), ISBLANK(INDEX($C:$C,))), \"\", 'PWS Records (System Entry)'!$D$4)","v":""},{"$f":"IF(AND(ISBLANK(INDEX($G:$G,)), ISBLANK(INDEX($C:$C,))), \"\", 'PWS Records (System Entry)'!$D$3)","v":""},null,null,null,null,null,null,null,null,null,null,null,null,null,null,null,null,null,null,""]
[{"$f":"IF(AND(ISBLANK(INDEX($G:$G,)), ISBLANK(INDEX($C:$C,))), \"\", 'PWS Records (System Entry)'!$D$4)","v":""},{"$f":"IF(AND(ISBLANK(INDEX($G:$G,)), ISBLANK(INDEX($C:$C,))), \"\", 'PWS Records (System Entry)'!$D$3)","v":""},null,null,null,null,null,null,null,null,null,null,null,null,null,null,null,null,null,null,""]
[{"$f":"IF(AND(ISBLANK(INDEX($G:$G,)), ISBLANK(INDEX($C:$C,))), \"\", 'PWS Records (System Entry)'!$D$4)","v":""},{"$f":"IF(AND(ISBLANK(INDEX($G:$G,)), ISBLANK(INDEX($C:$C,))), \"\", 'PWS Records (System Entry)'!$D$3)","v":""},null,null,null,null,null,null,null,null,null,null,null,null,null,null,null,null,null,null,""]
[{"$f":"IF(AND(ISBLANK(INDEX($G:$G,)), ISBLANK(INDEX($C:$C,))), \"\", 'PWS Records (System Entry)'!$D$4)","v":""},{"$f":"IF(AND(ISBLANK(INDEX($G:$G,)), ISBLANK(INDEX($C:$C,))), \"\", 'PWS Records (System Entry)'!$D$3)","v":""},null,null,null,null,null,null,null,null,null,null,null,null,null,null,null,null,null,null,""]
[{"$f":"IF(AND(ISBLANK(INDEX($G:$G,)), ISBLANK(INDEX($C:$C,))), \"\", 'PWS Records (System Entry)'!$D$4)","v":""},{"$f":"IF(AND(ISBLANK(INDEX($G:$G,)), ISBLANK(INDEX($C:$C,))), \"\", 'PWS Records (System Entry)'!$D$3)","v":""},null,null,null,null,null,null,null,null,null,null,null,null,null,null,null,null,null,null,""]
[{"$f":"IF(AND(ISBLANK(INDEX($G:$G,)), ISBLANK(INDEX($C:$C,))), \"\", 'PWS Records (System Entry)'!$D$4)","v":""},{"$f":"IF(AND(ISBLANK(INDEX($G:$G,)), ISBLANK(INDEX($C:$C,))), \"\", 'PWS Records (System Entry)'!$D$3)","v":""},null,null,null,null,null,null,null,null,null,null,null,null,null,null,null,null,null,null,""]
[{"$f":"IF(AND(ISBLANK(INDEX($G:$G,)), ISBLANK(INDEX($C:$C,))), \"\", 'PWS Records (System Entry)'!$D$4)","v":""},{"$f":"IF(AND(ISBLANK(INDEX($G:$G,)), ISBLANK(INDEX($C:$C,))), \"\", 'PWS Records (System Entry)'!$D$3)","v":""},null,null,null,null,null,null,null,null,null,null,null,null,null,null,null,null,null,null,""]
[{"$f":"IF(AND(ISBLANK(INDEX($G:$G,)), ISBLANK(INDEX($C:$C,))), \"\", 'PWS Records (System Entry)'!$D$4)","v":""},{"$f":"IF(AND(ISBLANK(INDEX($G:$G,)), ISBLANK(INDEX($C:$C,))), \"\", 'PWS Records (System Entry)'!$D$3)","v":""},null,null,null,null,null,null,null,null,null,null,null,null,null,null,null,null,null,null,""]
[{"$f":"IF(AND(ISBLANK(INDEX($G:$G,)), ISBLANK(INDEX($C:$C,))), \"\", 'PWS Records (System Entry)'!$D$4)","v":""},{"$f":"IF(AND(ISBLANK(INDEX($G:$G,)), ISBLANK(INDEX($C:$C,))), \"\", 'PWS Records (System Entry)'!$D$3)","v":""},null,null,null,null,null,null,null,null,null,null,null,null,null,null,null,null,null,null,""]
[{"$f":"IF(AND(ISBLANK(INDEX($G:$G,)), ISBLANK(INDEX($C:$C,))), \"\", 'PWS Records (System Entry)'!$D$4)","v":""},{"$f":"IF(AND(ISBLANK(INDEX($G:$G,)), ISBLANK(INDEX($C:$C,))), \"\", 'PWS Records (System Entry)'!$D$3)","v":""},null,null,null,null,null,null,null,null,null,null,null,null,null,null,null,null,null,null,""]
[{"$f":"IF(AND(ISBLANK(INDEX($G:$G,)), ISBLANK(INDEX($C:$C,))), \"\", 'PWS Records (System Entry)'!$D$4)","v":""},{"$f":"IF(AND(ISBLANK(INDEX($G:$G,)), ISBLANK(INDEX($C:$C,))), \"\", 'PWS Records (System Entry)'!$D$3)","v":""},null,null,null,null,null,null,null,null,null,null,null,null,null,null,null,null,null,null,""]
[{"$f":"IF(AND(ISBLANK(INDEX($G:$G,)), ISBLANK(INDEX($C:$C,))), \"\", 'PWS Records (System Entry)'!$D$4)","v":""},{"$f":"IF(AND(ISBLANK(INDEX($G:$G,)), ISBLANK(INDEX($C:$C,))), \"\", 'PWS Records (System Entry)'!$D$3)","v":""},null,null,null,null,null,null,null,null,null,null,null,null,null,null,null,null,null,null,""]
[{"$f":"IF(AND(ISBLANK(INDEX($G:$G,)), ISBLANK(INDEX($C:$C,))), \"\", 'PWS Records (System Entry)'!$D$4)","v":""},{"$f":"IF(AND(ISBLANK(INDEX($G:$G,)), ISBLANK(INDEX($C:$C,))), \"\", 'PWS Records (System Entry)'!$D$3)","v":""},null,null,null,null,null,null,null,null,null,null,null,null,null,null,null,null,null,null,""]
[{"$f":"IF(AND(ISBLANK(INDEX($G:$G,)), ISBLANK(INDEX($C:$C,))), \"\", 'PWS Records (System Entry)'!$D$4)","v":""},{"$f":"IF(AND(ISBLANK(INDEX($G:$G,)), ISBLANK(INDEX($C:$C,))), \"\", 'PWS Records (System Entry)'!$D$3)","v":""},null,null,null,null,null,null,null,null,null,null,null,null,null,null,null,null,null,null,""]
[{"$f":"IF(AND(ISBLANK(INDEX($G:$G,)), ISBLANK(INDEX($C:$C,))), \"\", 'PWS Records (System Entry)'!$D$4)","v":""},{"$f":"IF(AND(ISBLANK(INDEX($G:$G,)), ISBLANK(INDEX($C:$C,))), \"\", 'PWS Records (System Entry)'!$D$3)","v":""},null,null,null,null,null,null,null,null,null,null,null,null,null,null,null,null,null,null,""]
[{"$f":"IF(AND(ISBLANK(INDEX($G:$G,)), ISBLANK(INDEX($C:$C,))), \"\", 'PWS Records (System Entry)'!$D$4)","v":""},{"$f":"IF(AND(ISBLANK(INDEX($G:$G,)), ISBLANK(INDEX($C:$C,))), \"\", 'PWS Records (System Entry)'!$D$3)","v":""},null,null,null,null,null,null,null,null,null,null,null,null,null,null,null,null,null,null,""]
[{"$f":"IF(AND(ISBLANK(INDEX($G:$G,)), ISBLANK(INDEX($C:$C,))), \"\", 'PWS Records (System Entry)'!$D$4)","v":""},{"$f":"IF(AND(ISBLANK(INDEX($G:$G,)), ISBLANK(INDEX($C:$C,))), \"\", 'PWS Records (System Entry)'!$D$3)","v":""},null,null,null,null,null,null,null,null,null,null,null,null,null,null,null,null,null,null,""]
[{"$f":"IF(AND(ISBLANK(INDEX($G:$G,)), ISBLANK(INDEX($C:$C,))), \"\", 'PWS Records (System Entry)'!$D$4)","v":""},{"$f":"IF(AND(ISBLANK(INDEX($G:$G,)), ISBLANK(INDEX($C:$C,))), \"\", 'PWS Records (System Entry)'!$D$3)","v":""},null,null,null,null,null,null,null,null,null,null,null,null,null,null,null,null,null,null,""]
[{"$f":"IF(AND(ISBLANK(INDEX($G:$G,)), ISBLANK(INDEX($C:$C,))), \"\", 'PWS Records (System Entry)'!$D$4)","v":""},{"$f":"IF(AND(ISBLANK(INDEX($G:$G,)), ISBLANK(INDEX($C:$C,))), \"\", 'PWS Records (System Entry)'!$D$3)","v":""},null,null,null,null,null,null,null,null,null,null,null,null,null,null,null,null,null,null,""]
[{"$f":"IF(AND(ISBLANK(INDEX($G:$G,)), ISBLANK(INDEX($C:$C,))), \"\", 'PWS Records (System Entry)'!$D$4)","v":""},{"$f":"IF(AND(ISBLANK(INDEX($G:$G,)), ISBLANK(INDEX($C:$C,))), \"\", 'PWS Records (System Entry)'!$D$3)","v":""},null,null,null,null,null,null,null,null,null,null,null,null,null,null,null,null,null,null,""]
[{"$f":"IF(AND(ISBLANK(INDEX($G:$G,)), ISBLANK(INDEX($C:$C,))), \"\", 'PWS Records (System Entry)'!$D$4)","v":""},{"$f":"IF(AND(ISBLANK(INDEX($G:$G,)), ISBLANK(INDEX($C:$C,))), \"\", 'PWS Records (System Entry)'!$D$3)","v":""},null,null,null,null,null,null,null,null,null,null,null,null,null,null,null,null,null,null,""]
[{"$f":"IF(AND(ISBLANK(INDEX($G:$G,)), ISBLANK(INDEX($C:$C,))), \"\", 'PWS Records (System Entry)'!$D$4)","v":""},{"$f":"IF(AND(ISBLANK(INDEX($G:$G,)), ISBLANK(INDEX($C:$C,))), \"\", 'PWS Records (System Entry)'!$D$3)","v":""},null,null,null,null,null,null,null,null,null,null,null,null,null,null,null,null,null,null,""]
[{"$f":"IF(AND(ISBLANK(INDEX($G:$G,)), ISBLANK(INDEX($C:$C,))), \"\", 'PWS Records (System Entry)'!$D$4)","v":""},{"$f":"IF(AND(ISBLANK(INDEX($G:$G,)), ISBLANK(INDEX($C:$C,))), \"\", 'PWS Records (System Entry)'!$D$3)","v":""},null,null,null,null,null,null,null,null,null,null,null,null,null,null,null,null,null,null,""]
[{"$f":"IF(AND(ISBLANK(INDEX($G:$G,)), ISBLANK(INDEX($C:$C,))), \"\", 'PWS Records (System Entry)'!$D$4)","v":""},{"$f":"IF(AND(ISBLANK(INDEX($G:$G,)), ISBLANK(INDEX($C:$C,))), \"\", 'PWS Records (System Entry)'!$D$3)","v":""},null,null,null,null,null,null,null,null,null,null,null,null,null,null,null,null,null,null,""]
[{"$f":"IF(AND(ISBLANK(INDEX($G:$G,)), ISBLANK(INDEX($C:$C,))), \"\", 'PWS Records (System Entry)'!$D$4)","v":""},{"$f":"IF(AND(ISBLANK(INDEX($G:$G,)), ISBLANK(INDEX($C:$C,))), \"\", 'PWS Records (System Entry)'!$D$3)","v":""},null,null,null,null,null,null,null,null,null,null,null,null,null,null,null,null,null,null,""]
[{"$f":"IF(AND(ISBLANK(INDEX($G:$G,)), ISBLANK(INDEX($C:$C,))), \"\", 'PWS Records (System Entry)'!$D$4)","v":""},{"$f":"IF(AND(ISBLANK(INDEX($G:$G,)), ISBLANK(INDEX($C:$C,))), \"\", 'PWS Records (System Entry)'!$D$3)","v":""},null,null,null,null,null,null,null,null,null,null,null,null,null,null,null,null,null,null,""]
[{"$f":"IF(AND(ISBLANK(INDEX($G:$G,)), ISBLANK(INDEX($C:$C,))), \"\", 'PWS Records (System Entry)'!$D$4)","v":""},{"$f":"IF(AND(ISBLANK(INDEX($G:$G,)), ISBLANK(INDEX($C:$C,))), \"\", 'PWS Records (System Entry)'!$D$3)","v":""},null,null,null,null,null,null,null,null,null,null,null,null,null,null,null,null,null,null,""]
[{"$f":"IF(AND(ISBLANK(INDEX($G:$G,)), ISBLANK(INDEX($C:$C,))), \"\", 'PWS Records (System Entry)'!$D$4)","v":""},{"$f":"IF(AND(ISBLANK(INDEX($G:$G,)), ISBLANK(INDEX($C:$C,))), \"\", 'PWS Records (System Entry)'!$D$3)","v":""},null,null,null,null,null,null,null,null,null,null,null,null,null,null,null,null,null,null,""]
[{"$f":"IF(AND(ISBLANK(INDEX($G:$G,)), ISBLANK(INDEX($C:$C,))), \"\", 'PWS Records (System Entry)'!$D$4)","v":""},{"$f":"IF(AND(ISBLANK(INDEX($G:$G,)), ISBLANK(INDEX($C:$C,))), \"\", 'PWS Records (System Entry)'!$D$3)","v":""},null,null,null,null,null,null,null,null,null,null,null,null,null,null,null,null,null,null,""]
[{"$f":"IF(AND(ISBLANK(INDEX($G:$G,)), ISBLANK(INDEX($C:$C,))), \"\", 'PWS Records (System Entry)'!$D$4)","v":""},{"$f":"IF(AND(ISBLANK(INDEX($G:$G,)), ISBLANK(INDEX($C:$C,))), \"\", 'PWS Records (System Entry)'!$D$3)","v":""},null,null,null,null,null,null,null,null,null,null,null,null,null,null,null,null,null,null,""]
[{"$f":"IF(AND(ISBLANK(INDEX($G:$G,)), ISBLANK(INDEX($C:$C,))), \"\", 'PWS Records (System Entry)'!$D$4)","v":""},{"$f":"IF(AND(ISBLANK(INDEX($G:$G,)), ISBLANK(INDEX($C:$C,))), \"\", 'PWS Records (System Entry)'!$D$3)","v":""},null,null,null,null,null,null,null,null,null,null,null,null,null,null,null,null,null,null,""]
[{"$f":"IF(AND(ISBLANK(INDEX($G:$G,)), ISBLANK(INDEX($C:$C,))), \"\", 'PWS Records (System Entry)'!$D$4)","v":""},{"$f":"IF(AND(ISBLANK(INDEX($G:$G,)), ISBLANK(INDEX($C:$C,))), \"\", 'PWS Records (System Entry)'!$D$3)","v":""},null,null,null,null,null,null,null,null,null,null,null,null,null,null,null,null,null,null,""]
[{"$f":"IF(AND(ISBLANK(INDEX($G:$G,)), ISBLANK(INDEX($C:$C,))), \"\", 'PWS Records (System Entry)'!$D$4)","v":""},{"$f":"IF(AND(ISBLANK(INDEX($G:$G,)), ISBLANK(INDEX($C:$C,))), \"\", 'PWS Records (System Entry)'!$D$3)","v":""},null,null,null,null,null,null,null,null,null,null,null,null,null,null,null,null,null,null,""]
[{"$f":"IF(AND(ISBLANK(INDEX($G:$G,)), ISBLANK(INDEX($C:$C,))), \"\", 'PWS Records (System Entry)'!$D$4)","v":""},{"$f":"IF(AND(ISBLANK(INDEX($G:$G,)), ISBLANK(INDEX($C:$C,))), \"\", 'PWS Records (System Entry)'!$D$3)","v":""},null,null,null,null,null,null,null,null,null,null,null,null,null,null,null,null,null,null,""]
[{"$f":"IF(AND(ISBLANK(INDEX($G:$G,)), ISBLANK(INDEX($C:$C,))), \"\", 'PWS Records (System Entry)'!$D$4)","v":""},{"$f":"IF(AND(ISBLANK(INDEX($G:$G,)), ISBLANK(INDEX($C:$C,))), \"\", 'PWS Records (System Entry)'!$D$3)","v":""},null,null,null,null,null,null,null,null,null,null,null,null,null,null,null,null,null,null,""]
[{"$f":"IF(AND(ISBLANK(INDEX($G:$G,)), ISBLANK(INDEX($C:$C,))), \"\", 'PWS Records (System Entry)'!$D$4)","v":""},{"$f":"IF(AND(ISBLANK(INDEX($G:$G,)), ISBLANK(INDEX($C:$C,))), \"\", 'PWS Records (System Entry)'!$D$3)","v":""},null,null,null,null,null,null,null,null,null,null,null,null,null,null,null,null,null,null,""]
[{"$f":"IF(AND(ISBLANK(INDEX($G:$G,)), ISBLANK(INDEX($C:$C,))), \"\", 'PWS Records (System Entry)'!$D$4)","v":""},{"$f":"IF(AND(ISBLANK(INDEX($G:$G,)), ISBLANK(INDEX($C:$C,))), \"\", 'PWS Records (System Entry)'!$D$3)","v":""},null,null,null,null,null,null,null,null,null,null,null,null,null,null,null,null,null,null,""]
[{"$f":"IF(AND(ISBLANK(INDEX($G:$G,)), ISBLANK(INDEX($C:$C,))), \"\", 'PWS Records (System Entry)'!$D$4)","v":""},{"$f":"IF(AND(ISBLANK(INDEX($G:$G,)), ISBLANK(INDEX($C:$C,))), \"\", 'PWS Records (System Entry)'!$D$3)","v":""},null,null,null,null,null,null,null,null,null,null,null,null,null,null,null,null,null,null,""]
[{"$f":"IF(AND(ISBLANK(INDEX($G:$G,)), ISBLANK(INDEX($C:$C,))), \"\", 'PWS Records (System Entry)'!$D$4)","v":""},{"$f":"IF(AND(ISBLANK(INDEX($G:$G,)), ISBLANK(INDEX($C:$C,))), \"\", 'PWS Records (System Entry)'!$D$3)","v":""},null,null,null,null,null,null,null,null,null,null,null,null,null,null,null,null,null,null,""]
[{"$f":"IF(AND(ISBLANK(INDEX($G:$G,)), ISBLANK(INDEX($C:$C,))), \"\", 'PWS Records (System Entry)'!$D$4)","v":""},{"$f":"IF(AND(ISBLANK(INDEX($G:$G,)), ISBLANK(INDEX($C:$C,))), \"\", 'PWS Records (System Entry)'!$D$3)","v":""},null,null,null,null,null,null,null,null,null,null,null,null,null,null,null,null,null,null,""]
[{"$f":"IF(AND(ISBLANK(INDEX($G:$G,)), ISBLANK(INDEX($C:$C,))), \"\", 'PWS Records (System Entry)'!$D$4)","v":""},{"$f":"IF(AND(ISBLANK(INDEX($G:$G,)), ISBLANK(INDEX($C:$C,))), \"\", 'PWS Records (System Entry)'!$D$3)","v":""},null,null,null,null,null,null,null,null,null,null,null,null,null,null,null,null,null,null,""]
[{"$f":"IF(AND(ISBLANK(INDEX($G:$G,)), ISBLANK(INDEX($C:$C,))), \"\", 'PWS Records (System Entry)'!$D$4)","v":""},{"$f":"IF(AND(ISBLANK(INDEX($G:$G,)), ISBLANK(INDEX($C:$C,))), \"\", 'PWS Records (System Entry)'!$D$3)","v":""},null,null,null,null,null,null,null,null,null,null,null,null,null,null,null,null,null,null,""]
[{"$f":"IF(AND(ISBLANK(INDEX($G:$G,)), ISBLANK(INDEX($C:$C,))), \"\", 'PWS Records (System Entry)'!$D$4)","v":""},{"$f":"IF(AND(ISBLANK(INDEX($G:$G,)), ISBLANK(INDEX($C:$C,))), \"\", 'PWS Records (System Entry)'!$D$3)","v":""},null,null,null,null,null,null,null,null,null,null,null,null,null,null,null,null,null,null,""]
[{"$f":"IF(AND(ISBLANK(INDEX($G:$G,)), ISBLANK(INDEX($C:$C,))), \"\", 'PWS Records (System Entry)'!$D$4)","v":""},{"$f":"IF(AND(ISBLANK(INDEX($G:$G,)), ISBLANK(INDEX($C:$C,))), \"\", 'PWS Records (System Entry)'!$D$3)","v":""},null,null,null,null,null,null,null,null,null,null,null,null,null,null,null,null,null,null,""]
[{"$f":"IF(AND(ISBLANK(INDEX($G:$G,)), ISBLANK(INDEX($C:$C,))), \"\", 'PWS Records (System Entry)'!$D$4)","v":""},{"$f":"IF(AND(ISBLANK(INDEX($G:$G,)), ISBLANK(INDEX($C:$C,))), \"\", 'PWS Records (System Entry)'!$D$3)","v":""},null,null,null,null,null,null,null,null,null,null,null,null,null,null,null,null,null,null,""]
[{"$f":"IF(AND(ISBLANK(INDEX($G:$G,)), ISBLANK(INDEX($C:$C,))), \"\", 'PWS Records (System Entry)'!$D$4)","v":""},{"$f":"IF(AND(ISBLANK(INDEX($G:$G,)), ISBLANK(INDEX($C:$C,))), \"\", 'PWS Records (System Entry)'!$D$3)","v":""},null,null,null,null,null,null,null,null,null,null,null,null,null,null,null,null,null,null,""]
[{"$f":"IF(AND(ISBLANK(INDEX($G:$G,)), ISBLANK(INDEX($C:$C,))), \"\", 'PWS Records (System Entry)'!$D$4)","v":""},{"$f":"IF(AND(ISBLANK(INDEX($G:$G,)), ISBLANK(INDEX($C:$C,))), \"\", 'PWS Records (System Entry)'!$D$3)","v":""},null,null,null,null,null,null,null,null,null,null,null,null,null,null,null,null,null,null,""]
[{"$f":"IF(AND(ISBLANK(INDEX($G:$G,)), ISBLANK(INDEX($C:$C,))), \"\", 'PWS Records (System Entry)'!$D$4)","v":""},{"$f":"IF(AND(ISBLANK(INDEX($G:$G,)), ISBLANK(INDEX($C:$C,))), \"\", 'PWS Records (System Entry)'!$D$3)","v":""},null,null,null,null,null,null,null,null,null,null,null,null,null,null,null,null,null,null,""]
[{"$f":"IF(AND(ISBLANK(INDEX($G:$G,)), ISBLANK(INDEX($C:$C,))), \"\", 'PWS Records (System Entry)'!$D$4)","v":""},{"$f":"IF(AND(ISBLANK(INDEX($G:$G,)), ISBLANK(INDEX($C:$C,))), \"\", 'PWS Records (System Entry)'!$D$3)","v":""},null,null,null,null,null,null,null,null,null,null,null,null,null,null,null,null,null,null,""]
[{"$f":"IF(AND(ISBLANK(INDEX($G:$G,)), ISBLANK(INDEX($C:$C,))), \"\", 'PWS Records (System Entry)'!$D$4)","v":""},{"$f":"IF(AND(ISBLANK(INDEX($G:$G,)), ISBLANK(INDEX($C:$C,))), \"\", 'PWS Records (System Entry)'!$D$3)","v":""},null,null,null,null,null,null,null,null,null,null,null,null,null,null,null,null,null,null,""]
[{"$f":"IF(AND(ISBLANK(INDEX($G:$G,)), ISBLANK(INDEX($C:$C,))), \"\", 'PWS Records (System Entry)'!$D$4)","v":""},{"$f":"IF(AND(ISBLANK(INDEX($G:$G,)), ISBLANK(INDEX($C:$C,))), \"\", 'PWS Records (System Entry)'!$D$3)","v":""},null,null,null,null,null,null,null,null,null,null,null,null,null,null,null,null,null,null,""]
[{"$f":"IF(AND(ISBLANK(INDEX($G:$G,)), ISBLANK(INDEX($C:$C,))), \"\", 'PWS Records (System Entry)'!$D$4)","v":""},{"$f":"IF(AND(ISBLANK(INDEX($G:$G,)), ISBLANK(INDEX($C:$C,))), \"\", 'PWS Records (System Entry)'!$D$3)","v":""},null,null,null,null,null,null,null,null,null,null,null,null,null,null,null,null,null,null,""]
[{"$f":"IF(AND(ISBLANK(INDEX($G:$G,)), ISBLANK(INDEX($C:$C,))), \"\", 'PWS Records (System Entry)'!$D$4)","v":""},{"$f":"IF(AND(ISBLANK(INDEX($G:$G,)), ISBLANK(INDEX($C:$C,))), \"\", 'PWS Records (System Entry)'!$D$3)","v":""},null,null,null,null,null,null,null,null,null,null,null,null,null,null,null,null,null,null,""]
[{"$f":"IF(AND(ISBLANK(INDEX($G:$G,)), ISBLANK(INDEX($C:$C,))), \"\", 'PWS Records (System Entry)'!$D$4)","v":""},{"$f":"IF(AND(ISBLANK(INDEX($G:$G,)), ISBLANK(INDEX($C:$C,))), \"\", 'PWS Records (System Entry)'!$D$3)","v":""},null,null,null,null,null,null,null,null,null,null,null,null,null,null,null,null,null,null,""]
[{"$f":"IF(AND(ISBLANK(INDEX($G:$G,)), ISBLANK(INDEX($C:$C,))), \"\", 'PWS Records (System Entry)'!$D$4)","v":""},{"$f":"IF(AND(ISBLANK(INDEX($G:$G,)), ISBLANK(INDEX($C:$C,))), \"\", 'PWS Records (System Entry)'!$D$3)","v":""},null,null,null,null,null,null,null,null,null,null,null,null,null,null,null,null,null,null,""]
[{"$f":"IF(AND(ISBLANK(INDEX($G:$G,)), ISBLANK(INDEX($C:$C,))), \"\", 'PWS Records (System Entry)'!$D$4)","v":""},{"$f":"IF(AND(ISBLANK(INDEX($G:$G,)), ISBLANK(INDEX($C:$C,))), \"\", 'PWS Records (System Entry)'!$D$3)","v":""},null,null,null,null,null,null,null,null,null,null,null,null,null,null,null,null,null,null,""]
[{"$f":"IF(AND(ISBLANK(INDEX($G:$G,)), ISBLANK(INDEX($C:$C,))), \"\", 'PWS Records (System Entry)'!$D$4)","v":""},{"$f":"IF(AND(ISBLANK(INDEX($G:$G,)), ISBLANK(INDEX($C:$C,))), \"\", 'PWS Records (System Entry)'!$D$3)","v":""},null,null,null,null,null,null,null,null,null,null,null,null,null,null,null,null,null,null,""]
[{"$f":"IF(AND(ISBLANK(INDEX($G:$G,)), ISBLANK(INDEX($C:$C,))), \"\", 'PWS Records (System Entry)'!$D$4)","v":""},{"$f":"IF(AND(ISBLANK(INDEX($G:$G,)), ISBLANK(INDEX($C:$C,))), \"\", 'PWS Records (System Entry)'!$D$3)","v":""},null,null,null,null,null,null,null,null,null,null,null,null,null,null,null,null,null,null,""]
[{"$f":"IF(AND(ISBLANK(INDEX($G:$G,)), ISBLANK(INDEX($C:$C,))), \"\", 'PWS Records (System Entry)'!$D$4)","v":""},{"$f":"IF(AND(ISBLANK(INDEX($G:$G,)), ISBLANK(INDEX($C:$C,))), \"\", 'PWS Records (System Entry)'!$D$3)","v":""},null,null,null,null,null,null,null,null,null,null,null,null,null,null,null,null,null,null,""]
[{"$f":"IF(AND(ISBLANK(INDEX($G:$G,)), ISBLANK(INDEX($C:$C,))), \"\", 'PWS Records (System Entry)'!$D$4)","v":""},{"$f":"IF(AND(ISBLANK(INDEX($G:$G,)), ISBLANK(INDEX($C:$C,))), \"\", 'PWS Records (System Entry)'!$D$3)","v":""},null,null,null,null,null,null,null,null,null,null,null,null,null,null,null,null,null,null,""]
[{"$f":"IF(AND(ISBLANK(INDEX($G:$G,)), ISBLANK(INDEX($C:$C,))), \"\", 'PWS Records (System Entry)'!$D$4)","v":""},{"$f":"IF(AND(ISBLANK(INDEX($G:$G,)), ISBLANK(INDEX($C:$C,))), \"\", 'PWS Records (System Entry)'!$D$3)","v":""},null,null,null,null,null,null,null,null,null,null,null,null,null,null,null,null,null,null,""]
[{"$f":"IF(AND(ISBLANK(INDEX($G:$G,)), ISBLANK(INDEX($C:$C,))), \"\", 'PWS Records (System Entry)'!$D$4)","v":""},{"$f":"IF(AND(ISBLANK(INDEX($G:$G,)), ISBLANK(INDEX($C:$C,))), \"\", 'PWS Records (System Entry)'!$D$3)","v":""},null,null,null,null,null,null,null,null,null,null,null,null,null,null,null,null,null,null,{"$f":"IF(AND(INDEX($K:$K,)=\"\", INDEX($L:$L,)=\"\", INDEX($M:$M,)=\"\", INDEX($Q:$Q,)=\"\", INDEX($R:$R,)=\"\"), \"\", IF(OR(INDEX($K:$K,)=\"Lead\",INDEX($Q:$Q,)=\"Lead\"),\"Lead\",IF(OR(AND(OR(INDEX($M:$M,)=\"Yes\", INDEX($M:$M,)=\"Don't Know\", INDEX($M:$M,)=\"\"), INDEX($Q:$Q,)=\"Galvanized Iron/Steel\"), AND(INDEX($K:$K,)=\"Unknown\", INDEX($M:$M,)=\"No\", INDEX($Q:$Q,)=\"Galvanized Iron/Steel\")), \"Galvanized Requiring Replacement\", IF(OR(AND(OR(INDEX($K:$K,)=\"Galvanized Iron/Steel\", INDEX($K:$K,)=\"Non-Lead - Copper\", INDEX($K:$K,)=\"Non-Lead - Plastic\", INDEX($K:$K,)=\"Non-Lead - Other\", INDEX($K:$K,)=\"Non-Lead - Material Unknown\", INDEX($K:$K,)=\"No System Owned Portion\"), OR(INDEX($Q:$Q,)=\"Galvanized Iron/Steel\", INDEX($Q:$Q,)=\"Non-Lead - Copper\", INDEX($Q:$Q,)=\"Non-Lead - Plastic\", INDEX($Q:$Q,)=\"Non-Lead - Other\", INDEX($Q:$Q,)=\"Non-Lead - Predictive Model\", INDEX($Q:$Q,)=\"No Customer Owned Portion\")), AND(OR( INDEX($K:$K,)=\"Galvanized Iron/Steel\", INDEX($K:$K,)=\"Non-Lead - Copper\", INDEX($K:$K,)=\"Non-Lead - Plastic\", INDEX($K:$K,)=\"Non-Lead - Other\", INDEX($K:$K,)=\"Non-Lead - Material Unknown\", INDEX($K:$K,)=\"No System Owned Portion\"), INDEX($M:$M,)=\"No\", INDEX($Q:$Q,)=\"Non-Lead - Material Unknown\")), \"Non-Lead\", \"Lead Status Unknown\"))))","v":""}]
[{"$f":"IF(AND(ISBLANK(INDEX($G:$G,)), ISBLANK(INDEX($C:$C,))), \"\", 'PWS Records (System Entry)'!$D$4)","v":""},{"$f":"IF(AND(ISBLANK(INDEX($G:$G,)), ISBLANK(INDEX($C:$C,))), \"\", 'PWS Records (System Entry)'!$D$3)","v":""},null,null,null,null,null,null,null,null,null,null,null,null,null,null,null,null,null,null,""]
[{"$f":"IF(AND(ISBLANK(INDEX($G:$G,)), ISBLANK(INDEX($C:$C,))), \"\", 'PWS Records (System Entry)'!$D$4)","v":""},{"$f":"IF(AND(ISBLANK(INDEX($G:$G,)), ISBLANK(INDEX($C:$C,))), \"\", 'PWS Records (System Entry)'!$D$3)","v":""},null,null,null,null,null,null,null,null,null,null,null,null,null,null,null,null,null,null,""]
[{"$f":"IF(AND(ISBLANK(INDEX($G:$G,)), ISBLANK(INDEX($C:$C,))), \"\", 'PWS Records (System Entry)'!$D$4)","v":""},{"$f":"IF(AND(ISBLANK(INDEX($G:$G,)), ISBLANK(INDEX($C:$C,))), \"\", 'PWS Records (System Entry)'!$D$3)","v":""},null,null,null,null,null,null,null,null,null,null,null,null,null,null,null,null,null,null,""]
[{"$f":"IF(AND(ISBLANK(INDEX($G:$G,)), ISBLANK(INDEX($C:$C,))), \"\", 'PWS Records (System Entry)'!$D$4)","v":""},{"$f":"IF(AND(ISBLANK(INDEX($G:$G,)), ISBLANK(INDEX($C:$C,))), \"\", 'PWS Records (System Entry)'!$D$3)","v":""},null,null,null,null,null,null,null,null,null,null,null,null,null,null,null,null,null,null,""]
[{"$f":"IF(AND(ISBLANK(INDEX($G:$G,)), ISBLANK(INDEX($C:$C,))), \"\", 'PWS Records (System Entry)'!$D$4)","v":""},{"$f":"IF(AND(ISBLANK(INDEX($G:$G,)), ISBLANK(INDEX($C:$C,))), \"\", 'PWS Records (System Entry)'!$D$3)","v":""},null,null,null,null,null,null,null,null,null,null,null,null,null,null,null,null,null,null,""]
[{"$f":"IF(AND(ISBLANK(INDEX($G:$G,)), ISBLANK(INDEX($C:$C,))), \"\", 'PWS Records (System Entry)'!$D$4)","v":""},{"$f":"IF(AND(ISBLANK(INDEX($G:$G,)), ISBLANK(INDEX($C:$C,))), \"\", 'PWS Records (System Entry)'!$D$3)","v":""},null,null,null,null,null,null,null,null,null,null,null,null,null,null,null,null,null,null,""]
[{"$f":"IF(AND(ISBLANK(INDEX($G:$G,)), ISBLANK(INDEX($C:$C,))), \"\", 'PWS Records (System Entry)'!$D$4)","v":""},{"$f":"IF(AND(ISBLANK(INDEX($G:$G,)), ISBLANK(INDEX($C:$C,))), \"\", 'PWS Records (System Entry)'!$D$3)","v":""},null,null,null,null,null,null,null,null,null,null,null,null,null,null,null,null,null,null,""]
[{"$f":"IF(AND(ISBLANK(INDEX($G:$G,)), ISBLANK(INDEX($C:$C,))), \"\", 'PWS Records (System Entry)'!$D$4)","v":""},{"$f":"IF(AND(ISBLANK(INDEX($G:$G,)), ISBLANK(INDEX($C:$C,))), \"\", 'PWS Records (System Entry)'!$D$3)","v":""},null,null,null,null,null,null,null,null,null,null,null,null,null,null,null,null,null,null,""]
[{"$f":"IF(AND(ISBLANK(INDEX($G:$G,)), ISBLANK(INDEX($C:$C,))), \"\", 'PWS Records (System Entry)'!$D$4)","v":""},{"$f":"IF(AND(ISBLANK(INDEX($G:$G,)), ISBLANK(INDEX($C:$C,))), \"\", 'PWS Records (System Entry)'!$D$3)","v":""},null,null,null,null,null,null,null,null,null,null,null,null,null,null,null,null,null,null,""]
[{"$f":"IF(AND(ISBLANK(INDEX($G:$G,)), ISBLANK(INDEX($C:$C,))), \"\", 'PWS Records (System Entry)'!$D$4)","v":""},{"$f":"IF(AND(ISBLANK(INDEX($G:$G,)), ISBLANK(INDEX($C:$C,))), \"\", 'PWS Records (System Entry)'!$D$3)","v":""},null,null,null,null,null,null,null,null,null,null,null,null,null,null,null,null,null,null,""]
[{"$f":"IF(AND(ISBLANK(INDEX($G:$G,)), ISBLANK(INDEX($C:$C,))), \"\", 'PWS Records (System Entry)'!$D$4)","v":""},{"$f":"IF(AND(ISBLANK(INDEX($G:$G,)), ISBLANK(INDEX($C:$C,))), \"\", 'PWS Records (System Entry)'!$D$3)","v":""},null,null,null,null,null,null,null,null,null,null,null,null,null,null,null,null,null,null,""]
[{"$f":"IF(AND(ISBLANK(INDEX($G:$G,)), ISBLANK(INDEX($C:$C,))), \"\", 'PWS Records (System Entry)'!$D$4)","v":""},{"$f":"IF(AND(ISBLANK(INDEX($G:$G,)), ISBLANK(INDEX($C:$C,))), \"\", 'PWS Records (System Entry)'!$D$3)","v":""},null,null,null,null,null,null,null,null,null,null,null,null,null,null,null,null,null,null,""]
[{"$f":"IF(AND(ISBLANK(INDEX($G:$G,)), ISBLANK(INDEX($C:$C,))), \"\", 'PWS Records (System Entry)'!$D$4)","v":""},{"$f":"IF(AND(ISBLANK(INDEX($G:$G,)), ISBLANK(INDEX($C:$C,))), \"\", 'PWS Records (System Entry)'!$D$3)","v":""},null,null,null,null,null,null,null,null,null,null,null,null,null,null,null,null,null,null,""]
[{"$f":"IF(AND(ISBLANK(INDEX($G:$G,)), ISBLANK(INDEX($C:$C,))), \"\", 'PWS Records (System Entry)'!$D$4)","v":""},{"$f":"IF(AND(ISBLANK(INDEX($G:$G,)), ISBLANK(INDEX($C:$C,))), \"\", 'PWS Records (System Entry)'!$D$3)","v":""},null,null,null,null,null,null,null,null,null,null,null,null,null,null,null,null,null,null,""]
[{"$f":"IF(AND(ISBLANK(INDEX($G:$G,)), ISBLANK(INDEX($C:$C,))), \"\", 'PWS Records (System Entry)'!$D$4)","v":""},{"$f":"IF(AND(ISBLANK(INDEX($G:$G,)), ISBLANK(INDEX($C:$C,))), \"\", 'PWS Records (System Entry)'!$D$3)","v":""},null,null,null,null,null,null,null,null,null,null,null,null,null,null,null,null,null,null,""]
[{"$f":"IF(AND(ISBLANK(INDEX($G:$G,)), ISBLANK(INDEX($C:$C,))), \"\", 'PWS Records (System Entry)'!$D$4)","v":""},{"$f":"IF(AND(ISBLANK(INDEX($G:$G,)), ISBLANK(INDEX($C:$C,))), \"\", 'PWS Records (System Entry)'!$D$3)","v":""},null,null,null,null,null,null,null,null,null,null,null,null,null,null,null,null,null,null,""]
[{"$f":"IF(AND(ISBLANK(INDEX($G:$G,)), ISBLANK(INDEX($C:$C,))), \"\", 'PWS Records (System Entry)'!$D$4)","v":""},{"$f":"IF(AND(ISBLANK(INDEX($G:$G,)), ISBLANK(INDEX($C:$C,))), \"\", 'PWS Records (System Entry)'!$D$3)","v":""},null,null,null,null,null,null,null,null,null,null,null,null,null,null,null,null,null,null,""]
[{"$f":"IF(AND(ISBLANK(INDEX($G:$G,)), ISBLANK(INDEX($C:$C,))), \"\", 'PWS Records (System Entry)'!$D$4)","v":""},{"$f":"IF(AND(ISBLANK(INDEX($G:$G,)), ISBLANK(INDEX($C:$C,))), \"\", 'PWS Records (System Entry)'!$D$3)","v":""},null,null,null,null,null,null,null,null,null,null,null,null,null,null,null,null,null,null,""]
[{"$f":"IF(AND(ISBLANK(INDEX($G:$G,)), ISBLANK(INDEX($C:$C,))), \"\", 'PWS Records (System Entry)'!$D$4)","v":""},{"$f":"IF(AND(ISBLANK(INDEX($G:$G,)), ISBLANK(INDEX($C:$C,))), \"\", 'PWS Records (System Entry)'!$D$3)","v":""},null,null,null,null,null,null,null,null,null,null,null,null,null,null,null,null,null,null,""]
[{"$f":"IF(AND(ISBLANK(INDEX($G:$G,)), ISBLANK(INDEX($C:$C,))), \"\", 'PWS Records (System Entry)'!$D$4)","v":""},{"$f":"IF(AND(ISBLANK(INDEX($G:$G,)), ISBLANK(INDEX($C:$C,))), \"\", 'PWS Records (System Entry)'!$D$3)","v":""},null,null,null,null,null,null,null,null,null,null,null,null,null,null,null,null,null,null,""]
[{"$f":"IF(AND(ISBLANK(INDEX($G:$G,)), ISBLANK(INDEX($C:$C,))), \"\", 'PWS Records (System Entry)'!$D$4)","v":""},{"$f":"IF(AND(ISBLANK(INDEX($G:$G,)), ISBLANK(INDEX($C:$C,))), \"\", 'PWS Records (System Entry)'!$D$3)","v":""},null,null,null,null,null,null,null,null,null,null,null,null,null,null,null,null,null,null,""]
[{"$f":"IF(AND(ISBLANK(INDEX($G:$G,)), ISBLANK(INDEX($C:$C,))), \"\", 'PWS Records (System Entry)'!$D$4)","v":""},{"$f":"IF(AND(ISBLANK(INDEX($G:$G,)), ISBLANK(INDEX($C:$C,))), \"\", 'PWS Records (System Entry)'!$D$3)","v":""},null,null,null,null,null,null,null,null,null,null,null,null,null,null,null,null,null,null,""]
[{"$f":"IF(AND(ISBLANK(INDEX($G:$G,)), ISBLANK(INDEX($C:$C,))), \"\", 'PWS Records (System Entry)'!$D$4)","v":""},{"$f":"IF(AND(ISBLANK(INDEX($G:$G,)), ISBLANK(INDEX($C:$C,))), \"\", 'PWS Records (System Entry)'!$D$3)","v":""},null,null,null,null,null,null,null,null,null,null,null,null,null,null,null,null,null,null,""]
[{"$f":"IF(AND(ISBLANK(INDEX($G:$G,)), ISBLANK(INDEX($C:$C,))), \"\", 'PWS Records (System Entry)'!$D$4)","v":""},{"$f":"IF(AND(ISBLANK(INDEX($G:$G,)), ISBLANK(INDEX($C:$C,))), \"\", 'PWS Records (System Entry)'!$D$3)","v":""},null,null,null,null,null,null,null,null,null,null,null,null,null,null,null,null,null,null,""]
[{"$f":"IF(AND(ISBLANK(INDEX($G:$G,)), ISBLANK(INDEX($C:$C,))), \"\", 'PWS Records (System Entry)'!$D$4)","v":""},{"$f":"IF(AND(ISBLANK(INDEX($G:$G,)), ISBLANK(INDEX($C:$C,))), \"\", 'PWS Records (System Entry)'!$D$3)","v":""},null,null,null,null,null,null,null,null,null,null,null,null,null,null,null,null,null,null,""]
[{"$f":"IF(AND(ISBLANK(INDEX($G:$G,)), ISBLANK(INDEX($C:$C,))), \"\", 'PWS Records (System Entry)'!$D$4)","v":""},{"$f":"IF(AND(ISBLANK(INDEX($G:$G,)), ISBLANK(INDEX($C:$C,))), \"\", 'PWS Records (System Entry)'!$D$3)","v":""},null,null,null,null,null,null,null,null,null,null,null,null,null,null,null,null,null,null,""]
[{"$f":"IF(AND(ISBLANK(INDEX($G:$G,)), ISBLANK(INDEX($C:$C,))), \"\", 'PWS Records (System Entry)'!$D$4)","v":""},{"$f":"IF(AND(ISBLANK(INDEX($G:$G,)), ISBLANK(INDEX($C:$C,))), \"\", 'PWS Records (System Entry)'!$D$3)","v":""},null,null,null,null,null,null,null,null,null,null,null,null,null,null,null,null,null,null,""]
[{"$f":"IF(AND(ISBLANK(INDEX($G:$G,)), ISBLANK(INDEX($C:$C,))), \"\", 'PWS Records (System Entry)'!$D$4)","v":""},{"$f":"IF(AND(ISBLANK(INDEX($G:$G,)), ISBLANK(INDEX($C:$C,))), \"\", 'PWS Records (System Entry)'!$D$3)","v":""},null,null,null,null,null,null,null,null,null,null,null,null,null,null,null,null,null,null,""]
[{"$f":"IF(AND(ISBLANK(INDEX($G:$G,)), ISBLANK(INDEX($C:$C,))), \"\", 'PWS Records (System Entry)'!$D$4)","v":""},{"$f":"IF(AND(ISBLANK(INDEX($G:$G,)), ISBLANK(INDEX($C:$C,))), \"\", 'PWS Records (System Entry)'!$D$3)","v":""},null,null,null,null,null,null,null,null,null,null,null,null,null,null,null,null,null,null,""]
[{"$f":"IF(AND(ISBLANK(INDEX($G:$G,)), ISBLANK(INDEX($C:$C,))), \"\", 'PWS Records (System Entry)'!$D$4)","v":""},{"$f":"IF(AND(ISBLANK(INDEX($G:$G,)), ISBLANK(INDEX($C:$C,))), \"\", 'PWS Records (System Entry)'!$D$3)","v":""},null,null,null,null,null,null,null,null,null,null,null,null,null,null,null,null,null,null,""]
[{"$f":"IF(AND(ISBLANK(INDEX($G:$G,)), ISBLANK(INDEX($C:$C,))), \"\", 'PWS Records (System Entry)'!$D$4)","v":""},{"$f":"IF(AND(ISBLANK(INDEX($G:$G,)), ISBLANK(INDEX($C:$C,))), \"\", 'PWS Records (System Entry)'!$D$3)","v":""},null,null,null,null,null,null,null,null,null,null,null,null,null,null,null,null,null,null,""]
[{"$f":"IF(AND(ISBLANK(INDEX($G:$G,)), ISBLANK(INDEX($C:$C,))), \"\", 'PWS Records (System Entry)'!$D$4)","v":""},{"$f":"IF(AND(ISBLANK(INDEX($G:$G,)), ISBLANK(INDEX($C:$C,))), \"\", 'PWS Records (System Entry)'!$D$3)","v":""},null,null,null,null,null,null,null,null,null,null,null,null,null,null,null,null,null,null,""]
[{"$f":"IF(AND(ISBLANK(INDEX($G:$G,)), ISBLANK(INDEX($C:$C,))), \"\", 'PWS Records (System Entry)'!$D$4)","v":""},{"$f":"IF(AND(ISBLANK(INDEX($G:$G,)), ISBLANK(INDEX($C:$C,))), \"\", 'PWS Records (System Entry)'!$D$3)","v":""},null,null,null,null,null,null,null,null,null,null,null,null,null,null,null,null,null,null,""]
[{"$f":"IF(AND(ISBLANK(INDEX($G:$G,)), ISBLANK(INDEX($C:$C,))), \"\", 'PWS Records (System Entry)'!$D$4)","v":""},{"$f":"IF(AND(ISBLANK(INDEX($G:$G,)), ISBLANK(INDEX($C:$C,))), \"\", 'PWS Records (System Entry)'!$D$3)","v":""},null,null,null,null,null,null,null,null,null,null,null,null,null,null,null,null,null,null,""]
[{"$f":"IF(AND(ISBLANK(INDEX($G:$G,)), ISBLANK(INDEX($C:$C,))), \"\", 'PWS Records (System Entry)'!$D$4)","v":""},{"$f":"IF(AND(ISBLANK(INDEX($G:$G,)), ISBLANK(INDEX($C:$C,))), \"\", 'PWS Records (System Entry)'!$D$3)","v":""},null,null,null,null,null,null,null,null,null,null,null,null,null,null,null,null,null,null,""]
[{"$f":"IF(AND(ISBLANK(INDEX($G:$G,)), ISBLANK(INDEX($C:$C,))), \"\", 'PWS Records (System Entry)'!$D$4)","v":""},{"$f":"IF(AND(ISBLANK(INDEX($G:$G,)), ISBLANK(INDEX($C:$C,))), \"\", 'PWS Records (System Entry)'!$D$3)","v":""},null,null,null,null,null,null,null,null,null,null,null,null,null,null,null,null,null,null,""]
[{"$f":"IF(AND(ISBLANK(INDEX($G:$G,)), ISBLANK(INDEX($C:$C,))), \"\", 'PWS Records (System Entry)'!$D$4)","v":""},{"$f":"IF(AND(ISBLANK(INDEX($G:$G,)), ISBLANK(INDEX($C:$C,))), \"\", 'PWS Records (System Entry)'!$D$3)","v":""},null,null,null,null,null,null,null,null,null,null,null,null,null,null,null,null,null,null,""]
[{"$f":"IF(AND(ISBLANK(INDEX($G:$G,)), ISBLANK(INDEX($C:$C,))), \"\", 'PWS Records (System Entry)'!$D$4)","v":""},{"$f":"IF(AND(ISBLANK(INDEX($G:$G,)), ISBLANK(INDEX($C:$C,))), \"\", 'PWS Records (System Entry)'!$D$3)","v":""},null,null,null,null,null,null,null,null,null,null,null,null,null,null,null,null,null,null,""]
[{"$f":"IF(AND(ISBLANK(INDEX($G:$G,)), ISBLANK(INDEX($C:$C,))), \"\", 'PWS Records (System Entry)'!$D$4)","v":""},{"$f":"IF(AND(ISBLANK(INDEX($G:$G,)), ISBLANK(INDEX($C:$C,))), \"\", 'PWS Records (System Entry)'!$D$3)","v":""},null,null,null,null,null,null,null,null,null,null,null,null,null,null,null,null,null,null,""]
[{"$f":"IF(AND(ISBLANK(INDEX($G:$G,)), ISBLANK(INDEX($C:$C,))), \"\", 'PWS Records (System Entry)'!$D$4)","v":""},{"$f":"IF(AND(ISBLANK(INDEX($G:$G,)), ISBLANK(INDEX($C:$C,))), \"\", 'PWS Records (System Entry)'!$D$3)","v":""},null,null,null,null,null,null,null,null,null,null,null,null,null,null,null,null,null,null,""]
[{"$f":"IF(AND(ISBLANK(INDEX($G:$G,)), ISBLANK(INDEX($C:$C,))), \"\", 'PWS Records (System Entry)'!$D$4)","v":""},{"$f":"IF(AND(ISBLANK(INDEX($G:$G,)), ISBLANK(INDEX($C:$C,))), \"\", 'PWS Records (System Entry)'!$D$3)","v":""},null,null,null,null,null,null,null,null,null,null,null,null,null,null,null,null,null,null,""]
[{"$f":"IF(AND(ISBLANK(INDEX($G:$G,)), ISBLANK(INDEX($C:$C,))), \"\", 'PWS Records (System Entry)'!$D$4)","v":""},{"$f":"IF(AND(ISBLANK(INDEX($G:$G,)), ISBLANK(INDEX($C:$C,))), \"\", 'PWS Records (System Entry)'!$D$3)","v":""},null,null,null,null,null,null,null,null,null,null,null,null,null,null,null,null,null,null,""]
[{"$f":"IF(AND(ISBLANK(INDEX($G:$G,)), ISBLANK(INDEX($C:$C,))), \"\", 'PWS Records (System Entry)'!$D$4)","v":""},{"$f":"IF(AND(ISBLANK(INDEX($G:$G,)), ISBLANK(INDEX($C:$C,))), \"\", 'PWS Records (System Entry)'!$D$3)","v":""},null,null,null,null,null,null,null,null,null,null,null,null,null,null,null,null,null,null,""]
[{"$f":"IF(AND(ISBLANK(INDEX($G:$G,)), ISBLANK(INDEX($C:$C,))), \"\", 'PWS Records (System Entry)'!$D$4)","v":""},{"$f":"IF(AND(ISBLANK(INDEX($G:$G,)), ISBLANK(INDEX($C:$C,))), \"\", 'PWS Records (System Entry)'!$D$3)","v":""},null,null,null,null,null,null,null,null,null,null,null,null,null,null,null,null,null,null,""]
[{"$f":"IF(AND(ISBLANK(INDEX($G:$G,)), ISBLANK(INDEX($C:$C,))), \"\", 'PWS Records (System Entry)'!$D$4)","v":""},{"$f":"IF(AND(ISBLANK(INDEX($G:$G,)), ISBLANK(INDEX($C:$C,))), \"\", 'PWS Records (System Entry)'!$D$3)","v":""},null,null,null,null,null,null,null,null,null,null,null,null,null,null,null,null,null,null,""]
[{"$f":"IF(AND(ISBLANK(INDEX($G:$G,)), ISBLANK(INDEX($C:$C,))), \"\", 'PWS Records (System Entry)'!$D$4)","v":""},{"$f":"IF(AND(ISBLANK(INDEX($G:$G,)), ISBLANK(INDEX($C:$C,))), \"\", 'PWS Records (System Entry)'!$D$3)","v":""},null,null,null,null,null,null,null,null,null,null,null,null,null,null,null,null,null,null,""]
[{"$f":"IF(AND(ISBLANK(INDEX($G:$G,)), ISBLANK(INDEX($C:$C,))), \"\", 'PWS Records (System Entry)'!$D$4)","v":""},{"$f":"IF(AND(ISBLANK(INDEX($G:$G,)), ISBLANK(INDEX($C:$C,))), \"\", 'PWS Records (System Entry)'!$D$3)","v":""},null,null,null,null,null,null,null,null,null,null,null,null,null,null,null,null,null,null,""]
[{"$f":"IF(AND(ISBLANK(INDEX($G:$G,)), ISBLANK(INDEX($C:$C,))), \"\", 'PWS Records (System Entry)'!$D$4)","v":""},{"$f":"IF(AND(ISBLANK(INDEX($G:$G,)), ISBLANK(INDEX($C:$C,))), \"\", 'PWS Records (System Entry)'!$D$3)","v":""},null,null,null,null,null,null,null,null,null,null,null,null,null,null,null,null,null,null,""]
[{"$f":"IF(AND(ISBLANK(INDEX($G:$G,)), ISBLANK(INDEX($C:$C,))), \"\", 'PWS Records (System Entry)'!$D$4)","v":""},{"$f":"IF(AND(ISBLANK(INDEX($G:$G,)), ISBLANK(INDEX($C:$C,))), \"\", 'PWS Records (System Entry)'!$D$3)","v":""},null,null,null,null,null,null,null,null,null,null,null,null,null,null,null,null,null,null,""]
[{"$f":"IF(AND(ISBLANK(INDEX($G:$G,)), ISBLANK(INDEX($C:$C,))), \"\", 'PWS Records (System Entry)'!$D$4)","v":""},{"$f":"IF(AND(ISBLANK(INDEX($G:$G,)), ISBLANK(INDEX($C:$C,))), \"\", 'PWS Records (System Entry)'!$D$3)","v":""},null,null,null,null,null,null,null,null,null,null,null,null,null,null,null,null,null,null,""]
[{"$f":"IF(AND(ISBLANK(INDEX($G:$G,)), ISBLANK(INDEX($C:$C,))), \"\", 'PWS Records (System Entry)'!$D$4)","v":""},{"$f":"IF(AND(ISBLANK(INDEX($G:$G,)), ISBLANK(INDEX($C:$C,))), \"\", 'PWS Records (System Entry)'!$D$3)","v":""},null,null,null,null,null,null,null,null,null,null,null,null,null,null,null,null,null,null,""]
[{"$f":"IF(AND(ISBLANK(INDEX($G:$G,)), ISBLANK(INDEX($C:$C,))), \"\", 'PWS Records (System Entry)'!$D$4)","v":""},{"$f":"IF(AND(ISBLANK(INDEX($G:$G,)), ISBLANK(INDEX($C:$C,))), \"\", 'PWS Records (System Entry)'!$D$3)","v":""},null,null,null,null,null,null,null,null,null,null,null,null,null,null,null,null,null,null,""]
[{"$f":"IF(AND(ISBLANK(INDEX($G:$G,)), ISBLANK(INDEX($C:$C,))), \"\", 'PWS Records (System Entry)'!$D$4)","v":""},{"$f":"IF(AND(ISBLANK(INDEX($G:$G,)), ISBLANK(INDEX($C:$C,))), \"\", 'PWS Records (System Entry)'!$D$3)","v":""},null,null,null,null,null,null,null,null,null,null,null,null,null,null,null,null,null,null,""]
[{"$f":"IF(AND(ISBLANK(INDEX($G:$G,)), ISBLANK(INDEX($C:$C,))), \"\", 'PWS Records (System Entry)'!$D$4)","v":""},{"$f":"IF(AND(ISBLANK(INDEX($G:$G,)), ISBLANK(INDEX($C:$C,))), \"\", 'PWS Records (System Entry)'!$D$3)","v":""},null,null,null,null,null,null,null,null,null,null,null,null,null,null,null,null,null,null,""]
[{"$f":"IF(AND(ISBLANK(INDEX($G:$G,)), ISBLANK(INDEX($C:$C,))), \"\", 'PWS Records (System Entry)'!$D$4)","v":""},{"$f":"IF(AND(ISBLANK(INDEX($G:$G,)), ISBLANK(INDEX($C:$C,))), \"\", 'PWS Records (System Entry)'!$D$3)","v":""},null,null,null,null,null,null,null,null,null,null,null,null,null,null,null,null,null,null,""]
[{"$f":"IF(AND(ISBLANK(INDEX($G:$G,)), ISBLANK(INDEX($C:$C,))), \"\", 'PWS Records (System Entry)'!$D$4)","v":""},{"$f":"IF(AND(ISBLANK(INDEX($G:$G,)), ISBLANK(INDEX($C:$C,))), \"\", 'PWS Records (System Entry)'!$D$3)","v":""},null,null,null,null,null,null,null,null,null,null,null,null,null,null,null,null,null,null,""]
[{"$f":"IF(AND(ISBLANK(INDEX($G:$G,)), ISBLANK(INDEX($C:$C,))), \"\", 'PWS Records (System Entry)'!$D$4)","v":""},{"$f":"IF(AND(ISBLANK(INDEX($G:$G,)), ISBLANK(INDEX($C:$C,))), \"\", 'PWS Records (System Entry)'!$D$3)","v":""},null,null,null,null,null,null,null,null,null,null,null,null,null,null,null,null,null,null,""]
[{"$f":"IF(AND(ISBLANK(INDEX($G:$G,)), ISBLANK(INDEX($C:$C,))), \"\", 'PWS Records (System Entry)'!$D$4)","v":""},{"$f":"IF(AND(ISBLANK(INDEX($G:$G,)), ISBLANK(INDEX($C:$C,))), \"\", 'PWS Records (System Entry)'!$D$3)","v":""},null,null,null,null,null,null,null,null,null,null,null,null,null,null,null,null,null,null,""]
[{"$f":"IF(AND(ISBLANK(INDEX($G:$G,)), ISBLANK(INDEX($C:$C,))), \"\", 'PWS Records (System Entry)'!$D$4)","v":""},{"$f":"IF(AND(ISBLANK(INDEX($G:$G,)), ISBLANK(INDEX($C:$C,))), \"\", 'PWS Records (System Entry)'!$D$3)","v":""},null,null,null,null,null,null,null,null,null,null,null,null,null,null,null,null,null,null,""]
[{"$f":"IF(AND(ISBLANK(INDEX($G:$G,)), ISBLANK(INDEX($C:$C,))), \"\", 'PWS Records (System Entry)'!$D$4)","v":""},{"$f":"IF(AND(ISBLANK(INDEX($G:$G,)), ISBLANK(INDEX($C:$C,))), \"\", 'PWS Records (System Entry)'!$D$3)","v":""},null,null,null,null,null,null,null,null,null,null,null,null,null,null,null,null,null,null,""]
[{"$f":"IF(AND(ISBLANK(INDEX($G:$G,)), ISBLANK(INDEX($C:$C,))), \"\", 'PWS Records (System Entry)'!$D$4)","v":""},{"$f":"IF(AND(ISBLANK(INDEX($G:$G,)), ISBLANK(INDEX($C:$C,))), \"\", 'PWS Records (System Entry)'!$D$3)","v":""},null,null,null,null,null,null,null,null,null,null,null,null,null,null,null,null,null,null,""]
[{"$f":"IF(AND(ISBLANK(INDEX($G:$G,)), ISBLANK(INDEX($C:$C,))), \"\", 'PWS Records (System Entry)'!$D$4)","v":""},{"$f":"IF(AND(ISBLANK(INDEX($G:$G,)), ISBLANK(INDEX($C:$C,))), \"\", 'PWS Records (System Entry)'!$D$3)","v":""},null,null,null,null,null,null,null,null,null,null,null,null,null,null,null,null,null,null,""]
[{"$f":"IF(AND(ISBLANK(INDEX($G:$G,)), ISBLANK(INDEX($C:$C,))), \"\", 'PWS Records (System Entry)'!$D$4)","v":""},{"$f":"IF(AND(ISBLANK(INDEX($G:$G,)), ISBLANK(INDEX($C:$C,))), \"\", 'PWS Records (System Entry)'!$D$3)","v":""},null,null,null,null,null,null,null,null,null,null,null,null,null,null,null,null,null,null,""]
[{"$f":"IF(AND(ISBLANK(INDEX($G:$G,)), ISBLANK(INDEX($C:$C,))), \"\", 'PWS Records (System Entry)'!$D$4)","v":""},{"$f":"IF(AND(ISBLANK(INDEX($G:$G,)), ISBLANK(INDEX($C:$C,))), \"\", 'PWS Records (System Entry)'!$D$3)","v":""},null,null,null,null,null,null,null,null,null,null,null,null,null,null,null,null,null,null,{"$f":"IF(AND(INDEX($K:$K,)=\"\", INDEX($L:$L,)=\"\", INDEX($M:$M,)=\"\", INDEX($Q:$Q,)=\"\", INDEX($R:$R,)=\"\"), \"\", IF(OR(INDEX($K:$K,)=\"Lead\",INDEX($Q:$Q,)=\"Lead\"),\"Lead\",IF(OR(AND(OR(INDEX($M:$M,)=\"Yes\", INDEX($M:$M,)=\"Don't Know\", INDEX($M:$M,)=\"\"), INDEX($Q:$Q,)=\"Galvanized Iron/Steel\"), AND(INDEX($K:$K,)=\"Unknown\", INDEX($M:$M,)=\"No\", INDEX($Q:$Q,)=\"Galvanized Iron/Steel\")), \"Galvanized Requiring Replacement\", IF(OR(AND(OR(INDEX($K:$K,)=\"Galvanized Iron/Steel\", INDEX($K:$K,)=\"Non-Lead - Copper\", INDEX($K:$K,)=\"Non-Lead - Plastic\", INDEX($K:$K,)=\"Non-Lead - Other\", INDEX($K:$K,)=\"Non-Lead - Material Unknown\", INDEX($K:$K,)=\"No System Owned Portion\"), OR(INDEX($Q:$Q,)=\"Galvanized Iron/Steel\", INDEX($Q:$Q,)=\"Non-Lead - Copper\", INDEX($Q:$Q,)=\"Non-Lead - Plastic\", INDEX($Q:$Q,)=\"Non-Lead - Other\", INDEX($Q:$Q,)=\"Non-Lead - Predictive Model\", INDEX($Q:$Q,)=\"No Customer Owned Portion\")), AND(OR( INDEX($K:$K,)=\"Galvanized Iron/Steel\", INDEX($K:$K,)=\"Non-Lead - Copper\", INDEX($K:$K,)=\"Non-Lead - Plastic\", INDEX($K:$K,)=\"Non-Lead - Other\", INDEX($K:$K,)=\"Non-Lead - Material Unknown\", INDEX($K:$K,)=\"No System Owned Portion\"), INDEX($M:$M,)=\"No\", INDEX($Q:$Q,)=\"Non-Lead - Material Unknown\")), \"Non-Lead\", \"Lead Status Unknown\"))))","v":""}]
[{"$f":"IF(AND(ISBLANK(INDEX($G:$G,)), ISBLANK(INDEX($C:$C,))), \"\", 'PWS Records (System Entry)'!$D$4)","v":""},{"$f":"IF(AND(ISBLANK(INDEX($G:$G,)), ISBLANK(INDEX($C:$C,))), \"\", 'PWS Records (System Entry)'!$D$3)","v":""},null,null,null,null,null,null,null,null,null,null,null,null,null,null,null,null,null,null,""]
[{"$f":"IF(AND(ISBLANK(INDEX($G:$G,)), ISBLANK(INDEX($C:$C,))), \"\", 'PWS Records (System Entry)'!$D$4)","v":""},{"$f":"IF(AND(ISBLANK(INDEX($G:$G,)), ISBLANK(INDEX($C:$C,))), \"\", 'PWS Records (System Entry)'!$D$3)","v":""},null,null,null,null,null,null,null,null,null,null,null,null,null,null,null,null,null,null,""]
[{"$f":"IF(AND(ISBLANK(INDEX($G:$G,)), ISBLANK(INDEX($C:$C,))), \"\", 'PWS Records (System Entry)'!$D$4)","v":""},{"$f":"IF(AND(ISBLANK(INDEX($G:$G,)), ISBLANK(INDEX($C:$C,))), \"\", 'PWS Records (System Entry)'!$D$3)","v":""},null,null,null,null,null,null,null,null,null,null,null,null,null,null,null,null,null,null,""]
[{"$f":"IF(AND(ISBLANK(INDEX($G:$G,)), ISBLANK(INDEX($C:$C,))), \"\", 'PWS Records (System Entry)'!$D$4)","v":""},{"$f":"IF(AND(ISBLANK(INDEX($G:$G,)), ISBLANK(INDEX($C:$C,))), \"\", 'PWS Records (System Entry)'!$D$3)","v":""},null,null,null,null,null,null,null,null,null,null,null,null,null,null,null,null,null,null,""]
[{"$f":"IF(AND(ISBLANK(INDEX($G:$G,)), ISBLANK(INDEX($C:$C,))), \"\", 'PWS Records (System Entry)'!$D$4)","v":""},{"$f":"IF(AND(ISBLANK(INDEX($G:$G,)), ISBLANK(INDEX($C:$C,))), \"\", 'PWS Records (System Entry)'!$D$3)","v":""},null,null,null,null,null,null,null,null,null,null,null,null,null,null,null,null,null,null,""]
[{"$f":"IF(AND(ISBLANK(INDEX($G:$G,)), ISBLANK(INDEX($C:$C,))), \"\", 'PWS Records (System Entry)'!$D$4)","v":""},{"$f":"IF(AND(ISBLANK(INDEX($G:$G,)), ISBLANK(INDEX($C:$C,))), \"\", 'PWS Records (System Entry)'!$D$3)","v":""},null,null,null,null,null,null,null,null,null,null,null,null,null,null,null,null,null,null,""]
[{"$f":"IF(AND(ISBLANK(INDEX($G:$G,)), ISBLANK(INDEX($C:$C,))), \"\", 'PWS Records (System Entry)'!$D$4)","v":""},{"$f":"IF(AND(ISBLANK(INDEX($G:$G,)), ISBLANK(INDEX($C:$C,))), \"\", 'PWS Records (System Entry)'!$D$3)","v":""},null,null,null,null,null,null,null,null,null,null,null,null,null,null,null,null,null,null,""]
[{"$f":"IF(AND(ISBLANK(INDEX($G:$G,)), ISBLANK(INDEX($C:$C,))), \"\", 'PWS Records (System Entry)'!$D$4)","v":""},{"$f":"IF(AND(ISBLANK(INDEX($G:$G,)), ISBLANK(INDEX($C:$C,))), \"\", 'PWS Records (System Entry)'!$D$3)","v":""},null,null,null,null,null,null,null,null,null,null,null,null,null,null,null,null,null,null,""]
[{"$f":"IF(AND(ISBLANK(INDEX($G:$G,)), ISBLANK(INDEX($C:$C,))), \"\", 'PWS Records (System Entry)'!$D$4)","v":""},{"$f":"IF(AND(ISBLANK(INDEX($G:$G,)), ISBLANK(INDEX($C:$C,))), \"\", 'PWS Records (System Entry)'!$D$3)","v":""},null,null,null,null,null,null,null,null,null,null,null,null,null,null,null,null,null,null,""]
[{"$f":"IF(AND(ISBLANK(INDEX($G:$G,)), ISBLANK(INDEX($C:$C,))), \"\", 'PWS Records (System Entry)'!$D$4)","v":""},{"$f":"IF(AND(ISBLANK(INDEX($G:$G,)), ISBLANK(INDEX($C:$C,))), \"\", 'PWS Records (System Entry)'!$D$3)","v":""},null,null,null,null,null,null,null,null,null,null,null,null,null,null,null,null,null,null,""]
[{"$f":"IF(AND(ISBLANK(INDEX($G:$G,)), ISBLANK(INDEX($C:$C,))), \"\", 'PWS Records (System Entry)'!$D$4)","v":""},{"$f":"IF(AND(ISBLANK(INDEX($G:$G,)), ISBLANK(INDEX($C:$C,))), \"\", 'PWS Records (System Entry)'!$D$3)","v":""},null,null,null,null,null,null,null,null,null,null,null,null,null,null,null,null,null,null,""]
[{"$f":"IF(AND(ISBLANK(INDEX($G:$G,)), ISBLANK(INDEX($C:$C,))), \"\", 'PWS Records (System Entry)'!$D$4)","v":""},{"$f":"IF(AND(ISBLANK(INDEX($G:$G,)), ISBLANK(INDEX($C:$C,))), \"\", 'PWS Records (System Entry)'!$D$3)","v":""},null,null,null,null,null,null,null,null,null,null,null,null,null,null,null,null,null,null,""]
[{"$f":"IF(AND(ISBLANK(INDEX($G:$G,)), ISBLANK(INDEX($C:$C,))), \"\", 'PWS Records (System Entry)'!$D$4)","v":""},{"$f":"IF(AND(ISBLANK(INDEX($G:$G,)), ISBLANK(INDEX($C:$C,))), \"\", 'PWS Records (System Entry)'!$D$3)","v":""},null,null,null,null,null,null,null,null,null,null,null,null,null,null,null,null,null,null,""]
[{"$f":"IF(AND(ISBLANK(INDEX($G:$G,)), ISBLANK(INDEX($C:$C,))), \"\", 'PWS Records (System Entry)'!$D$4)","v":""},{"$f":"IF(AND(ISBLANK(INDEX($G:$G,)), ISBLANK(INDEX($C:$C,))), \"\", 'PWS Records (System Entry)'!$D$3)","v":""},null,null,null,null,null,null,null,null,null,null,null,null,null,null,null,null,null,null,""]
[{"$f":"IF(AND(ISBLANK(INDEX($G:$G,)), ISBLANK(INDEX($C:$C,))), \"\", 'PWS Records (System Entry)'!$D$4)","v":""},{"$f":"IF(AND(ISBLANK(INDEX($G:$G,)), ISBLANK(INDEX($C:$C,))), \"\", 'PWS Records (System Entry)'!$D$3)","v":""},null,null,null,null,null,null,null,null,null,null,null,null,null,null,null,null,null,null,""]
[{"$f":"IF(AND(ISBLANK(INDEX($G:$G,)), ISBLANK(INDEX($C:$C,))), \"\", 'PWS Records (System Entry)'!$D$4)","v":""},{"$f":"IF(AND(ISBLANK(INDEX($G:$G,)), ISBLANK(INDEX($C:$C,))), \"\", 'PWS Records (System Entry)'!$D$3)","v":""},null,null,null,null,null,null,null,null,null,null,null,null,null,null,null,null,null,null,""]
[{"$f":"IF(AND(ISBLANK(INDEX($G:$G,)), ISBLANK(INDEX($C:$C,))), \"\", 'PWS Records (System Entry)'!$D$4)","v":""},{"$f":"IF(AND(ISBLANK(INDEX($G:$G,)), ISBLANK(INDEX($C:$C,))), \"\", 'PWS Records (System Entry)'!$D$3)","v":""},null,null,null,null,null,null,null,null,null,null,null,null,null,null,null,null,null,null,""]
[{"$f":"IF(AND(ISBLANK(INDEX($G:$G,)), ISBLANK(INDEX($C:$C,))), \"\", 'PWS Records (System Entry)'!$D$4)","v":""},{"$f":"IF(AND(ISBLANK(INDEX($G:$G,)), ISBLANK(INDEX($C:$C,))), \"\", 'PWS Records (System Entry)'!$D$3)","v":""},null,null,null,null,null,null,null,null,null,null,null,null,null,null,null,null,null,null,""]
[{"$f":"IF(AND(ISBLANK(INDEX($G:$G,)), ISBLANK(INDEX($C:$C,))), \"\", 'PWS Records (System Entry)'!$D$4)","v":""},{"$f":"IF(AND(ISBLANK(INDEX($G:$G,)), ISBLANK(INDEX($C:$C,))), \"\", 'PWS Records (System Entry)'!$D$3)","v":""},null,null,null,null,null,null,null,null,null,null,null,null,null,null,null,null,null,null,""]
[{"$f":"IF(AND(ISBLANK(INDEX($G:$G,)), ISBLANK(INDEX($C:$C,))), \"\", 'PWS Records (System Entry)'!$D$4)","v":""},{"$f":"IF(AND(ISBLANK(INDEX($G:$G,)), ISBLANK(INDEX($C:$C,))), \"\", 'PWS Records (System Entry)'!$D$3)","v":""},null,null,null,null,null,null,null,null,null,null,null,null,null,null,null,null,null,null,""]
[{"$f":"IF(AND(ISBLANK(INDEX($G:$G,)), ISBLANK(INDEX($C:$C,))), \"\", 'PWS Records (System Entry)'!$D$4)","v":""},{"$f":"IF(AND(ISBLANK(INDEX($G:$G,)), ISBLANK(INDEX($C:$C,))), \"\", 'PWS Records (System Entry)'!$D$3)","v":""},null,null,null,null,null,null,null,null,null,null,null,null,null,null,null,null,null,null,""]
[{"$f":"IF(AND(ISBLANK(INDEX($G:$G,)), ISBLANK(INDEX($C:$C,))), \"\", 'PWS Records (System Entry)'!$D$4)","v":""},{"$f":"IF(AND(ISBLANK(INDEX($G:$G,)), ISBLANK(INDEX($C:$C,))), \"\", 'PWS Records (System Entry)'!$D$3)","v":""},null,null,null,null,null,null,null,null,null,null,null,null,null,null,null,null,null,null,""]
[{"$f":"IF(AND(ISBLANK(INDEX($G:$G,)), ISBLANK(INDEX($C:$C,))), \"\", 'PWS Records (System Entry)'!$D$4)","v":""},{"$f":"IF(AND(ISBLANK(INDEX($G:$G,)), ISBLANK(INDEX($C:$C,))), \"\", 'PWS Records (System Entry)'!$D$3)","v":""},null,null,null,null,null,null,null,null,null,null,null,null,null,null,null,null,null,null,""]
[{"$f":"IF(AND(ISBLANK(INDEX($G:$G,)), ISBLANK(INDEX($C:$C,))), \"\", 'PWS Records (System Entry)'!$D$4)","v":""},{"$f":"IF(AND(ISBLANK(INDEX($G:$G,)), ISBLANK(INDEX($C:$C,))), \"\", 'PWS Records (System Entry)'!$D$3)","v":""},null,null,null,null,null,null,null,null,null,null,null,null,null,null,null,null,null,null,""]
[{"$f":"IF(AND(ISBLANK(INDEX($G:$G,)), ISBLANK(INDEX($C:$C,))), \"\", 'PWS Records (System Entry)'!$D$4)","v":""},{"$f":"IF(AND(ISBLANK(INDEX($G:$G,)), ISBLANK(INDEX($C:$C,))), \"\", 'PWS Records (System Entry)'!$D$3)","v":""},null,null,null,null,null,null,null,null,null,null,null,null,null,null,null,null,null,null,""]
[{"$f":"IF(AND(ISBLANK(INDEX($G:$G,)), ISBLANK(INDEX($C:$C,))), \"\", 'PWS Records (System Entry)'!$D$4)","v":""},{"$f":"IF(AND(ISBLANK(INDEX($G:$G,)), ISBLANK(INDEX($C:$C,))), \"\", 'PWS Records (System Entry)'!$D$3)","v":""},null,null,null,null,null,null,null,null,null,null,null,null,null,null,null,null,null,null,""]
[{"$f":"IF(AND(ISBLANK(INDEX($G:$G,)), ISBLANK(INDEX($C:$C,))), \"\", 'PWS Records (System Entry)'!$D$4)","v":""},{"$f":"IF(AND(ISBLANK(INDEX($G:$G,)), ISBLANK(INDEX($C:$C,))), \"\", 'PWS Records (System Entry)'!$D$3)","v":""},null,null,null,null,null,null,null,null,null,null,null,null,null,null,null,null,null,null,""]
[{"$f":"IF(AND(ISBLANK(INDEX($G:$G,)), ISBLANK(INDEX($C:$C,))), \"\", 'PWS Records (System Entry)'!$D$4)","v":""},{"$f":"IF(AND(ISBLANK(INDEX($G:$G,)), ISBLANK(INDEX($C:$C,))), \"\", 'PWS Records (System Entry)'!$D$3)","v":""},null,null,null,null,null,null,null,null,null,null,null,null,null,null,null,null,null,null,""]
[{"$f":"IF(AND(ISBLANK(INDEX($G:$G,)), ISBLANK(INDEX($C:$C,))), \"\", 'PWS Records (System Entry)'!$D$4)","v":""},{"$f":"IF(AND(ISBLANK(INDEX($G:$G,)), ISBLANK(INDEX($C:$C,))), \"\", 'PWS Records (System Entry)'!$D$3)","v":""},null,null,null,null,null,null,null,null,null,null,null,null,null,null,null,null,null,null,""]
[{"$f":"IF(AND(ISBLANK(INDEX($G:$G,)), ISBLANK(INDEX($C:$C,))), \"\", 'PWS Records (System Entry)'!$D$4)","v":""},{"$f":"IF(AND(ISBLANK(INDEX($G:$G,)), ISBLANK(INDEX($C:$C,))), \"\", 'PWS Records (System Entry)'!$D$3)","v":""},null,null,null,null,null,null,null,null,null,null,null,null,null,null,null,null,null,null,""]
[{"$f":"IF(AND(ISBLANK(INDEX($G:$G,)), ISBLANK(INDEX($C:$C,))), \"\", 'PWS Records (System Entry)'!$D$4)","v":""},{"$f":"IF(AND(ISBLANK(INDEX($G:$G,)), ISBLANK(INDEX($C:$C,))), \"\", 'PWS Records (System Entry)'!$D$3)","v":""},null,null,null,null,null,null,null,null,null,null,null,null,null,null,null,null,null,null,""]
[{"$f":"IF(AND(ISBLANK(INDEX($G:$G,)), ISBLANK(INDEX($C:$C,))), \"\", 'PWS Records (System Entry)'!$D$4)","v":""},{"$f":"IF(AND(ISBLANK(INDEX($G:$G,)), ISBLANK(INDEX($C:$C,))), \"\", 'PWS Records (System Entry)'!$D$3)","v":""},null,null,null,null,null,null,null,null,null,null,null,null,null,null,null,null,null,null,""]
[{"$f":"IF(AND(ISBLANK(INDEX($G:$G,)), ISBLANK(INDEX($C:$C,))), \"\", 'PWS Records (System Entry)'!$D$4)","v":""},{"$f":"IF(AND(ISBLANK(INDEX($G:$G,)), ISBLANK(INDEX($C:$C,))), \"\", 'PWS Records (System Entry)'!$D$3)","v":""},null,null,null,null,null,null,null,null,null,null,null,null,null,null,null,null,null,null,""]
[{"$f":"IF(AND(ISBLANK(INDEX($G:$G,)), ISBLANK(INDEX($C:$C,))), \"\", 'PWS Records (System Entry)'!$D$4)","v":""},{"$f":"IF(AND(ISBLANK(INDEX($G:$G,)), ISBLANK(INDEX($C:$C,))), \"\", 'PWS Records (System Entry)'!$D$3)","v":""},null,null,null,null,null,null,null,null,null,null,null,null,null,null,null,null,null,null,""]
[{"$f":"IF(AND(ISBLANK(INDEX($G:$G,)), ISBLANK(INDEX($C:$C,))), \"\", 'PWS Records (System Entry)'!$D$4)","v":""},{"$f":"IF(AND(ISBLANK(INDEX($G:$G,)), ISBLANK(INDEX($C:$C,))), \"\", 'PWS Records (System Entry)'!$D$3)","v":""},null,null,null,null,null,null,null,null,null,null,null,null,null,null,null,null,null,null,""]
[{"$f":"IF(AND(ISBLANK(INDEX($G:$G,)), ISBLANK(INDEX($C:$C,))), \"\", 'PWS Records (System Entry)'!$D$4)","v":""},{"$f":"IF(AND(ISBLANK(INDEX($G:$G,)), ISBLANK(INDEX($C:$C,))), \"\", 'PWS Records (System Entry)'!$D$3)","v":""},null,null,null,null,null,null,null,null,null,null,null,null,null,null,null,null,null,null,""]
[{"$f":"IF(AND(ISBLANK(INDEX($G:$G,)), ISBLANK(INDEX($C:$C,))), \"\", 'PWS Records (System Entry)'!$D$4)","v":""},{"$f":"IF(AND(ISBLANK(INDEX($G:$G,)), ISBLANK(INDEX($C:$C,))), \"\", 'PWS Records (System Entry)'!$D$3)","v":""},null,null,null,null,null,null,null,null,null,null,null,null,null,null,null,null,null,null,""]
[{"$f":"IF(AND(ISBLANK(INDEX($G:$G,)), ISBLANK(INDEX($C:$C,))), \"\", 'PWS Records (System Entry)'!$D$4)","v":""},{"$f":"IF(AND(ISBLANK(INDEX($G:$G,)), ISBLANK(INDEX($C:$C,))), \"\", 'PWS Records (System Entry)'!$D$3)","v":""},null,null,null,null,null,null,null,null,null,null,null,null,null,null,null,null,null,null,""]
[{"$f":"IF(AND(ISBLANK(INDEX($G:$G,)), ISBLANK(INDEX($C:$C,))), \"\", 'PWS Records (System Entry)'!$D$4)","v":""},{"$f":"IF(AND(ISBLANK(INDEX($G:$G,)), ISBLANK(INDEX($C:$C,))), \"\", 'PWS Records (System Entry)'!$D$3)","v":""},null,null,null,null,null,null,null,null,null,null,null,null,null,null,null,null,null,null,""]
[{"$f":"IF(AND(ISBLANK(INDEX($G:$G,)), ISBLANK(INDEX($C:$C,))), \"\", 'PWS Records (System Entry)'!$D$4)","v":""},{"$f":"IF(AND(ISBLANK(INDEX($G:$G,)), ISBLANK(INDEX($C:$C,))), \"\", 'PWS Records (System Entry)'!$D$3)","v":""},null,null,null,null,null,null,null,null,null,null,null,null,null,null,null,null,null,null,""]
[{"$f":"IF(AND(ISBLANK(INDEX($G:$G,)), ISBLANK(INDEX($C:$C,))), \"\", 'PWS Records (System Entry)'!$D$4)","v":""},{"$f":"IF(AND(ISBLANK(INDEX($G:$G,)), ISBLANK(INDEX($C:$C,))), \"\", 'PWS Records (System Entry)'!$D$3)","v":""},null,null,null,null,null,null,null,null,null,null,null,null,null,null,null,null,null,null,""]
[{"$f":"IF(AND(ISBLANK(INDEX($G:$G,)), ISBLANK(INDEX($C:$C,))), \"\", 'PWS Records (System Entry)'!$D$4)","v":""},{"$f":"IF(AND(ISBLANK(INDEX($G:$G,)), ISBLANK(INDEX($C:$C,))), \"\", 'PWS Records (System Entry)'!$D$3)","v":""},null,null,null,null,null,null,null,null,null,null,null,null,null,null,null,null,null,null,""]
[{"$f":"IF(AND(ISBLANK(INDEX($G:$G,)), ISBLANK(INDEX($C:$C,))), \"\", 'PWS Records (System Entry)'!$D$4)","v":""},{"$f":"IF(AND(ISBLANK(INDEX($G:$G,)), ISBLANK(INDEX($C:$C,))), \"\", 'PWS Records (System Entry)'!$D$3)","v":""},null,null,null,null,null,null,null,null,null,null,null,null,null,null,null,null,null,null,""]
[{"$f":"IF(AND(ISBLANK(INDEX($G:$G,)), ISBLANK(INDEX($C:$C,))), \"\", 'PWS Records (System Entry)'!$D$4)","v":""},{"$f":"IF(AND(ISBLANK(INDEX($G:$G,)), ISBLANK(INDEX($C:$C,))), \"\", 'PWS Records (System Entry)'!$D$3)","v":""},null,null,null,null,null,null,null,null,null,null,null,null,null,null,null,null,null,null,""]
[{"$f":"IF(AND(ISBLANK(INDEX($G:$G,)), ISBLANK(INDEX($C:$C,))), \"\", 'PWS Records (System Entry)'!$D$4)","v":""},{"$f":"IF(AND(ISBLANK(INDEX($G:$G,)), ISBLANK(INDEX($C:$C,))), \"\", 'PWS Records (System Entry)'!$D$3)","v":""},null,null,null,null,null,null,null,null,null,null,null,null,null,null,null,null,null,null,""]
[{"$f":"IF(AND(ISBLANK(INDEX($G:$G,)), ISBLANK(INDEX($C:$C,))), \"\", 'PWS Records (System Entry)'!$D$4)","v":""},{"$f":"IF(AND(ISBLANK(INDEX($G:$G,)), ISBLANK(INDEX($C:$C,))), \"\", 'PWS Records (System Entry)'!$D$3)","v":""},null,null,null,null,null,null,null,null,null,null,null,null,null,null,null,null,null,null,""]
[{"$f":"IF(AND(ISBLANK(INDEX($G:$G,)), ISBLANK(INDEX($C:$C,))), \"\", 'PWS Records (System Entry)'!$D$4)","v":""},{"$f":"IF(AND(ISBLANK(INDEX($G:$G,)), ISBLANK(INDEX($C:$C,))), \"\", 'PWS Records (System Entry)'!$D$3)","v":""},null,null,null,null,null,null,null,null,null,null,null,null,null,null,null,null,null,null,""]
[{"$f":"IF(AND(ISBLANK(INDEX($G:$G,)), ISBLANK(INDEX($C:$C,))), \"\", 'PWS Records (System Entry)'!$D$4)","v":""},{"$f":"IF(AND(ISBLANK(INDEX($G:$G,)), ISBLANK(INDEX($C:$C,))), \"\", 'PWS Records (System Entry)'!$D$3)","v":""},null,null,null,null,null,null,null,null,null,null,null,null,null,null,null,null,null,null,""]
[{"$f":"IF(AND(ISBLANK(INDEX($G:$G,)), ISBLANK(INDEX($C:$C,))), \"\", 'PWS Records (System Entry)'!$D$4)","v":""},{"$f":"IF(AND(ISBLANK(INDEX($G:$G,)), ISBLANK(INDEX($C:$C,))), \"\", 'PWS Records (System Entry)'!$D$3)","v":""},null,null,null,null,null,null,null,null,null,null,null,null,null,null,null,null,null,null,""]
[{"$f":"IF(AND(ISBLANK(INDEX($G:$G,)), ISBLANK(INDEX($C:$C,))), \"\", 'PWS Records (System Entry)'!$D$4)","v":""},{"$f":"IF(AND(ISBLANK(INDEX($G:$G,)), ISBLANK(INDEX($C:$C,))), \"\", 'PWS Records (System Entry)'!$D$3)","v":""},null,null,null,null,null,null,null,null,null,null,null,null,null,null,null,null,null,null,""]
[{"$f":"IF(AND(ISBLANK(INDEX($G:$G,)), ISBLANK(INDEX($C:$C,))), \"\", 'PWS Records (System Entry)'!$D$4)","v":""},{"$f":"IF(AND(ISBLANK(INDEX($G:$G,)), ISBLANK(INDEX($C:$C,))), \"\", 'PWS Records (System Entry)'!$D$3)","v":""},null,null,null,null,null,null,null,null,null,null,null,null,null,null,null,null,null,null,""]
[{"$f":"IF(AND(ISBLANK(INDEX($G:$G,)), ISBLANK(INDEX($C:$C,))), \"\", 'PWS Records (System Entry)'!$D$4)","v":""},{"$f":"IF(AND(ISBLANK(INDEX($G:$G,)), ISBLANK(INDEX($C:$C,))), \"\", 'PWS Records (System Entry)'!$D$3)","v":""},null,null,null,null,null,null,null,null,null,null,null,null,null,null,null,null,null,null,""]
[{"$f":"IF(AND(ISBLANK(INDEX($G:$G,)), ISBLANK(INDEX($C:$C,))), \"\", 'PWS Records (System Entry)'!$D$4)","v":""},{"$f":"IF(AND(ISBLANK(INDEX($G:$G,)), ISBLANK(INDEX($C:$C,))), \"\", 'PWS Records (System Entry)'!$D$3)","v":""},null,null,null,null,null,null,null,null,null,null,null,null,null,null,null,null,null,null,""]
[{"$f":"IF(AND(ISBLANK(INDEX($G:$G,)), ISBLANK(INDEX($C:$C,))), \"\", 'PWS Records (System Entry)'!$D$4)","v":""},{"$f":"IF(AND(ISBLANK(INDEX($G:$G,)), ISBLANK(INDEX($C:$C,))), \"\", 'PWS Records (System Entry)'!$D$3)","v":""},null,null,null,null,null,null,null,null,null,null,null,null,null,null,null,null,null,null,""]
[{"$f":"IF(AND(ISBLANK(INDEX($G:$G,)), ISBLANK(INDEX($C:$C,))), \"\", 'PWS Records (System Entry)'!$D$4)","v":""},{"$f":"IF(AND(ISBLANK(INDEX($G:$G,)), ISBLANK(INDEX($C:$C,))), \"\", 'PWS Records (System Entry)'!$D$3)","v":""},null,null,null,null,null,null,null,null,null,null,null,null,null,null,null,null,null,null,""]
[{"$f":"IF(AND(ISBLANK(INDEX($G:$G,)), ISBLANK(INDEX($C:$C,))), \"\", 'PWS Records (System Entry)'!$D$4)","v":""},{"$f":"IF(AND(ISBLANK(INDEX($G:$G,)), ISBLANK(INDEX($C:$C,))), \"\", 'PWS Records (System Entry)'!$D$3)","v":""},null,null,null,null,null,null,null,null,null,null,null,null,null,null,null,null,null,null,""]
[{"$f":"IF(AND(ISBLANK(INDEX($G:$G,)), ISBLANK(INDEX($C:$C,))), \"\", 'PWS Records (System Entry)'!$D$4)","v":""},{"$f":"IF(AND(ISBLANK(INDEX($G:$G,)), ISBLANK(INDEX($C:$C,))), \"\", 'PWS Records (System Entry)'!$D$3)","v":""},null,null,null,null,null,null,null,null,null,null,null,null,null,null,null,null,null,null,""]
[{"$f":"IF(AND(ISBLANK(INDEX($G:$G,)), ISBLANK(INDEX($C:$C,))), \"\", 'PWS Records (System Entry)'!$D$4)","v":""},{"$f":"IF(AND(ISBLANK(INDEX($G:$G,)), ISBLANK(INDEX($C:$C,))), \"\", 'PWS Records (System Entry)'!$D$3)","v":""},null,null,null,null,null,null,null,null,null,null,null,null,null,null,null,null,null,null,""]
[{"$f":"IF(AND(ISBLANK(INDEX($G:$G,)), ISBLANK(INDEX($C:$C,))), \"\", 'PWS Records (System Entry)'!$D$4)","v":""},{"$f":"IF(AND(ISBLANK(INDEX($G:$G,)), ISBLANK(INDEX($C:$C,))), \"\", 'PWS Records (System Entry)'!$D$3)","v":""},null,null,null,null,null,null,null,null,null,null,null,null,null,null,null,null,null,null,""]
[{"$f":"IF(AND(ISBLANK(INDEX($G:$G,)), ISBLANK(INDEX($C:$C,))), \"\", 'PWS Records (System Entry)'!$D$4)","v":""},{"$f":"IF(AND(ISBLANK(INDEX($G:$G,)), ISBLANK(INDEX($C:$C,))), \"\", 'PWS Records (System Entry)'!$D$3)","v":""},null,null,null,null,null,null,null,null,null,null,null,null,null,null,null,null,null,null,""]
[{"$f":"IF(AND(ISBLANK(INDEX($G:$G,)), ISBLANK(INDEX($C:$C,))), \"\", 'PWS Records (System Entry)'!$D$4)","v":""},{"$f":"IF(AND(ISBLANK(INDEX($G:$G,)), ISBLANK(INDEX($C:$C,))), \"\", 'PWS Records (System Entry)'!$D$3)","v":""},null,null,null,null,null,null,null,null,null,null,null,null,null,null,null,null,null,null,""]
[{"$f":"IF(AND(ISBLANK(INDEX($G:$G,)), ISBLANK(INDEX($C:$C,))), \"\", 'PWS Records (System Entry)'!$D$4)","v":""},{"$f":"IF(AND(ISBLANK(INDEX($G:$G,)), ISBLANK(INDEX($C:$C,))), \"\", 'PWS Records (System Entry)'!$D$3)","v":""},null,null,null,null,null,null,null,null,null,null,null,null,null,null,null,null,null,null,""]
[{"$f":"IF(AND(ISBLANK(INDEX($G:$G,)), ISBLANK(INDEX($C:$C,))), \"\", 'PWS Records (System Entry)'!$D$4)","v":""},{"$f":"IF(AND(ISBLANK(INDEX($G:$G,)), ISBLANK(INDEX($C:$C,))), \"\", 'PWS Records (System Entry)'!$D$3)","v":""},null,null,null,null,null,null,null,null,null,null,null,null,null,null,null,null,null,null,""]
[{"$f":"IF(AND(ISBLANK(INDEX($G:$G,)), ISBLANK(INDEX($C:$C,))), \"\", 'PWS Records (System Entry)'!$D$4)","v":""},{"$f":"IF(AND(ISBLANK(INDEX($G:$G,)), ISBLANK(INDEX($C:$C,))), \"\", 'PWS Records (System Entry)'!$D$3)","v":""},null,null,null,null,null,null,null,null,null,null,null,null,null,null,null,null,null,null,{"$f":"IF(AND(INDEX($K:$K,)=\"\", INDEX($L:$L,)=\"\", INDEX($M:$M,)=\"\", INDEX($Q:$Q,)=\"\", INDEX($R:$R,)=\"\"), \"\", IF(OR(INDEX($K:$K,)=\"Lead\",INDEX($Q:$Q,)=\"Lead\"),\"Lead\",IF(OR(AND(OR(INDEX($M:$M,)=\"Yes\", INDEX($M:$M,)=\"Don't Know\", INDEX($M:$M,)=\"\"), INDEX($Q:$Q,)=\"Galvanized Iron/Steel\"), AND(INDEX($K:$K,)=\"Unknown\", INDEX($M:$M,)=\"No\", INDEX($Q:$Q,)=\"Galvanized Iron/Steel\")), \"Galvanized Requiring Replacement\", IF(OR(AND(OR(INDEX($K:$K,)=\"Galvanized Iron/Steel\", INDEX($K:$K,)=\"Non-Lead - Copper\", INDEX($K:$K,)=\"Non-Lead - Plastic\", INDEX($K:$K,)=\"Non-Lead - Other\", INDEX($K:$K,)=\"Non-Lead - Material Unknown\", INDEX($K:$K,)=\"No System Owned Portion\"), OR(INDEX($Q:$Q,)=\"Galvanized Iron/Steel\", INDEX($Q:$Q,)=\"Non-Lead - Copper\", INDEX($Q:$Q,)=\"Non-Lead - Plastic\", INDEX($Q:$Q,)=\"Non-Lead - Other\", INDEX($Q:$Q,)=\"Non-Lead - Predictive Model\", INDEX($Q:$Q,)=\"No Customer Owned Portion\")), AND(OR( INDEX($K:$K,)=\"Galvanized Iron/Steel\", INDEX($K:$K,)=\"Non-Lead - Copper\", INDEX($K:$K,)=\"Non-Lead - Plastic\", INDEX($K:$K,)=\"Non-Lead - Other\", INDEX($K:$K,)=\"Non-Lead - Material Unknown\", INDEX($K:$K,)=\"No System Owned Portion\"), INDEX($M:$M,)=\"No\", INDEX($Q:$Q,)=\"Non-Lead - Material Unknown\")), \"Non-Lead\", \"Lead Status Unknown\"))))","v":""}]
[{"$f":"IF(AND(ISBLANK(INDEX($G:$G,)), ISBLANK(INDEX($C:$C,))), \"\", 'PWS Records (System Entry)'!$D$4)","v":""},{"$f":"IF(AND(ISBLANK(INDEX($G:$G,)), ISBLANK(INDEX($C:$C,))), \"\", 'PWS Records (System Entry)'!$D$3)","v":""},null,null,null,null,null,null,null,null,null,null,null,null,null,null,null,null,null,null,""]
[{"$f":"IF(AND(ISBLANK(INDEX($G:$G,)), ISBLANK(INDEX($C:$C,))), \"\", 'PWS Records (System Entry)'!$D$4)","v":""},{"$f":"IF(AND(ISBLANK(INDEX($G:$G,)), ISBLANK(INDEX($C:$C,))), \"\", 'PWS Records (System Entry)'!$D$3)","v":""},null,null,null,null,null,null,null,null,null,null,null,null,null,null,null,null,null,null,""]
[{"$f":"IF(AND(ISBLANK(INDEX($G:$G,)), ISBLANK(INDEX($C:$C,))), \"\", 'PWS Records (System Entry)'!$D$4)","v":""},{"$f":"IF(AND(ISBLANK(INDEX($G:$G,)), ISBLANK(INDEX($C:$C,))), \"\", 'PWS Records (System Entry)'!$D$3)","v":""},null,null,null,null,null,null,null,null,null,null,null,null,null,null,null,null,null,null,""]
[{"$f":"IF(AND(ISBLANK(INDEX($G:$G,)), ISBLANK(INDEX($C:$C,))), \"\", 'PWS Records (System Entry)'!$D$4)","v":""},{"$f":"IF(AND(ISBLANK(INDEX($G:$G,)), ISBLANK(INDEX($C:$C,))), \"\", 'PWS Records (System Entry)'!$D$3)","v":""},null,null,null,null,null,null,null,null,null,null,null,null,null,null,null,null,null,null,""]
[{"$f":"IF(AND(ISBLANK(INDEX($G:$G,)), ISBLANK(INDEX($C:$C,))), \"\", 'PWS Records (System Entry)'!$D$4)","v":""},{"$f":"IF(AND(ISBLANK(INDEX($G:$G,)), ISBLANK(INDEX($C:$C,))), \"\", 'PWS Records (System Entry)'!$D$3)","v":""},null,null,null,null,null,null,null,null,null,null,null,null,null,null,null,null,null,null,""]
[{"$f":"IF(AND(ISBLANK(INDEX($G:$G,)), ISBLANK(INDEX($C:$C,))), \"\", 'PWS Records (System Entry)'!$D$4)","v":""},{"$f":"IF(AND(ISBLANK(INDEX($G:$G,)), ISBLANK(INDEX($C:$C,))), \"\", 'PWS Records (System Entry)'!$D$3)","v":""},null,null,null,null,null,null,null,null,null,null,null,null,null,null,null,null,null,null,""]
[{"$f":"IF(AND(ISBLANK(INDEX($G:$G,)), ISBLANK(INDEX($C:$C,))), \"\", 'PWS Records (System Entry)'!$D$4)","v":""},{"$f":"IF(AND(ISBLANK(INDEX($G:$G,)), ISBLANK(INDEX($C:$C,))), \"\", 'PWS Records (System Entry)'!$D$3)","v":""},null,null,null,null,null,null,null,null,null,null,null,null,null,null,null,null,null,null,""]
[{"$f":"IF(AND(ISBLANK(INDEX($G:$G,)), ISBLANK(INDEX($C:$C,))), \"\", 'PWS Records (System Entry)'!$D$4)","v":""},{"$f":"IF(AND(ISBLANK(INDEX($G:$G,)), ISBLANK(INDEX($C:$C,))), \"\", 'PWS Records (System Entry)'!$D$3)","v":""},null,null,null,null,null,null,null,null,null,null,null,null,null,null,null,null,null,null,""]
[{"$f":"IF(AND(ISBLANK(INDEX($G:$G,)), ISBLANK(INDEX($C:$C,))), \"\", 'PWS Records (System Entry)'!$D$4)","v":""},{"$f":"IF(AND(ISBLANK(INDEX($G:$G,)), ISBLANK(INDEX($C:$C,))), \"\", 'PWS Records (System Entry)'!$D$3)","v":""},null,null,null,null,null,null,null,null,null,null,null,null,null,null,null,null,null,null,""]
[{"$f":"IF(AND(ISBLANK(INDEX($G:$G,)), ISBLANK(INDEX($C:$C,))), \"\", 'PWS Records (System Entry)'!$D$4)","v":""},{"$f":"IF(AND(ISBLANK(INDEX($G:$G,)), ISBLANK(INDEX($C:$C,))), \"\", 'PWS Records (System Entry)'!$D$3)","v":""},null,null,null,null,null,null,null,null,null,null,null,null,null,null,null,null,null,null,""]
[{"$f":"IF(AND(ISBLANK(INDEX($G:$G,)), ISBLANK(INDEX($C:$C,))), \"\", 'PWS Records (System Entry)'!$D$4)","v":""},{"$f":"IF(AND(ISBLANK(INDEX($G:$G,)), ISBLANK(INDEX($C:$C,))), \"\", 'PWS Records (System Entry)'!$D$3)","v":""},null,null,null,null,null,null,null,null,null,null,null,null,null,null,null,null,null,null,""]
[{"$f":"IF(AND(ISBLANK(INDEX($G:$G,)), ISBLANK(INDEX($C:$C,))), \"\", 'PWS Records (System Entry)'!$D$4)","v":""},{"$f":"IF(AND(ISBLANK(INDEX($G:$G,)), ISBLANK(INDEX($C:$C,))), \"\", 'PWS Records (System Entry)'!$D$3)","v":""},null,null,null,null,null,null,null,null,null,null,null,null,null,null,null,null,null,null,""]
[{"$f":"IF(AND(ISBLANK(INDEX($G:$G,)), ISBLANK(INDEX($C:$C,))), \"\", 'PWS Records (System Entry)'!$D$4)","v":""},{"$f":"IF(AND(ISBLANK(INDEX($G:$G,)), ISBLANK(INDEX($C:$C,))), \"\", 'PWS Records (System Entry)'!$D$3)","v":""},null,null,null,null,null,null,null,null,null,null,null,null,null,null,null,null,null,null,""]
[{"$f":"IF(AND(ISBLANK(INDEX($G:$G,)), ISBLANK(INDEX($C:$C,))), \"\", 'PWS Records (System Entry)'!$D$4)","v":""},{"$f":"IF(AND(ISBLANK(INDEX($G:$G,)), ISBLANK(INDEX($C:$C,))), \"\", 'PWS Records (System Entry)'!$D$3)","v":""},null,null,null,null,null,null,null,null,null,null,null,null,null,null,null,null,null,null,""]
[{"$f":"IF(AND(ISBLANK(INDEX($G:$G,)), ISBLANK(INDEX($C:$C,))), \"\", 'PWS Records (System Entry)'!$D$4)","v":""},{"$f":"IF(AND(ISBLANK(INDEX($G:$G,)), ISBLANK(INDEX($C:$C,))), \"\", 'PWS Records (System Entry)'!$D$3)","v":""},null,null,null,null,null,null,null,null,null,null,null,null,null,null,null,null,null,null,""]
[{"$f":"IF(AND(ISBLANK(INDEX($G:$G,)), ISBLANK(INDEX($C:$C,))), \"\", 'PWS Records (System Entry)'!$D$4)","v":""},{"$f":"IF(AND(ISBLANK(INDEX($G:$G,)), ISBLANK(INDEX($C:$C,))), \"\", 'PWS Records (System Entry)'!$D$3)","v":""},null,null,null,null,null,null,null,null,null,null,null,null,null,null,null,null,null,null,""]
[{"$f":"IF(AND(ISBLANK(INDEX($G:$G,)), ISBLANK(INDEX($C:$C,))), \"\", 'PWS Records (System Entry)'!$D$4)","v":""},{"$f":"IF(AND(ISBLANK(INDEX($G:$G,)), ISBLANK(INDEX($C:$C,))), \"\", 'PWS Records (System Entry)'!$D$3)","v":""},null,null,null,null,null,null,null,null,null,null,null,null,null,null,null,null,null,null,""]
[{"$f":"IF(AND(ISBLANK(INDEX($G:$G,)), ISBLANK(INDEX($C:$C,))), \"\", 'PWS Records (System Entry)'!$D$4)","v":""},{"$f":"IF(AND(ISBLANK(INDEX($G:$G,)), ISBLANK(INDEX($C:$C,))), \"\", 'PWS Records (System Entry)'!$D$3)","v":""},null,null,null,null,null,null,null,null,null,null,null,null,null,null,null,null,null,null,""]
[{"$f":"IF(AND(ISBLANK(INDEX($G:$G,)), ISBLANK(INDEX($C:$C,))), \"\", 'PWS Records (System Entry)'!$D$4)","v":""},{"$f":"IF(AND(ISBLANK(INDEX($G:$G,)), ISBLANK(INDEX($C:$C,))), \"\", 'PWS Records (System Entry)'!$D$3)","v":""},null,null,null,null,null,null,null,null,null,null,null,null,null,null,null,null,null,null,""]
[{"$f":"IF(AND(ISBLANK(INDEX($G:$G,)), ISBLANK(INDEX($C:$C,))), \"\", 'PWS Records (System Entry)'!$D$4)","v":""},{"$f":"IF(AND(ISBLANK(INDEX($G:$G,)), ISBLANK(INDEX($C:$C,))), \"\", 'PWS Records (System Entry)'!$D$3)","v":""},null,null,null,null,null,null,null,null,null,null,null,null,null,null,null,null,null,null,""]
[{"$f":"IF(AND(ISBLANK(INDEX($G:$G,)), ISBLANK(INDEX($C:$C,))), \"\", 'PWS Records (System Entry)'!$D$4)","v":""},{"$f":"IF(AND(ISBLANK(INDEX($G:$G,)), ISBLANK(INDEX($C:$C,))), \"\", 'PWS Records (System Entry)'!$D$3)","v":""},null,null,null,null,null,null,null,null,null,null,null,null,null,null,null,null,null,null,""]
[{"$f":"IF(AND(ISBLANK(INDEX($G:$G,)), ISBLANK(INDEX($C:$C,))), \"\", 'PWS Records (System Entry)'!$D$4)","v":""},{"$f":"IF(AND(ISBLANK(INDEX($G:$G,)), ISBLANK(INDEX($C:$C,))), \"\", 'PWS Records (System Entry)'!$D$3)","v":""},null,null,null,null,null,null,null,null,null,null,null,null,null,null,null,null,null,null,""]
[{"$f":"IF(AND(ISBLANK(INDEX($G:$G,)), ISBLANK(INDEX($C:$C,))), \"\", 'PWS Records (System Entry)'!$D$4)","v":""},{"$f":"IF(AND(ISBLANK(INDEX($G:$G,)), ISBLANK(INDEX($C:$C,))), \"\", 'PWS Records (System Entry)'!$D$3)","v":""},null,null,null,null,null,null,null,null,null,null,null,null,null,null,null,null,null,null,""]
[{"$f":"IF(AND(ISBLANK(INDEX($G:$G,)), ISBLANK(INDEX($C:$C,))), \"\", 'PWS Records (System Entry)'!$D$4)","v":""},{"$f":"IF(AND(ISBLANK(INDEX($G:$G,)), ISBLANK(INDEX($C:$C,))), \"\", 'PWS Records (System Entry)'!$D$3)","v":""},null,null,null,null,null,null,null,null,null,null,null,null,null,null,null,null,null,null,""]
[{"$f":"IF(AND(ISBLANK(INDEX($G:$G,)), ISBLANK(INDEX($C:$C,))), \"\", 'PWS Records (System Entry)'!$D$4)","v":""},{"$f":"IF(AND(ISBLANK(INDEX($G:$G,)), ISBLANK(INDEX($C:$C,))), \"\", 'PWS Records (System Entry)'!$D$3)","v":""},null,null,null,null,null,null,null,null,null,null,null,null,null,null,null,null,null,null,""]
[{"$f":"IF(AND(ISBLANK(INDEX($G:$G,)), ISBLANK(INDEX($C:$C,))), \"\", 'PWS Records (System Entry)'!$D$4)","v":""},{"$f":"IF(AND(ISBLANK(INDEX($G:$G,)), ISBLANK(INDEX($C:$C,))), \"\", 'PWS Records (System Entry)'!$D$3)","v":""},null,null,null,null,null,null,null,null,null,null,null,null,null,null,null,null,null,null,""]
[{"$f":"IF(AND(ISBLANK(INDEX($G:$G,)), ISBLANK(INDEX($C:$C,))), \"\", 'PWS Records (System Entry)'!$D$4)","v":""},{"$f":"IF(AND(ISBLANK(INDEX($G:$G,)), ISBLANK(INDEX($C:$C,))), \"\", 'PWS Records (System Entry)'!$D$3)","v":""},null,null,null,null,null,null,null,null,null,null,null,null,null,null,null,null,null,null,""]
[{"$f":"IF(AND(ISBLANK(INDEX($G:$G,)), ISBLANK(INDEX($C:$C,))), \"\", 'PWS Records (System Entry)'!$D$4)","v":""},{"$f":"IF(AND(ISBLANK(INDEX($G:$G,)), ISBLANK(INDEX($C:$C,))), \"\", 'PWS Records (System Entry)'!$D$3)","v":""},null,null,null,null,null,null,null,null,null,null,null,null,null,null,null,null,null,null,""]
[{"$f":"IF(AND(ISBLANK(INDEX($G:$G,)), ISBLANK(INDEX($C:$C,))), \"\", 'PWS Records (System Entry)'!$D$4)","v":""},{"$f":"IF(AND(ISBLANK(INDEX($G:$G,)), ISBLANK(INDEX($C:$C,))), \"\", 'PWS Records (System Entry)'!$D$3)","v":""},null,null,null,null,null,null,null,null,null,null,null,null,null,null,null,null,null,null,""]
[{"$f":"IF(AND(ISBLANK(INDEX($G:$G,)), ISBLANK(INDEX($C:$C,))), \"\", 'PWS Records (System Entry)'!$D$4)","v":""},{"$f":"IF(AND(ISBLANK(INDEX($G:$G,)), ISBLANK(INDEX($C:$C,))), \"\", 'PWS Records (System Entry)'!$D$3)","v":""},null,null,null,null,null,null,null,null,null,null,null,null,null,null,null,null,null,null,""]
[{"$f":"IF(AND(ISBLANK(INDEX($G:$G,)), ISBLANK(INDEX($C:$C,))), \"\", 'PWS Records (System Entry)'!$D$4)","v":""},{"$f":"IF(AND(ISBLANK(INDEX($G:$G,)), ISBLANK(INDEX($C:$C,))), \"\", 'PWS Records (System Entry)'!$D$3)","v":""},null,null,null,null,null,null,null,null,null,null,null,null,null,null,null,null,null,null,""]
[{"$f":"IF(AND(ISBLANK(INDEX($G:$G,)), ISBLANK(INDEX($C:$C,))), \"\", 'PWS Records (System Entry)'!$D$4)","v":""},{"$f":"IF(AND(ISBLANK(INDEX($G:$G,)), ISBLANK(INDEX($C:$C,))), \"\", 'PWS Records (System Entry)'!$D$3)","v":""},null,null,null,null,null,null,null,null,null,null,null,null,null,null,null,null,null,null,""]
[{"$f":"IF(AND(ISBLANK(INDEX($G:$G,)), ISBLANK(INDEX($C:$C,))), \"\", 'PWS Records (System Entry)'!$D$4)","v":""},{"$f":"IF(AND(ISBLANK(INDEX($G:$G,)), ISBLANK(INDEX($C:$C,))), \"\", 'PWS Records (System Entry)'!$D$3)","v":""},null,null,null,null,null,null,null,null,null,null,null,null,null,null,null,null,null,null,""]
[{"$f":"IF(AND(ISBLANK(INDEX($G:$G,)), ISBLANK(INDEX($C:$C,))), \"\", 'PWS Records (System Entry)'!$D$4)","v":""},{"$f":"IF(AND(ISBLANK(INDEX($G:$G,)), ISBLANK(INDEX($C:$C,))), \"\", 'PWS Records (System Entry)'!$D$3)","v":""},null,null,null,null,null,null,null,null,null,null,null,null,null,null,null,null,null,null,""]
[{"$f":"IF(AND(ISBLANK(INDEX($G:$G,)), ISBLANK(INDEX($C:$C,))), \"\", 'PWS Records (System Entry)'!$D$4)","v":""},{"$f":"IF(AND(ISBLANK(INDEX($G:$G,)), ISBLANK(INDEX($C:$C,))), \"\", 'PWS Records (System Entry)'!$D$3)","v":""},null,null,null,null,null,null,null,null,null,null,null,null,null,null,null,null,null,null,""]
[{"$f":"IF(AND(ISBLANK(INDEX($G:$G,)), ISBLANK(INDEX($C:$C,))), \"\", 'PWS Records (System Entry)'!$D$4)","v":""},{"$f":"IF(AND(ISBLANK(INDEX($G:$G,)), ISBLANK(INDEX($C:$C,))), \"\", 'PWS Records (System Entry)'!$D$3)","v":""},null,null,null,null,null,null,null,null,null,null,null,null,null,null,null,null,null,null,""]
[{"$f":"IF(AND(ISBLANK(INDEX($G:$G,)), ISBLANK(INDEX($C:$C,))), \"\", 'PWS Records (System Entry)'!$D$4)","v":""},{"$f":"IF(AND(ISBLANK(INDEX($G:$G,)), ISBLANK(INDEX($C:$C,))), \"\", 'PWS Records (System Entry)'!$D$3)","v":""},null,null,null,null,null,null,null,null,null,null,null,null,null,null,null,null,null,null,""]
[{"$f":"IF(AND(ISBLANK(INDEX($G:$G,)), ISBLANK(INDEX($C:$C,))), \"\", 'PWS Records (System Entry)'!$D$4)","v":""},{"$f":"IF(AND(ISBLANK(INDEX($G:$G,)), ISBLANK(INDEX($C:$C,))), \"\", 'PWS Records (System Entry)'!$D$3)","v":""},null,null,null,null,null,null,null,null,null,null,null,null,null,null,null,null,null,null,""]
[{"$f":"IF(AND(ISBLANK(INDEX($G:$G,)), ISBLANK(INDEX($C:$C,))), \"\", 'PWS Records (System Entry)'!$D$4)","v":""},{"$f":"IF(AND(ISBLANK(INDEX($G:$G,)), ISBLANK(INDEX($C:$C,))), \"\", 'PWS Records (System Entry)'!$D$3)","v":""},null,null,null,null,null,null,null,null,null,null,null,null,null,null,null,null,null,null,""]
[{"$f":"IF(AND(ISBLANK(INDEX($G:$G,)), ISBLANK(INDEX($C:$C,))), \"\", 'PWS Records (System Entry)'!$D$4)","v":""},{"$f":"IF(AND(ISBLANK(INDEX($G:$G,)), ISBLANK(INDEX($C:$C,))), \"\", 'PWS Records (System Entry)'!$D$3)","v":""},null,null,null,null,null,null,null,null,null,null,null,null,null,null,null,null,null,null,""]
[{"$f":"IF(AND(ISBLANK(INDEX($G:$G,)), ISBLANK(INDEX($C:$C,))), \"\", 'PWS Records (System Entry)'!$D$4)","v":""},{"$f":"IF(AND(ISBLANK(INDEX($G:$G,)), ISBLANK(INDEX($C:$C,))), \"\", 'PWS Records (System Entry)'!$D$3)","v":""},null,null,null,null,null,null,null,null,null,null,null,null,null,null,null,null,null,null,""]
[{"$f":"IF(AND(ISBLANK(INDEX($G:$G,)), ISBLANK(INDEX($C:$C,))), \"\", 'PWS Records (System Entry)'!$D$4)","v":""},{"$f":"IF(AND(ISBLANK(INDEX($G:$G,)), ISBLANK(INDEX($C:$C,))), \"\", 'PWS Records (System Entry)'!$D$3)","v":""},null,null,null,null,null,null,null,null,null,null,null,null,null,null,null,null,null,null,""]
[{"$f":"IF(AND(ISBLANK(INDEX($G:$G,)), ISBLANK(INDEX($C:$C,))), \"\", 'PWS Records (System Entry)'!$D$4)","v":""},{"$f":"IF(AND(ISBLANK(INDEX($G:$G,)), ISBLANK(INDEX($C:$C,))), \"\", 'PWS Records (System Entry)'!$D$3)","v":""},null,null,null,null,null,null,null,null,null,null,null,null,null,null,null,null,null,null,""]
[{"$f":"IF(AND(ISBLANK(INDEX($G:$G,)), ISBLANK(INDEX($C:$C,))), \"\", 'PWS Records (System Entry)'!$D$4)","v":""},{"$f":"IF(AND(ISBLANK(INDEX($G:$G,)), ISBLANK(INDEX($C:$C,))), \"\", 'PWS Records (System Entry)'!$D$3)","v":""},null,null,null,null,null,null,null,null,null,null,null,null,null,null,null,null,null,null,""]
[{"$f":"IF(AND(ISBLANK(INDEX($G:$G,)), ISBLANK(INDEX($C:$C,))), \"\", 'PWS Records (System Entry)'!$D$4)","v":""},{"$f":"IF(AND(ISBLANK(INDEX($G:$G,)), ISBLANK(INDEX($C:$C,))), \"\", 'PWS Records (System Entry)'!$D$3)","v":""},null,null,null,null,null,null,null,null,null,null,null,null,null,null,null,null,null,null,""]
[{"$f":"IF(AND(ISBLANK(INDEX($G:$G,)), ISBLANK(INDEX($C:$C,))), \"\", 'PWS Records (System Entry)'!$D$4)","v":""},{"$f":"IF(AND(ISBLANK(INDEX($G:$G,)), ISBLANK(INDEX($C:$C,))), \"\", 'PWS Records (System Entry)'!$D$3)","v":""},null,null,null,null,null,null,null,null,null,null,null,null,null,null,null,null,null,null,""]
[{"$f":"IF(AND(ISBLANK(INDEX($G:$G,)), ISBLANK(INDEX($C:$C,))), \"\", 'PWS Records (System Entry)'!$D$4)","v":""},{"$f":"IF(AND(ISBLANK(INDEX($G:$G,)), ISBLANK(INDEX($C:$C,))), \"\", 'PWS Records (System Entry)'!$D$3)","v":""},null,null,null,null,null,null,null,null,null,null,null,null,null,null,null,null,null,null,""]
[{"$f":"IF(AND(ISBLANK(INDEX($G:$G,)), ISBLANK(INDEX($C:$C,))), \"\", 'PWS Records (System Entry)'!$D$4)","v":""},{"$f":"IF(AND(ISBLANK(INDEX($G:$G,)), ISBLANK(INDEX($C:$C,))), \"\", 'PWS Records (System Entry)'!$D$3)","v":""},null,null,null,null,null,null,null,null,null,null,null,null,null,null,null,null,null,null,""]
[{"$f":"IF(AND(ISBLANK(INDEX($G:$G,)), ISBLANK(INDEX($C:$C,))), \"\", 'PWS Records (System Entry)'!$D$4)","v":""},{"$f":"IF(AND(ISBLANK(INDEX($G:$G,)), ISBLANK(INDEX($C:$C,))), \"\", 'PWS Records (System Entry)'!$D$3)","v":""},null,null,null,null,null,null,null,null,null,null,null,null,null,null,null,null,null,null,""]
[{"$f":"IF(AND(ISBLANK(INDEX($G:$G,)), ISBLANK(INDEX($C:$C,))), \"\", 'PWS Records (System Entry)'!$D$4)","v":""},{"$f":"IF(AND(ISBLANK(INDEX($G:$G,)), ISBLANK(INDEX($C:$C,))), \"\", 'PWS Records (System Entry)'!$D$3)","v":""},null,null,null,null,null,null,null,null,null,null,null,null,null,null,null,null,null,null,""]
[{"$f":"IF(AND(ISBLANK(INDEX($G:$G,)), ISBLANK(INDEX($C:$C,))), \"\", 'PWS Records (System Entry)'!$D$4)","v":""},{"$f":"IF(AND(ISBLANK(INDEX($G:$G,)), ISBLANK(INDEX($C:$C,))), \"\", 'PWS Records (System Entry)'!$D$3)","v":""},null,null,null,null,null,null,null,null,null,null,null,null,null,null,null,null,null,null,""]
[{"$f":"IF(AND(ISBLANK(INDEX($G:$G,)), ISBLANK(INDEX($C:$C,))), \"\", 'PWS Records (System Entry)'!$D$4)","v":""},{"$f":"IF(AND(ISBLANK(INDEX($G:$G,)), ISBLANK(INDEX($C:$C,))), \"\", 'PWS Records (System Entry)'!$D$3)","v":""},null,null,null,null,null,null,null,null,null,null,null,null,null,null,null,null,null,null,""]
[{"$f":"IF(AND(ISBLANK(INDEX($G:$G,)), ISBLANK(INDEX($C:$C,))), \"\", 'PWS Records (System Entry)'!$D$4)","v":""},{"$f":"IF(AND(ISBLANK(INDEX($G:$G,)), ISBLANK(INDEX($C:$C,))), \"\", 'PWS Records (System Entry)'!$D$3)","v":""},null,null,null,null,null,null,null,null,null,null,null,null,null,null,null,null,null,null,""]
[{"$f":"IF(AND(ISBLANK(INDEX($G:$G,)), ISBLANK(INDEX($C:$C,))), \"\", 'PWS Records (System Entry)'!$D$4)","v":""},{"$f":"IF(AND(ISBLANK(INDEX($G:$G,)), ISBLANK(INDEX($C:$C,))), \"\", 'PWS Records (System Entry)'!$D$3)","v":""},null,null,null,null,null,null,null,null,null,null,null,null,null,null,null,null,null,null,""]
[{"$f":"IF(AND(ISBLANK(INDEX($G:$G,)), ISBLANK(INDEX($C:$C,))), \"\", 'PWS Records (System Entry)'!$D$4)","v":""},{"$f":"IF(AND(ISBLANK(INDEX($G:$G,)), ISBLANK(INDEX($C:$C,))), \"\", 'PWS Records (System Entry)'!$D$3)","v":""},null,null,null,null,null,null,null,null,null,null,null,null,null,null,null,null,null,null,""]
[{"$f":"IF(AND(ISBLANK(INDEX($G:$G,)), ISBLANK(INDEX($C:$C,))), \"\", 'PWS Records (System Entry)'!$D$4)","v":""},{"$f":"IF(AND(ISBLANK(INDEX($G:$G,)), ISBLANK(INDEX($C:$C,))), \"\", 'PWS Records (System Entry)'!$D$3)","v":""},null,null,null,null,null,null,null,null,null,null,null,null,null,null,null,null,null,null,""]
[{"$f":"IF(AND(ISBLANK(INDEX($G:$G,)), ISBLANK(INDEX($C:$C,))), \"\", 'PWS Records (System Entry)'!$D$4)","v":""},{"$f":"IF(AND(ISBLANK(INDEX($G:$G,)), ISBLANK(INDEX($C:$C,))), \"\", 'PWS Records (System Entry)'!$D$3)","v":""},null,null,null,null,null,null,null,null,null,null,null,null,null,null,null,null,null,null,""]
[{"$f":"IF(AND(ISBLANK(INDEX($G:$G,)), ISBLANK(INDEX($C:$C,))), \"\", 'PWS Records (System Entry)'!$D$4)","v":""},{"$f":"IF(AND(ISBLANK(INDEX($G:$G,)), ISBLANK(INDEX($C:$C,))), \"\", 'PWS Records (System Entry)'!$D$3)","v":""},null,null,null,null,null,null,null,null,null,null,null,null,null,null,null,null,null,null,""]
[{"$f":"IF(AND(ISBLANK(INDEX($G:$G,)), ISBLANK(INDEX($C:$C,))), \"\", 'PWS Records (System Entry)'!$D$4)","v":""},{"$f":"IF(AND(ISBLANK(INDEX($G:$G,)), ISBLANK(INDEX($C:$C,))), \"\", 'PWS Records (System Entry)'!$D$3)","v":""},null,null,null,null,null,null,null,null,null,null,null,null,null,null,null,null,null,null,""]
[{"$f":"IF(AND(ISBLANK(INDEX($G:$G,)), ISBLANK(INDEX($C:$C,))), \"\", 'PWS Records (System Entry)'!$D$4)","v":""},{"$f":"IF(AND(ISBLANK(INDEX($G:$G,)), ISBLANK(INDEX($C:$C,))), \"\", 'PWS Records (System Entry)'!$D$3)","v":""},null,null,null,null,null,null,null,null,null,null,null,null,null,null,null,null,null,null,""]
[{"$f":"IF(AND(ISBLANK(INDEX($G:$G,)), ISBLANK(INDEX($C:$C,))), \"\", 'PWS Records (System Entry)'!$D$4)","v":""},{"$f":"IF(AND(ISBLANK(INDEX($G:$G,)), ISBLANK(INDEX($C:$C,))), \"\", 'PWS Records (System Entry)'!$D$3)","v":""},null,null,null,null,null,null,null,null,null,null,null,null,null,null,null,null,null,null,""]
[{"$f":"IF(AND(ISBLANK(INDEX($G:$G,)), ISBLANK(INDEX($C:$C,))), \"\", 'PWS Records (System Entry)'!$D$4)","v":""},{"$f":"IF(AND(ISBLANK(INDEX($G:$G,)), ISBLANK(INDEX($C:$C,))), \"\", 'PWS Records (System Entry)'!$D$3)","v":""},null,null,null,null,null,null,null,null,null,null,null,null,null,null,null,null,null,null,""]
[{"$f":"IF(AND(ISBLANK(INDEX($G:$G,)), ISBLANK(INDEX($C:$C,))), \"\", 'PWS Records (System Entry)'!$D$4)","v":""},{"$f":"IF(AND(ISBLANK(INDEX($G:$G,)), ISBLANK(INDEX($C:$C,))), \"\", 'PWS Records (System Entry)'!$D$3)","v":""},null,null,null,null,null,null,null,null,null,null,null,null,null,null,null,null,null,null,""]
[{"$f":"IF(AND(ISBLANK(INDEX($G:$G,)), ISBLANK(INDEX($C:$C,))), \"\", 'PWS Records (System Entry)'!$D$4)","v":""},{"$f":"IF(AND(ISBLANK(INDEX($G:$G,)), ISBLANK(INDEX($C:$C,))), \"\", 'PWS Records (System Entry)'!$D$3)","v":""},null,null,null,null,null,null,null,null,null,null,null,null,null,null,null,null,null,null,{"$f":"IF(AND(INDEX($K:$K,)=\"\", INDEX($L:$L,)=\"\", INDEX($M:$M,)=\"\", INDEX($Q:$Q,)=\"\", INDEX($R:$R,)=\"\"), \"\", IF(OR(INDEX($K:$K,)=\"Lead\",INDEX($Q:$Q,)=\"Lead\"),\"Lead\",IF(OR(AND(OR(INDEX($M:$M,)=\"Yes\", INDEX($M:$M,)=\"Don't Know\", INDEX($M:$M,)=\"\"), INDEX($Q:$Q,)=\"Galvanized Iron/Steel\"), AND(INDEX($K:$K,)=\"Unknown\", INDEX($M:$M,)=\"No\", INDEX($Q:$Q,)=\"Galvanized Iron/Steel\")), \"Galvanized Requiring Replacement\", IF(OR(AND(OR(INDEX($K:$K,)=\"Galvanized Iron/Steel\", INDEX($K:$K,)=\"Non-Lead - Copper\", INDEX($K:$K,)=\"Non-Lead - Plastic\", INDEX($K:$K,)=\"Non-Lead - Other\", INDEX($K:$K,)=\"Non-Lead - Material Unknown\", INDEX($K:$K,)=\"No System Owned Portion\"), OR(INDEX($Q:$Q,)=\"Galvanized Iron/Steel\", INDEX($Q:$Q,)=\"Non-Lead - Copper\", INDEX($Q:$Q,)=\"Non-Lead - Plastic\", INDEX($Q:$Q,)=\"Non-Lead - Other\", INDEX($Q:$Q,)=\"Non-Lead - Predictive Model\", INDEX($Q:$Q,)=\"No Customer Owned Portion\")), AND(OR( INDEX($K:$K,)=\"Galvanized Iron/Steel\", INDEX($K:$K,)=\"Non-Lead - Copper\", INDEX($K:$K,)=\"Non-Lead - Plastic\", INDEX($K:$K,)=\"Non-Lead - Other\", INDEX($K:$K,)=\"Non-Lead - Material Unknown\", INDEX($K:$K,)=\"No System Owned Portion\"), INDEX($M:$M,)=\"No\", INDEX($Q:$Q,)=\"Non-Lead - Material Unknown\")), \"Non-Lead\", \"Lead Status Unknown\"))))","v":""}]
[{"$f":"IF(AND(ISBLANK(INDEX($G:$G,)), ISBLANK(INDEX($C:$C,))), \"\", 'PWS Records (System Entry)'!$D$4)","v":""},{"$f":"IF(AND(ISBLANK(INDEX($G:$G,)), ISBLANK(INDEX($C:$C,))), \"\", 'PWS Records (System Entry)'!$D$3)","v":""},null,null,null,null,null,null,null,null,null,null,null,null,null,null,null,null,null,null,""]
[{"$f":"IF(AND(ISBLANK(INDEX($G:$G,)), ISBLANK(INDEX($C:$C,))), \"\", 'PWS Records (System Entry)'!$D$4)","v":""},{"$f":"IF(AND(ISBLANK(INDEX($G:$G,)), ISBLANK(INDEX($C:$C,))), \"\", 'PWS Records (System Entry)'!$D$3)","v":""},null,null,null,null,null,null,null,null,null,null,null,null,null,null,null,null,null,null,""]
[{"$f":"IF(AND(ISBLANK(INDEX($G:$G,)), ISBLANK(INDEX($C:$C,))), \"\", 'PWS Records (System Entry)'!$D$4)","v":""},{"$f":"IF(AND(ISBLANK(INDEX($G:$G,)), ISBLANK(INDEX($C:$C,))), \"\", 'PWS Records (System Entry)'!$D$3)","v":""},null,null,null,null,null,null,null,null,null,null,null,null,null,null,null,null,null,null,""]
[{"$f":"IF(AND(ISBLANK(INDEX($G:$G,)), ISBLANK(INDEX($C:$C,))), \"\", 'PWS Records (System Entry)'!$D$4)","v":""},{"$f":"IF(AND(ISBLANK(INDEX($G:$G,)), ISBLANK(INDEX($C:$C,))), \"\", 'PWS Records (System Entry)'!$D$3)","v":""},null,null,null,null,null,null,null,null,null,null,null,null,null,null,null,null,null,null,""]
[{"$f":"IF(AND(ISBLANK(INDEX($G:$G,)), ISBLANK(INDEX($C:$C,))), \"\", 'PWS Records (System Entry)'!$D$4)","v":""},{"$f":"IF(AND(ISBLANK(INDEX($G:$G,)), ISBLANK(INDEX($C:$C,))), \"\", 'PWS Records (System Entry)'!$D$3)","v":""},null,null,null,null,null,null,null,null,null,null,null,null,null,null,null,null,null,null,""]
[{"$f":"IF(AND(ISBLANK(INDEX($G:$G,)), ISBLANK(INDEX($C:$C,))), \"\", 'PWS Records (System Entry)'!$D$4)","v":""},{"$f":"IF(AND(ISBLANK(INDEX($G:$G,)), ISBLANK(INDEX($C:$C,))), \"\", 'PWS Records (System Entry)'!$D$3)","v":""},null,null,null,null,null,null,null,null,null,null,null,null,null,null,null,null,null,null,""]
[{"$f":"IF(AND(ISBLANK(INDEX($G:$G,)), ISBLANK(INDEX($C:$C,))), \"\", 'PWS Records (System Entry)'!$D$4)","v":""},{"$f":"IF(AND(ISBLANK(INDEX($G:$G,)), ISBLANK(INDEX($C:$C,))), \"\", 'PWS Records (System Entry)'!$D$3)","v":""},null,null,null,null,null,null,null,null,null,null,null,null,null,null,null,null,null,null,""]
[{"$f":"IF(AND(ISBLANK(INDEX($G:$G,)), ISBLANK(INDEX($C:$C,))), \"\", 'PWS Records (System Entry)'!$D$4)","v":""},{"$f":"IF(AND(ISBLANK(INDEX($G:$G,)), ISBLANK(INDEX($C:$C,))), \"\", 'PWS Records (System Entry)'!$D$3)","v":""},null,null,null,null,null,null,null,null,null,null,null,null,null,null,null,null,null,null,""]
[{"$f":"IF(AND(ISBLANK(INDEX($G:$G,)), ISBLANK(INDEX($C:$C,))), \"\", 'PWS Records (System Entry)'!$D$4)","v":""},{"$f":"IF(AND(ISBLANK(INDEX($G:$G,)), ISBLANK(INDEX($C:$C,))), \"\", 'PWS Records (System Entry)'!$D$3)","v":""},null,null,null,null,null,null,null,null,null,null,null,null,null,null,null,null,null,null,""]
[{"$f":"IF(AND(ISBLANK(INDEX($G:$G,)), ISBLANK(INDEX($C:$C,))), \"\", 'PWS Records (System Entry)'!$D$4)","v":""},{"$f":"IF(AND(ISBLANK(INDEX($G:$G,)), ISBLANK(INDEX($C:$C,))), \"\", 'PWS Records (System Entry)'!$D$3)","v":""},null,null,null,null,null,null,null,null,null,null,null,null,null,null,null,null,null,null,""]
[{"$f":"IF(AND(ISBLANK(INDEX($G:$G,)), ISBLANK(INDEX($C:$C,))), \"\", 'PWS Records (System Entry)'!$D$4)","v":""},{"$f":"IF(AND(ISBLANK(INDEX($G:$G,)), ISBLANK(INDEX($C:$C,))), \"\", 'PWS Records (System Entry)'!$D$3)","v":""},null,null,null,null,null,null,null,null,null,null,null,null,null,null,null,null,null,null,""]
[{"$f":"IF(AND(ISBLANK(INDEX($G:$G,)), ISBLANK(INDEX($C:$C,))), \"\", 'PWS Records (System Entry)'!$D$4)","v":""},{"$f":"IF(AND(ISBLANK(INDEX($G:$G,)), ISBLANK(INDEX($C:$C,))), \"\", 'PWS Records (System Entry)'!$D$3)","v":""},null,null,null,null,null,null,null,null,null,null,null,null,null,null,null,null,null,null,""]
[{"$f":"IF(AND(ISBLANK(INDEX($G:$G,)), ISBLANK(INDEX($C:$C,))), \"\", 'PWS Records (System Entry)'!$D$4)","v":""},{"$f":"IF(AND(ISBLANK(INDEX($G:$G,)), ISBLANK(INDEX($C:$C,))), \"\", 'PWS Records (System Entry)'!$D$3)","v":""},null,null,null,null,null,null,null,null,null,null,null,null,null,null,null,null,null,null,""]
[{"$f":"IF(AND(ISBLANK(INDEX($G:$G,)), ISBLANK(INDEX($C:$C,))), \"\", 'PWS Records (System Entry)'!$D$4)","v":""},{"$f":"IF(AND(ISBLANK(INDEX($G:$G,)), ISBLANK(INDEX($C:$C,))), \"\", 'PWS Records (System Entry)'!$D$3)","v":""},null,null,null,null,null,null,null,null,null,null,null,null,null,null,null,null,null,null,""]
[{"$f":"IF(AND(ISBLANK(INDEX($G:$G,)), ISBLANK(INDEX($C:$C,))), \"\", 'PWS Records (System Entry)'!$D$4)","v":""},{"$f":"IF(AND(ISBLANK(INDEX($G:$G,)), ISBLANK(INDEX($C:$C,))), \"\", 'PWS Records (System Entry)'!$D$3)","v":""},null,null,null,null,null,null,null,null,null,null,null,null,null,null,null,null,null,null,""]
[{"$f":"IF(AND(ISBLANK(INDEX($G:$G,)), ISBLANK(INDEX($C:$C,))), \"\", 'PWS Records (System Entry)'!$D$4)","v":""},{"$f":"IF(AND(ISBLANK(INDEX($G:$G,)), ISBLANK(INDEX($C:$C,))), \"\", 'PWS Records (System Entry)'!$D$3)","v":""},null,null,null,null,null,null,null,null,null,null,null,null,null,null,null,null,null,null,""]
[{"$f":"IF(AND(ISBLANK(INDEX($G:$G,)), ISBLANK(INDEX($C:$C,))), \"\", 'PWS Records (System Entry)'!$D$4)","v":""},{"$f":"IF(AND(ISBLANK(INDEX($G:$G,)), ISBLANK(INDEX($C:$C,))), \"\", 'PWS Records (System Entry)'!$D$3)","v":""},null,null,null,null,null,null,null,null,null,null,null,null,null,null,null,null,null,null,""]
[{"$f":"IF(AND(ISBLANK(INDEX($G:$G,)), ISBLANK(INDEX($C:$C,))), \"\", 'PWS Records (System Entry)'!$D$4)","v":""},{"$f":"IF(AND(ISBLANK(INDEX($G:$G,)), ISBLANK(INDEX($C:$C,))), \"\", 'PWS Records (System Entry)'!$D$3)","v":""},null,null,null,null,null,null,null,null,null,null,null,null,null,null,null,null,null,null,""]
[{"$f":"IF(AND(ISBLANK(INDEX($G:$G,)), ISBLANK(INDEX($C:$C,))), \"\", 'PWS Records (System Entry)'!$D$4)","v":""},{"$f":"IF(AND(ISBLANK(INDEX($G:$G,)), ISBLANK(INDEX($C:$C,))), \"\", 'PWS Records (System Entry)'!$D$3)","v":""},null,null,null,null,null,null,null,null,null,null,null,null,null,null,null,null,null,null,""]
[{"$f":"IF(AND(ISBLANK(INDEX($G:$G,)), ISBLANK(INDEX($C:$C,))), \"\", 'PWS Records (System Entry)'!$D$4)","v":""},{"$f":"IF(AND(ISBLANK(INDEX($G:$G,)), ISBLANK(INDEX($C:$C,))), \"\", 'PWS Records (System Entry)'!$D$3)","v":""},null,null,null,null,null,null,null,null,null,null,null,null,null,null,null,null,null,null,""]
[{"$f":"IF(AND(ISBLANK(INDEX($G:$G,)), ISBLANK(INDEX($C:$C,))), \"\", 'PWS Records (System Entry)'!$D$4)","v":""},{"$f":"IF(AND(ISBLANK(INDEX($G:$G,)), ISBLANK(INDEX($C:$C,))), \"\", 'PWS Records (System Entry)'!$D$3)","v":""},null,null,null,null,null,null,null,null,null,null,null,null,null,null,null,null,null,null,""]
[{"$f":"IF(AND(ISBLANK(INDEX($G:$G,)), ISBLANK(INDEX($C:$C,))), \"\", 'PWS Records (System Entry)'!$D$4)","v":""},{"$f":"IF(AND(ISBLANK(INDEX($G:$G,)), ISBLANK(INDEX($C:$C,))), \"\", 'PWS Records (System Entry)'!$D$3)","v":""},null,null,null,null,null,null,null,null,null,null,null,null,null,null,null,null,null,null,""]
[{"$f":"IF(AND(ISBLANK(INDEX($G:$G,)), ISBLANK(INDEX($C:$C,))), \"\", 'PWS Records (System Entry)'!$D$4)","v":""},{"$f":"IF(AND(ISBLANK(INDEX($G:$G,)), ISBLANK(INDEX($C:$C,))), \"\", 'PWS Records (System Entry)'!$D$3)","v":""},null,null,null,null,null,null,null,null,null,null,null,null,null,null,null,null,null,null,""]
[{"$f":"IF(AND(ISBLANK(INDEX($G:$G,)), ISBLANK(INDEX($C:$C,))), \"\", 'PWS Records (System Entry)'!$D$4)","v":""},{"$f":"IF(AND(ISBLANK(INDEX($G:$G,)), ISBLANK(INDEX($C:$C,))), \"\", 'PWS Records (System Entry)'!$D$3)","v":""},null,null,null,null,null,null,null,null,null,null,null,null,null,null,null,null,null,null,""]
[{"$f":"IF(AND(ISBLANK(INDEX($G:$G,)), ISBLANK(INDEX($C:$C,))), \"\", 'PWS Records (System Entry)'!$D$4)","v":""},{"$f":"IF(AND(ISBLANK(INDEX($G:$G,)), ISBLANK(INDEX($C:$C,))), \"\", 'PWS Records (System Entry)'!$D$3)","v":""},null,null,null,null,null,null,null,null,null,null,null,null,null,null,null,null,null,null,""]
[{"$f":"IF(AND(ISBLANK(INDEX($G:$G,)), ISBLANK(INDEX($C:$C,))), \"\", 'PWS Records (System Entry)'!$D$4)","v":""},{"$f":"IF(AND(ISBLANK(INDEX($G:$G,)), ISBLANK(INDEX($C:$C,))), \"\", 'PWS Records (System Entry)'!$D$3)","v":""},null,null,null,null,null,null,null,null,null,null,null,null,null,null,null,null,null,null,""]
[{"$f":"IF(AND(ISBLANK(INDEX($G:$G,)), ISBLANK(INDEX($C:$C,))), \"\", 'PWS Records (System Entry)'!$D$4)","v":""},{"$f":"IF(AND(ISBLANK(INDEX($G:$G,)), ISBLANK(INDEX($C:$C,))), \"\", 'PWS Records (System Entry)'!$D$3)","v":""},null,null,null,null,null,null,null,null,null,null,null,null,null,null,null,null,null,null,""]
[{"$f":"IF(AND(ISBLANK(INDEX($G:$G,)), ISBLANK(INDEX($C:$C,))), \"\", 'PWS Records (System Entry)'!$D$4)","v":""},{"$f":"IF(AND(ISBLANK(INDEX($G:$G,)), ISBLANK(INDEX($C:$C,))), \"\", 'PWS Records (System Entry)'!$D$3)","v":""},null,null,null,null,null,null,null,null,null,null,null,null,null,null,null,null,null,null,""]
[{"$f":"IF(AND(ISBLANK(INDEX($G:$G,)), ISBLANK(INDEX($C:$C,))), \"\", 'PWS Records (System Entry)'!$D$4)","v":""},{"$f":"IF(AND(ISBLANK(INDEX($G:$G,)), ISBLANK(INDEX($C:$C,))), \"\", 'PWS Records (System Entry)'!$D$3)","v":""},null,null,null,null,null,null,null,null,null,null,null,null,null,null,null,null,null,null,""]
[{"$f":"IF(AND(ISBLANK(INDEX($G:$G,)), ISBLANK(INDEX($C:$C,))), \"\", 'PWS Records (System Entry)'!$D$4)","v":""},{"$f":"IF(AND(ISBLANK(INDEX($G:$G,)), ISBLANK(INDEX($C:$C,))), \"\", 'PWS Records (System Entry)'!$D$3)","v":""},null,null,null,null,null,null,null,null,null,null,null,null,null,null,null,null,null,null,""]
[{"$f":"IF(AND(ISBLANK(INDEX($G:$G,)), ISBLANK(INDEX($C:$C,))), \"\", 'PWS Records (System Entry)'!$D$4)","v":""},{"$f":"IF(AND(ISBLANK(INDEX($G:$G,)), ISBLANK(INDEX($C:$C,))), \"\", 'PWS Records (System Entry)'!$D$3)","v":""},null,null,null,null,null,null,null,null,null,null,null,null,null,null,null,null,null,null,""]
[{"$f":"IF(AND(ISBLANK(INDEX($G:$G,)), ISBLANK(INDEX($C:$C,))), \"\", 'PWS Records (System Entry)'!$D$4)","v":""},{"$f":"IF(AND(ISBLANK(INDEX($G:$G,)), ISBLANK(INDEX($C:$C,))), \"\", 'PWS Records (System Entry)'!$D$3)","v":""},null,null,null,null,null,null,null,null,null,null,null,null,null,null,null,null,null,null,""]
[{"$f":"IF(AND(ISBLANK(INDEX($G:$G,)), ISBLANK(INDEX($C:$C,))), \"\", 'PWS Records (System Entry)'!$D$4)","v":""},{"$f":"IF(AND(ISBLANK(INDEX($G:$G,)), ISBLANK(INDEX($C:$C,))), \"\", 'PWS Records (System Entry)'!$D$3)","v":""},null,null,null,null,null,null,null,null,null,null,null,null,null,null,null,null,null,null,""]
[{"$f":"IF(AND(ISBLANK(INDEX($G:$G,)), ISBLANK(INDEX($C:$C,))), \"\", 'PWS Records (System Entry)'!$D$4)","v":""},{"$f":"IF(AND(ISBLANK(INDEX($G:$G,)), ISBLANK(INDEX($C:$C,))), \"\", 'PWS Records (System Entry)'!$D$3)","v":""},null,null,null,null,null,null,null,null,null,null,null,null,null,null,null,null,null,null,""]
[{"$f":"IF(AND(ISBLANK(INDEX($G:$G,)), ISBLANK(INDEX($C:$C,))), \"\", 'PWS Records (System Entry)'!$D$4)","v":""},{"$f":"IF(AND(ISBLANK(INDEX($G:$G,)), ISBLANK(INDEX($C:$C,))), \"\", 'PWS Records (System Entry)'!$D$3)","v":""},null,null,null,null,null,null,null,null,null,null,null,null,null,null,null,null,null,null,""]
[{"$f":"IF(AND(ISBLANK(INDEX($G:$G,)), ISBLANK(INDEX($C:$C,))), \"\", 'PWS Records (System Entry)'!$D$4)","v":""},{"$f":"IF(AND(ISBLANK(INDEX($G:$G,)), ISBLANK(INDEX($C:$C,))), \"\", 'PWS Records (System Entry)'!$D$3)","v":""},null,null,null,null,null,null,null,null,null,null,null,null,null,null,null,null,null,null,""]
[{"$f":"IF(AND(ISBLANK(INDEX($G:$G,)), ISBLANK(INDEX($C:$C,))), \"\", 'PWS Records (System Entry)'!$D$4)","v":""},{"$f":"IF(AND(ISBLANK(INDEX($G:$G,)), ISBLANK(INDEX($C:$C,))), \"\", 'PWS Records (System Entry)'!$D$3)","v":""},null,null,null,null,null,null,null,null,null,null,null,null,null,null,null,null,null,null,""]
[{"$f":"IF(AND(ISBLANK(INDEX($G:$G,)), ISBLANK(INDEX($C:$C,))), \"\", 'PWS Records (System Entry)'!$D$4)","v":""},{"$f":"IF(AND(ISBLANK(INDEX($G:$G,)), ISBLANK(INDEX($C:$C,))), \"\", 'PWS Records (System Entry)'!$D$3)","v":""},null,null,null,null,null,null,null,null,null,null,null,null,null,null,null,null,null,null,""]
[{"$f":"IF(AND(ISBLANK(INDEX($G:$G,)), ISBLANK(INDEX($C:$C,))), \"\", 'PWS Records (System Entry)'!$D$4)","v":""},{"$f":"IF(AND(ISBLANK(INDEX($G:$G,)), ISBLANK(INDEX($C:$C,))), \"\", 'PWS Records (System Entry)'!$D$3)","v":""},null,null,null,null,null,null,null,null,null,null,null,null,null,null,null,null,null,null,""]
[{"$f":"IF(AND(ISBLANK(INDEX($G:$G,)), ISBLANK(INDEX($C:$C,))), \"\", 'PWS Records (System Entry)'!$D$4)","v":""},{"$f":"IF(AND(ISBLANK(INDEX($G:$G,)), ISBLANK(INDEX($C:$C,))), \"\", 'PWS Records (System Entry)'!$D$3)","v":""},null,null,null,null,null,null,null,null,null,null,null,null,null,null,null,null,null,null,""]
[{"$f":"IF(AND(ISBLANK(INDEX($G:$G,)), ISBLANK(INDEX($C:$C,))), \"\", 'PWS Records (System Entry)'!$D$4)","v":""},{"$f":"IF(AND(ISBLANK(INDEX($G:$G,)), ISBLANK(INDEX($C:$C,))), \"\", 'PWS Records (System Entry)'!$D$3)","v":""},null,null,null,null,null,null,null,null,null,null,null,null,null,null,null,null,null,null,""]
[{"$f":"IF(AND(ISBLANK(INDEX($G:$G,)), ISBLANK(INDEX($C:$C,))), \"\", 'PWS Records (System Entry)'!$D$4)","v":""},{"$f":"IF(AND(ISBLANK(INDEX($G:$G,)), ISBLANK(INDEX($C:$C,))), \"\", 'PWS Records (System Entry)'!$D$3)","v":""},null,null,null,null,null,null,null,null,null,null,null,null,null,null,null,null,null,null,""]
[{"$f":"IF(AND(ISBLANK(INDEX($G:$G,)), ISBLANK(INDEX($C:$C,))), \"\", 'PWS Records (System Entry)'!$D$4)","v":""},{"$f":"IF(AND(ISBLANK(INDEX($G:$G,)), ISBLANK(INDEX($C:$C,))), \"\", 'PWS Records (System Entry)'!$D$3)","v":""},null,null,null,null,null,null,null,null,null,null,null,null,null,null,null,null,null,null,""]
[{"$f":"IF(AND(ISBLANK(INDEX($G:$G,)), ISBLANK(INDEX($C:$C,))), \"\", 'PWS Records (System Entry)'!$D$4)","v":""},{"$f":"IF(AND(ISBLANK(INDEX($G:$G,)), ISBLANK(INDEX($C:$C,))), \"\", 'PWS Records (System Entry)'!$D$3)","v":""},null,null,null,null,null,null,null,null,null,null,null,null,null,null,null,null,null,null,""]
[{"$f":"IF(AND(ISBLANK(INDEX($G:$G,)), ISBLANK(INDEX($C:$C,))), \"\", 'PWS Records (System Entry)'!$D$4)","v":""},{"$f":"IF(AND(ISBLANK(INDEX($G:$G,)), ISBLANK(INDEX($C:$C,))), \"\", 'PWS Records (System Entry)'!$D$3)","v":""},null,null,null,null,null,null,null,null,null,null,null,null,null,null,null,null,null,null,""]
[{"$f":"IF(AND(ISBLANK(INDEX($G:$G,)), ISBLANK(INDEX($C:$C,))), \"\", 'PWS Records (System Entry)'!$D$4)","v":""},{"$f":"IF(AND(ISBLANK(INDEX($G:$G,)), ISBLANK(INDEX($C:$C,))), \"\", 'PWS Records (System Entry)'!$D$3)","v":""},null,null,null,null,null,null,null,null,null,null,null,null,null,null,null,null,null,null,""]
[{"$f":"IF(AND(ISBLANK(INDEX($G:$G,)), ISBLANK(INDEX($C:$C,))), \"\", 'PWS Records (System Entry)'!$D$4)","v":""},{"$f":"IF(AND(ISBLANK(INDEX($G:$G,)), ISBLANK(INDEX($C:$C,))), \"\", 'PWS Records (System Entry)'!$D$3)","v":""},null,null,null,null,null,null,null,null,null,null,null,null,null,null,null,null,null,null,""]
[{"$f":"IF(AND(ISBLANK(INDEX($G:$G,)), ISBLANK(INDEX($C:$C,))), \"\", 'PWS Records (System Entry)'!$D$4)","v":""},{"$f":"IF(AND(ISBLANK(INDEX($G:$G,)), ISBLANK(INDEX($C:$C,))), \"\", 'PWS Records (System Entry)'!$D$3)","v":""},null,null,null,null,null,null,null,null,null,null,null,null,null,null,null,null,null,null,""]
[{"$f":"IF(AND(ISBLANK(INDEX($G:$G,)), ISBLANK(INDEX($C:$C,))), \"\", 'PWS Records (System Entry)'!$D$4)","v":""},{"$f":"IF(AND(ISBLANK(INDEX($G:$G,)), ISBLANK(INDEX($C:$C,))), \"\", 'PWS Records (System Entry)'!$D$3)","v":""},null,null,null,null,null,null,null,null,null,null,null,null,null,null,null,null,null,null,""]
[{"$f":"IF(AND(ISBLANK(INDEX($G:$G,)), ISBLANK(INDEX($C:$C,))), \"\", 'PWS Records (System Entry)'!$D$4)","v":""},{"$f":"IF(AND(ISBLANK(INDEX($G:$G,)), ISBLANK(INDEX($C:$C,))), \"\", 'PWS Records (System Entry)'!$D$3)","v":""},null,null,null,null,null,null,null,null,null,null,null,null,null,null,null,null,null,null,""]
[{"$f":"IF(AND(ISBLANK(INDEX($G:$G,)), ISBLANK(INDEX($C:$C,))), \"\", 'PWS Records (System Entry)'!$D$4)","v":""},{"$f":"IF(AND(ISBLANK(INDEX($G:$G,)), ISBLANK(INDEX($C:$C,))), \"\", 'PWS Records (System Entry)'!$D$3)","v":""},null,null,null,null,null,null,null,null,null,null,null,null,null,null,null,null,null,null,""]
[{"$f":"IF(AND(ISBLANK(INDEX($G:$G,)), ISBLANK(INDEX($C:$C,))), \"\", 'PWS Records (System Entry)'!$D$4)","v":""},{"$f":"IF(AND(ISBLANK(INDEX($G:$G,)), ISBLANK(INDEX($C:$C,))), \"\", 'PWS Records (System Entry)'!$D$3)","v":""},null,null,null,null,null,null,null,null,null,null,null,null,null,null,null,null,null,null,""]
[{"$f":"IF(AND(ISBLANK(INDEX($G:$G,)), ISBLANK(INDEX($C:$C,))), \"\", 'PWS Records (System Entry)'!$D$4)","v":""},{"$f":"IF(AND(ISBLANK(INDEX($G:$G,)), ISBLANK(INDEX($C:$C,))), \"\", 'PWS Records (System Entry)'!$D$3)","v":""},null,null,null,null,null,null,null,null,null,null,null,null,null,null,null,null,null,null,""]
[{"$f":"IF(AND(ISBLANK(INDEX($G:$G,)), ISBLANK(INDEX($C:$C,))), \"\", 'PWS Records (System Entry)'!$D$4)","v":""},{"$f":"IF(AND(ISBLANK(INDEX($G:$G,)), ISBLANK(INDEX($C:$C,))), \"\", 'PWS Records (System Entry)'!$D$3)","v":""},null,null,null,null,null,null,null,null,null,null,null,null,null,null,null,null,null,null,""]
[{"$f":"IF(AND(ISBLANK(INDEX($G:$G,)), ISBLANK(INDEX($C:$C,))), \"\", 'PWS Records (System Entry)'!$D$4)","v":""},{"$f":"IF(AND(ISBLANK(INDEX($G:$G,)), ISBLANK(INDEX($C:$C,))), \"\", 'PWS Records (System Entry)'!$D$3)","v":""},null,null,null,null,null,null,null,null,null,null,null,null,null,null,null,null,null,null,""]
[{"$f":"IF(AND(ISBLANK(INDEX($G:$G,)), ISBLANK(INDEX($C:$C,))), \"\", 'PWS Records (System Entry)'!$D$4)","v":""},{"$f":"IF(AND(ISBLANK(INDEX($G:$G,)), ISBLANK(INDEX($C:$C,))), \"\", 'PWS Records (System Entry)'!$D$3)","v":""},null,null,null,null,null,null,null,null,null,null,null,null,null,null,null,null,null,null,""]
[{"$f":"IF(AND(ISBLANK(INDEX($G:$G,)), ISBLANK(INDEX($C:$C,))), \"\", 'PWS Records (System Entry)'!$D$4)","v":""},{"$f":"IF(AND(ISBLANK(INDEX($G:$G,)), ISBLANK(INDEX($C:$C,))), \"\", 'PWS Records (System Entry)'!$D$3)","v":""},null,null,null,null,null,null,null,null,null,null,null,null,null,null,null,null,null,null,""]
[{"$f":"IF(AND(ISBLANK(INDEX($G:$G,)), ISBLANK(INDEX($C:$C,))), \"\", 'PWS Records (System Entry)'!$D$4)","v":""},{"$f":"IF(AND(ISBLANK(INDEX($G:$G,)), ISBLANK(INDEX($C:$C,))), \"\", 'PWS Records (System Entry)'!$D$3)","v":""},null,null,null,null,null,null,null,null,null,null,null,null,null,null,null,null,null,null,""]
[{"$f":"IF(AND(ISBLANK(INDEX($G:$G,)), ISBLANK(INDEX($C:$C,))), \"\", 'PWS Records (System Entry)'!$D$4)","v":""},{"$f":"IF(AND(ISBLANK(INDEX($G:$G,)), ISBLANK(INDEX($C:$C,))), \"\", 'PWS Records (System Entry)'!$D$3)","v":""},null,null,null,null,null,null,null,null,null,null,null,null,null,null,null,null,null,null,""]
[{"$f":"IF(AND(ISBLANK(INDEX($G:$G,)), ISBLANK(INDEX($C:$C,))), \"\", 'PWS Records (System Entry)'!$D$4)","v":""},{"$f":"IF(AND(ISBLANK(INDEX($G:$G,)), ISBLANK(INDEX($C:$C,))), \"\", 'PWS Records (System Entry)'!$D$3)","v":""},null,null,null,null,null,null,null,null,null,null,null,null,null,null,null,null,null,null,""]
[{"$f":"IF(AND(ISBLANK(INDEX($G:$G,)), ISBLANK(INDEX($C:$C,))), \"\", 'PWS Records (System Entry)'!$D$4)","v":""},{"$f":"IF(AND(ISBLANK(INDEX($G:$G,)), ISBLANK(INDEX($C:$C,))), \"\", 'PWS Records (System Entry)'!$D$3)","v":""},null,null,null,null,null,null,null,null,null,null,null,null,null,null,null,null,null,null,""]
[{"$f":"IF(AND(ISBLANK(INDEX($G:$G,)), ISBLANK(INDEX($C:$C,))), \"\", 'PWS Records (System Entry)'!$D$4)","v":""},{"$f":"IF(AND(ISBLANK(INDEX($G:$G,)), ISBLANK(INDEX($C:$C,))), \"\", 'PWS Records (System Entry)'!$D$3)","v":""},null,null,null,null,null,null,null,null,null,null,null,null,null,null,null,null,null,null,""]
[{"$f":"IF(AND(ISBLANK(INDEX($G:$G,)), ISBLANK(INDEX($C:$C,))), \"\", 'PWS Records (System Entry)'!$D$4)","v":""},{"$f":"IF(AND(ISBLANK(INDEX($G:$G,)), ISBLANK(INDEX($C:$C,))), \"\", 'PWS Records (System Entry)'!$D$3)","v":""},null,null,null,null,null,null,null,null,null,null,null,null,null,null,null,null,null,null,""]
[{"$f":"IF(AND(ISBLANK(INDEX($G:$G,)), ISBLANK(INDEX($C:$C,))), \"\", 'PWS Records (System Entry)'!$D$4)","v":""},{"$f":"IF(AND(ISBLANK(INDEX($G:$G,)), ISBLANK(INDEX($C:$C,))), \"\", 'PWS Records (System Entry)'!$D$3)","v":""},null,null,null,null,null,null,null,null,null,null,null,null,null,null,null,null,null,null,{"$f":"IF(AND(INDEX($K:$K,)=\"\", INDEX($L:$L,)=\"\", INDEX($M:$M,)=\"\", INDEX($Q:$Q,)=\"\", INDEX($R:$R,)=\"\"), \"\", IF(OR(INDEX($K:$K,)=\"Lead\",INDEX($Q:$Q,)=\"Lead\"),\"Lead\",IF(OR(AND(OR(INDEX($M:$M,)=\"Yes\", INDEX($M:$M,)=\"Don't Know\", INDEX($M:$M,)=\"\"), INDEX($Q:$Q,)=\"Galvanized Iron/Steel\"), AND(INDEX($K:$K,)=\"Unknown\", INDEX($M:$M,)=\"No\", INDEX($Q:$Q,)=\"Galvanized Iron/Steel\")), \"Galvanized Requiring Replacement\", IF(OR(AND(OR(INDEX($K:$K,)=\"Galvanized Iron/Steel\", INDEX($K:$K,)=\"Non-Lead - Copper\", INDEX($K:$K,)=\"Non-Lead - Plastic\", INDEX($K:$K,)=\"Non-Lead - Other\", INDEX($K:$K,)=\"Non-Lead - Material Unknown\", INDEX($K:$K,)=\"No System Owned Portion\"), OR(INDEX($Q:$Q,)=\"Galvanized Iron/Steel\", INDEX($Q:$Q,)=\"Non-Lead - Copper\", INDEX($Q:$Q,)=\"Non-Lead - Plastic\", INDEX($Q:$Q,)=\"Non-Lead - Other\", INDEX($Q:$Q,)=\"Non-Lead - Predictive Model\", INDEX($Q:$Q,)=\"No Customer Owned Portion\")), AND(OR( INDEX($K:$K,)=\"Galvanized Iron/Steel\", INDEX($K:$K,)=\"Non-Lead - Copper\", INDEX($K:$K,)=\"Non-Lead - Plastic\", INDEX($K:$K,)=\"Non-Lead - Other\", INDEX($K:$K,)=\"Non-Lead - Material Unknown\", INDEX($K:$K,)=\"No System Owned Portion\"), INDEX($M:$M,)=\"No\", INDEX($Q:$Q,)=\"Non-Lead - Material Unknown\")), \"Non-Lead\", \"Lead Status Unknown\"))))","v":""}]
[{"$f":"IF(AND(ISBLANK(INDEX($G:$G,)), ISBLANK(INDEX($C:$C,))), \"\", 'PWS Records (System Entry)'!$D$4)","v":""},{"$f":"IF(AND(ISBLANK(INDEX($G:$G,)), ISBLANK(INDEX($C:$C,))), \"\", 'PWS Records (System Entry)'!$D$3)","v":""},null,null,null,null,null,null,null,null,null,null,null,null,null,null,null,null,null,null,""]
[{"$f":"IF(AND(ISBLANK(INDEX($G:$G,)), ISBLANK(INDEX($C:$C,))), \"\", 'PWS Records (System Entry)'!$D$4)","v":""},{"$f":"IF(AND(ISBLANK(INDEX($G:$G,)), ISBLANK(INDEX($C:$C,))), \"\", 'PWS Records (System Entry)'!$D$3)","v":""},null,null,null,null,null,null,null,null,null,null,null,null,null,null,null,null,null,null,""]
[{"$f":"IF(AND(ISBLANK(INDEX($G:$G,)), ISBLANK(INDEX($C:$C,))), \"\", 'PWS Records (System Entry)'!$D$4)","v":""},{"$f":"IF(AND(ISBLANK(INDEX($G:$G,)), ISBLANK(INDEX($C:$C,))), \"\", 'PWS Records (System Entry)'!$D$3)","v":""},null,null,null,null,null,null,null,null,null,null,null,null,null,null,null,null,null,null,""]
[{"$f":"IF(AND(ISBLANK(INDEX($G:$G,)), ISBLANK(INDEX($C:$C,))), \"\", 'PWS Records (System Entry)'!$D$4)","v":""},{"$f":"IF(AND(ISBLANK(INDEX($G:$G,)), ISBLANK(INDEX($C:$C,))), \"\", 'PWS Records (System Entry)'!$D$3)","v":""},null,null,null,null,null,null,null,null,null,null,null,null,null,null,null,null,null,null,""]
[{"$f":"IF(AND(ISBLANK(INDEX($G:$G,)), ISBLANK(INDEX($C:$C,))), \"\", 'PWS Records (System Entry)'!$D$4)","v":""},{"$f":"IF(AND(ISBLANK(INDEX($G:$G,)), ISBLANK(INDEX($C:$C,))), \"\", 'PWS Records (System Entry)'!$D$3)","v":""},null,null,null,null,null,null,null,null,null,null,null,null,null,null,null,null,null,null,""]
[{"$f":"IF(AND(ISBLANK(INDEX($G:$G,)), ISBLANK(INDEX($C:$C,))), \"\", 'PWS Records (System Entry)'!$D$4)","v":""},{"$f":"IF(AND(ISBLANK(INDEX($G:$G,)), ISBLANK(INDEX($C:$C,))), \"\", 'PWS Records (System Entry)'!$D$3)","v":""},null,null,null,null,null,null,null,null,null,null,null,null,null,null,null,null,null,null,""]
[{"$f":"IF(AND(ISBLANK(INDEX($G:$G,)), ISBLANK(INDEX($C:$C,))), \"\", 'PWS Records (System Entry)'!$D$4)","v":""},{"$f":"IF(AND(ISBLANK(INDEX($G:$G,)), ISBLANK(INDEX($C:$C,))), \"\", 'PWS Records (System Entry)'!$D$3)","v":""},null,null,null,null,null,null,null,null,null,null,null,null,null,null,null,null,null,null,""]
[{"$f":"IF(AND(ISBLANK(INDEX($G:$G,)), ISBLANK(INDEX($C:$C,))), \"\", 'PWS Records (System Entry)'!$D$4)","v":""},{"$f":"IF(AND(ISBLANK(INDEX($G:$G,)), ISBLANK(INDEX($C:$C,))), \"\", 'PWS Records (System Entry)'!$D$3)","v":""},null,null,null,null,null,null,null,null,null,null,null,null,null,null,null,null,null,null,""]
[{"$f":"IF(AND(ISBLANK(INDEX($G:$G,)), ISBLANK(INDEX($C:$C,))), \"\", 'PWS Records (System Entry)'!$D$4)","v":""},{"$f":"IF(AND(ISBLANK(INDEX($G:$G,)), ISBLANK(INDEX($C:$C,))), \"\", 'PWS Records (System Entry)'!$D$3)","v":""},null,null,null,null,null,null,null,null,null,null,null,null,null,null,null,null,null,null,""]
[{"$f":"IF(AND(ISBLANK(INDEX($G:$G,)), ISBLANK(INDEX($C:$C,))), \"\", 'PWS Records (System Entry)'!$D$4)","v":""},{"$f":"IF(AND(ISBLANK(INDEX($G:$G,)), ISBLANK(INDEX($C:$C,))), \"\", 'PWS Records (System Entry)'!$D$3)","v":""},null,null,null,null,null,null,null,null,null,null,null,null,null,null,null,null,null,null,""]
[{"$f":"IF(AND(ISBLANK(INDEX($G:$G,)), ISBLANK(INDEX($C:$C,))), \"\", 'PWS Records (System Entry)'!$D$4)","v":""},{"$f":"IF(AND(ISBLANK(INDEX($G:$G,)), ISBLANK(INDEX($C:$C,))), \"\", 'PWS Records (System Entry)'!$D$3)","v":""},null,null,null,null,null,null,null,null,null,null,null,null,null,null,null,null,null,null,""]
[{"$f":"IF(AND(ISBLANK(INDEX($G:$G,)), ISBLANK(INDEX($C:$C,))), \"\", 'PWS Records (System Entry)'!$D$4)","v":""},{"$f":"IF(AND(ISBLANK(INDEX($G:$G,)), ISBLANK(INDEX($C:$C,))), \"\", 'PWS Records (System Entry)'!$D$3)","v":""},null,null,null,null,null,null,null,null,null,null,null,null,null,null,null,null,null,null,""]
[{"$f":"IF(AND(ISBLANK(INDEX($G:$G,)), ISBLANK(INDEX($C:$C,))), \"\", 'PWS Records (System Entry)'!$D$4)","v":""},{"$f":"IF(AND(ISBLANK(INDEX($G:$G,)), ISBLANK(INDEX($C:$C,))), \"\", 'PWS Records (System Entry)'!$D$3)","v":""},null,null,null,null,null,null,null,null,null,null,null,null,null,null,null,null,null,null,""]
[{"$f":"IF(AND(ISBLANK(INDEX($G:$G,)), ISBLANK(INDEX($C:$C,))), \"\", 'PWS Records (System Entry)'!$D$4)","v":""},{"$f":"IF(AND(ISBLANK(INDEX($G:$G,)), ISBLANK(INDEX($C:$C,))), \"\", 'PWS Records (System Entry)'!$D$3)","v":""},null,null,null,null,null,null,null,null,null,null,null,null,null,null,null,null,null,null,""]
[{"$f":"IF(AND(ISBLANK(INDEX($G:$G,)), ISBLANK(INDEX($C:$C,))), \"\", 'PWS Records (System Entry)'!$D$4)","v":""},{"$f":"IF(AND(ISBLANK(INDEX($G:$G,)), ISBLANK(INDEX($C:$C,))), \"\", 'PWS Records (System Entry)'!$D$3)","v":""},null,null,null,null,null,null,null,null,null,null,null,null,null,null,null,null,null,null,""]
[{"$f":"IF(AND(ISBLANK(INDEX($G:$G,)), ISBLANK(INDEX($C:$C,))), \"\", 'PWS Records (System Entry)'!$D$4)","v":""},{"$f":"IF(AND(ISBLANK(INDEX($G:$G,)), ISBLANK(INDEX($C:$C,))), \"\", 'PWS Records (System Entry)'!$D$3)","v":""},null,null,null,null,null,null,null,null,null,null,null,null,null,null,null,null,null,null,""]
[{"$f":"IF(AND(ISBLANK(INDEX($G:$G,)), ISBLANK(INDEX($C:$C,))), \"\", 'PWS Records (System Entry)'!$D$4)","v":""},{"$f":"IF(AND(ISBLANK(INDEX($G:$G,)), ISBLANK(INDEX($C:$C,))), \"\", 'PWS Records (System Entry)'!$D$3)","v":""},null,null,null,null,null,null,null,null,null,null,null,null,null,null,null,null,null,null,""]
[{"$f":"IF(AND(ISBLANK(INDEX($G:$G,)), ISBLANK(INDEX($C:$C,))), \"\", 'PWS Records (System Entry)'!$D$4)","v":""},{"$f":"IF(AND(ISBLANK(INDEX($G:$G,)), ISBLANK(INDEX($C:$C,))), \"\", 'PWS Records (System Entry)'!$D$3)","v":""},null,null,null,null,null,null,null,null,null,null,null,null,null,null,null,null,null,null,""]
[{"$f":"IF(AND(ISBLANK(INDEX($G:$G,)), ISBLANK(INDEX($C:$C,))), \"\", 'PWS Records (System Entry)'!$D$4)","v":""},{"$f":"IF(AND(ISBLANK(INDEX($G:$G,)), ISBLANK(INDEX($C:$C,))), \"\", 'PWS Records (System Entry)'!$D$3)","v":""},null,null,null,null,null,null,null,null,null,null,null,null,null,null,null,null,null,null,""]
[{"$f":"IF(AND(ISBLANK(INDEX($G:$G,)), ISBLANK(INDEX($C:$C,))), \"\", 'PWS Records (System Entry)'!$D$4)","v":""},{"$f":"IF(AND(ISBLANK(INDEX($G:$G,)), ISBLANK(INDEX($C:$C,))), \"\", 'PWS Records (System Entry)'!$D$3)","v":""},null,null,null,null,null,null,null,null,null,null,null,null,null,null,null,null,null,null,""]
[{"$f":"IF(AND(ISBLANK(INDEX($G:$G,)), ISBLANK(INDEX($C:$C,))), \"\", 'PWS Records (System Entry)'!$D$4)","v":""},{"$f":"IF(AND(ISBLANK(INDEX($G:$G,)), ISBLANK(INDEX($C:$C,))), \"\", 'PWS Records (System Entry)'!$D$3)","v":""},null,null,null,null,null,null,null,null,null,null,null,null,null,null,null,null,null,null,""]
[{"$f":"IF(AND(ISBLANK(INDEX($G:$G,)), ISBLANK(INDEX($C:$C,))), \"\", 'PWS Records (System Entry)'!$D$4)","v":""},{"$f":"IF(AND(ISBLANK(INDEX($G:$G,)), ISBLANK(INDEX($C:$C,))), \"\", 'PWS Records (System Entry)'!$D$3)","v":""},null,null,null,null,null,null,null,null,null,null,null,null,null,null,null,null,null,null,""]
[{"$f":"IF(AND(ISBLANK(INDEX($G:$G,)), ISBLANK(INDEX($C:$C,))), \"\", 'PWS Records (System Entry)'!$D$4)","v":""},{"$f":"IF(AND(ISBLANK(INDEX($G:$G,)), ISBLANK(INDEX($C:$C,))), \"\", 'PWS Records (System Entry)'!$D$3)","v":""},null,null,null,null,null,null,null,null,null,null,null,null,null,null,null,null,null,null,""]
[{"$f":"IF(AND(ISBLANK(INDEX($G:$G,)), ISBLANK(INDEX($C:$C,))), \"\", 'PWS Records (System Entry)'!$D$4)","v":""},{"$f":"IF(AND(ISBLANK(INDEX($G:$G,)), ISBLANK(INDEX($C:$C,))), \"\", 'PWS Records (System Entry)'!$D$3)","v":""},null,null,null,null,null,null,null,null,null,null,null,null,null,null,null,null,null,null,""]
[{"$f":"IF(AND(ISBLANK(INDEX($G:$G,)), ISBLANK(INDEX($C:$C,))), \"\", 'PWS Records (System Entry)'!$D$4)","v":""},{"$f":"IF(AND(ISBLANK(INDEX($G:$G,)), ISBLANK(INDEX($C:$C,))), \"\", 'PWS Records (System Entry)'!$D$3)","v":""},null,null,null,null,null,null,null,null,null,null,null,null,null,null,null,null,null,null,""]
[{"$f":"IF(AND(ISBLANK(INDEX($G:$G,)), ISBLANK(INDEX($C:$C,))), \"\", 'PWS Records (System Entry)'!$D$4)","v":""},{"$f":"IF(AND(ISBLANK(INDEX($G:$G,)), ISBLANK(INDEX($C:$C,))), \"\", 'PWS Records (System Entry)'!$D$3)","v":""},null,null,null,null,null,null,null,null,null,null,null,null,null,null,null,null,null,null,""]
[{"$f":"IF(AND(ISBLANK(INDEX($G:$G,)), ISBLANK(INDEX($C:$C,))), \"\", 'PWS Records (System Entry)'!$D$4)","v":""},{"$f":"IF(AND(ISBLANK(INDEX($G:$G,)), ISBLANK(INDEX($C:$C,))), \"\", 'PWS Records (System Entry)'!$D$3)","v":""},null,null,null,null,null,null,null,null,null,null,null,null,null,null,null,null,null,null,""]
[{"$f":"IF(AND(ISBLANK(INDEX($G:$G,)), ISBLANK(INDEX($C:$C,))), \"\", 'PWS Records (System Entry)'!$D$4)","v":""},{"$f":"IF(AND(ISBLANK(INDEX($G:$G,)), ISBLANK(INDEX($C:$C,))), \"\", 'PWS Records (System Entry)'!$D$3)","v":""},null,null,null,null,null,null,null,null,null,null,null,null,null,null,null,null,null,null,""]
[{"$f":"IF(AND(ISBLANK(INDEX($G:$G,)), ISBLANK(INDEX($C:$C,))), \"\", 'PWS Records (System Entry)'!$D$4)","v":""},{"$f":"IF(AND(ISBLANK(INDEX($G:$G,)), ISBLANK(INDEX($C:$C,))), \"\", 'PWS Records (System Entry)'!$D$3)","v":""},null,null,null,null,null,null,null,null,null,null,null,null,null,null,null,null,null,null,""]
[{"$f":"IF(AND(ISBLANK(INDEX($G:$G,)), ISBLANK(INDEX($C:$C,))), \"\", 'PWS Records (System Entry)'!$D$4)","v":""},{"$f":"IF(AND(ISBLANK(INDEX($G:$G,)), ISBLANK(INDEX($C:$C,))), \"\", 'PWS Records (System Entry)'!$D$3)","v":""},null,null,null,null,null,null,null,null,null,null,null,null,null,null,null,null,null,null,""]
[{"$f":"IF(AND(ISBLANK(INDEX($G:$G,)), ISBLANK(INDEX($C:$C,))), \"\", 'PWS Records (System Entry)'!$D$4)","v":""},{"$f":"IF(AND(ISBLANK(INDEX($G:$G,)), ISBLANK(INDEX($C:$C,))), \"\", 'PWS Records (System Entry)'!$D$3)","v":""},null,null,null,null,null,null,null,null,null,null,null,null,null,null,null,null,null,null,""]
[{"$f":"IF(AND(ISBLANK(INDEX($G:$G,)), ISBLANK(INDEX($C:$C,))), \"\", 'PWS Records (System Entry)'!$D$4)","v":""},{"$f":"IF(AND(ISBLANK(INDEX($G:$G,)), ISBLANK(INDEX($C:$C,))), \"\", 'PWS Records (System Entry)'!$D$3)","v":""},null,null,null,null,null,null,null,null,null,null,null,null,null,null,null,null,null,null,""]
[{"$f":"IF(AND(ISBLANK(INDEX($G:$G,)), ISBLANK(INDEX($C:$C,))), \"\", 'PWS Records (System Entry)'!$D$4)","v":""},{"$f":"IF(AND(ISBLANK(INDEX($G:$G,)), ISBLANK(INDEX($C:$C,))), \"\", 'PWS Records (System Entry)'!$D$3)","v":""},null,null,null,null,null,null,null,null,null,null,null,null,null,null,null,null,null,null,""]
[{"$f":"IF(AND(ISBLANK(INDEX($G:$G,)), ISBLANK(INDEX($C:$C,))), \"\", 'PWS Records (System Entry)'!$D$4)","v":""},{"$f":"IF(AND(ISBLANK(INDEX($G:$G,)), ISBLANK(INDEX($C:$C,))), \"\", 'PWS Records (System Entry)'!$D$3)","v":""},null,null,null,null,null,null,null,null,null,null,null,null,null,null,null,null,null,null,""]
[{"$f":"IF(AND(ISBLANK(INDEX($G:$G,)), ISBLANK(INDEX($C:$C,))), \"\", 'PWS Records (System Entry)'!$D$4)","v":""},{"$f":"IF(AND(ISBLANK(INDEX($G:$G,)), ISBLANK(INDEX($C:$C,))), \"\", 'PWS Records (System Entry)'!$D$3)","v":""},null,null,null,null,null,null,null,null,null,null,null,null,null,null,null,null,null,null,""]
[{"$f":"IF(AND(ISBLANK(INDEX($G:$G,)), ISBLANK(INDEX($C:$C,))), \"\", 'PWS Records (System Entry)'!$D$4)","v":""},{"$f":"IF(AND(ISBLANK(INDEX($G:$G,)), ISBLANK(INDEX($C:$C,))), \"\", 'PWS Records (System Entry)'!$D$3)","v":""},null,null,null,null,null,null,null,null,null,null,null,null,null,null,null,null,null,null,""]
[{"$f":"IF(AND(ISBLANK(INDEX($G:$G,)), ISBLANK(INDEX($C:$C,))), \"\", 'PWS Records (System Entry)'!$D$4)","v":""},{"$f":"IF(AND(ISBLANK(INDEX($G:$G,)), ISBLANK(INDEX($C:$C,))), \"\", 'PWS Records (System Entry)'!$D$3)","v":""},null,null,null,null,null,null,null,null,null,null,null,null,null,null,null,null,null,null,""]
[{"$f":"IF(AND(ISBLANK(INDEX($G:$G,)), ISBLANK(INDEX($C:$C,))), \"\", 'PWS Records (System Entry)'!$D$4)","v":""},{"$f":"IF(AND(ISBLANK(INDEX($G:$G,)), ISBLANK(INDEX($C:$C,))), \"\", 'PWS Records (System Entry)'!$D$3)","v":""},null,null,null,null,null,null,null,null,null,null,null,null,null,null,null,null,null,null,""]
[{"$f":"IF(AND(ISBLANK(INDEX($G:$G,)), ISBLANK(INDEX($C:$C,))), \"\", 'PWS Records (System Entry)'!$D$4)","v":""},{"$f":"IF(AND(ISBLANK(INDEX($G:$G,)), ISBLANK(INDEX($C:$C,))), \"\", 'PWS Records (System Entry)'!$D$3)","v":""},null,null,null,null,null,null,null,null,null,null,null,null,null,null,null,null,null,null,""]
[{"$f":"IF(AND(ISBLANK(INDEX($G:$G,)), ISBLANK(INDEX($C:$C,))), \"\", 'PWS Records (System Entry)'!$D$4)","v":""},{"$f":"IF(AND(ISBLANK(INDEX($G:$G,)), ISBLANK(INDEX($C:$C,))), \"\", 'PWS Records (System Entry)'!$D$3)","v":""},null,null,null,null,null,null,null,null,null,null,null,null,null,null,null,null,null,null,""]
[{"$f":"IF(AND(ISBLANK(INDEX($G:$G,)), ISBLANK(INDEX($C:$C,))), \"\", 'PWS Records (System Entry)'!$D$4)","v":""},{"$f":"IF(AND(ISBLANK(INDEX($G:$G,)), ISBLANK(INDEX($C:$C,))), \"\", 'PWS Records (System Entry)'!$D$3)","v":""},null,null,null,null,null,null,null,null,null,null,null,null,null,null,null,null,null,null,""]
[{"$f":"IF(AND(ISBLANK(INDEX($G:$G,)), ISBLANK(INDEX($C:$C,))), \"\", 'PWS Records (System Entry)'!$D$4)","v":""},{"$f":"IF(AND(ISBLANK(INDEX($G:$G,)), ISBLANK(INDEX($C:$C,))), \"\", 'PWS Records (System Entry)'!$D$3)","v":""},null,null,null,null,null,null,null,null,null,null,null,null,null,null,null,null,null,null,""]
[{"$f":"IF(AND(ISBLANK(INDEX($G:$G,)), ISBLANK(INDEX($C:$C,))), \"\", 'PWS Records (System Entry)'!$D$4)","v":""},{"$f":"IF(AND(ISBLANK(INDEX($G:$G,)), ISBLANK(INDEX($C:$C,))), \"\", 'PWS Records (System Entry)'!$D$3)","v":""},null,null,null,null,null,null,null,null,null,null,null,null,null,null,null,null,null,null,""]
[{"$f":"IF(AND(ISBLANK(INDEX($G:$G,)), ISBLANK(INDEX($C:$C,))), \"\", 'PWS Records (System Entry)'!$D$4)","v":""},{"$f":"IF(AND(ISBLANK(INDEX($G:$G,)), ISBLANK(INDEX($C:$C,))), \"\", 'PWS Records (System Entry)'!$D$3)","v":""},null,null,null,null,null,null,null,null,null,null,null,null,null,null,null,null,null,null,""]
[{"$f":"IF(AND(ISBLANK(INDEX($G:$G,)), ISBLANK(INDEX($C:$C,))), \"\", 'PWS Records (System Entry)'!$D$4)","v":""},{"$f":"IF(AND(ISBLANK(INDEX($G:$G,)), ISBLANK(INDEX($C:$C,))), \"\", 'PWS Records (System Entry)'!$D$3)","v":""},null,null,null,null,null,null,null,null,null,null,null,null,null,null,null,null,null,null,""]
[{"$f":"IF(AND(ISBLANK(INDEX($G:$G,)), ISBLANK(INDEX($C:$C,))), \"\", 'PWS Records (System Entry)'!$D$4)","v":""},{"$f":"IF(AND(ISBLANK(INDEX($G:$G,)), ISBLANK(INDEX($C:$C,))), \"\", 'PWS Records (System Entry)'!$D$3)","v":""},null,null,null,null,null,null,null,null,null,null,null,null,null,null,null,null,null,null,""]
[{"$f":"IF(AND(ISBLANK(INDEX($G:$G,)), ISBLANK(INDEX($C:$C,))), \"\", 'PWS Records (System Entry)'!$D$4)","v":""},{"$f":"IF(AND(ISBLANK(INDEX($G:$G,)), ISBLANK(INDEX($C:$C,))), \"\", 'PWS Records (System Entry)'!$D$3)","v":""},null,null,null,null,null,null,null,null,null,null,null,null,null,null,null,null,null,null,""]
[{"$f":"IF(AND(ISBLANK(INDEX($G:$G,)), ISBLANK(INDEX($C:$C,))), \"\", 'PWS Records (System Entry)'!$D$4)","v":""},{"$f":"IF(AND(ISBLANK(INDEX($G:$G,)), ISBLANK(INDEX($C:$C,))), \"\", 'PWS Records (System Entry)'!$D$3)","v":""},null,null,null,null,null,null,null,null,null,null,null,null,null,null,null,null,null,null,""]
[{"$f":"IF(AND(ISBLANK(INDEX($G:$G,)), ISBLANK(INDEX($C:$C,))), \"\", 'PWS Records (System Entry)'!$D$4)","v":""},{"$f":"IF(AND(ISBLANK(INDEX($G:$G,)), ISBLANK(INDEX($C:$C,))), \"\", 'PWS Records (System Entry)'!$D$3)","v":""},null,null,null,null,null,null,null,null,null,null,null,null,null,null,null,null,null,null,""]
[{"$f":"IF(AND(ISBLANK(INDEX($G:$G,)), ISBLANK(INDEX($C:$C,))), \"\", 'PWS Records (System Entry)'!$D$4)","v":""},{"$f":"IF(AND(ISBLANK(INDEX($G:$G,)), ISBLANK(INDEX($C:$C,))), \"\", 'PWS Records (System Entry)'!$D$3)","v":""},null,null,null,null,null,null,null,null,null,null,null,null,null,null,null,null,null,null,""]
[{"$f":"IF(AND(ISBLANK(INDEX($G:$G,)), ISBLANK(INDEX($C:$C,))), \"\", 'PWS Records (System Entry)'!$D$4)","v":""},{"$f":"IF(AND(ISBLANK(INDEX($G:$G,)), ISBLANK(INDEX($C:$C,))), \"\", 'PWS Records (System Entry)'!$D$3)","v":""},null,null,null,null,null,null,null,null,null,null,null,null,null,null,null,null,null,null,""]
[{"$f":"IF(AND(ISBLANK(INDEX($G:$G,)), ISBLANK(INDEX($C:$C,))), \"\", 'PWS Records (System Entry)'!$D$4)","v":""},{"$f":"IF(AND(ISBLANK(INDEX($G:$G,)), ISBLANK(INDEX($C:$C,))), \"\", 'PWS Records (System Entry)'!$D$3)","v":""},null,null,null,null,null,null,null,null,null,null,null,null,null,null,null,null,null,null,""]
[{"$f":"IF(AND(ISBLANK(INDEX($G:$G,)), ISBLANK(INDEX($C:$C,))), \"\", 'PWS Records (System Entry)'!$D$4)","v":""},{"$f":"IF(AND(ISBLANK(INDEX($G:$G,)), ISBLANK(INDEX($C:$C,))), \"\", 'PWS Records (System Entry)'!$D$3)","v":""},null,null,null,null,null,null,null,null,null,null,null,null,null,null,null,null,null,null,""]
[{"$f":"IF(AND(ISBLANK(INDEX($G:$G,)), ISBLANK(INDEX($C:$C,))), \"\", 'PWS Records (System Entry)'!$D$4)","v":""},{"$f":"IF(AND(ISBLANK(INDEX($G:$G,)), ISBLANK(INDEX($C:$C,))), \"\", 'PWS Records (System Entry)'!$D$3)","v":""},null,null,null,null,null,null,null,null,null,null,null,null,null,null,null,null,null,null,""]
[{"$f":"IF(AND(ISBLANK(INDEX($G:$G,)), ISBLANK(INDEX($C:$C,))), \"\", 'PWS Records (System Entry)'!$D$4)","v":""},{"$f":"IF(AND(ISBLANK(INDEX($G:$G,)), ISBLANK(INDEX($C:$C,))), \"\", 'PWS Records (System Entry)'!$D$3)","v":""},null,null,null,null,null,null,null,null,null,null,null,null,null,null,null,null,null,null,""]
[{"$f":"IF(AND(ISBLANK(INDEX($G:$G,)), ISBLANK(INDEX($C:$C,))), \"\", 'PWS Records (System Entry)'!$D$4)","v":""},{"$f":"IF(AND(ISBLANK(INDEX($G:$G,)), ISBLANK(INDEX($C:$C,))), \"\", 'PWS Records (System Entry)'!$D$3)","v":""},null,null,null,null,null,null,null,null,null,null,null,null,null,null,null,null,null,null,""]
[{"$f":"IF(AND(ISBLANK(INDEX($G:$G,)), ISBLANK(INDEX($C:$C,))), \"\", 'PWS Records (System Entry)'!$D$4)","v":""},{"$f":"IF(AND(ISBLANK(INDEX($G:$G,)), ISBLANK(INDEX($C:$C,))), \"\", 'PWS Records (System Entry)'!$D$3)","v":""},null,null,null,null,null,null,null,null,null,null,null,null,null,null,null,null,null,null,""]
[{"$f":"IF(AND(ISBLANK(INDEX($G:$G,)), ISBLANK(INDEX($C:$C,))), \"\", 'PWS Records (System Entry)'!$D$4)","v":""},{"$f":"IF(AND(ISBLANK(INDEX($G:$G,)), ISBLANK(INDEX($C:$C,))), \"\", 'PWS Records (System Entry)'!$D$3)","v":""},null,null,null,null,null,null,null,null,null,null,null,null,null,null,null,null,null,null,""]
[{"$f":"IF(AND(ISBLANK(INDEX($G:$G,)), ISBLANK(INDEX($C:$C,))), \"\", 'PWS Records (System Entry)'!$D$4)","v":""},{"$f":"IF(AND(ISBLANK(INDEX($G:$G,)), ISBLANK(INDEX($C:$C,))), \"\", 'PWS Records (System Entry)'!$D$3)","v":""},null,null,null,null,null,null,null,null,null,null,null,null,null,null,null,null,null,null,""]
[{"$f":"IF(AND(ISBLANK(INDEX($G:$G,)), ISBLANK(INDEX($C:$C,))), \"\", 'PWS Records (System Entry)'!$D$4)","v":""},{"$f":"IF(AND(ISBLANK(INDEX($G:$G,)), ISBLANK(INDEX($C:$C,))), \"\", 'PWS Records (System Entry)'!$D$3)","v":""},null,null,null,null,null,null,null,null,null,null,null,null,null,null,null,null,null,null,""]
[{"$f":"IF(AND(ISBLANK(INDEX($G:$G,)), ISBLANK(INDEX($C:$C,))), \"\", 'PWS Records (System Entry)'!$D$4)","v":""},{"$f":"IF(AND(ISBLANK(INDEX($G:$G,)), ISBLANK(INDEX($C:$C,))), \"\", 'PWS Records (System Entry)'!$D$3)","v":""},null,null,null,null,null,null,null,null,null,null,null,null,null,null,null,null,null,null,""]
[{"$f":"IF(AND(ISBLANK(INDEX($G:$G,)), ISBLANK(INDEX($C:$C,))), \"\", 'PWS Records (System Entry)'!$D$4)","v":""},{"$f":"IF(AND(ISBLANK(INDEX($G:$G,)), ISBLANK(INDEX($C:$C,))), \"\", 'PWS Records (System Entry)'!$D$3)","v":""},null,null,null,null,null,null,null,null,null,null,null,null,null,null,null,null,null,null,""]
[{"$f":"IF(AND(ISBLANK(INDEX($G:$G,)), ISBLANK(INDEX($C:$C,))), \"\", 'PWS Records (System Entry)'!$D$4)","v":""},{"$f":"IF(AND(ISBLANK(INDEX($G:$G,)), ISBLANK(INDEX($C:$C,))), \"\", 'PWS Records (System Entry)'!$D$3)","v":""},null,null,null,null,null,null,null,null,null,null,null,null,null,null,null,null,null,null,""]
[{"$f":"IF(AND(ISBLANK(INDEX($G:$G,)), ISBLANK(INDEX($C:$C,))), \"\", 'PWS Records (System Entry)'!$D$4)","v":""},{"$f":"IF(AND(ISBLANK(INDEX($G:$G,)), ISBLANK(INDEX($C:$C,))), \"\", 'PWS Records (System Entry)'!$D$3)","v":""},null,null,null,null,null,null,null,null,null,null,null,null,null,null,null,null,null,null,{"$f":"IF(AND(INDEX($K:$K,)=\"\", INDEX($L:$L,)=\"\", INDEX($M:$M,)=\"\", INDEX($Q:$Q,)=\"\", INDEX($R:$R,)=\"\"), \"\", IF(OR(INDEX($K:$K,)=\"Lead\",INDEX($Q:$Q,)=\"Lead\"),\"Lead\",IF(OR(AND(OR(INDEX($M:$M,)=\"Yes\", INDEX($M:$M,)=\"Don't Know\", INDEX($M:$M,)=\"\"), INDEX($Q:$Q,)=\"Galvanized Iron/Steel\"), AND(INDEX($K:$K,)=\"Unknown\", INDEX($M:$M,)=\"No\", INDEX($Q:$Q,)=\"Galvanized Iron/Steel\")), \"Galvanized Requiring Replacement\", IF(OR(AND(OR(INDEX($K:$K,)=\"Galvanized Iron/Steel\", INDEX($K:$K,)=\"Non-Lead - Copper\", INDEX($K:$K,)=\"Non-Lead - Plastic\", INDEX($K:$K,)=\"Non-Lead - Other\", INDEX($K:$K,)=\"Non-Lead - Material Unknown\", INDEX($K:$K,)=\"No System Owned Portion\"), OR(INDEX($Q:$Q,)=\"Galvanized Iron/Steel\", INDEX($Q:$Q,)=\"Non-Lead - Copper\", INDEX($Q:$Q,)=\"Non-Lead - Plastic\", INDEX($Q:$Q,)=\"Non-Lead - Other\", INDEX($Q:$Q,)=\"Non-Lead - Predictive Model\", INDEX($Q:$Q,)=\"No Customer Owned Portion\")), AND(OR( INDEX($K:$K,)=\"Galvanized Iron/Steel\", INDEX($K:$K,)=\"Non-Lead - Copper\", INDEX($K:$K,)=\"Non-Lead - Plastic\", INDEX($K:$K,)=\"Non-Lead - Other\", INDEX($K:$K,)=\"Non-Lead - Material Unknown\", INDEX($K:$K,)=\"No System Owned Portion\"), INDEX($M:$M,)=\"No\", INDEX($Q:$Q,)=\"Non-Lead - Material Unknown\")), \"Non-Lead\", \"Lead Status Unknown\"))))","v":""}]
[{"$f":"IF(AND(ISBLANK(INDEX($G:$G,)), ISBLANK(INDEX($C:$C,))), \"\", 'PWS Records (System Entry)'!$D$4)","v":""},{"$f":"IF(AND(ISBLANK(INDEX($G:$G,)), ISBLANK(INDEX($C:$C,))), \"\", 'PWS Records (System Entry)'!$D$3)","v":""},null,null,null,null,null,null,null,null,null,null,null,null,null,null,null,null,null,null,""]
[{"$f":"IF(AND(ISBLANK(INDEX($G:$G,)), ISBLANK(INDEX($C:$C,))), \"\", 'PWS Records (System Entry)'!$D$4)","v":""},{"$f":"IF(AND(ISBLANK(INDEX($G:$G,)), ISBLANK(INDEX($C:$C,))), \"\", 'PWS Records (System Entry)'!$D$3)","v":""},null,null,null,null,null,null,null,null,null,null,null,null,null,null,null,null,null,null,""]
[{"$f":"IF(AND(ISBLANK(INDEX($G:$G,)), ISBLANK(INDEX($C:$C,))), \"\", 'PWS Records (System Entry)'!$D$4)","v":""},{"$f":"IF(AND(ISBLANK(INDEX($G:$G,)), ISBLANK(INDEX($C:$C,))), \"\", 'PWS Records (System Entry)'!$D$3)","v":""},null,null,null,null,null,null,null,null,null,null,null,null,null,null,null,null,null,null,""]
[{"$f":"IF(AND(ISBLANK(INDEX($G:$G,)), ISBLANK(INDEX($C:$C,))), \"\", 'PWS Records (System Entry)'!$D$4)","v":""},{"$f":"IF(AND(ISBLANK(INDEX($G:$G,)), ISBLANK(INDEX($C:$C,))), \"\", 'PWS Records (System Entry)'!$D$3)","v":""},null,null,null,null,null,null,null,null,null,null,null,null,null,null,null,null,null,null,""]
[{"$f":"IF(AND(ISBLANK(INDEX($G:$G,)), ISBLANK(INDEX($C:$C,))), \"\", 'PWS Records (System Entry)'!$D$4)","v":""},{"$f":"IF(AND(ISBLANK(INDEX($G:$G,)), ISBLANK(INDEX($C:$C,))), \"\", 'PWS Records (System Entry)'!$D$3)","v":""},null,null,null,null,null,null,null,null,null,null,null,null,null,null,null,null,null,null,""]
[{"$f":"IF(AND(ISBLANK(INDEX($G:$G,)), ISBLANK(INDEX($C:$C,))), \"\", 'PWS Records (System Entry)'!$D$4)","v":""},{"$f":"IF(AND(ISBLANK(INDEX($G:$G,)), ISBLANK(INDEX($C:$C,))), \"\", 'PWS Records (System Entry)'!$D$3)","v":""},null,null,null,null,null,null,null,null,null,null,null,null,null,null,null,null,null,null,""]
[{"$f":"IF(AND(ISBLANK(INDEX($G:$G,)), ISBLANK(INDEX($C:$C,))), \"\", 'PWS Records (System Entry)'!$D$4)","v":""},{"$f":"IF(AND(ISBLANK(INDEX($G:$G,)), ISBLANK(INDEX($C:$C,))), \"\", 'PWS Records (System Entry)'!$D$3)","v":""},null,null,null,null,null,null,null,null,null,null,null,null,null,null,null,null,null,null,""]
[{"$f":"IF(AND(ISBLANK(INDEX($G:$G,)), ISBLANK(INDEX($C:$C,))), \"\", 'PWS Records (System Entry)'!$D$4)","v":""},{"$f":"IF(AND(ISBLANK(INDEX($G:$G,)), ISBLANK(INDEX($C:$C,))), \"\", 'PWS Records (System Entry)'!$D$3)","v":""},null,null,null,null,null,null,null,null,null,null,null,null,null,null,null,null,null,null,""]
[{"$f":"IF(AND(ISBLANK(INDEX($G:$G,)), ISBLANK(INDEX($C:$C,))), \"\", 'PWS Records (System Entry)'!$D$4)","v":""},{"$f":"IF(AND(ISBLANK(INDEX($G:$G,)), ISBLANK(INDEX($C:$C,))), \"\", 'PWS Records (System Entry)'!$D$3)","v":""},null,null,null,null,null,null,null,null,null,null,null,null,null,null,null,null,null,null,""]
[{"$f":"IF(AND(ISBLANK(INDEX($G:$G,)), ISBLANK(INDEX($C:$C,))), \"\", 'PWS Records (System Entry)'!$D$4)","v":""},{"$f":"IF(AND(ISBLANK(INDEX($G:$G,)), ISBLANK(INDEX($C:$C,))), \"\", 'PWS Records (System Entry)'!$D$3)","v":""},null,null,null,null,null,null,null,null,null,null,null,null,null,null,null,null,null,null,""]
[{"$f":"IF(AND(ISBLANK(INDEX($G:$G,)), ISBLANK(INDEX($C:$C,))), \"\", 'PWS Records (System Entry)'!$D$4)","v":""},{"$f":"IF(AND(ISBLANK(INDEX($G:$G,)), ISBLANK(INDEX($C:$C,))), \"\", 'PWS Records (System Entry)'!$D$3)","v":""},null,null,null,null,null,null,null,null,null,null,null,null,null,null,null,null,null,null,""]
[{"$f":"IF(AND(ISBLANK(INDEX($G:$G,)), ISBLANK(INDEX($C:$C,))), \"\", 'PWS Records (System Entry)'!$D$4)","v":""},{"$f":"IF(AND(ISBLANK(INDEX($G:$G,)), ISBLANK(INDEX($C:$C,))), \"\", 'PWS Records (System Entry)'!$D$3)","v":""},null,null,null,null,null,null,null,null,null,null,null,null,null,null,null,null,null,null,""]
[{"$f":"IF(AND(ISBLANK(INDEX($G:$G,)), ISBLANK(INDEX($C:$C,))), \"\", 'PWS Records (System Entry)'!$D$4)","v":""},{"$f":"IF(AND(ISBLANK(INDEX($G:$G,)), ISBLANK(INDEX($C:$C,))), \"\", 'PWS Records (System Entry)'!$D$3)","v":""},null,null,null,null,null,null,null,null,null,null,null,null,null,null,null,null,null,null,""]
[{"$f":"IF(AND(ISBLANK(INDEX($G:$G,)), ISBLANK(INDEX($C:$C,))), \"\", 'PWS Records (System Entry)'!$D$4)","v":""},{"$f":"IF(AND(ISBLANK(INDEX($G:$G,)), ISBLANK(INDEX($C:$C,))), \"\", 'PWS Records (System Entry)'!$D$3)","v":""},null,null,null,null,null,null,null,null,null,null,null,null,null,null,null,null,null,null,""]
[{"$f":"IF(AND(ISBLANK(INDEX($G:$G,)), ISBLANK(INDEX($C:$C,))), \"\", 'PWS Records (System Entry)'!$D$4)","v":""},{"$f":"IF(AND(ISBLANK(INDEX($G:$G,)), ISBLANK(INDEX($C:$C,))), \"\", 'PWS Records (System Entry)'!$D$3)","v":""},null,null,null,null,null,null,null,null,null,null,null,null,null,null,null,null,null,null,""]
[{"$f":"IF(AND(ISBLANK(INDEX($G:$G,)), ISBLANK(INDEX($C:$C,))), \"\", 'PWS Records (System Entry)'!$D$4)","v":""},{"$f":"IF(AND(ISBLANK(INDEX($G:$G,)), ISBLANK(INDEX($C:$C,))), \"\", 'PWS Records (System Entry)'!$D$3)","v":""},null,null,null,null,null,null,null,null,null,null,null,null,null,null,null,null,null,null,""]
[{"$f":"IF(AND(ISBLANK(INDEX($G:$G,)), ISBLANK(INDEX($C:$C,))), \"\", 'PWS Records (System Entry)'!$D$4)","v":""},{"$f":"IF(AND(ISBLANK(INDEX($G:$G,)), ISBLANK(INDEX($C:$C,))), \"\", 'PWS Records (System Entry)'!$D$3)","v":""},null,null,null,null,null,null,null,null,null,null,null,null,null,null,null,null,null,null,""]
[{"$f":"IF(AND(ISBLANK(INDEX($G:$G,)), ISBLANK(INDEX($C:$C,))), \"\", 'PWS Records (System Entry)'!$D$4)","v":""},{"$f":"IF(AND(ISBLANK(INDEX($G:$G,)), ISBLANK(INDEX($C:$C,))), \"\", 'PWS Records (System Entry)'!$D$3)","v":""},null,null,null,null,null,null,null,null,null,null,null,null,null,null,null,null,null,null,""]
[{"$f":"IF(AND(ISBLANK(INDEX($G:$G,)), ISBLANK(INDEX($C:$C,))), \"\", 'PWS Records (System Entry)'!$D$4)","v":""},{"$f":"IF(AND(ISBLANK(INDEX($G:$G,)), ISBLANK(INDEX($C:$C,))), \"\", 'PWS Records (System Entry)'!$D$3)","v":""},null,null,null,null,null,null,null,null,null,null,null,null,null,null,null,null,null,null,""]
[{"$f":"IF(AND(ISBLANK(INDEX($G:$G,)), ISBLANK(INDEX($C:$C,))), \"\", 'PWS Records (System Entry)'!$D$4)","v":""},{"$f":"IF(AND(ISBLANK(INDEX($G:$G,)), ISBLANK(INDEX($C:$C,))), \"\", 'PWS Records (System Entry)'!$D$3)","v":""},null,null,null,null,null,null,null,null,null,null,null,null,null,null,null,null,null,null,""]
[{"$f":"IF(AND(ISBLANK(INDEX($G:$G,)), ISBLANK(INDEX($C:$C,))), \"\", 'PWS Records (System Entry)'!$D$4)","v":""},{"$f":"IF(AND(ISBLANK(INDEX($G:$G,)), ISBLANK(INDEX($C:$C,))), \"\", 'PWS Records (System Entry)'!$D$3)","v":""},null,null,null,null,null,null,null,null,null,null,null,null,null,null,null,null,null,null,""]
[{"$f":"IF(AND(ISBLANK(INDEX($G:$G,)), ISBLANK(INDEX($C:$C,))), \"\", 'PWS Records (System Entry)'!$D$4)","v":""},{"$f":"IF(AND(ISBLANK(INDEX($G:$G,)), ISBLANK(INDEX($C:$C,))), \"\", 'PWS Records (System Entry)'!$D$3)","v":""},null,null,null,null,null,null,null,null,null,null,null,null,null,null,null,null,null,null,""]
[{"$f":"IF(AND(ISBLANK(INDEX($G:$G,)), ISBLANK(INDEX($C:$C,))), \"\", 'PWS Records (System Entry)'!$D$4)","v":""},{"$f":"IF(AND(ISBLANK(INDEX($G:$G,)), ISBLANK(INDEX($C:$C,))), \"\", 'PWS Records (System Entry)'!$D$3)","v":""},null,null,null,null,null,null,null,null,null,null,null,null,null,null,null,null,null,null,""]
[{"$f":"IF(AND(ISBLANK(INDEX($G:$G,)), ISBLANK(INDEX($C:$C,))), \"\", 'PWS Records (System Entry)'!$D$4)","v":""},{"$f":"IF(AND(ISBLANK(INDEX($G:$G,)), ISBLANK(INDEX($C:$C,))), \"\", 'PWS Records (System Entry)'!$D$3)","v":""},null,null,null,null,null,null,null,null,null,null,null,null,null,null,null,null,null,null,""]
[{"$f":"IF(AND(ISBLANK(INDEX($G:$G,)), ISBLANK(INDEX($C:$C,))), \"\", 'PWS Records (System Entry)'!$D$4)","v":""},{"$f":"IF(AND(ISBLANK(INDEX($G:$G,)), ISBLANK(INDEX($C:$C,))), \"\", 'PWS Records (System Entry)'!$D$3)","v":""},null,null,null,null,null,null,null,null,null,null,null,null,null,null,null,null,null,null,""]
[{"$f":"IF(AND(ISBLANK(INDEX($G:$G,)), ISBLANK(INDEX($C:$C,))), \"\", 'PWS Records (System Entry)'!$D$4)","v":""},{"$f":"IF(AND(ISBLANK(INDEX($G:$G,)), ISBLANK(INDEX($C:$C,))), \"\", 'PWS Records (System Entry)'!$D$3)","v":""},null,null,null,null,null,null,null,null,null,null,null,null,null,null,null,null,null,null,""]
[{"$f":"IF(AND(ISBLANK(INDEX($G:$G,)), ISBLANK(INDEX($C:$C,))), \"\", 'PWS Records (System Entry)'!$D$4)","v":""},{"$f":"IF(AND(ISBLANK(INDEX($G:$G,)), ISBLANK(INDEX($C:$C,))), \"\", 'PWS Records (System Entry)'!$D$3)","v":""},null,null,null,null,null,null,null,null,null,null,null,null,null,null,null,null,null,null,""]
[{"$f":"IF(AND(ISBLANK(INDEX($G:$G,)), ISBLANK(INDEX($C:$C,))), \"\", 'PWS Records (System Entry)'!$D$4)","v":""},{"$f":"IF(AND(ISBLANK(INDEX($G:$G,)), ISBLANK(INDEX($C:$C,))), \"\", 'PWS Records (System Entry)'!$D$3)","v":""},null,null,null,null,null,null,null,null,null,null,null,null,null,null,null,null,null,null,""]
[{"$f":"IF(AND(ISBLANK(INDEX($G:$G,)), ISBLANK(INDEX($C:$C,))), \"\", 'PWS Records (System Entry)'!$D$4)","v":""},{"$f":"IF(AND(ISBLANK(INDEX($G:$G,)), ISBLANK(INDEX($C:$C,))), \"\", 'PWS Records (System Entry)'!$D$3)","v":""},null,null,null,null,null,null,null,null,null,null,null,null,null,null,null,null,null,null,""]
[{"$f":"IF(AND(ISBLANK(INDEX($G:$G,)), ISBLANK(INDEX($C:$C,))), \"\", 'PWS Records (System Entry)'!$D$4)","v":""},{"$f":"IF(AND(ISBLANK(INDEX($G:$G,)), ISBLANK(INDEX($C:$C,))), \"\", 'PWS Records (System Entry)'!$D$3)","v":""},null,null,null,null,null,null,null,null,null,null,null,null,null,null,null,null,null,null,""]
[{"$f":"IF(AND(ISBLANK(INDEX($G:$G,)), ISBLANK(INDEX($C:$C,))), \"\", 'PWS Records (System Entry)'!$D$4)","v":""},{"$f":"IF(AND(ISBLANK(INDEX($G:$G,)), ISBLANK(INDEX($C:$C,))), \"\", 'PWS Records (System Entry)'!$D$3)","v":""},null,null,null,null,null,null,null,null,null,null,null,null,null,null,null,null,null,null,""]
[{"$f":"IF(AND(ISBLANK(INDEX($G:$G,)), ISBLANK(INDEX($C:$C,))), \"\", 'PWS Records (System Entry)'!$D$4)","v":""},{"$f":"IF(AND(ISBLANK(INDEX($G:$G,)), ISBLANK(INDEX($C:$C,))), \"\", 'PWS Records (System Entry)'!$D$3)","v":""},null,null,null,null,null,null,null,null,null,null,null,null,null,null,null,null,null,null,""]
[{"$f":"IF(AND(ISBLANK(INDEX($G:$G,)), ISBLANK(INDEX($C:$C,))), \"\", 'PWS Records (System Entry)'!$D$4)","v":""},{"$f":"IF(AND(ISBLANK(INDEX($G:$G,)), ISBLANK(INDEX($C:$C,))), \"\", 'PWS Records (System Entry)'!$D$3)","v":""},null,null,null,null,null,null,null,null,null,null,null,null,null,null,null,null,null,null,""]
[{"$f":"IF(AND(ISBLANK(INDEX($G:$G,)), ISBLANK(INDEX($C:$C,))), \"\", 'PWS Records (System Entry)'!$D$4)","v":""},{"$f":"IF(AND(ISBLANK(INDEX($G:$G,)), ISBLANK(INDEX($C:$C,))), \"\", 'PWS Records (System Entry)'!$D$3)","v":""},null,null,null,null,null,null,null,null,null,null,null,null,null,null,null,null,null,null,""]
[{"$f":"IF(AND(ISBLANK(INDEX($G:$G,)), ISBLANK(INDEX($C:$C,))), \"\", 'PWS Records (System Entry)'!$D$4)","v":""},{"$f":"IF(AND(ISBLANK(INDEX($G:$G,)), ISBLANK(INDEX($C:$C,))), \"\", 'PWS Records (System Entry)'!$D$3)","v":""},null,null,null,null,null,null,null,null,null,null,null,null,null,null,null,null,null,null,""]
[{"$f":"IF(AND(ISBLANK(INDEX($G:$G,)), ISBLANK(INDEX($C:$C,))), \"\", 'PWS Records (System Entry)'!$D$4)","v":""},{"$f":"IF(AND(ISBLANK(INDEX($G:$G,)), ISBLANK(INDEX($C:$C,))), \"\", 'PWS Records (System Entry)'!$D$3)","v":""},null,null,null,null,null,null,null,null,null,null,null,null,null,null,null,null,null,null,""]
[{"$f":"IF(AND(ISBLANK(INDEX($G:$G,)), ISBLANK(INDEX($C:$C,))), \"\", 'PWS Records (System Entry)'!$D$4)","v":""},{"$f":"IF(AND(ISBLANK(INDEX($G:$G,)), ISBLANK(INDEX($C:$C,))), \"\", 'PWS Records (System Entry)'!$D$3)","v":""},null,null,null,null,null,null,null,null,null,null,null,null,null,null,null,null,null,null,""]
[{"$f":"IF(AND(ISBLANK(INDEX($G:$G,)), ISBLANK(INDEX($C:$C,))), \"\", 'PWS Records (System Entry)'!$D$4)","v":""},{"$f":"IF(AND(ISBLANK(INDEX($G:$G,)), ISBLANK(INDEX($C:$C,))), \"\", 'PWS Records (System Entry)'!$D$3)","v":""},null,null,null,null,null,null,null,null,null,null,null,null,null,null,null,null,null,null,""]
[{"$f":"IF(AND(ISBLANK(INDEX($G:$G,)), ISBLANK(INDEX($C:$C,))), \"\", 'PWS Records (System Entry)'!$D$4)","v":""},{"$f":"IF(AND(ISBLANK(INDEX($G:$G,)), ISBLANK(INDEX($C:$C,))), \"\", 'PWS Records (System Entry)'!$D$3)","v":""},null,null,null,null,null,null,null,null,null,null,null,null,null,null,null,null,null,null,""]
[{"$f":"IF(AND(ISBLANK(INDEX($G:$G,)), ISBLANK(INDEX($C:$C,))), \"\", 'PWS Records (System Entry)'!$D$4)","v":""},{"$f":"IF(AND(ISBLANK(INDEX($G:$G,)), ISBLANK(INDEX($C:$C,))), \"\", 'PWS Records (System Entry)'!$D$3)","v":""},null,null,null,null,null,null,null,null,null,null,null,null,null,null,null,null,null,null,""]
[{"$f":"IF(AND(ISBLANK(INDEX($G:$G,)), ISBLANK(INDEX($C:$C,))), \"\", 'PWS Records (System Entry)'!$D$4)","v":""},{"$f":"IF(AND(ISBLANK(INDEX($G:$G,)), ISBLANK(INDEX($C:$C,))), \"\", 'PWS Records (System Entry)'!$D$3)","v":""},null,null,null,null,null,null,null,null,null,null,null,null,null,null,null,null,null,null,""]
[{"$f":"IF(AND(ISBLANK(INDEX($G:$G,)), ISBLANK(INDEX($C:$C,))), \"\", 'PWS Records (System Entry)'!$D$4)","v":""},{"$f":"IF(AND(ISBLANK(INDEX($G:$G,)), ISBLANK(INDEX($C:$C,))), \"\", 'PWS Records (System Entry)'!$D$3)","v":""},null,null,null,null,null,null,null,null,null,null,null,null,null,null,null,null,null,null,""]
[{"$f":"IF(AND(ISBLANK(INDEX($G:$G,)), ISBLANK(INDEX($C:$C,))), \"\", 'PWS Records (System Entry)'!$D$4)","v":""},{"$f":"IF(AND(ISBLANK(INDEX($G:$G,)), ISBLANK(INDEX($C:$C,))), \"\", 'PWS Records (System Entry)'!$D$3)","v":""},null,null,null,null,null,null,null,null,null,null,null,null,null,null,null,null,null,null,""]
[{"$f":"IF(AND(ISBLANK(INDEX($G:$G,)), ISBLANK(INDEX($C:$C,))), \"\", 'PWS Records (System Entry)'!$D$4)","v":""},{"$f":"IF(AND(ISBLANK(INDEX($G:$G,)), ISBLANK(INDEX($C:$C,))), \"\", 'PWS Records (System Entry)'!$D$3)","v":""},null,null,null,null,null,null,null,null,null,null,null,null,null,null,null,null,null,null,""]
[{"$f":"IF(AND(ISBLANK(INDEX($G:$G,)), ISBLANK(INDEX($C:$C,))), \"\", 'PWS Records (System Entry)'!$D$4)","v":""},{"$f":"IF(AND(ISBLANK(INDEX($G:$G,)), ISBLANK(INDEX($C:$C,))), \"\", 'PWS Records (System Entry)'!$D$3)","v":""},null,null,null,null,null,null,null,null,null,null,null,null,null,null,null,null,null,null,""]
[{"$f":"IF(AND(ISBLANK(INDEX($G:$G,)), ISBLANK(INDEX($C:$C,))), \"\", 'PWS Records (System Entry)'!$D$4)","v":""},{"$f":"IF(AND(ISBLANK(INDEX($G:$G,)), ISBLANK(INDEX($C:$C,))), \"\", 'PWS Records (System Entry)'!$D$3)","v":""},null,null,null,null,null,null,null,null,null,null,null,null,null,null,null,null,null,null,""]
[{"$f":"IF(AND(ISBLANK(INDEX($G:$G,)), ISBLANK(INDEX($C:$C,))), \"\", 'PWS Records (System Entry)'!$D$4)","v":""},{"$f":"IF(AND(ISBLANK(INDEX($G:$G,)), ISBLANK(INDEX($C:$C,))), \"\", 'PWS Records (System Entry)'!$D$3)","v":""},null,null,null,null,null,null,null,null,null,null,null,null,null,null,null,null,null,null,""]
[{"$f":"IF(AND(ISBLANK(INDEX($G:$G,)), ISBLANK(INDEX($C:$C,))), \"\", 'PWS Records (System Entry)'!$D$4)","v":""},{"$f":"IF(AND(ISBLANK(INDEX($G:$G,)), ISBLANK(INDEX($C:$C,))), \"\", 'PWS Records (System Entry)'!$D$3)","v":""},null,null,null,null,null,null,null,null,null,null,null,null,null,null,null,null,null,null,""]
[{"$f":"IF(AND(ISBLANK(INDEX($G:$G,)), ISBLANK(INDEX($C:$C,))), \"\", 'PWS Records (System Entry)'!$D$4)","v":""},{"$f":"IF(AND(ISBLANK(INDEX($G:$G,)), ISBLANK(INDEX($C:$C,))), \"\", 'PWS Records (System Entry)'!$D$3)","v":""},null,null,null,null,null,null,null,null,null,null,null,null,null,null,null,null,null,null,""]
[{"$f":"IF(AND(ISBLANK(INDEX($G:$G,)), ISBLANK(INDEX($C:$C,))), \"\", 'PWS Records (System Entry)'!$D$4)","v":""},{"$f":"IF(AND(ISBLANK(INDEX($G:$G,)), ISBLANK(INDEX($C:$C,))), \"\", 'PWS Records (System Entry)'!$D$3)","v":""},null,null,null,null,null,null,null,null,null,null,null,null,null,null,null,null,null,null,""]
[{"$f":"IF(AND(ISBLANK(INDEX($G:$G,)), ISBLANK(INDEX($C:$C,))), \"\", 'PWS Records (System Entry)'!$D$4)","v":""},{"$f":"IF(AND(ISBLANK(INDEX($G:$G,)), ISBLANK(INDEX($C:$C,))), \"\", 'PWS Records (System Entry)'!$D$3)","v":""},null,null,null,null,null,null,null,null,null,null,null,null,null,null,null,null,null,null,""]
[{"$f":"IF(AND(ISBLANK(INDEX($G:$G,)), ISBLANK(INDEX($C:$C,))), \"\", 'PWS Records (System Entry)'!$D$4)","v":""},{"$f":"IF(AND(ISBLANK(INDEX($G:$G,)), ISBLANK(INDEX($C:$C,))), \"\", 'PWS Records (System Entry)'!$D$3)","v":""},null,null,null,null,null,null,null,null,null,null,null,null,null,null,null,null,null,null,""]
[{"$f":"IF(AND(ISBLANK(INDEX($G:$G,)), ISBLANK(INDEX($C:$C,))), \"\", 'PWS Records (System Entry)'!$D$4)","v":""},{"$f":"IF(AND(ISBLANK(INDEX($G:$G,)), ISBLANK(INDEX($C:$C,))), \"\", 'PWS Records (System Entry)'!$D$3)","v":""},null,null,null,null,null,null,null,null,null,null,null,null,null,null,null,null,null,null,""]
[{"$f":"IF(AND(ISBLANK(INDEX($G:$G,)), ISBLANK(INDEX($C:$C,))), \"\", 'PWS Records (System Entry)'!$D$4)","v":""},{"$f":"IF(AND(ISBLANK(INDEX($G:$G,)), ISBLANK(INDEX($C:$C,))), \"\", 'PWS Records (System Entry)'!$D$3)","v":""},null,null,null,null,null,null,null,null,null,null,null,null,null,null,null,null,null,null,""]
[{"$f":"IF(AND(ISBLANK(INDEX($G:$G,)), ISBLANK(INDEX($C:$C,))), \"\", 'PWS Records (System Entry)'!$D$4)","v":""},{"$f":"IF(AND(ISBLANK(INDEX($G:$G,)), ISBLANK(INDEX($C:$C,))), \"\", 'PWS Records (System Entry)'!$D$3)","v":""},null,null,null,null,null,null,null,null,null,null,null,null,null,null,null,null,null,null,""]
[{"$f":"IF(AND(ISBLANK(INDEX($G:$G,)), ISBLANK(INDEX($C:$C,))), \"\", 'PWS Records (System Entry)'!$D$4)","v":""},{"$f":"IF(AND(ISBLANK(INDEX($G:$G,)), ISBLANK(INDEX($C:$C,))), \"\", 'PWS Records (System Entry)'!$D$3)","v":""},null,null,null,null,null,null,null,null,null,null,null,null,null,null,null,null,null,null,""]
[{"$f":"IF(AND(ISBLANK(INDEX($G:$G,)), ISBLANK(INDEX($C:$C,))), \"\", 'PWS Records (System Entry)'!$D$4)","v":""},{"$f":"IF(AND(ISBLANK(INDEX($G:$G,)), ISBLANK(INDEX($C:$C,))), \"\", 'PWS Records (System Entry)'!$D$3)","v":""},null,null,null,null,null,null,null,null,null,null,null,null,null,null,null,null,null,null,""]
[{"$f":"IF(AND(ISBLANK(INDEX($G:$G,)), ISBLANK(INDEX($C:$C,))), \"\", 'PWS Records (System Entry)'!$D$4)","v":""},{"$f":"IF(AND(ISBLANK(INDEX($G:$G,)), ISBLANK(INDEX($C:$C,))), \"\", 'PWS Records (System Entry)'!$D$3)","v":""},null,null,null,null,null,null,null,null,null,null,null,null,null,null,null,null,null,null,""]
[{"$f":"IF(AND(ISBLANK(INDEX($G:$G,)), ISBLANK(INDEX($C:$C,))), \"\", 'PWS Records (System Entry)'!$D$4)","v":""},{"$f":"IF(AND(ISBLANK(INDEX($G:$G,)), ISBLANK(INDEX($C:$C,))), \"\", 'PWS Records (System Entry)'!$D$3)","v":""},null,null,null,null,null,null,null,null,null,null,null,null,null,null,null,null,null,null,""]
[{"$f":"IF(AND(ISBLANK(INDEX($G:$G,)), ISBLANK(INDEX($C:$C,))), \"\", 'PWS Records (System Entry)'!$D$4)","v":""},{"$f":"IF(AND(ISBLANK(INDEX($G:$G,)), ISBLANK(INDEX($C:$C,))), \"\", 'PWS Records (System Entry)'!$D$3)","v":""},null,null,null,null,null,null,null,null,null,null,null,null,null,null,null,null,null,null,""]
[{"$f":"IF(AND(ISBLANK(INDEX($G:$G,)), ISBLANK(INDEX($C:$C,))), \"\", 'PWS Records (System Entry)'!$D$4)","v":""},{"$f":"IF(AND(ISBLANK(INDEX($G:$G,)), ISBLANK(INDEX($C:$C,))), \"\", 'PWS Records (System Entry)'!$D$3)","v":""},null,null,null,null,null,null,null,null,null,null,null,null,null,null,null,null,null,null,""]
[{"$f":"IF(AND(ISBLANK(INDEX($G:$G,)), ISBLANK(INDEX($C:$C,))), \"\", 'PWS Records (System Entry)'!$D$4)","v":""},{"$f":"IF(AND(ISBLANK(INDEX($G:$G,)), ISBLANK(INDEX($C:$C,))), \"\", 'PWS Records (System Entry)'!$D$3)","v":""},null,null,null,null,null,null,null,null,null,null,null,null,null,null,null,null,null,null,""]
[{"$f":"IF(AND(ISBLANK(INDEX($G:$G,)), ISBLANK(INDEX($C:$C,))), \"\", 'PWS Records (System Entry)'!$D$4)","v":""},{"$f":"IF(AND(ISBLANK(INDEX($G:$G,)), ISBLANK(INDEX($C:$C,))), \"\", 'PWS Records (System Entry)'!$D$3)","v":""},null,null,null,null,null,null,null,null,null,null,null,null,null,null,null,null,null,null,""]
[{"$f":"IF(AND(ISBLANK(INDEX($G:$G,)), ISBLANK(INDEX($C:$C,))), \"\", 'PWS Records (System Entry)'!$D$4)","v":""},{"$f":"IF(AND(ISBLANK(INDEX($G:$G,)), ISBLANK(INDEX($C:$C,))), \"\", 'PWS Records (System Entry)'!$D$3)","v":""},null,null,null,null,null,null,null,null,null,null,null,null,null,null,null,null,null,null,{"$f":"IF(AND(INDEX($K:$K,)=\"\", INDEX($L:$L,)=\"\", INDEX($M:$M,)=\"\", INDEX($Q:$Q,)=\"\", INDEX($R:$R,)=\"\"), \"\", IF(OR(INDEX($K:$K,)=\"Lead\",INDEX($Q:$Q,)=\"Lead\"),\"Lead\",IF(OR(AND(OR(INDEX($M:$M,)=\"Yes\", INDEX($M:$M,)=\"Don't Know\", INDEX($M:$M,)=\"\"), INDEX($Q:$Q,)=\"Galvanized Iron/Steel\"), AND(INDEX($K:$K,)=\"Unknown\", INDEX($M:$M,)=\"No\", INDEX($Q:$Q,)=\"Galvanized Iron/Steel\")), \"Galvanized Requiring Replacement\", IF(OR(AND(OR(INDEX($K:$K,)=\"Galvanized Iron/Steel\", INDEX($K:$K,)=\"Non-Lead - Copper\", INDEX($K:$K,)=\"Non-Lead - Plastic\", INDEX($K:$K,)=\"Non-Lead - Other\", INDEX($K:$K,)=\"Non-Lead - Material Unknown\", INDEX($K:$K,)=\"No System Owned Portion\"), OR(INDEX($Q:$Q,)=\"Galvanized Iron/Steel\", INDEX($Q:$Q,)=\"Non-Lead - Copper\", INDEX($Q:$Q,)=\"Non-Lead - Plastic\", INDEX($Q:$Q,)=\"Non-Lead - Other\", INDEX($Q:$Q,)=\"Non-Lead - Predictive Model\", INDEX($Q:$Q,)=\"No Customer Owned Portion\")), AND(OR( INDEX($K:$K,)=\"Galvanized Iron/Steel\", INDEX($K:$K,)=\"Non-Lead - Copper\", INDEX($K:$K,)=\"Non-Lead - Plastic\", INDEX($K:$K,)=\"Non-Lead - Other\", INDEX($K:$K,)=\"Non-Lead - Material Unknown\", INDEX($K:$K,)=\"No System Owned Portion\"), INDEX($M:$M,)=\"No\", INDEX($Q:$Q,)=\"Non-Lead - Material Unknown\")), \"Non-Lead\", \"Lead Status Unknown\"))))","v":""}]
[{"$f":"IF(AND(ISBLANK(INDEX($G:$G,)), ISBLANK(INDEX($C:$C,))), \"\", 'PWS Records (System Entry)'!$D$4)","v":""},{"$f":"IF(AND(ISBLANK(INDEX($G:$G,)), ISBLANK(INDEX($C:$C,))), \"\", 'PWS Records (System Entry)'!$D$3)","v":""},null,null,null,null,null,null,null,null,null,null,null,null,null,null,null,null,null,null,""]
[{"$f":"IF(AND(ISBLANK(INDEX($G:$G,)), ISBLANK(INDEX($C:$C,))), \"\", 'PWS Records (System Entry)'!$D$4)","v":""},{"$f":"IF(AND(ISBLANK(INDEX($G:$G,)), ISBLANK(INDEX($C:$C,))), \"\", 'PWS Records (System Entry)'!$D$3)","v":""},null,null,null,null,null,null,null,null,null,null,null,null,null,null,null,null,null,null,""]
[{"$f":"IF(AND(ISBLANK(INDEX($G:$G,)), ISBLANK(INDEX($C:$C,))), \"\", 'PWS Records (System Entry)'!$D$4)","v":""},{"$f":"IF(AND(ISBLANK(INDEX($G:$G,)), ISBLANK(INDEX($C:$C,))), \"\", 'PWS Records (System Entry)'!$D$3)","v":""},null,null,null,null,null,null,null,null,null,null,null,null,null,null,null,null,null,null,""]
[{"$f":"IF(AND(ISBLANK(INDEX($G:$G,)), ISBLANK(INDEX($C:$C,))), \"\", 'PWS Records (System Entry)'!$D$4)","v":""},{"$f":"IF(AND(ISBLANK(INDEX($G:$G,)), ISBLANK(INDEX($C:$C,))), \"\", 'PWS Records (System Entry)'!$D$3)","v":""},null,null,null,null,null,null,null,null,null,null,null,null,null,null,null,null,null,null,""]
[{"$f":"IF(AND(ISBLANK(INDEX($G:$G,)), ISBLANK(INDEX($C:$C,))), \"\", 'PWS Records (System Entry)'!$D$4)","v":""},{"$f":"IF(AND(ISBLANK(INDEX($G:$G,)), ISBLANK(INDEX($C:$C,))), \"\", 'PWS Records (System Entry)'!$D$3)","v":""},null,null,null,null,null,null,null,null,null,null,null,null,null,null,null,null,null,null,""]
[{"$f":"IF(AND(ISBLANK(INDEX($G:$G,)), ISBLANK(INDEX($C:$C,))), \"\", 'PWS Records (System Entry)'!$D$4)","v":""},{"$f":"IF(AND(ISBLANK(INDEX($G:$G,)), ISBLANK(INDEX($C:$C,))), \"\", 'PWS Records (System Entry)'!$D$3)","v":""},null,null,null,null,null,null,null,null,null,null,null,null,null,null,null,null,null,null,""]
[{"$f":"IF(AND(ISBLANK(INDEX($G:$G,)), ISBLANK(INDEX($C:$C,))), \"\", 'PWS Records (System Entry)'!$D$4)","v":""},{"$f":"IF(AND(ISBLANK(INDEX($G:$G,)), ISBLANK(INDEX($C:$C,))), \"\", 'PWS Records (System Entry)'!$D$3)","v":""},null,null,null,null,null,null,null,null,null,null,null,null,null,null,null,null,null,null,""]
[{"$f":"IF(AND(ISBLANK(INDEX($G:$G,)), ISBLANK(INDEX($C:$C,))), \"\", 'PWS Records (System Entry)'!$D$4)","v":""},{"$f":"IF(AND(ISBLANK(INDEX($G:$G,)), ISBLANK(INDEX($C:$C,))), \"\", 'PWS Records (System Entry)'!$D$3)","v":""},null,null,null,null,null,null,null,null,null,null,null,null,null,null,null,null,null,null,""]
[{"$f":"IF(AND(ISBLANK(INDEX($G:$G,)), ISBLANK(INDEX($C:$C,))), \"\", 'PWS Records (System Entry)'!$D$4)","v":""},{"$f":"IF(AND(ISBLANK(INDEX($G:$G,)), ISBLANK(INDEX($C:$C,))), \"\", 'PWS Records (System Entry)'!$D$3)","v":""},null,null,null,null,null,null,null,null,null,null,null,null,null,null,null,null,null,null,""]
[{"$f":"IF(AND(ISBLANK(INDEX($G:$G,)), ISBLANK(INDEX($C:$C,))), \"\", 'PWS Records (System Entry)'!$D$4)","v":""},{"$f":"IF(AND(ISBLANK(INDEX($G:$G,)), ISBLANK(INDEX($C:$C,))), \"\", 'PWS Records (System Entry)'!$D$3)","v":""},null,null,null,null,null,null,null,null,null,null,null,null,null,null,null,null,null,null,""]
[{"$f":"IF(AND(ISBLANK(INDEX($G:$G,)), ISBLANK(INDEX($C:$C,))), \"\", 'PWS Records (System Entry)'!$D$4)","v":""},{"$f":"IF(AND(ISBLANK(INDEX($G:$G,)), ISBLANK(INDEX($C:$C,))), \"\", 'PWS Records (System Entry)'!$D$3)","v":""},null,null,null,null,null,null,null,null,null,null,null,null,null,null,null,null,null,null,""]
[{"$f":"IF(AND(ISBLANK(INDEX($G:$G,)), ISBLANK(INDEX($C:$C,))), \"\", 'PWS Records (System Entry)'!$D$4)","v":""},{"$f":"IF(AND(ISBLANK(INDEX($G:$G,)), ISBLANK(INDEX($C:$C,))), \"\", 'PWS Records (System Entry)'!$D$3)","v":""},null,null,null,null,null,null,null,null,null,null,null,null,null,null,null,null,null,null,""]
[{"$f":"IF(AND(ISBLANK(INDEX($G:$G,)), ISBLANK(INDEX($C:$C,))), \"\", 'PWS Records (System Entry)'!$D$4)","v":""},{"$f":"IF(AND(ISBLANK(INDEX($G:$G,)), ISBLANK(INDEX($C:$C,))), \"\", 'PWS Records (System Entry)'!$D$3)","v":""},null,null,null,null,null,null,null,null,null,null,null,null,null,null,null,null,null,null,""]
[{"$f":"IF(AND(ISBLANK(INDEX($G:$G,)), ISBLANK(INDEX($C:$C,))), \"\", 'PWS Records (System Entry)'!$D$4)","v":""},{"$f":"IF(AND(ISBLANK(INDEX($G:$G,)), ISBLANK(INDEX($C:$C,))), \"\", 'PWS Records (System Entry)'!$D$3)","v":""},null,null,null,null,null,null,null,null,null,null,null,null,null,null,null,null,null,null,""]
[{"$f":"IF(AND(ISBLANK(INDEX($G:$G,)), ISBLANK(INDEX($C:$C,))), \"\", 'PWS Records (System Entry)'!$D$4)","v":""},{"$f":"IF(AND(ISBLANK(INDEX($G:$G,)), ISBLANK(INDEX($C:$C,))), \"\", 'PWS Records (System Entry)'!$D$3)","v":""},null,null,null,null,null,null,null,null,null,null,null,null,null,null,null,null,null,null,""]
[{"$f":"IF(AND(ISBLANK(INDEX($G:$G,)), ISBLANK(INDEX($C:$C,))), \"\", 'PWS Records (System Entry)'!$D$4)","v":""},{"$f":"IF(AND(ISBLANK(INDEX($G:$G,)), ISBLANK(INDEX($C:$C,))), \"\", 'PWS Records (System Entry)'!$D$3)","v":""},null,null,null,null,null,null,null,null,null,null,null,null,null,null,null,null,null,null,""]
[{"$f":"IF(AND(ISBLANK(INDEX($G:$G,)), ISBLANK(INDEX($C:$C,))), \"\", 'PWS Records (System Entry)'!$D$4)","v":""},{"$f":"IF(AND(ISBLANK(INDEX($G:$G,)), ISBLANK(INDEX($C:$C,))), \"\", 'PWS Records (System Entry)'!$D$3)","v":""},null,null,null,null,null,null,null,null,null,null,null,null,null,null,null,null,null,null,""]
[{"$f":"IF(AND(ISBLANK(INDEX($G:$G,)), ISBLANK(INDEX($C:$C,))), \"\", 'PWS Records (System Entry)'!$D$4)","v":""},{"$f":"IF(AND(ISBLANK(INDEX($G:$G,)), ISBLANK(INDEX($C:$C,))), \"\", 'PWS Records (System Entry)'!$D$3)","v":""},null,null,null,null,null,null,null,null,null,null,null,null,null,null,null,null,null,null,""]
[{"$f":"IF(AND(ISBLANK(INDEX($G:$G,)), ISBLANK(INDEX($C:$C,))), \"\", 'PWS Records (System Entry)'!$D$4)","v":""},{"$f":"IF(AND(ISBLANK(INDEX($G:$G,)), ISBLANK(INDEX($C:$C,))), \"\", 'PWS Records (System Entry)'!$D$3)","v":""},null,null,null,null,null,null,null,null,null,null,null,null,null,null,null,null,null,null,""]
[{"$f":"IF(AND(ISBLANK(INDEX($G:$G,)), ISBLANK(INDEX($C:$C,))), \"\", 'PWS Records (System Entry)'!$D$4)","v":""},{"$f":"IF(AND(ISBLANK(INDEX($G:$G,)), ISBLANK(INDEX($C:$C,))), \"\", 'PWS Records (System Entry)'!$D$3)","v":""},null,null,null,null,null,null,null,null,null,null,null,null,null,null,null,null,null,null,""]
[{"$f":"IF(AND(ISBLANK(INDEX($G:$G,)), ISBLANK(INDEX($C:$C,))), \"\", 'PWS Records (System Entry)'!$D$4)","v":""},{"$f":"IF(AND(ISBLANK(INDEX($G:$G,)), ISBLANK(INDEX($C:$C,))), \"\", 'PWS Records (System Entry)'!$D$3)","v":""},null,null,null,null,null,null,null,null,null,null,null,null,null,null,null,null,null,null,""]
[{"$f":"IF(AND(ISBLANK(INDEX($G:$G,)), ISBLANK(INDEX($C:$C,))), \"\", 'PWS Records (System Entry)'!$D$4)","v":""},{"$f":"IF(AND(ISBLANK(INDEX($G:$G,)), ISBLANK(INDEX($C:$C,))), \"\", 'PWS Records (System Entry)'!$D$3)","v":""},null,null,null,null,null,null,null,null,null,null,null,null,null,null,null,null,null,null,""]
[{"$f":"IF(AND(ISBLANK(INDEX($G:$G,)), ISBLANK(INDEX($C:$C,))), \"\", 'PWS Records (System Entry)'!$D$4)","v":""},{"$f":"IF(AND(ISBLANK(INDEX($G:$G,)), ISBLANK(INDEX($C:$C,))), \"\", 'PWS Records (System Entry)'!$D$3)","v":""},null,null,null,null,null,null,null,null,null,null,null,null,null,null,null,null,null,null,""]
[{"$f":"IF(AND(ISBLANK(INDEX($G:$G,)), ISBLANK(INDEX($C:$C,))), \"\", 'PWS Records (System Entry)'!$D$4)","v":""},{"$f":"IF(AND(ISBLANK(INDEX($G:$G,)), ISBLANK(INDEX($C:$C,))), \"\", 'PWS Records (System Entry)'!$D$3)","v":""},null,null,null,null,null,null,null,null,null,null,null,null,null,null,null,null,null,null,""]
[{"$f":"IF(AND(ISBLANK(INDEX($G:$G,)), ISBLANK(INDEX($C:$C,))), \"\", 'PWS Records (System Entry)'!$D$4)","v":""},{"$f":"IF(AND(ISBLANK(INDEX($G:$G,)), ISBLANK(INDEX($C:$C,))), \"\", 'PWS Records (System Entry)'!$D$3)","v":""},null,null,null,null,null,null,null,null,null,null,null,null,null,null,null,null,null,null,""]
[{"$f":"IF(AND(ISBLANK(INDEX($G:$G,)), ISBLANK(INDEX($C:$C,))), \"\", 'PWS Records (System Entry)'!$D$4)","v":""},{"$f":"IF(AND(ISBLANK(INDEX($G:$G,)), ISBLANK(INDEX($C:$C,))), \"\", 'PWS Records (System Entry)'!$D$3)","v":""},null,null,null,null,null,null,null,null,null,null,null,null,null,null,null,null,null,null,""]
[{"$f":"IF(AND(ISBLANK(INDEX($G:$G,)), ISBLANK(INDEX($C:$C,))), \"\", 'PWS Records (System Entry)'!$D$4)","v":""},{"$f":"IF(AND(ISBLANK(INDEX($G:$G,)), ISBLANK(INDEX($C:$C,))), \"\", 'PWS Records (System Entry)'!$D$3)","v":""},null,null,null,null,null,null,null,null,null,null,null,null,null,null,null,null,null,null,""]
[{"$f":"IF(AND(ISBLANK(INDEX($G:$G,)), ISBLANK(INDEX($C:$C,))), \"\", 'PWS Records (System Entry)'!$D$4)","v":""},{"$f":"IF(AND(ISBLANK(INDEX($G:$G,)), ISBLANK(INDEX($C:$C,))), \"\", 'PWS Records (System Entry)'!$D$3)","v":""},null,null,null,null,null,null,null,null,null,null,null,null,null,null,null,null,null,null,""]
[{"$f":"IF(AND(ISBLANK(INDEX($G:$G,)), ISBLANK(INDEX($C:$C,))), \"\", 'PWS Records (System Entry)'!$D$4)","v":""},{"$f":"IF(AND(ISBLANK(INDEX($G:$G,)), ISBLANK(INDEX($C:$C,))), \"\", 'PWS Records (System Entry)'!$D$3)","v":""},null,null,null,null,null,null,null,null,null,null,null,null,null,null,null,null,null,null,""]
[{"$f":"IF(AND(ISBLANK(INDEX($G:$G,)), ISBLANK(INDEX($C:$C,))), \"\", 'PWS Records (System Entry)'!$D$4)","v":""},{"$f":"IF(AND(ISBLANK(INDEX($G:$G,)), ISBLANK(INDEX($C:$C,))), \"\", 'PWS Records (System Entry)'!$D$3)","v":""},null,null,null,null,null,null,null,null,null,null,null,null,null,null,null,null,null,null,""]
[{"$f":"IF(AND(ISBLANK(INDEX($G:$G,)), ISBLANK(INDEX($C:$C,))), \"\", 'PWS Records (System Entry)'!$D$4)","v":""},{"$f":"IF(AND(ISBLANK(INDEX($G:$G,)), ISBLANK(INDEX($C:$C,))), \"\", 'PWS Records (System Entry)'!$D$3)","v":""},null,null,null,null,null,null,null,null,null,null,null,null,null,null,null,null,null,null,""]
[{"$f":"IF(AND(ISBLANK(INDEX($G:$G,)), ISBLANK(INDEX($C:$C,))), \"\", 'PWS Records (System Entry)'!$D$4)","v":""},{"$f":"IF(AND(ISBLANK(INDEX($G:$G,)), ISBLANK(INDEX($C:$C,))), \"\", 'PWS Records (System Entry)'!$D$3)","v":""},null,null,null,null,null,null,null,null,null,null,null,null,null,null,null,null,null,null,""]
[{"$f":"IF(AND(ISBLANK(INDEX($G:$G,)), ISBLANK(INDEX($C:$C,))), \"\", 'PWS Records (System Entry)'!$D$4)","v":""},{"$f":"IF(AND(ISBLANK(INDEX($G:$G,)), ISBLANK(INDEX($C:$C,))), \"\", 'PWS Records (System Entry)'!$D$3)","v":""},null,null,null,null,null,null,null,null,null,null,null,null,null,null,null,null,null,null,""]
[{"$f":"IF(AND(ISBLANK(INDEX($G:$G,)), ISBLANK(INDEX($C:$C,))), \"\", 'PWS Records (System Entry)'!$D$4)","v":""},{"$f":"IF(AND(ISBLANK(INDEX($G:$G,)), ISBLANK(INDEX($C:$C,))), \"\", 'PWS Records (System Entry)'!$D$3)","v":""},null,null,null,null,null,null,null,null,null,null,null,null,null,null,null,null,null,null,""]
[{"$f":"IF(AND(ISBLANK(INDEX($G:$G,)), ISBLANK(INDEX($C:$C,))), \"\", 'PWS Records (System Entry)'!$D$4)","v":""},{"$f":"IF(AND(ISBLANK(INDEX($G:$G,)), ISBLANK(INDEX($C:$C,))), \"\", 'PWS Records (System Entry)'!$D$3)","v":""},null,null,null,null,null,null,null,null,null,null,null,null,null,null,null,null,null,null,""]
[{"$f":"IF(AND(ISBLANK(INDEX($G:$G,)), ISBLANK(INDEX($C:$C,))), \"\", 'PWS Records (System Entry)'!$D$4)","v":""},{"$f":"IF(AND(ISBLANK(INDEX($G:$G,)), ISBLANK(INDEX($C:$C,))), \"\", 'PWS Records (System Entry)'!$D$3)","v":""},null,null,null,null,null,null,null,null,null,null,null,null,null,null,null,null,null,null,""]
[{"$f":"IF(AND(ISBLANK(INDEX($G:$G,)), ISBLANK(INDEX($C:$C,))), \"\", 'PWS Records (System Entry)'!$D$4)","v":""},{"$f":"IF(AND(ISBLANK(INDEX($G:$G,)), ISBLANK(INDEX($C:$C,))), \"\", 'PWS Records (System Entry)'!$D$3)","v":""},null,null,null,null,null,null,null,null,null,null,null,null,null,null,null,null,null,null,""]
[{"$f":"IF(AND(ISBLANK(INDEX($G:$G,)), ISBLANK(INDEX($C:$C,))), \"\", 'PWS Records (System Entry)'!$D$4)","v":""},{"$f":"IF(AND(ISBLANK(INDEX($G:$G,)), ISBLANK(INDEX($C:$C,))), \"\", 'PWS Records (System Entry)'!$D$3)","v":""},null,null,null,null,null,null,null,null,null,null,null,null,null,null,null,null,null,null,""]
[{"$f":"IF(AND(ISBLANK(INDEX($G:$G,)), ISBLANK(INDEX($C:$C,))), \"\", 'PWS Records (System Entry)'!$D$4)","v":""},{"$f":"IF(AND(ISBLANK(INDEX($G:$G,)), ISBLANK(INDEX($C:$C,))), \"\", 'PWS Records (System Entry)'!$D$3)","v":""},null,null,null,null,null,null,null,null,null,null,null,null,null,null,null,null,null,null,""]
[{"$f":"IF(AND(ISBLANK(INDEX($G:$G,)), ISBLANK(INDEX($C:$C,))), \"\", 'PWS Records (System Entry)'!$D$4)","v":""},{"$f":"IF(AND(ISBLANK(INDEX($G:$G,)), ISBLANK(INDEX($C:$C,))), \"\", 'PWS Records (System Entry)'!$D$3)","v":""},null,null,null,null,null,null,null,null,null,null,null,null,null,null,null,null,null,null,""]
[{"$f":"IF(AND(ISBLANK(INDEX($G:$G,)), ISBLANK(INDEX($C:$C,))), \"\", 'PWS Records (System Entry)'!$D$4)","v":""},{"$f":"IF(AND(ISBLANK(INDEX($G:$G,)), ISBLANK(INDEX($C:$C,))), \"\", 'PWS Records (System Entry)'!$D$3)","v":""},null,null,null,null,null,null,null,null,null,null,null,null,null,null,null,null,null,null,""]
[{"$f":"IF(AND(ISBLANK(INDEX($G:$G,)), ISBLANK(INDEX($C:$C,))), \"\", 'PWS Records (System Entry)'!$D$4)","v":""},{"$f":"IF(AND(ISBLANK(INDEX($G:$G,)), ISBLANK(INDEX($C:$C,))), \"\", 'PWS Records (System Entry)'!$D$3)","v":""},null,null,null,null,null,null,null,null,null,null,null,null,null,null,null,null,null,null,""]
[{"$f":"IF(AND(ISBLANK(INDEX($G:$G,)), ISBLANK(INDEX($C:$C,))), \"\", 'PWS Records (System Entry)'!$D$4)","v":""},{"$f":"IF(AND(ISBLANK(INDEX($G:$G,)), ISBLANK(INDEX($C:$C,))), \"\", 'PWS Records (System Entry)'!$D$3)","v":""},null,null,null,null,null,null,null,null,null,null,null,null,null,null,null,null,null,null,""]
[{"$f":"IF(AND(ISBLANK(INDEX($G:$G,)), ISBLANK(INDEX($C:$C,))), \"\", 'PWS Records (System Entry)'!$D$4)","v":""},{"$f":"IF(AND(ISBLANK(INDEX($G:$G,)), ISBLANK(INDEX($C:$C,))), \"\", 'PWS Records (System Entry)'!$D$3)","v":""},null,null,null,null,null,null,null,null,null,null,null,null,null,null,null,null,null,null,""]
[{"$f":"IF(AND(ISBLANK(INDEX($G:$G,)), ISBLANK(INDEX($C:$C,))), \"\", 'PWS Records (System Entry)'!$D$4)","v":""},{"$f":"IF(AND(ISBLANK(INDEX($G:$G,)), ISBLANK(INDEX($C:$C,))), \"\", 'PWS Records (System Entry)'!$D$3)","v":""},null,null,null,null,null,null,null,null,null,null,null,null,null,null,null,null,null,null,""]
[{"$f":"IF(AND(ISBLANK(INDEX($G:$G,)), ISBLANK(INDEX($C:$C,))), \"\", 'PWS Records (System Entry)'!$D$4)","v":""},{"$f":"IF(AND(ISBLANK(INDEX($G:$G,)), ISBLANK(INDEX($C:$C,))), \"\", 'PWS Records (System Entry)'!$D$3)","v":""},null,null,null,null,null,null,null,null,null,null,null,null,null,null,null,null,null,null,""]
[{"$f":"IF(AND(ISBLANK(INDEX($G:$G,)), ISBLANK(INDEX($C:$C,))), \"\", 'PWS Records (System Entry)'!$D$4)","v":""},{"$f":"IF(AND(ISBLANK(INDEX($G:$G,)), ISBLANK(INDEX($C:$C,))), \"\", 'PWS Records (System Entry)'!$D$3)","v":""},null,null,null,null,null,null,null,null,null,null,null,null,null,null,null,null,null,null,""]
[{"$f":"IF(AND(ISBLANK(INDEX($G:$G,)), ISBLANK(INDEX($C:$C,))), \"\", 'PWS Records (System Entry)'!$D$4)","v":""},{"$f":"IF(AND(ISBLANK(INDEX($G:$G,)), ISBLANK(INDEX($C:$C,))), \"\", 'PWS Records (System Entry)'!$D$3)","v":""},null,null,null,null,null,null,null,null,null,null,null,null,null,null,null,null,null,null,""]
[{"$f":"IF(AND(ISBLANK(INDEX($G:$G,)), ISBLANK(INDEX($C:$C,))), \"\", 'PWS Records (System Entry)'!$D$4)","v":""},{"$f":"IF(AND(ISBLANK(INDEX($G:$G,)), ISBLANK(INDEX($C:$C,))), \"\", 'PWS Records (System Entry)'!$D$3)","v":""},null,null,null,null,null,null,null,null,null,null,null,null,null,null,null,null,null,null,""]
[{"$f":"IF(AND(ISBLANK(INDEX($G:$G,)), ISBLANK(INDEX($C:$C,))), \"\", 'PWS Records (System Entry)'!$D$4)","v":""},{"$f":"IF(AND(ISBLANK(INDEX($G:$G,)), ISBLANK(INDEX($C:$C,))), \"\", 'PWS Records (System Entry)'!$D$3)","v":""},null,null,null,null,null,null,null,null,null,null,null,null,null,null,null,null,null,null,""]
[{"$f":"IF(AND(ISBLANK(INDEX($G:$G,)), ISBLANK(INDEX($C:$C,))), \"\", 'PWS Records (System Entry)'!$D$4)","v":""},{"$f":"IF(AND(ISBLANK(INDEX($G:$G,)), ISBLANK(INDEX($C:$C,))), \"\", 'PWS Records (System Entry)'!$D$3)","v":""},null,null,null,null,null,null,null,null,null,null,null,null,null,null,null,null,null,null,""]
[{"$f":"IF(AND(ISBLANK(INDEX($G:$G,)), ISBLANK(INDEX($C:$C,))), \"\", 'PWS Records (System Entry)'!$D$4)","v":""},{"$f":"IF(AND(ISBLANK(INDEX($G:$G,)), ISBLANK(INDEX($C:$C,))), \"\", 'PWS Records (System Entry)'!$D$3)","v":""},null,null,null,null,null,null,null,null,null,null,null,null,null,null,null,null,null,null,""]
[{"$f":"IF(AND(ISBLANK(INDEX($G:$G,)), ISBLANK(INDEX($C:$C,))), \"\", 'PWS Records (System Entry)'!$D$4)","v":""},{"$f":"IF(AND(ISBLANK(INDEX($G:$G,)), ISBLANK(INDEX($C:$C,))), \"\", 'PWS Records (System Entry)'!$D$3)","v":""},null,null,null,null,null,null,null,null,null,null,null,null,null,null,null,null,null,null,""]
[{"$f":"IF(AND(ISBLANK(INDEX($G:$G,)), ISBLANK(INDEX($C:$C,))), \"\", 'PWS Records (System Entry)'!$D$4)","v":""},{"$f":"IF(AND(ISBLANK(INDEX($G:$G,)), ISBLANK(INDEX($C:$C,))), \"\", 'PWS Records (System Entry)'!$D$3)","v":""},null,null,null,null,null,null,null,null,null,null,null,null,null,null,null,null,null,null,""]
[{"$f":"IF(AND(ISBLANK(INDEX($G:$G,)), ISBLANK(INDEX($C:$C,))), \"\", 'PWS Records (System Entry)'!$D$4)","v":""},{"$f":"IF(AND(ISBLANK(INDEX($G:$G,)), ISBLANK(INDEX($C:$C,))), \"\", 'PWS Records (System Entry)'!$D$3)","v":""},null,null,null,null,null,null,null,null,null,null,null,null,null,null,null,null,null,null,""]
[{"$f":"IF(AND(ISBLANK(INDEX($G:$G,)), ISBLANK(INDEX($C:$C,))), \"\", 'PWS Records (System Entry)'!$D$4)","v":""},{"$f":"IF(AND(ISBLANK(INDEX($G:$G,)), ISBLANK(INDEX($C:$C,))), \"\", 'PWS Records (System Entry)'!$D$3)","v":""},null,null,null,null,null,null,null,null,null,null,null,null,null,null,null,null,null,null,""]
[{"$f":"IF(AND(ISBLANK(INDEX($G:$G,)), ISBLANK(INDEX($C:$C,))), \"\", 'PWS Records (System Entry)'!$D$4)","v":""},{"$f":"IF(AND(ISBLANK(INDEX($G:$G,)), ISBLANK(INDEX($C:$C,))), \"\", 'PWS Records (System Entry)'!$D$3)","v":""},null,null,null,null,null,null,null,null,null,null,null,null,null,null,null,null,null,null,""]
[{"$f":"IF(AND(ISBLANK(INDEX($G:$G,)), ISBLANK(INDEX($C:$C,))), \"\", 'PWS Records (System Entry)'!$D$4)","v":""},{"$f":"IF(AND(ISBLANK(INDEX($G:$G,)), ISBLANK(INDEX($C:$C,))), \"\", 'PWS Records (System Entry)'!$D$3)","v":""},null,null,null,null,null,null,null,null,null,null,null,null,null,null,null,null,null,null,""]
[{"$f":"IF(AND(ISBLANK(INDEX($G:$G,)), ISBLANK(INDEX($C:$C,))), \"\", 'PWS Records (System Entry)'!$D$4)","v":""},{"$f":"IF(AND(ISBLANK(INDEX($G:$G,)), ISBLANK(INDEX($C:$C,))), \"\", 'PWS Records (System Entry)'!$D$3)","v":""},null,null,null,null,null,null,null,null,null,null,null,null,null,null,null,null,null,null,""]
[{"$f":"IF(AND(ISBLANK(INDEX($G:$G,)), ISBLANK(INDEX($C:$C,))), \"\", 'PWS Records (System Entry)'!$D$4)","v":""},{"$f":"IF(AND(ISBLANK(INDEX($G:$G,)), ISBLANK(INDEX($C:$C,))), \"\", 'PWS Records (System Entry)'!$D$3)","v":""},null,null,null,null,null,null,null,null,null,null,null,null,null,null,null,null,null,null,""]
[{"$f":"IF(AND(ISBLANK(INDEX($G:$G,)), ISBLANK(INDEX($C:$C,))), \"\", 'PWS Records (System Entry)'!$D$4)","v":""},{"$f":"IF(AND(ISBLANK(INDEX($G:$G,)), ISBLANK(INDEX($C:$C,))), \"\", 'PWS Records (System Entry)'!$D$3)","v":""},null,null,null,null,null,null,null,null,null,null,null,null,null,null,null,null,null,null,""]
[{"$f":"IF(AND(ISBLANK(INDEX($G:$G,)), ISBLANK(INDEX($C:$C,))), \"\", 'PWS Records (System Entry)'!$D$4)","v":""},{"$f":"IF(AND(ISBLANK(INDEX($G:$G,)), ISBLANK(INDEX($C:$C,))), \"\", 'PWS Records (System Entry)'!$D$3)","v":""},null,null,null,null,null,null,null,null,null,null,null,null,null,null,null,null,null,null,""]
[{"$f":"IF(AND(ISBLANK(INDEX($G:$G,)), ISBLANK(INDEX($C:$C,))), \"\", 'PWS Records (System Entry)'!$D$4)","v":""},{"$f":"IF(AND(ISBLANK(INDEX($G:$G,)), ISBLANK(INDEX($C:$C,))), \"\", 'PWS Records (System Entry)'!$D$3)","v":""},null,null,null,null,null,null,null,null,null,null,null,null,null,null,null,null,null,null,""]
[{"$f":"IF(AND(ISBLANK(INDEX($G:$G,)), ISBLANK(INDEX($C:$C,))), \"\", 'PWS Records (System Entry)'!$D$4)","v":""},{"$f":"IF(AND(ISBLANK(INDEX($G:$G,)), ISBLANK(INDEX($C:$C,))), \"\", 'PWS Records (System Entry)'!$D$3)","v":""},null,null,null,null,null,null,null,null,null,null,null,null,null,null,null,null,null,null,{"$f":"IF(AND(INDEX($K:$K,)=\"\", INDEX($L:$L,)=\"\", INDEX($M:$M,)=\"\", INDEX($Q:$Q,)=\"\", INDEX($R:$R,)=\"\"), \"\", IF(OR(INDEX($K:$K,)=\"Lead\",INDEX($Q:$Q,)=\"Lead\"),\"Lead\",IF(OR(AND(OR(INDEX($M:$M,)=\"Yes\", INDEX($M:$M,)=\"Don't Know\", INDEX($M:$M,)=\"\"), INDEX($Q:$Q,)=\"Galvanized Iron/Steel\"), AND(INDEX($K:$K,)=\"Unknown\", INDEX($M:$M,)=\"No\", INDEX($Q:$Q,)=\"Galvanized Iron/Steel\")), \"Galvanized Requiring Replacement\", IF(OR(AND(OR(INDEX($K:$K,)=\"Galvanized Iron/Steel\", INDEX($K:$K,)=\"Non-Lead - Copper\", INDEX($K:$K,)=\"Non-Lead - Plastic\", INDEX($K:$K,)=\"Non-Lead - Other\", INDEX($K:$K,)=\"Non-Lead - Material Unknown\", INDEX($K:$K,)=\"No System Owned Portion\"), OR(INDEX($Q:$Q,)=\"Galvanized Iron/Steel\", INDEX($Q:$Q,)=\"Non-Lead - Copper\", INDEX($Q:$Q,)=\"Non-Lead - Plastic\", INDEX($Q:$Q,)=\"Non-Lead - Other\", INDEX($Q:$Q,)=\"Non-Lead - Predictive Model\", INDEX($Q:$Q,)=\"No Customer Owned Portion\")), AND(OR( INDEX($K:$K,)=\"Galvanized Iron/Steel\", INDEX($K:$K,)=\"Non-Lead - Copper\", INDEX($K:$K,)=\"Non-Lead - Plastic\", INDEX($K:$K,)=\"Non-Lead - Other\", INDEX($K:$K,)=\"Non-Lead - Material Unknown\", INDEX($K:$K,)=\"No System Owned Portion\"), INDEX($M:$M,)=\"No\", INDEX($Q:$Q,)=\"Non-Lead - Material Unknown\")), \"Non-Lead\", \"Lead Status Unknown\"))))","v":""}]
[{"$f":"IF(AND(ISBLANK(INDEX($G:$G,)), ISBLANK(INDEX($C:$C,))), \"\", 'PWS Records (System Entry)'!$D$4)","v":""},{"$f":"IF(AND(ISBLANK(INDEX($G:$G,)), ISBLANK(INDEX($C:$C,))), \"\", 'PWS Records (System Entry)'!$D$3)","v":""},null,null,null,null,null,null,null,null,null,null,null,null,null,null,null,null,null,null,""]
[{"$f":"IF(AND(ISBLANK(INDEX($G:$G,)), ISBLANK(INDEX($C:$C,))), \"\", 'PWS Records (System Entry)'!$D$4)","v":""},{"$f":"IF(AND(ISBLANK(INDEX($G:$G,)), ISBLANK(INDEX($C:$C,))), \"\", 'PWS Records (System Entry)'!$D$3)","v":""},null,null,null,null,null,null,null,null,null,null,null,null,null,null,null,null,null,null,""]
[{"$f":"IF(AND(ISBLANK(INDEX($G:$G,)), ISBLANK(INDEX($C:$C,))), \"\", 'PWS Records (System Entry)'!$D$4)","v":""},{"$f":"IF(AND(ISBLANK(INDEX($G:$G,)), ISBLANK(INDEX($C:$C,))), \"\", 'PWS Records (System Entry)'!$D$3)","v":""},null,null,null,null,null,null,null,null,null,null,null,null,null,null,null,null,null,null,""]
[{"$f":"IF(AND(ISBLANK(INDEX($G:$G,)), ISBLANK(INDEX($C:$C,))), \"\", 'PWS Records (System Entry)'!$D$4)","v":""},{"$f":"IF(AND(ISBLANK(INDEX($G:$G,)), ISBLANK(INDEX($C:$C,))), \"\", 'PWS Records (System Entry)'!$D$3)","v":""},null,null,null,null,null,null,null,null,null,null,null,null,null,null,null,null,null,null,""]
[{"$f":"IF(AND(ISBLANK(INDEX($G:$G,)), ISBLANK(INDEX($C:$C,))), \"\", 'PWS Records (System Entry)'!$D$4)","v":""},{"$f":"IF(AND(ISBLANK(INDEX($G:$G,)), ISBLANK(INDEX($C:$C,))), \"\", 'PWS Records (System Entry)'!$D$3)","v":""},null,null,null,null,null,null,null,null,null,null,null,null,null,null,null,null,null,null,""]
[{"$f":"IF(AND(ISBLANK(INDEX($G:$G,)), ISBLANK(INDEX($C:$C,))), \"\", 'PWS Records (System Entry)'!$D$4)","v":""},{"$f":"IF(AND(ISBLANK(INDEX($G:$G,)), ISBLANK(INDEX($C:$C,))), \"\", 'PWS Records (System Entry)'!$D$3)","v":""},null,null,null,null,null,null,null,null,null,null,null,null,null,null,null,null,null,null,""]
[{"$f":"IF(AND(ISBLANK(INDEX($G:$G,)), ISBLANK(INDEX($C:$C,))), \"\", 'PWS Records (System Entry)'!$D$4)","v":""},{"$f":"IF(AND(ISBLANK(INDEX($G:$G,)), ISBLANK(INDEX($C:$C,))), \"\", 'PWS Records (System Entry)'!$D$3)","v":""},null,null,null,null,null,null,null,null,null,null,null,null,null,null,null,null,null,null,""]
[{"$f":"IF(AND(ISBLANK(INDEX($G:$G,)), ISBLANK(INDEX($C:$C,))), \"\", 'PWS Records (System Entry)'!$D$4)","v":""},{"$f":"IF(AND(ISBLANK(INDEX($G:$G,)), ISBLANK(INDEX($C:$C,))), \"\", 'PWS Records (System Entry)'!$D$3)","v":""},null,null,null,null,null,null,null,null,null,null,null,null,null,null,null,null,null,null,""]
[{"$f":"IF(AND(ISBLANK(INDEX($G:$G,)), ISBLANK(INDEX($C:$C,))), \"\", 'PWS Records (System Entry)'!$D$4)","v":""},{"$f":"IF(AND(ISBLANK(INDEX($G:$G,)), ISBLANK(INDEX($C:$C,))), \"\", 'PWS Records (System Entry)'!$D$3)","v":""},null,null,null,null,null,null,null,null,null,null,null,null,null,null,null,null,null,null,""]
[{"$f":"IF(AND(ISBLANK(INDEX($G:$G,)), ISBLANK(INDEX($C:$C,))), \"\", 'PWS Records (System Entry)'!$D$4)","v":""},{"$f":"IF(AND(ISBLANK(INDEX($G:$G,)), ISBLANK(INDEX($C:$C,))), \"\", 'PWS Records (System Entry)'!$D$3)","v":""},null,null,null,null,null,null,null,null,null,null,null,null,null,null,null,null,null,null,""]
[{"$f":"IF(AND(ISBLANK(INDEX($G:$G,)), ISBLANK(INDEX($C:$C,))), \"\", 'PWS Records (System Entry)'!$D$4)","v":""},{"$f":"IF(AND(ISBLANK(INDEX($G:$G,)), ISBLANK(INDEX($C:$C,))), \"\", 'PWS Records (System Entry)'!$D$3)","v":""},null,null,null,null,null,null,null,null,null,null,null,null,null,null,null,null,null,null,""]
[{"$f":"IF(AND(ISBLANK(INDEX($G:$G,)), ISBLANK(INDEX($C:$C,))), \"\", 'PWS Records (System Entry)'!$D$4)","v":""},{"$f":"IF(AND(ISBLANK(INDEX($G:$G,)), ISBLANK(INDEX($C:$C,))), \"\", 'PWS Records (System Entry)'!$D$3)","v":""},null,null,null,null,null,null,null,null,null,null,null,null,null,null,null,null,null,null,""]
[{"$f":"IF(AND(ISBLANK(INDEX($G:$G,)), ISBLANK(INDEX($C:$C,))), \"\", 'PWS Records (System Entry)'!$D$4)","v":""},{"$f":"IF(AND(ISBLANK(INDEX($G:$G,)), ISBLANK(INDEX($C:$C,))), \"\", 'PWS Records (System Entry)'!$D$3)","v":""},null,null,null,null,null,null,null,null,null,null,null,null,null,null,null,null,null,null,""]
[{"$f":"IF(AND(ISBLANK(INDEX($G:$G,)), ISBLANK(INDEX($C:$C,))), \"\", 'PWS Records (System Entry)'!$D$4)","v":""},{"$f":"IF(AND(ISBLANK(INDEX($G:$G,)), ISBLANK(INDEX($C:$C,))), \"\", 'PWS Records (System Entry)'!$D$3)","v":""},null,null,null,null,null,null,null,null,null,null,null,null,null,null,null,null,null,null,""]
[{"$f":"IF(AND(ISBLANK(INDEX($G:$G,)), ISBLANK(INDEX($C:$C,))), \"\", 'PWS Records (System Entry)'!$D$4)","v":""},{"$f":"IF(AND(ISBLANK(INDEX($G:$G,)), ISBLANK(INDEX($C:$C,))), \"\", 'PWS Records (System Entry)'!$D$3)","v":""},null,null,null,null,null,null,null,null,null,null,null,null,null,null,null,null,null,null,""]
[{"$f":"IF(AND(ISBLANK(INDEX($G:$G,)), ISBLANK(INDEX($C:$C,))), \"\", 'PWS Records (System Entry)'!$D$4)","v":""},{"$f":"IF(AND(ISBLANK(INDEX($G:$G,)), ISBLANK(INDEX($C:$C,))), \"\", 'PWS Records (System Entry)'!$D$3)","v":""},null,null,null,null,null,null,null,null,null,null,null,null,null,null,null,null,null,null,""]
[{"$f":"IF(AND(ISBLANK(INDEX($G:$G,)), ISBLANK(INDEX($C:$C,))), \"\", 'PWS Records (System Entry)'!$D$4)","v":""},{"$f":"IF(AND(ISBLANK(INDEX($G:$G,)), ISBLANK(INDEX($C:$C,))), \"\", 'PWS Records (System Entry)'!$D$3)","v":""},null,null,null,null,null,null,null,null,null,null,null,null,null,null,null,null,null,null,""]
[{"$f":"IF(AND(ISBLANK(INDEX($G:$G,)), ISBLANK(INDEX($C:$C,))), \"\", 'PWS Records (System Entry)'!$D$4)","v":""},{"$f":"IF(AND(ISBLANK(INDEX($G:$G,)), ISBLANK(INDEX($C:$C,))), \"\", 'PWS Records (System Entry)'!$D$3)","v":""},null,null,null,null,null,null,null,null,null,null,null,null,null,null,null,null,null,null,""]
[{"$f":"IF(AND(ISBLANK(INDEX($G:$G,)), ISBLANK(INDEX($C:$C,))), \"\", 'PWS Records (System Entry)'!$D$4)","v":""},{"$f":"IF(AND(ISBLANK(INDEX($G:$G,)), ISBLANK(INDEX($C:$C,))), \"\", 'PWS Records (System Entry)'!$D$3)","v":""},null,null,null,null,null,null,null,null,null,null,null,null,null,null,null,null,null,null,""]
[{"$f":"IF(AND(ISBLANK(INDEX($G:$G,)), ISBLANK(INDEX($C:$C,))), \"\", 'PWS Records (System Entry)'!$D$4)","v":""},{"$f":"IF(AND(ISBLANK(INDEX($G:$G,)), ISBLANK(INDEX($C:$C,))), \"\", 'PWS Records (System Entry)'!$D$3)","v":""},null,null,null,null,null,null,null,null,null,null,null,null,null,null,null,null,null,null,""]
[{"$f":"IF(AND(ISBLANK(INDEX($G:$G,)), ISBLANK(INDEX($C:$C,))), \"\", 'PWS Records (System Entry)'!$D$4)","v":""},{"$f":"IF(AND(ISBLANK(INDEX($G:$G,)), ISBLANK(INDEX($C:$C,))), \"\", 'PWS Records (System Entry)'!$D$3)","v":""},null,null,null,null,null,null,null,null,null,null,null,null,null,null,null,null,null,null,""]
[{"$f":"IF(AND(ISBLANK(INDEX($G:$G,)), ISBLANK(INDEX($C:$C,))), \"\", 'PWS Records (System Entry)'!$D$4)","v":""},{"$f":"IF(AND(ISBLANK(INDEX($G:$G,)), ISBLANK(INDEX($C:$C,))), \"\", 'PWS Records (System Entry)'!$D$3)","v":""},null,null,null,null,null,null,null,null,null,null,null,null,null,null,null,null,null,null,""]
[{"$f":"IF(AND(ISBLANK(INDEX($G:$G,)), ISBLANK(INDEX($C:$C,))), \"\", 'PWS Records (System Entry)'!$D$4)","v":""},{"$f":"IF(AND(ISBLANK(INDEX($G:$G,)), ISBLANK(INDEX($C:$C,))), \"\", 'PWS Records (System Entry)'!$D$3)","v":""},null,null,null,null,null,null,null,null,null,null,null,null,null,null,null,null,null,null,""]
[{"$f":"IF(AND(ISBLANK(INDEX($G:$G,)), ISBLANK(INDEX($C:$C,))), \"\", 'PWS Records (System Entry)'!$D$4)","v":""},{"$f":"IF(AND(ISBLANK(INDEX($G:$G,)), ISBLANK(INDEX($C:$C,))), \"\", 'PWS Records (System Entry)'!$D$3)","v":""},null,null,null,null,null,null,null,null,null,null,null,null,null,null,null,null,null,null,""]
[{"$f":"IF(AND(ISBLANK(INDEX($G:$G,)), ISBLANK(INDEX($C:$C,))), \"\", 'PWS Records (System Entry)'!$D$4)","v":""},{"$f":"IF(AND(ISBLANK(INDEX($G:$G,)), ISBLANK(INDEX($C:$C,))), \"\", 'PWS Records (System Entry)'!$D$3)","v":""},null,null,null,null,null,null,null,null,null,null,null,null,null,null,null,null,null,null,""]
[{"$f":"IF(AND(ISBLANK(INDEX($G:$G,)), ISBLANK(INDEX($C:$C,))), \"\", 'PWS Records (System Entry)'!$D$4)","v":""},{"$f":"IF(AND(ISBLANK(INDEX($G:$G,)), ISBLANK(INDEX($C:$C,))), \"\", 'PWS Records (System Entry)'!$D$3)","v":""},null,null,null,null,null,null,null,null,null,null,null,null,null,null,null,null,null,null,""]
[{"$f":"IF(AND(ISBLANK(INDEX($G:$G,)), ISBLANK(INDEX($C:$C,))), \"\", 'PWS Records (System Entry)'!$D$4)","v":""},{"$f":"IF(AND(ISBLANK(INDEX($G:$G,)), ISBLANK(INDEX($C:$C,))), \"\", 'PWS Records (System Entry)'!$D$3)","v":""},null,null,null,null,null,null,null,null,null,null,null,null,null,null,null,null,null,null,""]
[{"$f":"IF(AND(ISBLANK(INDEX($G:$G,)), ISBLANK(INDEX($C:$C,))), \"\", 'PWS Records (System Entry)'!$D$4)","v":""},{"$f":"IF(AND(ISBLANK(INDEX($G:$G,)), ISBLANK(INDEX($C:$C,))), \"\", 'PWS Records (System Entry)'!$D$3)","v":""},null,null,null,null,null,null,null,null,null,null,null,null,null,null,null,null,null,null,""]
[{"$f":"IF(AND(ISBLANK(INDEX($G:$G,)), ISBLANK(INDEX($C:$C,))), \"\", 'PWS Records (System Entry)'!$D$4)","v":""},{"$f":"IF(AND(ISBLANK(INDEX($G:$G,)), ISBLANK(INDEX($C:$C,))), \"\", 'PWS Records (System Entry)'!$D$3)","v":""},null,null,null,null,null,null,null,null,null,null,null,null,null,null,null,null,null,null,""]
[{"$f":"IF(AND(ISBLANK(INDEX($G:$G,)), ISBLANK(INDEX($C:$C,))), \"\", 'PWS Records (System Entry)'!$D$4)","v":""},{"$f":"IF(AND(ISBLANK(INDEX($G:$G,)), ISBLANK(INDEX($C:$C,))), \"\", 'PWS Records (System Entry)'!$D$3)","v":""},null,null,null,null,null,null,null,null,null,null,null,null,null,null,null,null,null,null,""]
[{"$f":"IF(AND(ISBLANK(INDEX($G:$G,)), ISBLANK(INDEX($C:$C,))), \"\", 'PWS Records (System Entry)'!$D$4)","v":""},{"$f":"IF(AND(ISBLANK(INDEX($G:$G,)), ISBLANK(INDEX($C:$C,))), \"\", 'PWS Records (System Entry)'!$D$3)","v":""},null,null,null,null,null,null,null,null,null,null,null,null,null,null,null,null,null,null,""]
[{"$f":"IF(AND(ISBLANK(INDEX($G:$G,)), ISBLANK(INDEX($C:$C,))), \"\", 'PWS Records (System Entry)'!$D$4)","v":""},{"$f":"IF(AND(ISBLANK(INDEX($G:$G,)), ISBLANK(INDEX($C:$C,))), \"\", 'PWS Records (System Entry)'!$D$3)","v":""},null,null,null,null,null,null,null,null,null,null,null,null,null,null,null,null,null,null,""]
[{"$f":"IF(AND(ISBLANK(INDEX($G:$G,)), ISBLANK(INDEX($C:$C,))), \"\", 'PWS Records (System Entry)'!$D$4)","v":""},{"$f":"IF(AND(ISBLANK(INDEX($G:$G,)), ISBLANK(INDEX($C:$C,))), \"\", 'PWS Records (System Entry)'!$D$3)","v":""},null,null,null,null,null,null,null,null,null,null,null,null,null,null,null,null,null,null,""]
[{"$f":"IF(AND(ISBLANK(INDEX($G:$G,)), ISBLANK(INDEX($C:$C,))), \"\", 'PWS Records (System Entry)'!$D$4)","v":""},{"$f":"IF(AND(ISBLANK(INDEX($G:$G,)), ISBLANK(INDEX($C:$C,))), \"\", 'PWS Records (System Entry)'!$D$3)","v":""},null,null,null,null,null,null,null,null,null,null,null,null,null,null,null,null,null,null,""]
[{"$f":"IF(AND(ISBLANK(INDEX($G:$G,)), ISBLANK(INDEX($C:$C,))), \"\", 'PWS Records (System Entry)'!$D$4)","v":""},{"$f":"IF(AND(ISBLANK(INDEX($G:$G,)), ISBLANK(INDEX($C:$C,))), \"\", 'PWS Records (System Entry)'!$D$3)","v":""},null,null,null,null,null,null,null,null,null,null,null,null,null,null,null,null,null,null,""]
[{"$f":"IF(AND(ISBLANK(INDEX($G:$G,)), ISBLANK(INDEX($C:$C,))), \"\", 'PWS Records (System Entry)'!$D$4)","v":""},{"$f":"IF(AND(ISBLANK(INDEX($G:$G,)), ISBLANK(INDEX($C:$C,))), \"\", 'PWS Records (System Entry)'!$D$3)","v":""},null,null,null,null,null,null,null,null,null,null,null,null,null,null,null,null,null,null,""]
[{"$f":"IF(AND(ISBLANK(INDEX($G:$G,)), ISBLANK(INDEX($C:$C,))), \"\", 'PWS Records (System Entry)'!$D$4)","v":""},{"$f":"IF(AND(ISBLANK(INDEX($G:$G,)), ISBLANK(INDEX($C:$C,))), \"\", 'PWS Records (System Entry)'!$D$3)","v":""},null,null,null,null,null,null,null,null,null,null,null,null,null,null,null,null,null,null,""]
[{"$f":"IF(AND(ISBLANK(INDEX($G:$G,)), ISBLANK(INDEX($C:$C,))), \"\", 'PWS Records (System Entry)'!$D$4)","v":""},{"$f":"IF(AND(ISBLANK(INDEX($G:$G,)), ISBLANK(INDEX($C:$C,))), \"\", 'PWS Records (System Entry)'!$D$3)","v":""},null,null,null,null,null,null,null,null,null,null,null,null,null,null,null,null,null,null,""]
[{"$f":"IF(AND(ISBLANK(INDEX($G:$G,)), ISBLANK(INDEX($C:$C,))), \"\", 'PWS Records (System Entry)'!$D$4)","v":""},{"$f":"IF(AND(ISBLANK(INDEX($G:$G,)), ISBLANK(INDEX($C:$C,))), \"\", 'PWS Records (System Entry)'!$D$3)","v":""},null,null,null,null,null,null,null,null,null,null,null,null,null,null,null,null,null,null,""]
[{"$f":"IF(AND(ISBLANK(INDEX($G:$G,)), ISBLANK(INDEX($C:$C,))), \"\", 'PWS Records (System Entry)'!$D$4)","v":""},{"$f":"IF(AND(ISBLANK(INDEX($G:$G,)), ISBLANK(INDEX($C:$C,))), \"\", 'PWS Records (System Entry)'!$D$3)","v":""},null,null,null,null,null,null,null,null,null,null,null,null,null,null,null,null,null,null,""]
[{"$f":"IF(AND(ISBLANK(INDEX($G:$G,)), ISBLANK(INDEX($C:$C,))), \"\", 'PWS Records (System Entry)'!$D$4)","v":""},{"$f":"IF(AND(ISBLANK(INDEX($G:$G,)), ISBLANK(INDEX($C:$C,))), \"\", 'PWS Records (System Entry)'!$D$3)","v":""},null,null,null,null,null,null,null,null,null,null,null,null,null,null,null,null,null,null,""]
[{"$f":"IF(AND(ISBLANK(INDEX($G:$G,)), ISBLANK(INDEX($C:$C,))), \"\", 'PWS Records (System Entry)'!$D$4)","v":""},{"$f":"IF(AND(ISBLANK(INDEX($G:$G,)), ISBLANK(INDEX($C:$C,))), \"\", 'PWS Records (System Entry)'!$D$3)","v":""},null,null,null,null,null,null,null,null,null,null,null,null,null,null,null,null,null,null,""]
[{"$f":"IF(AND(ISBLANK(INDEX($G:$G,)), ISBLANK(INDEX($C:$C,))), \"\", 'PWS Records (System Entry)'!$D$4)","v":""},{"$f":"IF(AND(ISBLANK(INDEX($G:$G,)), ISBLANK(INDEX($C:$C,))), \"\", 'PWS Records (System Entry)'!$D$3)","v":""},null,null,null,null,null,null,null,null,null,null,null,null,null,null,null,null,null,null,""]
[{"$f":"IF(AND(ISBLANK(INDEX($G:$G,)), ISBLANK(INDEX($C:$C,))), \"\", 'PWS Records (System Entry)'!$D$4)","v":""},{"$f":"IF(AND(ISBLANK(INDEX($G:$G,)), ISBLANK(INDEX($C:$C,))), \"\", 'PWS Records (System Entry)'!$D$3)","v":""},null,null,null,null,null,null,null,null,null,null,null,null,null,null,null,null,null,null,""]
[{"$f":"IF(AND(ISBLANK(INDEX($G:$G,)), ISBLANK(INDEX($C:$C,))), \"\", 'PWS Records (System Entry)'!$D$4)","v":""},{"$f":"IF(AND(ISBLANK(INDEX($G:$G,)), ISBLANK(INDEX($C:$C,))), \"\", 'PWS Records (System Entry)'!$D$3)","v":""},null,null,null,null,null,null,null,null,null,null,null,null,null,null,null,null,null,null,""]
[{"$f":"IF(AND(ISBLANK(INDEX($G:$G,)), ISBLANK(INDEX($C:$C,))), \"\", 'PWS Records (System Entry)'!$D$4)","v":""},{"$f":"IF(AND(ISBLANK(INDEX($G:$G,)), ISBLANK(INDEX($C:$C,))), \"\", 'PWS Records (System Entry)'!$D$3)","v":""},null,null,null,null,null,null,null,null,null,null,null,null,null,null,null,null,null,null,""]
[{"$f":"IF(AND(ISBLANK(INDEX($G:$G,)), ISBLANK(INDEX($C:$C,))), \"\", 'PWS Records (System Entry)'!$D$4)","v":""},{"$f":"IF(AND(ISBLANK(INDEX($G:$G,)), ISBLANK(INDEX($C:$C,))), \"\", 'PWS Records (System Entry)'!$D$3)","v":""},null,null,null,null,null,null,null,null,null,null,null,null,null,null,null,null,null,null,""]
[{"$f":"IF(AND(ISBLANK(INDEX($G:$G,)), ISBLANK(INDEX($C:$C,))), \"\", 'PWS Records (System Entry)'!$D$4)","v":""},{"$f":"IF(AND(ISBLANK(INDEX($G:$G,)), ISBLANK(INDEX($C:$C,))), \"\", 'PWS Records (System Entry)'!$D$3)","v":""},null,null,null,null,null,null,null,null,null,null,null,null,null,null,null,null,null,null,""]
[{"$f":"IF(AND(ISBLANK(INDEX($G:$G,)), ISBLANK(INDEX($C:$C,))), \"\", 'PWS Records (System Entry)'!$D$4)","v":""},{"$f":"IF(AND(ISBLANK(INDEX($G:$G,)), ISBLANK(INDEX($C:$C,))), \"\", 'PWS Records (System Entry)'!$D$3)","v":""},null,null,null,null,null,null,null,null,null,null,null,null,null,null,null,null,null,null,""]
[{"$f":"IF(AND(ISBLANK(INDEX($G:$G,)), ISBLANK(INDEX($C:$C,))), \"\", 'PWS Records (System Entry)'!$D$4)","v":""},{"$f":"IF(AND(ISBLANK(INDEX($G:$G,)), ISBLANK(INDEX($C:$C,))), \"\", 'PWS Records (System Entry)'!$D$3)","v":""},null,null,null,null,null,null,null,null,null,null,null,null,null,null,null,null,null,null,""]
[{"$f":"IF(AND(ISBLANK(INDEX($G:$G,)), ISBLANK(INDEX($C:$C,))), \"\", 'PWS Records (System Entry)'!$D$4)","v":""},{"$f":"IF(AND(ISBLANK(INDEX($G:$G,)), ISBLANK(INDEX($C:$C,))), \"\", 'PWS Records (System Entry)'!$D$3)","v":""},null,null,null,null,null,null,null,null,null,null,null,null,null,null,null,null,null,null,""]
[{"$f":"IF(AND(ISBLANK(INDEX($G:$G,)), ISBLANK(INDEX($C:$C,))), \"\", 'PWS Records (System Entry)'!$D$4)","v":""},{"$f":"IF(AND(ISBLANK(INDEX($G:$G,)), ISBLANK(INDEX($C:$C,))), \"\", 'PWS Records (System Entry)'!$D$3)","v":""},null,null,null,null,null,null,null,null,null,null,null,null,null,null,null,null,null,null,""]
[{"$f":"IF(AND(ISBLANK(INDEX($G:$G,)), ISBLANK(INDEX($C:$C,))), \"\", 'PWS Records (System Entry)'!$D$4)","v":""},{"$f":"IF(AND(ISBLANK(INDEX($G:$G,)), ISBLANK(INDEX($C:$C,))), \"\", 'PWS Records (System Entry)'!$D$3)","v":""},null,null,null,null,null,null,null,null,null,null,null,null,null,null,null,null,null,null,""]
[{"$f":"IF(AND(ISBLANK(INDEX($G:$G,)), ISBLANK(INDEX($C:$C,))), \"\", 'PWS Records (System Entry)'!$D$4)","v":""},{"$f":"IF(AND(ISBLANK(INDEX($G:$G,)), ISBLANK(INDEX($C:$C,))), \"\", 'PWS Records (System Entry)'!$D$3)","v":""},null,null,null,null,null,null,null,null,null,null,null,null,null,null,null,null,null,null,""]
[{"$f":"IF(AND(ISBLANK(INDEX($G:$G,)), ISBLANK(INDEX($C:$C,))), \"\", 'PWS Records (System Entry)'!$D$4)","v":""},{"$f":"IF(AND(ISBLANK(INDEX($G:$G,)), ISBLANK(INDEX($C:$C,))), \"\", 'PWS Records (System Entry)'!$D$3)","v":""},null,null,null,null,null,null,null,null,null,null,null,null,null,null,null,null,null,null,""]
[{"$f":"IF(AND(ISBLANK(INDEX($G:$G,)), ISBLANK(INDEX($C:$C,))), \"\", 'PWS Records (System Entry)'!$D$4)","v":""},{"$f":"IF(AND(ISBLANK(INDEX($G:$G,)), ISBLANK(INDEX($C:$C,))), \"\", 'PWS Records (System Entry)'!$D$3)","v":""},null,null,null,null,null,null,null,null,null,null,null,null,null,null,null,null,null,null,""]
[{"$f":"IF(AND(ISBLANK(INDEX($G:$G,)), ISBLANK(INDEX($C:$C,))), \"\", 'PWS Records (System Entry)'!$D$4)","v":""},{"$f":"IF(AND(ISBLANK(INDEX($G:$G,)), ISBLANK(INDEX($C:$C,))), \"\", 'PWS Records (System Entry)'!$D$3)","v":""},null,null,null,null,null,null,null,null,null,null,null,null,null,null,null,null,null,null,""]
[{"$f":"IF(AND(ISBLANK(INDEX($G:$G,)), ISBLANK(INDEX($C:$C,))), \"\", 'PWS Records (System Entry)'!$D$4)","v":""},{"$f":"IF(AND(ISBLANK(INDEX($G:$G,)), ISBLANK(INDEX($C:$C,))), \"\", 'PWS Records (System Entry)'!$D$3)","v":""},null,null,null,null,null,null,null,null,null,null,null,null,null,null,null,null,null,null,""]
[{"$f":"IF(AND(ISBLANK(INDEX($G:$G,)), ISBLANK(INDEX($C:$C,))), \"\", 'PWS Records (System Entry)'!$D$4)","v":""},{"$f":"IF(AND(ISBLANK(INDEX($G:$G,)), ISBLANK(INDEX($C:$C,))), \"\", 'PWS Records (System Entry)'!$D$3)","v":""},null,null,null,null,null,null,null,null,null,null,null,null,null,null,null,null,null,null,""]
[{"$f":"IF(AND(ISBLANK(INDEX($G:$G,)), ISBLANK(INDEX($C:$C,))), \"\", 'PWS Records (System Entry)'!$D$4)","v":""},{"$f":"IF(AND(ISBLANK(INDEX($G:$G,)), ISBLANK(INDEX($C:$C,))), \"\", 'PWS Records (System Entry)'!$D$3)","v":""},null,null,null,null,null,null,null,null,null,null,null,null,null,null,null,null,null,null,""]
[{"$f":"IF(AND(ISBLANK(INDEX($G:$G,)), ISBLANK(INDEX($C:$C,))), \"\", 'PWS Records (System Entry)'!$D$4)","v":""},{"$f":"IF(AND(ISBLANK(INDEX($G:$G,)), ISBLANK(INDEX($C:$C,))), \"\", 'PWS Records (System Entry)'!$D$3)","v":""},null,null,null,null,null,null,null,null,null,null,null,null,null,null,null,null,null,null,""]
[{"$f":"IF(AND(ISBLANK(INDEX($G:$G,)), ISBLANK(INDEX($C:$C,))), \"\", 'PWS Records (System Entry)'!$D$4)","v":""},{"$f":"IF(AND(ISBLANK(INDEX($G:$G,)), ISBLANK(INDEX($C:$C,))), \"\", 'PWS Records (System Entry)'!$D$3)","v":""},null,null,null,null,null,null,null,null,null,null,null,null,null,null,null,null,null,null,""]
[{"$f":"IF(AND(ISBLANK(INDEX($G:$G,)), ISBLANK(INDEX($C:$C,))), \"\", 'PWS Records (System Entry)'!$D$4)","v":""},{"$f":"IF(AND(ISBLANK(INDEX($G:$G,)), ISBLANK(INDEX($C:$C,))), \"\", 'PWS Records (System Entry)'!$D$3)","v":""},null,null,null,null,null,null,null,null,null,null,null,null,null,null,null,null,null,null,""]
[{"$f":"IF(AND(ISBLANK(INDEX($G:$G,)), ISBLANK(INDEX($C:$C,))), \"\", 'PWS Records (System Entry)'!$D$4)","v":""},{"$f":"IF(AND(ISBLANK(INDEX($G:$G,)), ISBLANK(INDEX($C:$C,))), \"\", 'PWS Records (System Entry)'!$D$3)","v":""},null,null,null,null,null,null,null,null,null,null,null,null,null,null,null,null,null,null,{"$f":"IF(AND(INDEX($K:$K,)=\"\", INDEX($L:$L,)=\"\", INDEX($M:$M,)=\"\", INDEX($Q:$Q,)=\"\", INDEX($R:$R,)=\"\"), \"\", IF(OR(INDEX($K:$K,)=\"Lead\",INDEX($Q:$Q,)=\"Lead\"),\"Lead\",IF(OR(AND(OR(INDEX($M:$M,)=\"Yes\", INDEX($M:$M,)=\"Don't Know\", INDEX($M:$M,)=\"\"), INDEX($Q:$Q,)=\"Galvanized Iron/Steel\"), AND(INDEX($K:$K,)=\"Unknown\", INDEX($M:$M,)=\"No\", INDEX($Q:$Q,)=\"Galvanized Iron/Steel\")), \"Galvanized Requiring Replacement\", IF(OR(AND(OR(INDEX($K:$K,)=\"Galvanized Iron/Steel\", INDEX($K:$K,)=\"Non-Lead - Copper\", INDEX($K:$K,)=\"Non-Lead - Plastic\", INDEX($K:$K,)=\"Non-Lead - Other\", INDEX($K:$K,)=\"Non-Lead - Material Unknown\", INDEX($K:$K,)=\"No System Owned Portion\"), OR(INDEX($Q:$Q,)=\"Galvanized Iron/Steel\", INDEX($Q:$Q,)=\"Non-Lead - Copper\", INDEX($Q:$Q,)=\"Non-Lead - Plastic\", INDEX($Q:$Q,)=\"Non-Lead - Other\", INDEX($Q:$Q,)=\"Non-Lead - Predictive Model\", INDEX($Q:$Q,)=\"No Customer Owned Portion\")), AND(OR( INDEX($K:$K,)=\"Galvanized Iron/Steel\", INDEX($K:$K,)=\"Non-Lead - Copper\", INDEX($K:$K,)=\"Non-Lead - Plastic\", INDEX($K:$K,)=\"Non-Lead - Other\", INDEX($K:$K,)=\"Non-Lead - Material Unknown\", INDEX($K:$K,)=\"No System Owned Portion\"), INDEX($M:$M,)=\"No\", INDEX($Q:$Q,)=\"Non-Lead - Material Unknown\")), \"Non-Lead\", \"Lead Status Unknown\"))))","v":""}]
[{"$f":"IF(AND(ISBLANK(INDEX($G:$G,)), ISBLANK(INDEX($C:$C,))), \"\", 'PWS Records (System Entry)'!$D$4)","v":""},{"$f":"IF(AND(ISBLANK(INDEX($G:$G,)), ISBLANK(INDEX($C:$C,))), \"\", 'PWS Records (System Entry)'!$D$3)","v":""},null,null,null,null,null,null,null,null,null,null,null,null,null,null,null,null,null,null,""]
[{"$f":"IF(AND(ISBLANK(INDEX($G:$G,)), ISBLANK(INDEX($C:$C,))), \"\", 'PWS Records (System Entry)'!$D$4)","v":""},{"$f":"IF(AND(ISBLANK(INDEX($G:$G,)), ISBLANK(INDEX($C:$C,))), \"\", 'PWS Records (System Entry)'!$D$3)","v":""},null,null,null,null,null,null,null,null,null,null,null,null,null,null,null,null,null,null,""]
[{"$f":"IF(AND(ISBLANK(INDEX($G:$G,)), ISBLANK(INDEX($C:$C,))), \"\", 'PWS Records (System Entry)'!$D$4)","v":""},{"$f":"IF(AND(ISBLANK(INDEX($G:$G,)), ISBLANK(INDEX($C:$C,))), \"\", 'PWS Records (System Entry)'!$D$3)","v":""},null,null,null,null,null,null,null,null,null,null,null,null,null,null,null,null,null,null,""]
[{"$f":"IF(AND(ISBLANK(INDEX($G:$G,)), ISBLANK(INDEX($C:$C,))), \"\", 'PWS Records (System Entry)'!$D$4)","v":""},{"$f":"IF(AND(ISBLANK(INDEX($G:$G,)), ISBLANK(INDEX($C:$C,))), \"\", 'PWS Records (System Entry)'!$D$3)","v":""},null,null,null,null,null,null,null,null,null,null,null,null,null,null,null,null,null,null,""]
[{"$f":"IF(AND(ISBLANK(INDEX($G:$G,)), ISBLANK(INDEX($C:$C,))), \"\", 'PWS Records (System Entry)'!$D$4)","v":""},{"$f":"IF(AND(ISBLANK(INDEX($G:$G,)), ISBLANK(INDEX($C:$C,))), \"\", 'PWS Records (System Entry)'!$D$3)","v":""},null,null,null,null,null,null,null,null,null,null,null,null,null,null,null,null,null,null,""]
[{"$f":"IF(AND(ISBLANK(INDEX($G:$G,)), ISBLANK(INDEX($C:$C,))), \"\", 'PWS Records (System Entry)'!$D$4)","v":""},{"$f":"IF(AND(ISBLANK(INDEX($G:$G,)), ISBLANK(INDEX($C:$C,))), \"\", 'PWS Records (System Entry)'!$D$3)","v":""},null,null,null,null,null,null,null,null,null,null,null,null,null,null,null,null,null,null,""]
[{"$f":"IF(AND(ISBLANK(INDEX($G:$G,)), ISBLANK(INDEX($C:$C,))), \"\", 'PWS Records (System Entry)'!$D$4)","v":""},{"$f":"IF(AND(ISBLANK(INDEX($G:$G,)), ISBLANK(INDEX($C:$C,))), \"\", 'PWS Records (System Entry)'!$D$3)","v":""},null,null,null,null,null,null,null,null,null,null,null,null,null,null,null,null,null,null,""]
[{"$f":"IF(AND(ISBLANK(INDEX($G:$G,)), ISBLANK(INDEX($C:$C,))), \"\", 'PWS Records (System Entry)'!$D$4)","v":""},{"$f":"IF(AND(ISBLANK(INDEX($G:$G,)), ISBLANK(INDEX($C:$C,))), \"\", 'PWS Records (System Entry)'!$D$3)","v":""},null,null,null,null,null,null,null,null,null,null,null,null,null,null,null,null,null,null,""]
[{"$f":"IF(AND(ISBLANK(INDEX($G:$G,)), ISBLANK(INDEX($C:$C,))), \"\", 'PWS Records (System Entry)'!$D$4)","v":""},{"$f":"IF(AND(ISBLANK(INDEX($G:$G,)), ISBLANK(INDEX($C:$C,))), \"\", 'PWS Records (System Entry)'!$D$3)","v":""},null,null,null,null,null,null,null,null,null,null,null,null,null,null,null,null,null,null,""]
[{"$f":"IF(AND(ISBLANK(INDEX($G:$G,)), ISBLANK(INDEX($C:$C,))), \"\", 'PWS Records (System Entry)'!$D$4)","v":""},{"$f":"IF(AND(ISBLANK(INDEX($G:$G,)), ISBLANK(INDEX($C:$C,))), \"\", 'PWS Records (System Entry)'!$D$3)","v":""},null,null,null,null,null,null,null,null,null,null,null,null,null,null,null,null,null,null,""]
[{"$f":"IF(AND(ISBLANK(INDEX($G:$G,)), ISBLANK(INDEX($C:$C,))), \"\", 'PWS Records (System Entry)'!$D$4)","v":""},{"$f":"IF(AND(ISBLANK(INDEX($G:$G,)), ISBLANK(INDEX($C:$C,))), \"\", 'PWS Records (System Entry)'!$D$3)","v":""},null,null,null,null,null,null,null,null,null,null,null,null,null,null,null,null,null,null,""]
[{"$f":"IF(AND(ISBLANK(INDEX($G:$G,)), ISBLANK(INDEX($C:$C,))), \"\", 'PWS Records (System Entry)'!$D$4)","v":""},{"$f":"IF(AND(ISBLANK(INDEX($G:$G,)), ISBLANK(INDEX($C:$C,))), \"\", 'PWS Records (System Entry)'!$D$3)","v":""},null,null,null,null,null,null,null,null,null,null,null,null,null,null,null,null,null,null,""]
[{"$f":"IF(AND(ISBLANK(INDEX($G:$G,)), ISBLANK(INDEX($C:$C,))), \"\", 'PWS Records (System Entry)'!$D$4)","v":""},{"$f":"IF(AND(ISBLANK(INDEX($G:$G,)), ISBLANK(INDEX($C:$C,))), \"\", 'PWS Records (System Entry)'!$D$3)","v":""},null,null,null,null,null,null,null,null,null,null,null,null,null,null,null,null,null,null,""]
[{"$f":"IF(AND(ISBLANK(INDEX($G:$G,)), ISBLANK(INDEX($C:$C,))), \"\", 'PWS Records (System Entry)'!$D$4)","v":""},{"$f":"IF(AND(ISBLANK(INDEX($G:$G,)), ISBLANK(INDEX($C:$C,))), \"\", 'PWS Records (System Entry)'!$D$3)","v":""},null,null,null,null,null,null,null,null,null,null,null,null,null,null,null,null,null,null,""]
[{"$f":"IF(AND(ISBLANK(INDEX($G:$G,)), ISBLANK(INDEX($C:$C,))), \"\", 'PWS Records (System Entry)'!$D$4)","v":""},{"$f":"IF(AND(ISBLANK(INDEX($G:$G,)), ISBLANK(INDEX($C:$C,))), \"\", 'PWS Records (System Entry)'!$D$3)","v":""},null,null,null,null,null,null,null,null,null,null,null,null,null,null,null,null,null,null,""]
[{"$f":"IF(AND(ISBLANK(INDEX($G:$G,)), ISBLANK(INDEX($C:$C,))), \"\", 'PWS Records (System Entry)'!$D$4)","v":""},{"$f":"IF(AND(ISBLANK(INDEX($G:$G,)), ISBLANK(INDEX($C:$C,))), \"\", 'PWS Records (System Entry)'!$D$3)","v":""},null,null,null,null,null,null,null,null,null,null,null,null,null,null,null,null,null,null,""]
[{"$f":"IF(AND(ISBLANK(INDEX($G:$G,)), ISBLANK(INDEX($C:$C,))), \"\", 'PWS Records (System Entry)'!$D$4)","v":""},{"$f":"IF(AND(ISBLANK(INDEX($G:$G,)), ISBLANK(INDEX($C:$C,))), \"\", 'PWS Records (System Entry)'!$D$3)","v":""},null,null,null,null,null,null,null,null,null,null,null,null,null,null,null,null,null,null,""]
[{"$f":"IF(AND(ISBLANK(INDEX($G:$G,)), ISBLANK(INDEX($C:$C,))), \"\", 'PWS Records (System Entry)'!$D$4)","v":""},{"$f":"IF(AND(ISBLANK(INDEX($G:$G,)), ISBLANK(INDEX($C:$C,))), \"\", 'PWS Records (System Entry)'!$D$3)","v":""},null,null,null,null,null,null,null,null,null,null,null,null,null,null,null,null,null,null,""]
[{"$f":"IF(AND(ISBLANK(INDEX($G:$G,)), ISBLANK(INDEX($C:$C,))), \"\", 'PWS Records (System Entry)'!$D$4)","v":""},{"$f":"IF(AND(ISBLANK(INDEX($G:$G,)), ISBLANK(INDEX($C:$C,))), \"\", 'PWS Records (System Entry)'!$D$3)","v":""},null,null,null,null,null,null,null,null,null,null,null,null,null,null,null,null,null,null,""]
[{"$f":"IF(AND(ISBLANK(INDEX($G:$G,)), ISBLANK(INDEX($C:$C,))), \"\", 'PWS Records (System Entry)'!$D$4)","v":""},{"$f":"IF(AND(ISBLANK(INDEX($G:$G,)), ISBLANK(INDEX($C:$C,))), \"\", 'PWS Records (System Entry)'!$D$3)","v":""},null,null,null,null,null,null,null,null,null,null,null,null,null,null,null,null,null,null,""]
[{"$f":"IF(AND(ISBLANK(INDEX($G:$G,)), ISBLANK(INDEX($C:$C,))), \"\", 'PWS Records (System Entry)'!$D$4)","v":""},{"$f":"IF(AND(ISBLANK(INDEX($G:$G,)), ISBLANK(INDEX($C:$C,))), \"\", 'PWS Records (System Entry)'!$D$3)","v":""},null,null,null,null,null,null,null,null,null,null,null,null,null,null,null,null,null,null,""]
[{"$f":"IF(AND(ISBLANK(INDEX($G:$G,)), ISBLANK(INDEX($C:$C,))), \"\", 'PWS Records (System Entry)'!$D$4)","v":""},{"$f":"IF(AND(ISBLANK(INDEX($G:$G,)), ISBLANK(INDEX($C:$C,))), \"\", 'PWS Records (System Entry)'!$D$3)","v":""},null,null,null,null,null,null,null,null,null,null,null,null,null,null,null,null,null,null,""]
[{"$f":"IF(AND(ISBLANK(INDEX($G:$G,)), ISBLANK(INDEX($C:$C,))), \"\", 'PWS Records (System Entry)'!$D$4)","v":""},{"$f":"IF(AND(ISBLANK(INDEX($G:$G,)), ISBLANK(INDEX($C:$C,))), \"\", 'PWS Records (System Entry)'!$D$3)","v":""},null,null,null,null,null,null,null,null,null,null,null,null,null,null,null,null,null,null,""]
[{"$f":"IF(AND(ISBLANK(INDEX($G:$G,)), ISBLANK(INDEX($C:$C,))), \"\", 'PWS Records (System Entry)'!$D$4)","v":""},{"$f":"IF(AND(ISBLANK(INDEX($G:$G,)), ISBLANK(INDEX($C:$C,))), \"\", 'PWS Records (System Entry)'!$D$3)","v":""},null,null,null,null,null,null,null,null,null,null,null,null,null,null,null,null,null,null,""]
[{"$f":"IF(AND(ISBLANK(INDEX($G:$G,)), ISBLANK(INDEX($C:$C,))), \"\", 'PWS Records (System Entry)'!$D$4)","v":""},{"$f":"IF(AND(ISBLANK(INDEX($G:$G,)), ISBLANK(INDEX($C:$C,))), \"\", 'PWS Records (System Entry)'!$D$3)","v":""},null,null,null,null,null,null,null,null,null,null,null,null,null,null,null,null,null,null,""]
[{"$f":"IF(AND(ISBLANK(INDEX($G:$G,)), ISBLANK(INDEX($C:$C,))), \"\", 'PWS Records (System Entry)'!$D$4)","v":""},{"$f":"IF(AND(ISBLANK(INDEX($G:$G,)), ISBLANK(INDEX($C:$C,))), \"\", 'PWS Records (System Entry)'!$D$3)","v":""},null,null,null,null,null,null,null,null,null,null,null,null,null,null,null,null,null,null,""]
[{"$f":"IF(AND(ISBLANK(INDEX($G:$G,)), ISBLANK(INDEX($C:$C,))), \"\", 'PWS Records (System Entry)'!$D$4)","v":""},{"$f":"IF(AND(ISBLANK(INDEX($G:$G,)), ISBLANK(INDEX($C:$C,))), \"\", 'PWS Records (System Entry)'!$D$3)","v":""},null,null,null,null,null,null,null,null,null,null,null,null,null,null,null,null,null,null,{"$f":"IF(AND(INDEX($K:$K,)=\"\", INDEX($L:$L,)=\"\", INDEX($M:$M,)=\"\", INDEX($Q:$Q,)=\"\", INDEX($R:$R,)=\"\"), \"\", IF(OR(INDEX($K:$K,)=\"Lead\",INDEX($Q:$Q,)=\"Lead\"),\"Lead\",IF(OR(AND(OR(INDEX($M:$M,)=\"Yes\", INDEX($M:$M,)=\"Don't Know\", INDEX($M:$M,)=\"\"), INDEX($Q:$Q,)=\"Galvanized Iron/Steel\"), AND(INDEX($K:$K,)=\"Unknown\", INDEX($M:$M,)=\"No\", INDEX($Q:$Q,)=\"Galvanized Iron/Steel\")), \"Galvanized Requiring Replacement\", IF(OR(AND(OR(INDEX($K:$K,)=\"Galvanized Iron/Steel\", INDEX($K:$K,)=\"Non-Lead - Copper\", INDEX($K:$K,)=\"Non-Lead - Plastic\", INDEX($K:$K,)=\"Non-Lead - Other\", INDEX($K:$K,)=\"Non-Lead - Material Unknown\", INDEX($K:$K,)=\"No System Owned Portion\"), OR(INDEX($Q:$Q,)=\"Galvanized Iron/Steel\", INDEX($Q:$Q,)=\"Non-Lead - Copper\", INDEX($Q:$Q,)=\"Non-Lead - Plastic\", INDEX($Q:$Q,)=\"Non-Lead - Other\", INDEX($Q:$Q,)=\"Non-Lead - Predictive Model\", INDEX($Q:$Q,)=\"No Customer Owned Portion\")), AND(OR( INDEX($K:$K,)=\"Galvanized Iron/Steel\", INDEX($K:$K,)=\"Non-Lead - Copper\", INDEX($K:$K,)=\"Non-Lead - Plastic\", INDEX($K:$K,)=\"Non-Lead - Other\", INDEX($K:$K,)=\"Non-Lead - Material Unknown\", INDEX($K:$K,)=\"No System Owned Portion\"), INDEX($M:$M,)=\"No\", INDEX($Q:$Q,)=\"Non-Lead - Material Unknown\")), \"Non-Lead\", \"Lead Status Unknown\"))))","v":""}]
[{"$f":"IF(AND(ISBLANK(INDEX($G:$G,)), ISBLANK(INDEX($C:$C,))), \"\", 'PWS Records (System Entry)'!$D$4)","v":""},{"$f":"IF(AND(ISBLANK(INDEX($G:$G,)), ISBLANK(INDEX($C:$C,))), \"\", 'PWS Records (System Entry)'!$D$3)","v":""},null,null,null,null,null,null,null,null,null,null,null,null,null,null,null,null,null,null,""]
[{"$f":"IF(AND(ISBLANK(INDEX($G:$G,)), ISBLANK(INDEX($C:$C,))), \"\", 'PWS Records (System Entry)'!$D$4)","v":""},{"$f":"IF(AND(ISBLANK(INDEX($G:$G,)), ISBLANK(INDEX($C:$C,))), \"\", 'PWS Records (System Entry)'!$D$3)","v":""},null,null,null,null,null,null,null,null,null,null,null,null,null,null,null,null,null,null,""]
[{"$f":"IF(AND(ISBLANK(INDEX($G:$G,)), ISBLANK(INDEX($C:$C,))), \"\", 'PWS Records (System Entry)'!$D$4)","v":""},{"$f":"IF(AND(ISBLANK(INDEX($G:$G,)), ISBLANK(INDEX($C:$C,))), \"\", 'PWS Records (System Entry)'!$D$3)","v":""},null,null,null,null,null,null,null,null,null,null,null,null,null,null,null,null,null,null,""]
[{"$f":"IF(AND(ISBLANK(INDEX($G:$G,)), ISBLANK(INDEX($C:$C,))), \"\", 'PWS Records (System Entry)'!$D$4)","v":""},{"$f":"IF(AND(ISBLANK(INDEX($G:$G,)), ISBLANK(INDEX($C:$C,))), \"\", 'PWS Records (System Entry)'!$D$3)","v":""},null,null,null,null,null,null,null,null,null,null,null,null,null,null,null,null,null,null,""]
[{"$f":"IF(AND(ISBLANK(INDEX($G:$G,)), ISBLANK(INDEX($C:$C,))), \"\", 'PWS Records (System Entry)'!$D$4)","v":""},{"$f":"IF(AND(ISBLANK(INDEX($G:$G,)), ISBLANK(INDEX($C:$C,))), \"\", 'PWS Records (System Entry)'!$D$3)","v":""},null,null,null,null,null,null,null,null,null,null,null,null,null,null,null,null,null,null,""]
[{"$f":"IF(AND(ISBLANK(INDEX($G:$G,)), ISBLANK(INDEX($C:$C,))), \"\", 'PWS Records (System Entry)'!$D$4)","v":""},{"$f":"IF(AND(ISBLANK(INDEX($G:$G,)), ISBLANK(INDEX($C:$C,))), \"\", 'PWS Records (System Entry)'!$D$3)","v":""},null,null,null,null,null,null,null,null,null,null,null,null,null,null,null,null,null,null,""]
[{"$f":"IF(AND(ISBLANK(INDEX($G:$G,)), ISBLANK(INDEX($C:$C,))), \"\", 'PWS Records (System Entry)'!$D$4)","v":""},{"$f":"IF(AND(ISBLANK(INDEX($G:$G,)), ISBLANK(INDEX($C:$C,))), \"\", 'PWS Records (System Entry)'!$D$3)","v":""},null,null,null,null,null,null,null,null,null,null,null,null,null,null,null,null,null,null,""]
[{"$f":"IF(AND(ISBLANK(INDEX($G:$G,)), ISBLANK(INDEX($C:$C,))), \"\", 'PWS Records (System Entry)'!$D$4)","v":""},{"$f":"IF(AND(ISBLANK(INDEX($G:$G,)), ISBLANK(INDEX($C:$C,))), \"\", 'PWS Records (System Entry)'!$D$3)","v":""},null,null,null,null,null,null,null,null,null,null,null,null,null,null,null,null,null,null,""]
[{"$f":"IF(AND(ISBLANK(INDEX($G:$G,)), ISBLANK(INDEX($C:$C,))), \"\", 'PWS Records (System Entry)'!$D$4)","v":""},{"$f":"IF(AND(ISBLANK(INDEX($G:$G,)), ISBLANK(INDEX($C:$C,))), \"\", 'PWS Records (System Entry)'!$D$3)","v":""},null,null,null,null,null,null,null,null,null,null,null,null,null,null,null,null,null,null,""]
[{"$f":"IF(AND(ISBLANK(INDEX($G:$G,)), ISBLANK(INDEX($C:$C,))), \"\", 'PWS Records (System Entry)'!$D$4)","v":""},{"$f":"IF(AND(ISBLANK(INDEX($G:$G,)), ISBLANK(INDEX($C:$C,))), \"\", 'PWS Records (System Entry)'!$D$3)","v":""},null,null,null,null,null,null,null,null,null,null,null,null,null,null,null,null,null,null,""]
[{"$f":"IF(AND(ISBLANK(INDEX($G:$G,)), ISBLANK(INDEX($C:$C,))), \"\", 'PWS Records (System Entry)'!$D$4)","v":""},{"$f":"IF(AND(ISBLANK(INDEX($G:$G,)), ISBLANK(INDEX($C:$C,))), \"\", 'PWS Records (System Entry)'!$D$3)","v":""},null,null,null,null,null,null,null,null,null,null,null,null,null,null,null,null,null,null,""]
[{"$f":"IF(AND(ISBLANK(INDEX($G:$G,)), ISBLANK(INDEX($C:$C,))), \"\", 'PWS Records (System Entry)'!$D$4)","v":""},{"$f":"IF(AND(ISBLANK(INDEX($G:$G,)), ISBLANK(INDEX($C:$C,))), \"\", 'PWS Records (System Entry)'!$D$3)","v":""},null,null,null,null,null,null,null,null,null,null,null,null,null,null,null,null,null,null,""]
[{"$f":"IF(AND(ISBLANK(INDEX($G:$G,)), ISBLANK(INDEX($C:$C,))), \"\", 'PWS Records (System Entry)'!$D$4)","v":""},{"$f":"IF(AND(ISBLANK(INDEX($G:$G,)), ISBLANK(INDEX($C:$C,))), \"\", 'PWS Records (System Entry)'!$D$3)","v":""},null,null,null,null,null,null,null,null,null,null,null,null,null,null,null,null,null,null,""]
[{"$f":"IF(AND(ISBLANK(INDEX($G:$G,)), ISBLANK(INDEX($C:$C,))), \"\", 'PWS Records (System Entry)'!$D$4)","v":""},{"$f":"IF(AND(ISBLANK(INDEX($G:$G,)), ISBLANK(INDEX($C:$C,))), \"\", 'PWS Records (System Entry)'!$D$3)","v":""},null,null,null,null,null,null,null,null,null,null,null,null,null,null,null,null,null,null,""]
[{"$f":"IF(AND(ISBLANK(INDEX($G:$G,)), ISBLANK(INDEX($C:$C,))), \"\", 'PWS Records (System Entry)'!$D$4)","v":""},{"$f":"IF(AND(ISBLANK(INDEX($G:$G,)), ISBLANK(INDEX($C:$C,))), \"\", 'PWS Records (System Entry)'!$D$3)","v":""},null,null,null,null,null,null,null,null,null,null,null,null,null,null,null,null,null,null,""]
[{"$f":"IF(AND(ISBLANK(INDEX($G:$G,)), ISBLANK(INDEX($C:$C,))), \"\", 'PWS Records (System Entry)'!$D$4)","v":""},{"$f":"IF(AND(ISBLANK(INDEX($G:$G,)), ISBLANK(INDEX($C:$C,))), \"\", 'PWS Records (System Entry)'!$D$3)","v":""},null,null,null,null,null,null,null,null,null,null,null,null,null,null,null,null,null,null,""]
[{"$f":"IF(AND(ISBLANK(INDEX($G:$G,)), ISBLANK(INDEX($C:$C,))), \"\", 'PWS Records (System Entry)'!$D$4)","v":""},{"$f":"IF(AND(ISBLANK(INDEX($G:$G,)), ISBLANK(INDEX($C:$C,))), \"\", 'PWS Records (System Entry)'!$D$3)","v":""},null,null,null,null,null,null,null,null,null,null,null,null,null,null,null,null,null,null,""]
[{"$f":"IF(AND(ISBLANK(INDEX($G:$G,)), ISBLANK(INDEX($C:$C,))), \"\", 'PWS Records (System Entry)'!$D$4)","v":""},{"$f":"IF(AND(ISBLANK(INDEX($G:$G,)), ISBLANK(INDEX($C:$C,))), \"\", 'PWS Records (System Entry)'!$D$3)","v":""},null,null,null,null,null,null,null,null,null,null,null,null,null,null,null,null,null,null,""]
[{"$f":"IF(AND(ISBLANK(INDEX($G:$G,)), ISBLANK(INDEX($C:$C,))), \"\", 'PWS Records (System Entry)'!$D$4)","v":""},{"$f":"IF(AND(ISBLANK(INDEX($G:$G,)), ISBLANK(INDEX($C:$C,))), \"\", 'PWS Records (System Entry)'!$D$3)","v":""},null,null,null,null,null,null,null,null,null,null,null,null,null,null,null,null,null,null,""]
[{"$f":"IF(AND(ISBLANK(INDEX($G:$G,)), ISBLANK(INDEX($C:$C,))), \"\", 'PWS Records (System Entry)'!$D$4)","v":""},{"$f":"IF(AND(ISBLANK(INDEX($G:$G,)), ISBLANK(INDEX($C:$C,))), \"\", 'PWS Records (System Entry)'!$D$3)","v":""},null,null,null,null,null,null,null,null,null,null,null,null,null,null,null,null,null,null,""]
[{"$f":"IF(AND(ISBLANK(INDEX($G:$G,)), ISBLANK(INDEX($C:$C,))), \"\", 'PWS Records (System Entry)'!$D$4)","v":""},{"$f":"IF(AND(ISBLANK(INDEX($G:$G,)), ISBLANK(INDEX($C:$C,))), \"\", 'PWS Records (System Entry)'!$D$3)","v":""},null,null,null,null,null,null,null,null,null,null,null,null,null,null,null,null,null,null,""]
[{"$f":"IF(AND(ISBLANK(INDEX($G:$G,)), ISBLANK(INDEX($C:$C,))), \"\", 'PWS Records (System Entry)'!$D$4)","v":""},{"$f":"IF(AND(ISBLANK(INDEX($G:$G,)), ISBLANK(INDEX($C:$C,))), \"\", 'PWS Records (System Entry)'!$D$3)","v":""},null,null,null,null,null,null,null,null,null,null,null,null,null,null,null,null,null,null,""]
[{"$f":"IF(AND(ISBLANK(INDEX($G:$G,)), ISBLANK(INDEX($C:$C,))), \"\", 'PWS Records (System Entry)'!$D$4)","v":""},{"$f":"IF(AND(ISBLANK(INDEX($G:$G,)), ISBLANK(INDEX($C:$C,))), \"\", 'PWS Records (System Entry)'!$D$3)","v":""},null,null,null,null,null,null,null,null,null,null,null,null,null,null,null,null,null,null,""]
[{"$f":"IF(AND(ISBLANK(INDEX($G:$G,)), ISBLANK(INDEX($C:$C,))), \"\", 'PWS Records (System Entry)'!$D$4)","v":""},{"$f":"IF(AND(ISBLANK(INDEX($G:$G,)), ISBLANK(INDEX($C:$C,))), \"\", 'PWS Records (System Entry)'!$D$3)","v":""},null,null,null,null,null,null,null,null,null,null,null,null,null,null,null,null,null,null,""]
[{"$f":"IF(AND(ISBLANK(INDEX($G:$G,)), ISBLANK(INDEX($C:$C,))), \"\", 'PWS Records (System Entry)'!$D$4)","v":""},{"$f":"IF(AND(ISBLANK(INDEX($G:$G,)), ISBLANK(INDEX($C:$C,))), \"\", 'PWS Records (System Entry)'!$D$3)","v":""},null,null,null,null,null,null,null,null,null,null,null,null,null,null,null,null,null,null,""]
[{"$f":"IF(AND(ISBLANK(INDEX($G:$G,)), ISBLANK(INDEX($C:$C,))), \"\", 'PWS Records (System Entry)'!$D$4)","v":""},{"$f":"IF(AND(ISBLANK(INDEX($G:$G,)), ISBLANK(INDEX($C:$C,))), \"\", 'PWS Records (System Entry)'!$D$3)","v":""},null,null,null,null,null,null,null,null,null,null,null,null,null,null,null,null,null,null,""]
[{"$f":"IF(AND(ISBLANK(INDEX($G:$G,)), ISBLANK(INDEX($C:$C,))), \"\", 'PWS Records (System Entry)'!$D$4)","v":""},{"$f":"IF(AND(ISBLANK(INDEX($G:$G,)), ISBLANK(INDEX($C:$C,))), \"\", 'PWS Records (System Entry)'!$D$3)","v":""},null,null,null,null,null,null,null,null,null,null,null,null,null,null,null,null,null,null,""]
[{"$f":"IF(AND(ISBLANK(INDEX($G:$G,)), ISBLANK(INDEX($C:$C,))), \"\", 'PWS Records (System Entry)'!$D$4)","v":""},{"$f":"IF(AND(ISBLANK(INDEX($G:$G,)), ISBLANK(INDEX($C:$C,))), \"\", 'PWS Records (System Entry)'!$D$3)","v":""},null,null,null,null,null,null,null,null,null,null,null,null,null,null,null,null,null,null,""]
[{"$f":"IF(AND(ISBLANK(INDEX($G:$G,)), ISBLANK(INDEX($C:$C,))), \"\", 'PWS Records (System Entry)'!$D$4)","v":""},{"$f":"IF(AND(ISBLANK(INDEX($G:$G,)), ISBLANK(INDEX($C:$C,))), \"\", 'PWS Records (System Entry)'!$D$3)","v":""},null,null,null,null,null,null,null,null,null,null,null,null,null,null,null,null,null,null,""]
[{"$f":"IF(AND(ISBLANK(INDEX($G:$G,)), ISBLANK(INDEX($C:$C,))), \"\", 'PWS Records (System Entry)'!$D$4)","v":""},{"$f":"IF(AND(ISBLANK(INDEX($G:$G,)), ISBLANK(INDEX($C:$C,))), \"\", 'PWS Records (System Entry)'!$D$3)","v":""},null,null,null,null,null,null,null,null,null,null,null,null,null,null,null,null,null,null,""]
[{"$f":"IF(AND(ISBLANK(INDEX($G:$G,)), ISBLANK(INDEX($C:$C,))), \"\", 'PWS Records (System Entry)'!$D$4)","v":""},{"$f":"IF(AND(ISBLANK(INDEX($G:$G,)), ISBLANK(INDEX($C:$C,))), \"\", 'PWS Records (System Entry)'!$D$3)","v":""},null,null,null,null,null,null,null,null,null,null,null,null,null,null,null,null,null,null,""]
[{"$f":"IF(AND(ISBLANK(INDEX($G:$G,)), ISBLANK(INDEX($C:$C,))), \"\", 'PWS Records (System Entry)'!$D$4)","v":""},{"$f":"IF(AND(ISBLANK(INDEX($G:$G,)), ISBLANK(INDEX($C:$C,))), \"\", 'PWS Records (System Entry)'!$D$3)","v":""},null,null,null,null,null,null,null,null,null,null,null,null,null,null,null,null,null,null,""]
[{"$f":"IF(AND(ISBLANK(INDEX($G:$G,)), ISBLANK(INDEX($C:$C,))), \"\", 'PWS Records (System Entry)'!$D$4)","v":""},{"$f":"IF(AND(ISBLANK(INDEX($G:$G,)), ISBLANK(INDEX($C:$C,))), \"\", 'PWS Records (System Entry)'!$D$3)","v":""},null,null,null,null,null,null,null,null,null,null,null,null,null,null,null,null,null,null,""]
[{"$f":"IF(AND(ISBLANK(INDEX($G:$G,)), ISBLANK(INDEX($C:$C,))), \"\", 'PWS Records (System Entry)'!$D$4)","v":""},{"$f":"IF(AND(ISBLANK(INDEX($G:$G,)), ISBLANK(INDEX($C:$C,))), \"\", 'PWS Records (System Entry)'!$D$3)","v":""},null,null,null,null,null,null,null,null,null,null,null,null,null,null,null,null,null,null,""]
[{"$f":"IF(AND(ISBLANK(INDEX($G:$G,)), ISBLANK(INDEX($C:$C,))), \"\", 'PWS Records (System Entry)'!$D$4)","v":""},{"$f":"IF(AND(ISBLANK(INDEX($G:$G,)), ISBLANK(INDEX($C:$C,))), \"\", 'PWS Records (System Entry)'!$D$3)","v":""},null,null,null,null,null,null,null,null,null,null,null,null,null,null,null,null,null,null,""]
[{"$f":"IF(AND(ISBLANK(INDEX($G:$G,)), ISBLANK(INDEX($C:$C,))), \"\", 'PWS Records (System Entry)'!$D$4)","v":""},{"$f":"IF(AND(ISBLANK(INDEX($G:$G,)), ISBLANK(INDEX($C:$C,))), \"\", 'PWS Records (System Entry)'!$D$3)","v":""},null,null,null,null,null,null,null,null,null,null,null,null,null,null,null,null,null,null,""]
[{"$f":"IF(AND(ISBLANK(INDEX($G:$G,)), ISBLANK(INDEX($C:$C,))), \"\", 'PWS Records (System Entry)'!$D$4)","v":""},{"$f":"IF(AND(ISBLANK(INDEX($G:$G,)), ISBLANK(INDEX($C:$C,))), \"\", 'PWS Records (System Entry)'!$D$3)","v":""},null,null,null,null,null,null,null,null,null,null,null,null,null,null,null,null,null,null,""]
[{"$f":"IF(AND(ISBLANK(INDEX($G:$G,)), ISBLANK(INDEX($C:$C,))), \"\", 'PWS Records (System Entry)'!$D$4)","v":""},{"$f":"IF(AND(ISBLANK(INDEX($G:$G,)), ISBLANK(INDEX($C:$C,))), \"\", 'PWS Records (System Entry)'!$D$3)","v":""},null,null,null,null,null,null,null,null,null,null,null,null,null,null,null,null,null,null,""]
[{"$f":"IF(AND(ISBLANK(INDEX($G:$G,)), ISBLANK(INDEX($C:$C,))), \"\", 'PWS Records (System Entry)'!$D$4)","v":""},{"$f":"IF(AND(ISBLANK(INDEX($G:$G,)), ISBLANK(INDEX($C:$C,))), \"\", 'PWS Records (System Entry)'!$D$3)","v":""},null,null,null,null,null,null,null,null,null,null,null,null,null,null,null,null,null,null,""]
[{"$f":"IF(AND(ISBLANK(INDEX($G:$G,)), ISBLANK(INDEX($C:$C,))), \"\", 'PWS Records (System Entry)'!$D$4)","v":""},{"$f":"IF(AND(ISBLANK(INDEX($G:$G,)), ISBLANK(INDEX($C:$C,))), \"\", 'PWS Records (System Entry)'!$D$3)","v":""},null,null,null,null,null,null,null,null,null,null,null,null,null,null,null,null,null,null,""]
[{"$f":"IF(AND(ISBLANK(INDEX($G:$G,)), ISBLANK(INDEX($C:$C,))), \"\", 'PWS Records (System Entry)'!$D$4)","v":""},{"$f":"IF(AND(ISBLANK(INDEX($G:$G,)), ISBLANK(INDEX($C:$C,))), \"\", 'PWS Records (System Entry)'!$D$3)","v":""},null,null,null,null,null,null,null,null,null,null,null,null,null,null,null,null,null,null,""]
[{"$f":"IF(AND(ISBLANK(INDEX($G:$G,)), ISBLANK(INDEX($C:$C,))), \"\", 'PWS Records (System Entry)'!$D$4)","v":""},{"$f":"IF(AND(ISBLANK(INDEX($G:$G,)), ISBLANK(INDEX($C:$C,))), \"\", 'PWS Records (System Entry)'!$D$3)","v":""},null,null,null,null,null,null,null,null,null,null,null,null,null,null,null,null,null,null,""]
[{"$f":"IF(AND(ISBLANK(INDEX($G:$G,)), ISBLANK(INDEX($C:$C,))), \"\", 'PWS Records (System Entry)'!$D$4)","v":""},{"$f":"IF(AND(ISBLANK(INDEX($G:$G,)), ISBLANK(INDEX($C:$C,))), \"\", 'PWS Records (System Entry)'!$D$3)","v":""},null,null,null,null,null,null,null,null,null,null,null,null,null,null,null,null,null,null,""]
[{"$f":"IF(AND(ISBLANK(INDEX($G:$G,)), ISBLANK(INDEX($C:$C,))), \"\", 'PWS Records (System Entry)'!$D$4)","v":""},{"$f":"IF(AND(ISBLANK(INDEX($G:$G,)), ISBLANK(INDEX($C:$C,))), \"\", 'PWS Records (System Entry)'!$D$3)","v":""},null,null,null,null,null,null,null,null,null,null,null,null,null,null,null,null,null,null,""]
[{"$f":"IF(AND(ISBLANK(INDEX($G:$G,)), ISBLANK(INDEX($C:$C,))), \"\", 'PWS Records (System Entry)'!$D$4)","v":""},{"$f":"IF(AND(ISBLANK(INDEX($G:$G,)), ISBLANK(INDEX($C:$C,))), \"\", 'PWS Records (System Entry)'!$D$3)","v":""},null,null,null,null,null,null,null,null,null,null,null,null,null,null,null,null,null,null,""]
[{"$f":"IF(AND(ISBLANK(INDEX($G:$G,)), ISBLANK(INDEX($C:$C,))), \"\", 'PWS Records (System Entry)'!$D$4)","v":""},{"$f":"IF(AND(ISBLANK(INDEX($G:$G,)), ISBLANK(INDEX($C:$C,))), \"\", 'PWS Records (System Entry)'!$D$3)","v":""},null,null,null,null,null,null,null,null,null,null,null,null,null,null,null,null,null,null,""]
[{"$f":"IF(AND(ISBLANK(INDEX($G:$G,)), ISBLANK(INDEX($C:$C,))), \"\", 'PWS Records (System Entry)'!$D$4)","v":""},{"$f":"IF(AND(ISBLANK(INDEX($G:$G,)), ISBLANK(INDEX($C:$C,))), \"\", 'PWS Records (System Entry)'!$D$3)","v":""},null,null,null,null,null,null,null,null,null,null,null,null,null,null,null,null,null,null,""]
[{"$f":"IF(AND(ISBLANK(INDEX($G:$G,)), ISBLANK(INDEX($C:$C,))), \"\", 'PWS Records (System Entry)'!$D$4)","v":""},{"$f":"IF(AND(ISBLANK(INDEX($G:$G,)), ISBLANK(INDEX($C:$C,))), \"\", 'PWS Records (System Entry)'!$D$3)","v":""},null,null,null,null,null,null,null,null,null,null,null,null,null,null,null,null,null,null,""]
[{"$f":"IF(AND(ISBLANK(INDEX($G:$G,)), ISBLANK(INDEX($C:$C,))), \"\", 'PWS Records (System Entry)'!$D$4)","v":""},{"$f":"IF(AND(ISBLANK(INDEX($G:$G,)), ISBLANK(INDEX($C:$C,))), \"\", 'PWS Records (System Entry)'!$D$3)","v":""},null,null,null,null,null,null,null,null,null,null,null,null,null,null,null,null,null,null,""]
[{"$f":"IF(AND(ISBLANK(INDEX($G:$G,)), ISBLANK(INDEX($C:$C,))), \"\", 'PWS Records (System Entry)'!$D$4)","v":""},{"$f":"IF(AND(ISBLANK(INDEX($G:$G,)), ISBLANK(INDEX($C:$C,))), \"\", 'PWS Records (System Entry)'!$D$3)","v":""},null,null,null,null,null,null,null,null,null,null,null,null,null,null,null,null,null,null,""]
[{"$f":"IF(AND(ISBLANK(INDEX($G:$G,)), ISBLANK(INDEX($C:$C,))), \"\", 'PWS Records (System Entry)'!$D$4)","v":""},{"$f":"IF(AND(ISBLANK(INDEX($G:$G,)), ISBLANK(INDEX($C:$C,))), \"\", 'PWS Records (System Entry)'!$D$3)","v":""},null,null,null,null,null,null,null,null,null,null,null,null,null,null,null,null,null,null,""]
[{"$f":"IF(AND(ISBLANK(INDEX($G:$G,)), ISBLANK(INDEX($C:$C,))), \"\", 'PWS Records (System Entry)'!$D$4)","v":""},{"$f":"IF(AND(ISBLANK(INDEX($G:$G,)), ISBLANK(INDEX($C:$C,))), \"\", 'PWS Records (System Entry)'!$D$3)","v":""},null,null,null,null,null,null,null,null,null,null,null,null,null,null,null,null,null,null,""]
[{"$f":"IF(AND(ISBLANK(INDEX($G:$G,)), ISBLANK(INDEX($C:$C,))), \"\", 'PWS Records (System Entry)'!$D$4)","v":""},{"$f":"IF(AND(ISBLANK(INDEX($G:$G,)), ISBLANK(INDEX($C:$C,))), \"\", 'PWS Records (System Entry)'!$D$3)","v":""},null,null,null,null,null,null,null,null,null,null,null,null,null,null,null,null,null,null,""]
[{"$f":"IF(AND(ISBLANK(INDEX($G:$G,)), ISBLANK(INDEX($C:$C,))), \"\", 'PWS Records (System Entry)'!$D$4)","v":""},{"$f":"IF(AND(ISBLANK(INDEX($G:$G,)), ISBLANK(INDEX($C:$C,))), \"\", 'PWS Records (System Entry)'!$D$3)","v":""},null,null,null,null,null,null,null,null,null,null,null,null,null,null,null,null,null,null,""]
[{"$f":"IF(AND(ISBLANK(INDEX($G:$G,)), ISBLANK(INDEX($C:$C,))), \"\", 'PWS Records (System Entry)'!$D$4)","v":""},{"$f":"IF(AND(ISBLANK(INDEX($G:$G,)), ISBLANK(INDEX($C:$C,))), \"\", 'PWS Records (System Entry)'!$D$3)","v":""},null,null,null,null,null,null,null,null,null,null,null,null,null,null,null,null,null,null,""]
[{"$f":"IF(AND(ISBLANK(INDEX($G:$G,)), ISBLANK(INDEX($C:$C,))), \"\", 'PWS Records (System Entry)'!$D$4)","v":""},{"$f":"IF(AND(ISBLANK(INDEX($G:$G,)), ISBLANK(INDEX($C:$C,))), \"\", 'PWS Records (System Entry)'!$D$3)","v":""},null,null,null,null,null,null,null,null,null,null,null,null,null,null,null,null,null,null,""]
[{"$f":"IF(AND(ISBLANK(INDEX($G:$G,)), ISBLANK(INDEX($C:$C,))), \"\", 'PWS Records (System Entry)'!$D$4)","v":""},{"$f":"IF(AND(ISBLANK(INDEX($G:$G,)), ISBLANK(INDEX($C:$C,))), \"\", 'PWS Records (System Entry)'!$D$3)","v":""},null,null,null,null,null,null,null,null,null,null,null,null,null,null,null,null,null,null,""]
[{"$f":"IF(AND(ISBLANK(INDEX($G:$G,)), ISBLANK(INDEX($C:$C,))), \"\", 'PWS Records (System Entry)'!$D$4)","v":""},{"$f":"IF(AND(ISBLANK(INDEX($G:$G,)), ISBLANK(INDEX($C:$C,))), \"\", 'PWS Records (System Entry)'!$D$3)","v":""},null,null,null,null,null,null,null,null,null,null,null,null,null,null,null,null,null,null,""]
[{"$f":"IF(AND(ISBLANK(INDEX($G:$G,)), ISBLANK(INDEX($C:$C,))), \"\", 'PWS Records (System Entry)'!$D$4)","v":""},{"$f":"IF(AND(ISBLANK(INDEX($G:$G,)), ISBLANK(INDEX($C:$C,))), \"\", 'PWS Records (System Entry)'!$D$3)","v":""},null,null,null,null,null,null,null,null,null,null,null,null,null,null,null,null,null,null,""]
[{"$f":"IF(AND(ISBLANK(INDEX($G:$G,)), ISBLANK(INDEX($C:$C,))), \"\", 'PWS Records (System Entry)'!$D$4)","v":""},{"$f":"IF(AND(ISBLANK(INDEX($G:$G,)), ISBLANK(INDEX($C:$C,))), \"\", 'PWS Records (System Entry)'!$D$3)","v":""},null,null,null,null,null,null,null,null,null,null,null,null,null,null,null,null,null,null,""]
[{"$f":"IF(AND(ISBLANK(INDEX($G:$G,)), ISBLANK(INDEX($C:$C,))), \"\", 'PWS Records (System Entry)'!$D$4)","v":""},{"$f":"IF(AND(ISBLANK(INDEX($G:$G,)), ISBLANK(INDEX($C:$C,))), \"\", 'PWS Records (System Entry)'!$D$3)","v":""},null,null,null,null,null,null,null,null,null,null,null,null,null,null,null,null,null,null,""]
[{"$f":"IF(AND(ISBLANK(INDEX($G:$G,)), ISBLANK(INDEX($C:$C,))), \"\", 'PWS Records (System Entry)'!$D$4)","v":""},{"$f":"IF(AND(ISBLANK(INDEX($G:$G,)), ISBLANK(INDEX($C:$C,))), \"\", 'PWS Records (System Entry)'!$D$3)","v":""},null,null,null,null,null,null,null,null,null,null,null,null,null,null,null,null,null,null,""]
[{"$f":"IF(AND(ISBLANK(INDEX($G:$G,)), ISBLANK(INDEX($C:$C,))), \"\", 'PWS Records (System Entry)'!$D$4)","v":""},{"$f":"IF(AND(ISBLANK(INDEX($G:$G,)), ISBLANK(INDEX($C:$C,))), \"\", 'PWS Records (System Entry)'!$D$3)","v":""},null,null,null,null,null,null,null,null,null,null,null,null,null,null,null,null,null,null,""]
[{"$f":"IF(AND(ISBLANK(INDEX($G:$G,)), ISBLANK(INDEX($C:$C,))), \"\", 'PWS Records (System Entry)'!$D$4)","v":""},{"$f":"IF(AND(ISBLANK(INDEX($G:$G,)), ISBLANK(INDEX($C:$C,))), \"\", 'PWS Records (System Entry)'!$D$3)","v":""},null,null,null,null,null,null,null,null,null,null,null,null,null,null,null,null,null,null,""]
[{"$f":"IF(AND(ISBLANK(INDEX($G:$G,)), ISBLANK(INDEX($C:$C,))), \"\", 'PWS Records (System Entry)'!$D$4)","v":""},{"$f":"IF(AND(ISBLANK(INDEX($G:$G,)), ISBLANK(INDEX($C:$C,))), \"\", 'PWS Records (System Entry)'!$D$3)","v":""},null,null,null,null,null,null,null,null,null,null,null,null,null,null,null,null,null,null,""]
[{"$f":"IF(AND(ISBLANK(INDEX($G:$G,)), ISBLANK(INDEX($C:$C,))), \"\", 'PWS Records (System Entry)'!$D$4)","v":""},{"$f":"IF(AND(ISBLANK(INDEX($G:$G,)), ISBLANK(INDEX($C:$C,))), \"\", 'PWS Records (System Entry)'!$D$3)","v":""},null,null,null,null,null,null,null,null,null,null,null,null,null,null,null,null,null,null,""]
[{"$f":"IF(AND(ISBLANK(INDEX($G:$G,)), ISBLANK(INDEX($C:$C,))), \"\", 'PWS Records (System Entry)'!$D$4)","v":""},{"$f":"IF(AND(ISBLANK(INDEX($G:$G,)), ISBLANK(INDEX($C:$C,))), \"\", 'PWS Records (System Entry)'!$D$3)","v":""},null,null,null,null,null,null,null,null,null,null,null,null,null,null,null,null,null,null,""]
[{"$f":"IF(AND(ISBLANK(INDEX($G:$G,)), ISBLANK(INDEX($C:$C,))), \"\", 'PWS Records (System Entry)'!$D$4)","v":""},{"$f":"IF(AND(ISBLANK(INDEX($G:$G,)), ISBLANK(INDEX($C:$C,))), \"\", 'PWS Records (System Entry)'!$D$3)","v":""},null,null,null,null,null,null,null,null,null,null,null,null,null,null,null,null,null,null,""]
[{"$f":"IF(AND(ISBLANK(INDEX($G:$G,)), ISBLANK(INDEX($C:$C,))), \"\", 'PWS Records (System Entry)'!$D$4)","v":""},{"$f":"IF(AND(ISBLANK(INDEX($G:$G,)), ISBLANK(INDEX($C:$C,))), \"\", 'PWS Records (System Entry)'!$D$3)","v":""},null,null,null,null,null,null,null,null,null,null,null,null,null,null,null,null,null,null,""]
[{"$f":"IF(AND(ISBLANK(INDEX($G:$G,)), ISBLANK(INDEX($C:$C,))), \"\", 'PWS Records (System Entry)'!$D$4)","v":""},{"$f":"IF(AND(ISBLANK(INDEX($G:$G,)), ISBLANK(INDEX($C:$C,))), \"\", 'PWS Records (System Entry)'!$D$3)","v":""},null,null,null,null,null,null,null,null,null,null,null,null,null,null,null,null,null,null,""]
[{"$f":"IF(AND(ISBLANK(INDEX($G:$G,)), ISBLANK(INDEX($C:$C,))), \"\", 'PWS Records (System Entry)'!$D$4)","v":""},{"$f":"IF(AND(ISBLANK(INDEX($G:$G,)), ISBLANK(INDEX($C:$C,))), \"\", 'PWS Records (System Entry)'!$D$3)","v":""},null,null,null,null,null,null,null,null,null,null,null,null,null,null,null,null,null,null,""]
[{"$f":"IF(AND(ISBLANK(INDEX($G:$G,)), ISBLANK(INDEX($C:$C,))), \"\", 'PWS Records (System Entry)'!$D$4)","v":""},{"$f":"IF(AND(ISBLANK(INDEX($G:$G,)), ISBLANK(INDEX($C:$C,))), \"\", 'PWS Records (System Entry)'!$D$3)","v":""},null,null,null,null,null,null,null,null,null,null,null,null,null,null,null,null,null,null,""]
[{"$f":"IF(AND(ISBLANK(INDEX($G:$G,)), ISBLANK(INDEX($C:$C,))), \"\", 'PWS Records (System Entry)'!$D$4)","v":""},{"$f":"IF(AND(ISBLANK(INDEX($G:$G,)), ISBLANK(INDEX($C:$C,))), \"\", 'PWS Records (System Entry)'!$D$3)","v":""},null,null,null,null,null,null,null,null,null,null,null,null,null,null,null,null,null,null,""]
[{"$f":"IF(AND(ISBLANK(INDEX($G:$G,)), ISBLANK(INDEX($C:$C,))), \"\", 'PWS Records (System Entry)'!$D$4)","v":""},{"$f":"IF(AND(ISBLANK(INDEX($G:$G,)), ISBLANK(INDEX($C:$C,))), \"\", 'PWS Records (System Entry)'!$D$3)","v":""},null,null,null,null,null,null,null,null,null,null,null,null,null,null,null,null,null,null,""]
[{"$f":"IF(AND(ISBLANK(INDEX($G:$G,)), ISBLANK(INDEX($C:$C,))), \"\", 'PWS Records (System Entry)'!$D$4)","v":""},{"$f":"IF(AND(ISBLANK(INDEX($G:$G,)), ISBLANK(INDEX($C:$C,))), \"\", 'PWS Records (System Entry)'!$D$3)","v":""},null,null,null,null,null,null,null,null,null,null,null,null,null,null,null,null,null,null,""]
[{"$f":"IF(AND(ISBLANK(INDEX($G:$G,)), ISBLANK(INDEX($C:$C,))), \"\", 'PWS Records (System Entry)'!$D$4)","v":""},{"$f":"IF(AND(ISBLANK(INDEX($G:$G,)), ISBLANK(INDEX($C:$C,))), \"\", 'PWS Records (System Entry)'!$D$3)","v":""},null,null,null,null,null,null,null,null,null,null,null,null,null,null,null,null,null,null,""]
[{"$f":"IF(AND(ISBLANK(INDEX($G:$G,)), ISBLANK(INDEX($C:$C,))), \"\", 'PWS Records (System Entry)'!$D$4)","v":""},{"$f":"IF(AND(ISBLANK(INDEX($G:$G,)), ISBLANK(INDEX($C:$C,))), \"\", 'PWS Records (System Entry)'!$D$3)","v":""},null,null,null,null,null,null,null,null,null,null,null,null,null,null,null,null,null,null,""]
[{"$f":"IF(AND(ISBLANK(INDEX($G:$G,)), ISBLANK(INDEX($C:$C,))), \"\", 'PWS Records (System Entry)'!$D$4)","v":""},{"$f":"IF(AND(ISBLANK(INDEX($G:$G,)), ISBLANK(INDEX($C:$C,))), \"\", 'PWS Records (System Entry)'!$D$3)","v":""},null,null,null,null,null,null,null,null,null,null,null,null,null,null,null,null,null,null,""]
[{"$f":"IF(AND(ISBLANK(INDEX($G:$G,)), ISBLANK(INDEX($C:$C,))), \"\", 'PWS Records (System Entry)'!$D$4)","v":""},{"$f":"IF(AND(ISBLANK(INDEX($G:$G,)), ISBLANK(INDEX($C:$C,))), \"\", 'PWS Records (System Entry)'!$D$3)","v":""},null,null,null,null,null,null,null,null,null,null,null,null,null,null,null,null,null,null,""]
[{"$f":"IF(AND(ISBLANK(INDEX($G:$G,)), ISBLANK(INDEX($C:$C,))), \"\", 'PWS Records (System Entry)'!$D$4)","v":""},{"$f":"IF(AND(ISBLANK(INDEX($G:$G,)), ISBLANK(INDEX($C:$C,))), \"\", 'PWS Records (System Entry)'!$D$3)","v":""},null,null,null,null,null,null,null,null,null,null,null,null,null,null,null,null,null,null,""]
[{"$f":"IF(AND(ISBLANK(INDEX($G:$G,)), ISBLANK(INDEX($C:$C,))), \"\", 'PWS Records (System Entry)'!$D$4)","v":""},{"$f":"IF(AND(ISBLANK(INDEX($G:$G,)), ISBLANK(INDEX($C:$C,))), \"\", 'PWS Records (System Entry)'!$D$3)","v":""},null,null,null,null,null,null,null,null,null,null,null,null,null,null,null,null,null,null,""]
[{"$f":"IF(AND(ISBLANK(INDEX($G:$G,)), ISBLANK(INDEX($C:$C,))), \"\", 'PWS Records (System Entry)'!$D$4)","v":""},{"$f":"IF(AND(ISBLANK(INDEX($G:$G,)), ISBLANK(INDEX($C:$C,))), \"\", 'PWS Records (System Entry)'!$D$3)","v":""},null,null,null,null,null,null,null,null,null,null,null,null,null,null,null,null,null,null,""]
[{"$f":"IF(AND(ISBLANK(INDEX($G:$G,)), ISBLANK(INDEX($C:$C,))), \"\", 'PWS Records (System Entry)'!$D$4)","v":""},{"$f":"IF(AND(ISBLANK(INDEX($G:$G,)), ISBLANK(INDEX($C:$C,))), \"\", 'PWS Records (System Entry)'!$D$3)","v":""},null,null,null,null,null,null,null,null,null,null,null,null,null,null,null,null,null,null,""]
[{"$f":"IF(AND(ISBLANK(INDEX($G:$G,)), ISBLANK(INDEX($C:$C,))), \"\", 'PWS Records (System Entry)'!$D$4)","v":""},{"$f":"IF(AND(ISBLANK(INDEX($G:$G,)), ISBLANK(INDEX($C:$C,))), \"\", 'PWS Records (System Entry)'!$D$3)","v":""},null,null,null,null,null,null,null,null,null,null,null,null,null,null,null,null,null,null,""]
[{"$f":"IF(AND(ISBLANK(INDEX($G:$G,)), ISBLANK(INDEX($C:$C,))), \"\", 'PWS Records (System Entry)'!$D$4)","v":""},{"$f":"IF(AND(ISBLANK(INDEX($G:$G,)), ISBLANK(INDEX($C:$C,))), \"\", 'PWS Records (System Entry)'!$D$3)","v":""},null,null,null,null,null,null,null,null,null,null,null,null,null,null,null,null,null,null,{"$f":"IF(AND(INDEX($K:$K,)=\"\", INDEX($L:$L,)=\"\", INDEX($M:$M,)=\"\", INDEX($Q:$Q,)=\"\", INDEX($R:$R,)=\"\"), \"\", IF(OR(INDEX($K:$K,)=\"Lead\",INDEX($Q:$Q,)=\"Lead\"),\"Lead\",IF(OR(AND(OR(INDEX($M:$M,)=\"Yes\", INDEX($M:$M,)=\"Don't Know\", INDEX($M:$M,)=\"\"), INDEX($Q:$Q,)=\"Galvanized Iron/Steel\"), AND(INDEX($K:$K,)=\"Unknown\", INDEX($M:$M,)=\"No\", INDEX($Q:$Q,)=\"Galvanized Iron/Steel\")), \"Galvanized Requiring Replacement\", IF(OR(AND(OR(INDEX($K:$K,)=\"Galvanized Iron/Steel\", INDEX($K:$K,)=\"Non-Lead - Copper\", INDEX($K:$K,)=\"Non-Lead - Plastic\", INDEX($K:$K,)=\"Non-Lead - Other\", INDEX($K:$K,)=\"Non-Lead - Material Unknown\", INDEX($K:$K,)=\"No System Owned Portion\"), OR(INDEX($Q:$Q,)=\"Galvanized Iron/Steel\", INDEX($Q:$Q,)=\"Non-Lead - Copper\", INDEX($Q:$Q,)=\"Non-Lead - Plastic\", INDEX($Q:$Q,)=\"Non-Lead - Other\", INDEX($Q:$Q,)=\"Non-Lead - Predictive Model\", INDEX($Q:$Q,)=\"No Customer Owned Portion\")), AND(OR( INDEX($K:$K,)=\"Galvanized Iron/Steel\", INDEX($K:$K,)=\"Non-Lead - Copper\", INDEX($K:$K,)=\"Non-Lead - Plastic\", INDEX($K:$K,)=\"Non-Lead - Other\", INDEX($K:$K,)=\"Non-Lead - Material Unknown\", INDEX($K:$K,)=\"No System Owned Portion\"), INDEX($M:$M,)=\"No\", INDEX($Q:$Q,)=\"Non-Lead - Material Unknown\")), \"Non-Lead\", \"Lead Status Unknown\"))))","v":""}]
[{"$f":"IF(AND(ISBLANK(INDEX($G:$G,)), ISBLANK(INDEX($C:$C,))), \"\", 'PWS Records (System Entry)'!$D$4)","v":""},{"$f":"IF(AND(ISBLANK(INDEX($G:$G,)), ISBLANK(INDEX($C:$C,))), \"\", 'PWS Records (System Entry)'!$D$3)","v":""},null,null,null,null,null,null,null,null,null,null,null,null,null,null,null,null,null,null,""]
[{"$f":"IF(AND(ISBLANK(INDEX($G:$G,)), ISBLANK(INDEX($C:$C,))), \"\", 'PWS Records (System Entry)'!$D$4)","v":""},{"$f":"IF(AND(ISBLANK(INDEX($G:$G,)), ISBLANK(INDEX($C:$C,))), \"\", 'PWS Records (System Entry)'!$D$3)","v":""},null,null,null,null,null,null,null,null,null,null,null,null,null,null,null,null,null,null,""]
[{"$f":"IF(AND(ISBLANK(INDEX($G:$G,)), ISBLANK(INDEX($C:$C,))), \"\", 'PWS Records (System Entry)'!$D$4)","v":""},{"$f":"IF(AND(ISBLANK(INDEX($G:$G,)), ISBLANK(INDEX($C:$C,))), \"\", 'PWS Records (System Entry)'!$D$3)","v":""},null,null,null,null,null,null,null,null,null,null,null,null,null,null,null,null,null,null,""]
[{"$f":"IF(AND(ISBLANK(INDEX($G:$G,)), ISBLANK(INDEX($C:$C,))), \"\", 'PWS Records (System Entry)'!$D$4)","v":""},{"$f":"IF(AND(ISBLANK(INDEX($G:$G,)), ISBLANK(INDEX($C:$C,))), \"\", 'PWS Records (System Entry)'!$D$3)","v":""},null,null,null,null,null,null,null,null,null,null,null,null,null,null,null,null,null,null,""]
[{"$f":"IF(AND(ISBLANK(INDEX($G:$G,)), ISBLANK(INDEX($C:$C,))), \"\", 'PWS Records (System Entry)'!$D$4)","v":""},{"$f":"IF(AND(ISBLANK(INDEX($G:$G,)), ISBLANK(INDEX($C:$C,))), \"\", 'PWS Records (System Entry)'!$D$3)","v":""},null,null,null,null,null,null,null,null,null,null,null,null,null,null,null,null,null,null,""]
[{"$f":"IF(AND(ISBLANK(INDEX($G:$G,)), ISBLANK(INDEX($C:$C,))), \"\", 'PWS Records (System Entry)'!$D$4)","v":""},{"$f":"IF(AND(ISBLANK(INDEX($G:$G,)), ISBLANK(INDEX($C:$C,))), \"\", 'PWS Records (System Entry)'!$D$3)","v":""},null,null,null,null,null,null,null,null,null,null,null,null,null,null,null,null,null,null,""]
[{"$f":"IF(AND(ISBLANK(INDEX($G:$G,)), ISBLANK(INDEX($C:$C,))), \"\", 'PWS Records (System Entry)'!$D$4)","v":""},{"$f":"IF(AND(ISBLANK(INDEX($G:$G,)), ISBLANK(INDEX($C:$C,))), \"\", 'PWS Records (System Entry)'!$D$3)","v":""},null,null,null,null,null,null,null,null,null,null,null,null,null,null,null,null,null,null,""]
[{"$f":"IF(AND(ISBLANK(INDEX($G:$G,)), ISBLANK(INDEX($C:$C,))), \"\", 'PWS Records (System Entry)'!$D$4)","v":""},{"$f":"IF(AND(ISBLANK(INDEX($G:$G,)), ISBLANK(INDEX($C:$C,))), \"\", 'PWS Records (System Entry)'!$D$3)","v":""},null,null,null,null,null,null,null,null,null,null,null,null,null,null,null,null,null,null,""]
[{"$f":"IF(AND(ISBLANK(INDEX($G:$G,)), ISBLANK(INDEX($C:$C,))), \"\", 'PWS Records (System Entry)'!$D$4)","v":""},{"$f":"IF(AND(ISBLANK(INDEX($G:$G,)), ISBLANK(INDEX($C:$C,))), \"\", 'PWS Records (System Entry)'!$D$3)","v":""},null,null,null,null,null,null,null,null,null,null,null,null,null,null,null,null,null,null,""]
[{"$f":"IF(AND(ISBLANK(INDEX($G:$G,)), ISBLANK(INDEX($C:$C,))), \"\", 'PWS Records (System Entry)'!$D$4)","v":""},{"$f":"IF(AND(ISBLANK(INDEX($G:$G,)), ISBLANK(INDEX($C:$C,))), \"\", 'PWS Records (System Entry)'!$D$3)","v":""},null,null,null,null,null,null,null,null,null,null,null,null,null,null,null,null,null,null,""]
[{"$f":"IF(AND(ISBLANK(INDEX($G:$G,)), ISBLANK(INDEX($C:$C,))), \"\", 'PWS Records (System Entry)'!$D$4)","v":""},{"$f":"IF(AND(ISBLANK(INDEX($G:$G,)), ISBLANK(INDEX($C:$C,))), \"\", 'PWS Records (System Entry)'!$D$3)","v":""},null,null,null,null,null,null,null,null,null,null,null,null,null,null,null,null,null,null,""]
[{"$f":"IF(AND(ISBLANK(INDEX($G:$G,)), ISBLANK(INDEX($C:$C,))), \"\", 'PWS Records (System Entry)'!$D$4)","v":""},{"$f":"IF(AND(ISBLANK(INDEX($G:$G,)), ISBLANK(INDEX($C:$C,))), \"\", 'PWS Records (System Entry)'!$D$3)","v":""},null,null,null,null,null,null,null,null,null,null,null,null,null,null,null,null,null,null,""]
[{"$f":"IF(AND(ISBLANK(INDEX($G:$G,)), ISBLANK(INDEX($C:$C,))), \"\", 'PWS Records (System Entry)'!$D$4)","v":""},{"$f":"IF(AND(ISBLANK(INDEX($G:$G,)), ISBLANK(INDEX($C:$C,))), \"\", 'PWS Records (System Entry)'!$D$3)","v":""},null,null,null,null,null,null,null,null,null,null,null,null,null,null,null,null,null,null,""]
[{"$f":"IF(AND(ISBLANK(INDEX($G:$G,)), ISBLANK(INDEX($C:$C,))), \"\", 'PWS Records (System Entry)'!$D$4)","v":""},{"$f":"IF(AND(ISBLANK(INDEX($G:$G,)), ISBLANK(INDEX($C:$C,))), \"\", 'PWS Records (System Entry)'!$D$3)","v":""},null,null,null,null,null,null,null,null,null,null,null,null,null,null,null,null,null,null,""]
[{"$f":"IF(AND(ISBLANK(INDEX($G:$G,)), ISBLANK(INDEX($C:$C,))), \"\", 'PWS Records (System Entry)'!$D$4)","v":""},{"$f":"IF(AND(ISBLANK(INDEX($G:$G,)), ISBLANK(INDEX($C:$C,))), \"\", 'PWS Records (System Entry)'!$D$3)","v":""},null,null,null,null,null,null,null,null,null,null,null,null,null,null,null,null,null,null,""]
[{"$f":"IF(AND(ISBLANK(INDEX($G:$G,)), ISBLANK(INDEX($C:$C,))), \"\", 'PWS Records (System Entry)'!$D$4)","v":""},{"$f":"IF(AND(ISBLANK(INDEX($G:$G,)), ISBLANK(INDEX($C:$C,))), \"\", 'PWS Records (System Entry)'!$D$3)","v":""},null,null,null,null,null,null,null,null,null,null,null,null,null,null,null,null,null,null,""]
[{"$f":"IF(AND(ISBLANK(INDEX($G:$G,)), ISBLANK(INDEX($C:$C,))), \"\", 'PWS Records (System Entry)'!$D$4)","v":""},{"$f":"IF(AND(ISBLANK(INDEX($G:$G,)), ISBLANK(INDEX($C:$C,))), \"\", 'PWS Records (System Entry)'!$D$3)","v":""},null,null,null,null,null,null,null,null,null,null,null,null,null,null,null,null,null,null,""]
[{"$f":"IF(AND(ISBLANK(INDEX($G:$G,)), ISBLANK(INDEX($C:$C,))), \"\", 'PWS Records (System Entry)'!$D$4)","v":""},{"$f":"IF(AND(ISBLANK(INDEX($G:$G,)), ISBLANK(INDEX($C:$C,))), \"\", 'PWS Records (System Entry)'!$D$3)","v":""},null,null,null,null,null,null,null,null,null,null,null,null,null,null,null,null,null,null,""]
[{"$f":"IF(AND(ISBLANK(INDEX($G:$G,)), ISBLANK(INDEX($C:$C,))), \"\", 'PWS Records (System Entry)'!$D$4)","v":""},{"$f":"IF(AND(ISBLANK(INDEX($G:$G,)), ISBLANK(INDEX($C:$C,))), \"\", 'PWS Records (System Entry)'!$D$3)","v":""},null,null,null,null,null,null,null,null,null,null,null,null,null,null,null,null,null,null,""]
[{"$f":"IF(AND(ISBLANK(INDEX($G:$G,)), ISBLANK(INDEX($C:$C,))), \"\", 'PWS Records (System Entry)'!$D$4)","v":""},{"$f":"IF(AND(ISBLANK(INDEX($G:$G,)), ISBLANK(INDEX($C:$C,))), \"\", 'PWS Records (System Entry)'!$D$3)","v":""},null,null,null,null,null,null,null,null,null,null,null,null,null,null,null,null,null,null,""]
[{"$f":"IF(AND(ISBLANK(INDEX($G:$G,)), ISBLANK(INDEX($C:$C,))), \"\", 'PWS Records (System Entry)'!$D$4)","v":""},{"$f":"IF(AND(ISBLANK(INDEX($G:$G,)), ISBLANK(INDEX($C:$C,))), \"\", 'PWS Records (System Entry)'!$D$3)","v":""},null,null,null,null,null,null,null,null,null,null,null,null,null,null,null,null,null,null,""]
[{"$f":"IF(AND(ISBLANK(INDEX($G:$G,)), ISBLANK(INDEX($C:$C,))), \"\", 'PWS Records (System Entry)'!$D$4)","v":""},{"$f":"IF(AND(ISBLANK(INDEX($G:$G,)), ISBLANK(INDEX($C:$C,))), \"\", 'PWS Records (System Entry)'!$D$3)","v":""},null,null,null,null,null,null,null,null,null,null,null,null,null,null,null,null,null,null,""]
[{"$f":"IF(AND(ISBLANK(INDEX($G:$G,)), ISBLANK(INDEX($C:$C,))), \"\", 'PWS Records (System Entry)'!$D$4)","v":""},{"$f":"IF(AND(ISBLANK(INDEX($G:$G,)), ISBLANK(INDEX($C:$C,))), \"\", 'PWS Records (System Entry)'!$D$3)","v":""},null,null,null,null,null,null,null,null,null,null,null,null,null,null,null,null,null,null,""]
[{"$f":"IF(AND(ISBLANK(INDEX($G:$G,)), ISBLANK(INDEX($C:$C,))), \"\", 'PWS Records (System Entry)'!$D$4)","v":""},{"$f":"IF(AND(ISBLANK(INDEX($G:$G,)), ISBLANK(INDEX($C:$C,))), \"\", 'PWS Records (System Entry)'!$D$3)","v":""},null,null,null,null,null,null,null,null,null,null,null,null,null,null,null,null,null,null,""]
[{"$f":"IF(AND(ISBLANK(INDEX($G:$G,)), ISBLANK(INDEX($C:$C,))), \"\", 'PWS Records (System Entry)'!$D$4)","v":""},{"$f":"IF(AND(ISBLANK(INDEX($G:$G,)), ISBLANK(INDEX($C:$C,))), \"\", 'PWS Records (System Entry)'!$D$3)","v":""},null,null,null,null,null,null,null,null,null,null,null,null,null,null,null,null,null,null,""]
[{"$f":"IF(AND(ISBLANK(INDEX($G:$G,)), ISBLANK(INDEX($C:$C,))), \"\", 'PWS Records (System Entry)'!$D$4)","v":""},{"$f":"IF(AND(ISBLANK(INDEX($G:$G,)), ISBLANK(INDEX($C:$C,))), \"\", 'PWS Records (System Entry)'!$D$3)","v":""},null,null,null,null,null,null,null,null,null,null,null,null,null,null,null,null,null,null,""]
[{"$f":"IF(AND(ISBLANK(INDEX($G:$G,)), ISBLANK(INDEX($C:$C,))), \"\", 'PWS Records (System Entry)'!$D$4)","v":""},{"$f":"IF(AND(ISBLANK(INDEX($G:$G,)), ISBLANK(INDEX($C:$C,))), \"\", 'PWS Records (System Entry)'!$D$3)","v":""},null,null,null,null,null,null,null,null,null,null,null,null,null,null,null,null,null,null,""]
[{"$f":"IF(AND(ISBLANK(INDEX($G:$G,)), ISBLANK(INDEX($C:$C,))), \"\", 'PWS Records (System Entry)'!$D$4)","v":""},{"$f":"IF(AND(ISBLANK(INDEX($G:$G,)), ISBLANK(INDEX($C:$C,))), \"\", 'PWS Records (System Entry)'!$D$3)","v":""},null,null,null,null,null,null,null,null,null,null,null,null,null,null,null,null,null,null,""]
[{"$f":"IF(AND(ISBLANK(INDEX($G:$G,)), ISBLANK(INDEX($C:$C,))), \"\", 'PWS Records (System Entry)'!$D$4)","v":""},{"$f":"IF(AND(ISBLANK(INDEX($G:$G,)), ISBLANK(INDEX($C:$C,))), \"\", 'PWS Records (System Entry)'!$D$3)","v":""},null,null,null,null,null,null,null,null,null,null,null,null,null,null,null,null,null,null,""]
[{"$f":"IF(AND(ISBLANK(INDEX($G:$G,)), ISBLANK(INDEX($C:$C,))), \"\", 'PWS Records (System Entry)'!$D$4)","v":""},{"$f":"IF(AND(ISBLANK(INDEX($G:$G,)), ISBLANK(INDEX($C:$C,))), \"\", 'PWS Records (System Entry)'!$D$3)","v":""},null,null,null,null,null,null,null,null,null,null,null,null,null,null,null,null,null,null,""]
[{"$f":"IF(AND(ISBLANK(INDEX($G:$G,)), ISBLANK(INDEX($C:$C,))), \"\", 'PWS Records (System Entry)'!$D$4)","v":""},{"$f":"IF(AND(ISBLANK(INDEX($G:$G,)), ISBLANK(INDEX($C:$C,))), \"\", 'PWS Records (System Entry)'!$D$3)","v":""},null,null,null,null,null,null,null,null,null,null,null,null,null,null,null,null,null,null,""]
[{"$f":"IF(AND(ISBLANK(INDEX($G:$G,)), ISBLANK(INDEX($C:$C,))), \"\", 'PWS Records (System Entry)'!$D$4)","v":""},{"$f":"IF(AND(ISBLANK(INDEX($G:$G,)), ISBLANK(INDEX($C:$C,))), \"\", 'PWS Records (System Entry)'!$D$3)","v":""},null,null,null,null,null,null,null,null,null,null,null,null,null,null,null,null,null,null,""]
[{"$f":"IF(AND(ISBLANK(INDEX($G:$G,)), ISBLANK(INDEX($C:$C,))), \"\", 'PWS Records (System Entry)'!$D$4)","v":""},{"$f":"IF(AND(ISBLANK(INDEX($G:$G,)), ISBLANK(INDEX($C:$C,))), \"\", 'PWS Records (System Entry)'!$D$3)","v":""},null,null,null,null,null,null,null,null,null,null,null,null,null,null,null,null,null,null,""]
[{"$f":"IF(AND(ISBLANK(INDEX($G:$G,)), ISBLANK(INDEX($C:$C,))), \"\", 'PWS Records (System Entry)'!$D$4)","v":""},{"$f":"IF(AND(ISBLANK(INDEX($G:$G,)), ISBLANK(INDEX($C:$C,))), \"\", 'PWS Records (System Entry)'!$D$3)","v":""},null,null,null,null,null,null,null,null,null,null,null,null,null,null,null,null,null,null,""]
[{"$f":"IF(AND(ISBLANK(INDEX($G:$G,)), ISBLANK(INDEX($C:$C,))), \"\", 'PWS Records (System Entry)'!$D$4)","v":""},{"$f":"IF(AND(ISBLANK(INDEX($G:$G,)), ISBLANK(INDEX($C:$C,))), \"\", 'PWS Records (System Entry)'!$D$3)","v":""},null,null,null,null,null,null,null,null,null,null,null,null,null,null,null,null,null,null,""]
[{"$f":"IF(AND(ISBLANK(INDEX($G:$G,)), ISBLANK(INDEX($C:$C,))), \"\", 'PWS Records (System Entry)'!$D$4)","v":""},{"$f":"IF(AND(ISBLANK(INDEX($G:$G,)), ISBLANK(INDEX($C:$C,))), \"\", 'PWS Records (System Entry)'!$D$3)","v":""},null,null,null,null,null,null,null,null,null,null,null,null,null,null,null,null,null,null,""]
[{"$f":"IF(AND(ISBLANK(INDEX($G:$G,)), ISBLANK(INDEX($C:$C,))), \"\", 'PWS Records (System Entry)'!$D$4)","v":""},{"$f":"IF(AND(ISBLANK(INDEX($G:$G,)), ISBLANK(INDEX($C:$C,))), \"\", 'PWS Records (System Entry)'!$D$3)","v":""},null,null,null,null,null,null,null,null,null,null,null,null,null,null,null,null,null,null,""]
[{"$f":"IF(AND(ISBLANK(INDEX($G:$G,)), ISBLANK(INDEX($C:$C,))), \"\", 'PWS Records (System Entry)'!$D$4)","v":""},{"$f":"IF(AND(ISBLANK(INDEX($G:$G,)), ISBLANK(INDEX($C:$C,))), \"\", 'PWS Records (System Entry)'!$D$3)","v":""},null,null,null,null,null,null,null,null,null,null,null,null,null,null,null,null,null,null,""]
[{"$f":"IF(AND(ISBLANK(INDEX($G:$G,)), ISBLANK(INDEX($C:$C,))), \"\", 'PWS Records (System Entry)'!$D$4)","v":""},{"$f":"IF(AND(ISBLANK(INDEX($G:$G,)), ISBLANK(INDEX($C:$C,))), \"\", 'PWS Records (System Entry)'!$D$3)","v":""},null,null,null,null,null,null,null,null,null,null,null,null,null,null,null,null,null,null,""]
[{"$f":"IF(AND(ISBLANK(INDEX($G:$G,)), ISBLANK(INDEX($C:$C,))), \"\", 'PWS Records (System Entry)'!$D$4)","v":""},{"$f":"IF(AND(ISBLANK(INDEX($G:$G,)), ISBLANK(INDEX($C:$C,))), \"\", 'PWS Records (System Entry)'!$D$3)","v":""},null,null,null,null,null,null,null,null,null,null,null,null,null,null,null,null,null,null,""]
[{"$f":"IF(AND(ISBLANK(INDEX($G:$G,)), ISBLANK(INDEX($C:$C,))), \"\", 'PWS Records (System Entry)'!$D$4)","v":""},{"$f":"IF(AND(ISBLANK(INDEX($G:$G,)), ISBLANK(INDEX($C:$C,))), \"\", 'PWS Records (System Entry)'!$D$3)","v":""},null,null,null,null,null,null,null,null,null,null,null,null,null,null,null,null,null,null,""]
[{"$f":"IF(AND(ISBLANK(INDEX($G:$G,)), ISBLANK(INDEX($C:$C,))), \"\", 'PWS Records (System Entry)'!$D$4)","v":""},{"$f":"IF(AND(ISBLANK(INDEX($G:$G,)), ISBLANK(INDEX($C:$C,))), \"\", 'PWS Records (System Entry)'!$D$3)","v":""},null,null,null,null,null,null,null,null,null,null,null,null,null,null,null,null,null,null,""]
[{"$f":"IF(AND(ISBLANK(INDEX($G:$G,)), ISBLANK(INDEX($C:$C,))), \"\", 'PWS Records (System Entry)'!$D$4)","v":""},{"$f":"IF(AND(ISBLANK(INDEX($G:$G,)), ISBLANK(INDEX($C:$C,))), \"\", 'PWS Records (System Entry)'!$D$3)","v":""},null,null,null,null,null,null,null,null,null,null,null,null,null,null,null,null,null,null,""]
[{"$f":"IF(AND(ISBLANK(INDEX($G:$G,)), ISBLANK(INDEX($C:$C,))), \"\", 'PWS Records (System Entry)'!$D$4)","v":""},{"$f":"IF(AND(ISBLANK(INDEX($G:$G,)), ISBLANK(INDEX($C:$C,))), \"\", 'PWS Records (System Entry)'!$D$3)","v":""},null,null,null,null,null,null,null,null,null,null,null,null,null,null,null,null,null,null,""]
[{"$f":"IF(AND(ISBLANK(INDEX($G:$G,)), ISBLANK(INDEX($C:$C,))), \"\", 'PWS Records (System Entry)'!$D$4)","v":""},{"$f":"IF(AND(ISBLANK(INDEX($G:$G,)), ISBLANK(INDEX($C:$C,))), \"\", 'PWS Records (System Entry)'!$D$3)","v":""},null,null,null,null,null,null,null,null,null,null,null,null,null,null,null,null,null,null,""]
[{"$f":"IF(AND(ISBLANK(INDEX($G:$G,)), ISBLANK(INDEX($C:$C,))), \"\", 'PWS Records (System Entry)'!$D$4)","v":""},{"$f":"IF(AND(ISBLANK(INDEX($G:$G,)), ISBLANK(INDEX($C:$C,))), \"\", 'PWS Records (System Entry)'!$D$3)","v":""},null,null,null,null,null,null,null,null,null,null,null,null,null,null,null,null,null,null,""]
[{"$f":"IF(AND(ISBLANK(INDEX($G:$G,)), ISBLANK(INDEX($C:$C,))), \"\", 'PWS Records (System Entry)'!$D$4)","v":""},{"$f":"IF(AND(ISBLANK(INDEX($G:$G,)), ISBLANK(INDEX($C:$C,))), \"\", 'PWS Records (System Entry)'!$D$3)","v":""},null,null,null,null,null,null,null,null,null,null,null,null,null,null,null,null,null,null,""]
[{"$f":"IF(AND(ISBLANK(INDEX($G:$G,)), ISBLANK(INDEX($C:$C,))), \"\", 'PWS Records (System Entry)'!$D$4)","v":""},{"$f":"IF(AND(ISBLANK(INDEX($G:$G,)), ISBLANK(INDEX($C:$C,))), \"\", 'PWS Records (System Entry)'!$D$3)","v":""},null,null,null,null,null,null,null,null,null,null,null,null,null,null,null,null,null,null,""]
[{"$f":"IF(AND(ISBLANK(INDEX($G:$G,)), ISBLANK(INDEX($C:$C,))), \"\", 'PWS Records (System Entry)'!$D$4)","v":""},{"$f":"IF(AND(ISBLANK(INDEX($G:$G,)), ISBLANK(INDEX($C:$C,))), \"\", 'PWS Records (System Entry)'!$D$3)","v":""},null,null,null,null,null,null,null,null,null,null,null,null,null,null,null,null,null,null,""]
[{"$f":"IF(AND(ISBLANK(INDEX($G:$G,)), ISBLANK(INDEX($C:$C,))), \"\", 'PWS Records (System Entry)'!$D$4)","v":""},{"$f":"IF(AND(ISBLANK(INDEX($G:$G,)), ISBLANK(INDEX($C:$C,))), \"\", 'PWS Records (System Entry)'!$D$3)","v":""},null,null,null,null,null,null,null,null,null,null,null,null,null,null,null,null,null,null,""]
[{"$f":"IF(AND(ISBLANK(INDEX($G:$G,)), ISBLANK(INDEX($C:$C,))), \"\", 'PWS Records (System Entry)'!$D$4)","v":""},{"$f":"IF(AND(ISBLANK(INDEX($G:$G,)), ISBLANK(INDEX($C:$C,))), \"\", 'PWS Records (System Entry)'!$D$3)","v":""},null,null,null,null,null,null,null,null,null,null,null,null,null,null,null,null,null,null,""]
[{"$f":"IF(AND(ISBLANK(INDEX($G:$G,)), ISBLANK(INDEX($C:$C,))), \"\", 'PWS Records (System Entry)'!$D$4)","v":""},{"$f":"IF(AND(ISBLANK(INDEX($G:$G,)), ISBLANK(INDEX($C:$C,))), \"\", 'PWS Records (System Entry)'!$D$3)","v":""},null,null,null,null,null,null,null,null,null,null,null,null,null,null,null,null,null,null,""]
[{"$f":"IF(AND(ISBLANK(INDEX($G:$G,)), ISBLANK(INDEX($C:$C,))), \"\", 'PWS Records (System Entry)'!$D$4)","v":""},{"$f":"IF(AND(ISBLANK(INDEX($G:$G,)), ISBLANK(INDEX($C:$C,))), \"\", 'PWS Records (System Entry)'!$D$3)","v":""},null,null,null,null,null,null,null,null,null,null,null,null,null,null,null,null,null,null,""]
[{"$f":"IF(AND(ISBLANK(INDEX($G:$G,)), ISBLANK(INDEX($C:$C,))), \"\", 'PWS Records (System Entry)'!$D$4)","v":""},{"$f":"IF(AND(ISBLANK(INDEX($G:$G,)), ISBLANK(INDEX($C:$C,))), \"\", 'PWS Records (System Entry)'!$D$3)","v":""},null,null,null,null,null,null,null,null,null,null,null,null,null,null,null,null,null,null,""]
[{"$f":"IF(AND(ISBLANK(INDEX($G:$G,)), ISBLANK(INDEX($C:$C,))), \"\", 'PWS Records (System Entry)'!$D$4)","v":""},{"$f":"IF(AND(ISBLANK(INDEX($G:$G,)), ISBLANK(INDEX($C:$C,))), \"\", 'PWS Records (System Entry)'!$D$3)","v":""},null,null,null,null,null,null,null,null,null,null,null,null,null,null,null,null,null,null,""]
[{"$f":"IF(AND(ISBLANK(INDEX($G:$G,)), ISBLANK(INDEX($C:$C,))), \"\", 'PWS Records (System Entry)'!$D$4)","v":""},{"$f":"IF(AND(ISBLANK(INDEX($G:$G,)), ISBLANK(INDEX($C:$C,))), \"\", 'PWS Records (System Entry)'!$D$3)","v":""},null,null,null,null,null,null,null,null,null,null,null,null,null,null,null,null,null,null,""]
[{"$f":"IF(AND(ISBLANK(INDEX($G:$G,)), ISBLANK(INDEX($C:$C,))), \"\", 'PWS Records (System Entry)'!$D$4)","v":""},{"$f":"IF(AND(ISBLANK(INDEX($G:$G,)), ISBLANK(INDEX($C:$C,))), \"\", 'PWS Records (System Entry)'!$D$3)","v":""},null,null,null,null,null,null,null,null,null,null,null,null,null,null,null,null,null,null,""]
[{"$f":"IF(AND(ISBLANK(INDEX($G:$G,)), ISBLANK(INDEX($C:$C,))), \"\", 'PWS Records (System Entry)'!$D$4)","v":""},{"$f":"IF(AND(ISBLANK(INDEX($G:$G,)), ISBLANK(INDEX($C:$C,))), \"\", 'PWS Records (System Entry)'!$D$3)","v":""},null,null,null,null,null,null,null,null,null,null,null,null,null,null,null,null,null,null,""]
[{"$f":"IF(AND(ISBLANK(INDEX($G:$G,)), ISBLANK(INDEX($C:$C,))), \"\", 'PWS Records (System Entry)'!$D$4)","v":""},{"$f":"IF(AND(ISBLANK(INDEX($G:$G,)), ISBLANK(INDEX($C:$C,))), \"\", 'PWS Records (System Entry)'!$D$3)","v":""},null,null,null,null,null,null,null,null,null,null,null,null,null,null,null,null,null,null,""]
[{"$f":"IF(AND(ISBLANK(INDEX($G:$G,)), ISBLANK(INDEX($C:$C,))), \"\", 'PWS Records (System Entry)'!$D$4)","v":""},{"$f":"IF(AND(ISBLANK(INDEX($G:$G,)), ISBLANK(INDEX($C:$C,))), \"\", 'PWS Records (System Entry)'!$D$3)","v":""},null,null,null,null,null,null,null,null,null,null,null,null,null,null,null,null,null,null,""]
[{"$f":"IF(AND(ISBLANK(INDEX($G:$G,)), ISBLANK(INDEX($C:$C,))), \"\", 'PWS Records (System Entry)'!$D$4)","v":""},{"$f":"IF(AND(ISBLANK(INDEX($G:$G,)), ISBLANK(INDEX($C:$C,))), \"\", 'PWS Records (System Entry)'!$D$3)","v":""},null,null,null,null,null,null,null,null,null,null,null,null,null,null,null,null,null,null,""]
[{"$f":"IF(AND(ISBLANK(INDEX($G:$G,)), ISBLANK(INDEX($C:$C,))), \"\", 'PWS Records (System Entry)'!$D$4)","v":""},{"$f":"IF(AND(ISBLANK(INDEX($G:$G,)), ISBLANK(INDEX($C:$C,))), \"\", 'PWS Records (System Entry)'!$D$3)","v":""},null,null,null,null,null,null,null,null,null,null,null,null,null,null,null,null,null,null,""]
[{"$f":"IF(AND(ISBLANK(INDEX($G:$G,)), ISBLANK(INDEX($C:$C,))), \"\", 'PWS Records (System Entry)'!$D$4)","v":""},{"$f":"IF(AND(ISBLANK(INDEX($G:$G,)), ISBLANK(INDEX($C:$C,))), \"\", 'PWS Records (System Entry)'!$D$3)","v":""},null,null,null,null,null,null,null,null,null,null,null,null,null,null,null,null,null,null,""]
[{"$f":"IF(AND(ISBLANK(INDEX($G:$G,)), ISBLANK(INDEX($C:$C,))), \"\", 'PWS Records (System Entry)'!$D$4)","v":""},{"$f":"IF(AND(ISBLANK(INDEX($G:$G,)), ISBLANK(INDEX($C:$C,))), \"\", 'PWS Records (System Entry)'!$D$3)","v":""},null,null,null,null,null,null,null,null,null,null,null,null,null,null,null,null,null,null,""]
[{"$f":"IF(AND(ISBLANK(INDEX($G:$G,)), ISBLANK(INDEX($C:$C,))), \"\", 'PWS Records (System Entry)'!$D$4)","v":""},{"$f":"IF(AND(ISBLANK(INDEX($G:$G,)), ISBLANK(INDEX($C:$C,))), \"\", 'PWS Records (System Entry)'!$D$3)","v":""},null,null,null,null,null,null,null,null,null,null,null,null,null,null,null,null,null,null,""]
[{"$f":"IF(AND(ISBLANK(INDEX($G:$G,)), ISBLANK(INDEX($C:$C,))), \"\", 'PWS Records (System Entry)'!$D$4)","v":""},{"$f":"IF(AND(ISBLANK(INDEX($G:$G,)), ISBLANK(INDEX($C:$C,))), \"\", 'PWS Records (System Entry)'!$D$3)","v":""},null,null,null,null,null,null,null,null,null,null,null,null,null,null,null,null,null,null,""]
[{"$f":"IF(AND(ISBLANK(INDEX($G:$G,)), ISBLANK(INDEX($C:$C,))), \"\", 'PWS Records (System Entry)'!$D$4)","v":""},{"$f":"IF(AND(ISBLANK(INDEX($G:$G,)), ISBLANK(INDEX($C:$C,))), \"\", 'PWS Records (System Entry)'!$D$3)","v":""},null,null,null,null,null,null,null,null,null,null,null,null,null,null,null,null,null,null,""]
[{"$f":"IF(AND(ISBLANK(INDEX($G:$G,)), ISBLANK(INDEX($C:$C,))), \"\", 'PWS Records (System Entry)'!$D$4)","v":""},{"$f":"IF(AND(ISBLANK(INDEX($G:$G,)), ISBLANK(INDEX($C:$C,))), \"\", 'PWS Records (System Entry)'!$D$3)","v":""},null,null,null,null,null,null,null,null,null,null,null,null,null,null,null,null,null,null,""]
[{"$f":"IF(AND(ISBLANK(INDEX($G:$G,)), ISBLANK(INDEX($C:$C,))), \"\", 'PWS Records (System Entry)'!$D$4)","v":""},{"$f":"IF(AND(ISBLANK(INDEX($G:$G,)), ISBLANK(INDEX($C:$C,))), \"\", 'PWS Records (System Entry)'!$D$3)","v":""},null,null,null,null,null,null,null,null,null,null,null,null,null,null,null,null,null,null,{"$f":"IF(AND(INDEX($K:$K,)=\"\", INDEX($L:$L,)=\"\", INDEX($M:$M,)=\"\", INDEX($Q:$Q,)=\"\", INDEX($R:$R,)=\"\"), \"\", IF(OR(INDEX($K:$K,)=\"Lead\",INDEX($Q:$Q,)=\"Lead\"),\"Lead\",IF(OR(AND(OR(INDEX($M:$M,)=\"Yes\", INDEX($M:$M,)=\"Don't Know\", INDEX($M:$M,)=\"\"), INDEX($Q:$Q,)=\"Galvanized Iron/Steel\"), AND(INDEX($K:$K,)=\"Unknown\", INDEX($M:$M,)=\"No\", INDEX($Q:$Q,)=\"Galvanized Iron/Steel\")), \"Galvanized Requiring Replacement\", IF(OR(AND(OR(INDEX($K:$K,)=\"Galvanized Iron/Steel\", INDEX($K:$K,)=\"Non-Lead - Copper\", INDEX($K:$K,)=\"Non-Lead - Plastic\", INDEX($K:$K,)=\"Non-Lead - Other\", INDEX($K:$K,)=\"Non-Lead - Material Unknown\", INDEX($K:$K,)=\"No System Owned Portion\"), OR(INDEX($Q:$Q,)=\"Galvanized Iron/Steel\", INDEX($Q:$Q,)=\"Non-Lead - Copper\", INDEX($Q:$Q,)=\"Non-Lead - Plastic\", INDEX($Q:$Q,)=\"Non-Lead - Other\", INDEX($Q:$Q,)=\"Non-Lead - Predictive Model\", INDEX($Q:$Q,)=\"No Customer Owned Portion\")), AND(OR( INDEX($K:$K,)=\"Galvanized Iron/Steel\", INDEX($K:$K,)=\"Non-Lead - Copper\", INDEX($K:$K,)=\"Non-Lead - Plastic\", INDEX($K:$K,)=\"Non-Lead - Other\", INDEX($K:$K,)=\"Non-Lead - Material Unknown\", INDEX($K:$K,)=\"No System Owned Portion\"), INDEX($M:$M,)=\"No\", INDEX($Q:$Q,)=\"Non-Lead - Material Unknown\")), \"Non-Lead\", \"Lead Status Unknown\"))))","v":""}]
[{"$f":"IF(AND(ISBLANK(INDEX($G:$G,)), ISBLANK(INDEX($C:$C,))), \"\", 'PWS Records (System Entry)'!$D$4)","v":""},{"$f":"IF(AND(ISBLANK(INDEX($G:$G,)), ISBLANK(INDEX($C:$C,))), \"\", 'PWS Records (System Entry)'!$D$3)","v":""},null,null,null,null,null,null,null,null,null,null,null,null,null,null,null,null,null,null,""]
[{"$f":"IF(AND(ISBLANK(INDEX($G:$G,)), ISBLANK(INDEX($C:$C,))), \"\", 'PWS Records (System Entry)'!$D$4)","v":""},{"$f":"IF(AND(ISBLANK(INDEX($G:$G,)), ISBLANK(INDEX($C:$C,))), \"\", 'PWS Records (System Entry)'!$D$3)","v":""},null,null,null,null,null,null,null,null,null,null,null,null,null,null,null,null,null,null,""]
[{"$f":"IF(AND(ISBLANK(INDEX($G:$G,)), ISBLANK(INDEX($C:$C,))), \"\", 'PWS Records (System Entry)'!$D$4)","v":""},{"$f":"IF(AND(ISBLANK(INDEX($G:$G,)), ISBLANK(INDEX($C:$C,))), \"\", 'PWS Records (System Entry)'!$D$3)","v":""},null,null,null,null,null,null,null,null,null,null,null,null,null,null,null,null,null,null,""]
[{"$f":"IF(AND(ISBLANK(INDEX($G:$G,)), ISBLANK(INDEX($C:$C,))), \"\", 'PWS Records (System Entry)'!$D$4)","v":""},{"$f":"IF(AND(ISBLANK(INDEX($G:$G,)), ISBLANK(INDEX($C:$C,))), \"\", 'PWS Records (System Entry)'!$D$3)","v":""},null,null,null,null,null,null,null,null,null,null,null,null,null,null,null,null,null,null,""]
[{"$f":"IF(AND(ISBLANK(INDEX($G:$G,)), ISBLANK(INDEX($C:$C,))), \"\", 'PWS Records (System Entry)'!$D$4)","v":""},{"$f":"IF(AND(ISBLANK(INDEX($G:$G,)), ISBLANK(INDEX($C:$C,))), \"\", 'PWS Records (System Entry)'!$D$3)","v":""},null,null,null,null,null,null,null,null,null,null,null,null,null,null,null,null,null,null,""]
[{"$f":"IF(AND(ISBLANK(INDEX($G:$G,)), ISBLANK(INDEX($C:$C,))), \"\", 'PWS Records (System Entry)'!$D$4)","v":""},{"$f":"IF(AND(ISBLANK(INDEX($G:$G,)), ISBLANK(INDEX($C:$C,))), \"\", 'PWS Records (System Entry)'!$D$3)","v":""},null,null,null,null,null,null,null,null,null,null,null,null,null,null,null,null,null,null,""]
[{"$f":"IF(AND(ISBLANK(INDEX($G:$G,)), ISBLANK(INDEX($C:$C,))), \"\", 'PWS Records (System Entry)'!$D$4)","v":""},{"$f":"IF(AND(ISBLANK(INDEX($G:$G,)), ISBLANK(INDEX($C:$C,))), \"\", 'PWS Records (System Entry)'!$D$3)","v":""},null,null,null,null,null,null,null,null,null,null,null,null,null,null,null,null,null,null,""]
[{"$f":"IF(AND(ISBLANK(INDEX($G:$G,)), ISBLANK(INDEX($C:$C,))), \"\", 'PWS Records (System Entry)'!$D$4)","v":""},{"$f":"IF(AND(ISBLANK(INDEX($G:$G,)), ISBLANK(INDEX($C:$C,))), \"\", 'PWS Records (System Entry)'!$D$3)","v":""},null,null,null,null,null,null,null,null,null,null,null,null,null,null,null,null,null,null,""]
[{"$f":"IF(AND(ISBLANK(INDEX($G:$G,)), ISBLANK(INDEX($C:$C,))), \"\", 'PWS Records (System Entry)'!$D$4)","v":""},{"$f":"IF(AND(ISBLANK(INDEX($G:$G,)), ISBLANK(INDEX($C:$C,))), \"\", 'PWS Records (System Entry)'!$D$3)","v":""},null,null,null,null,null,null,null,null,null,null,null,null,null,null,null,null,null,null,""]
[{"$f":"IF(AND(ISBLANK(INDEX($G:$G,)), ISBLANK(INDEX($C:$C,))), \"\", 'PWS Records (System Entry)'!$D$4)","v":""},{"$f":"IF(AND(ISBLANK(INDEX($G:$G,)), ISBLANK(INDEX($C:$C,))), \"\", 'PWS Records (System Entry)'!$D$3)","v":""},null,null,null,null,null,null,null,null,null,null,null,null,null,null,null,null,null,null,""]
[{"$f":"IF(AND(ISBLANK(INDEX($G:$G,)), ISBLANK(INDEX($C:$C,))), \"\", 'PWS Records (System Entry)'!$D$4)","v":""},{"$f":"IF(AND(ISBLANK(INDEX($G:$G,)), ISBLANK(INDEX($C:$C,))), \"\", 'PWS Records (System Entry)'!$D$3)","v":""},null,null,null,null,null,null,null,null,null,null,null,null,null,null,null,null,null,null,""]
[{"$f":"IF(AND(ISBLANK(INDEX($G:$G,)), ISBLANK(INDEX($C:$C,))), \"\", 'PWS Records (System Entry)'!$D$4)","v":""},{"$f":"IF(AND(ISBLANK(INDEX($G:$G,)), ISBLANK(INDEX($C:$C,))), \"\", 'PWS Records (System Entry)'!$D$3)","v":""},null,null,null,null,null,null,null,null,null,null,null,null,null,null,null,null,null,null,""]
[{"$f":"IF(AND(ISBLANK(INDEX($G:$G,)), ISBLANK(INDEX($C:$C,))), \"\", 'PWS Records (System Entry)'!$D$4)","v":""},{"$f":"IF(AND(ISBLANK(INDEX($G:$G,)), ISBLANK(INDEX($C:$C,))), \"\", 'PWS Records (System Entry)'!$D$3)","v":""},null,null,null,null,null,null,null,null,null,null,null,null,null,null,null,null,null,null,""]
[{"$f":"IF(AND(ISBLANK(INDEX($G:$G,)), ISBLANK(INDEX($C:$C,))), \"\", 'PWS Records (System Entry)'!$D$4)","v":""},{"$f":"IF(AND(ISBLANK(INDEX($G:$G,)), ISBLANK(INDEX($C:$C,))), \"\", 'PWS Records (System Entry)'!$D$3)","v":""},null,null,null,null,null,null,null,null,null,null,null,null,null,null,null,null,null,null,""]
[{"$f":"IF(AND(ISBLANK(INDEX($G:$G,)), ISBLANK(INDEX($C:$C,))), \"\", 'PWS Records (System Entry)'!$D$4)","v":""},{"$f":"IF(AND(ISBLANK(INDEX($G:$G,)), ISBLANK(INDEX($C:$C,))), \"\", 'PWS Records (System Entry)'!$D$3)","v":""},null,null,null,null,null,null,null,null,null,null,null,null,null,null,null,null,null,null,""]
[{"$f":"IF(AND(ISBLANK(INDEX($G:$G,)), ISBLANK(INDEX($C:$C,))), \"\", 'PWS Records (System Entry)'!$D$4)","v":""},{"$f":"IF(AND(ISBLANK(INDEX($G:$G,)), ISBLANK(INDEX($C:$C,))), \"\", 'PWS Records (System Entry)'!$D$3)","v":""},null,null,null,null,null,null,null,null,null,null,null,null,null,null,null,null,null,null,""]
[{"$f":"IF(AND(ISBLANK(INDEX($G:$G,)), ISBLANK(INDEX($C:$C,))), \"\", 'PWS Records (System Entry)'!$D$4)","v":""},{"$f":"IF(AND(ISBLANK(INDEX($G:$G,)), ISBLANK(INDEX($C:$C,))), \"\", 'PWS Records (System Entry)'!$D$3)","v":""},null,null,null,null,null,null,null,null,null,null,null,null,null,null,null,null,null,null,""]
[{"$f":"IF(AND(ISBLANK(INDEX($G:$G,)), ISBLANK(INDEX($C:$C,))), \"\", 'PWS Records (System Entry)'!$D$4)","v":""},{"$f":"IF(AND(ISBLANK(INDEX($G:$G,)), ISBLANK(INDEX($C:$C,))), \"\", 'PWS Records (System Entry)'!$D$3)","v":""},null,null,null,null,null,null,null,null,null,null,null,null,null,null,null,null,null,null,""]
[{"$f":"IF(AND(ISBLANK(INDEX($G:$G,)), ISBLANK(INDEX($C:$C,))), \"\", 'PWS Records (System Entry)'!$D$4)","v":""},{"$f":"IF(AND(ISBLANK(INDEX($G:$G,)), ISBLANK(INDEX($C:$C,))), \"\", 'PWS Records (System Entry)'!$D$3)","v":""},null,null,null,null,null,null,null,null,null,null,null,null,null,null,null,null,null,null,""]
[{"$f":"IF(AND(ISBLANK(INDEX($G:$G,)), ISBLANK(INDEX($C:$C,))), \"\", 'PWS Records (System Entry)'!$D$4)","v":""},{"$f":"IF(AND(ISBLANK(INDEX($G:$G,)), ISBLANK(INDEX($C:$C,))), \"\", 'PWS Records (System Entry)'!$D$3)","v":""},null,null,null,null,null,null,null,null,null,null,null,null,null,null,null,null,null,null,""]
[{"$f":"IF(AND(ISBLANK(INDEX($G:$G,)), ISBLANK(INDEX($C:$C,))), \"\", 'PWS Records (System Entry)'!$D$4)","v":""},{"$f":"IF(AND(ISBLANK(INDEX($G:$G,)), ISBLANK(INDEX($C:$C,))), \"\", 'PWS Records (System Entry)'!$D$3)","v":""},null,null,null,null,null,null,null,null,null,null,null,null,null,null,null,null,null,null,""]
[{"$f":"IF(AND(ISBLANK(INDEX($G:$G,)), ISBLANK(INDEX($C:$C,))), \"\", 'PWS Records (System Entry)'!$D$4)","v":""},{"$f":"IF(AND(ISBLANK(INDEX($G:$G,)), ISBLANK(INDEX($C:$C,))), \"\", 'PWS Records (System Entry)'!$D$3)","v":""},null,null,null,null,null,null,null,null,null,null,null,null,null,null,null,null,null,null,""]
[{"$f":"IF(AND(ISBLANK(INDEX($G:$G,)), ISBLANK(INDEX($C:$C,))), \"\", 'PWS Records (System Entry)'!$D$4)","v":""},{"$f":"IF(AND(ISBLANK(INDEX($G:$G,)), ISBLANK(INDEX($C:$C,))), \"\", 'PWS Records (System Entry)'!$D$3)","v":""},null,null,null,null,null,null,null,null,null,null,null,null,null,null,null,null,null,null,""]
[{"$f":"IF(AND(ISBLANK(INDEX($G:$G,)), ISBLANK(INDEX($C:$C,))), \"\", 'PWS Records (System Entry)'!$D$4)","v":""},{"$f":"IF(AND(ISBLANK(INDEX($G:$G,)), ISBLANK(INDEX($C:$C,))), \"\", 'PWS Records (System Entry)'!$D$3)","v":""},null,null,null,null,null,null,null,null,null,null,null,null,null,null,null,null,null,null,""]
[{"$f":"IF(AND(ISBLANK(INDEX($G:$G,)), ISBLANK(INDEX($C:$C,))), \"\", 'PWS Records (System Entry)'!$D$4)","v":""},{"$f":"IF(AND(ISBLANK(INDEX($G:$G,)), ISBLANK(INDEX($C:$C,))), \"\", 'PWS Records (System Entry)'!$D$3)","v":""},null,null,null,null,null,null,null,null,null,null,null,null,null,null,null,null,null,null,""]
[{"$f":"IF(AND(ISBLANK(INDEX($G:$G,)), ISBLANK(INDEX($C:$C,))), \"\", 'PWS Records (System Entry)'!$D$4)","v":""},{"$f":"IF(AND(ISBLANK(INDEX($G:$G,)), ISBLANK(INDEX($C:$C,))), \"\", 'PWS Records (System Entry)'!$D$3)","v":""},null,null,null,null,null,null,null,null,null,null,null,null,null,null,null,null,null,null,""]
[{"$f":"IF(AND(ISBLANK(INDEX($G:$G,)), ISBLANK(INDEX($C:$C,))), \"\", 'PWS Records (System Entry)'!$D$4)","v":""},{"$f":"IF(AND(ISBLANK(INDEX($G:$G,)), ISBLANK(INDEX($C:$C,))), \"\", 'PWS Records (System Entry)'!$D$3)","v":""},null,null,null,null,null,null,null,null,null,null,null,null,null,null,null,null,null,null,""]
[{"$f":"IF(AND(ISBLANK(INDEX($G:$G,)), ISBLANK(INDEX($C:$C,))), \"\", 'PWS Records (System Entry)'!$D$4)","v":""},{"$f":"IF(AND(ISBLANK(INDEX($G:$G,)), ISBLANK(INDEX($C:$C,))), \"\", 'PWS Records (System Entry)'!$D$3)","v":""},null,null,null,null,null,null,null,null,null,null,null,null,null,null,null,null,null,null,""]
[{"$f":"IF(AND(ISBLANK(INDEX($G:$G,)), ISBLANK(INDEX($C:$C,))), \"\", 'PWS Records (System Entry)'!$D$4)","v":""},{"$f":"IF(AND(ISBLANK(INDEX($G:$G,)), ISBLANK(INDEX($C:$C,))), \"\", 'PWS Records (System Entry)'!$D$3)","v":""},null,null,null,null,null,null,null,null,null,null,null,null,null,null,null,null,null,null,""]
[{"$f":"IF(AND(ISBLANK(INDEX($G:$G,)), ISBLANK(INDEX($C:$C,))), \"\", 'PWS Records (System Entry)'!$D$4)","v":""},{"$f":"IF(AND(ISBLANK(INDEX($G:$G,)), ISBLANK(INDEX($C:$C,))), \"\", 'PWS Records (System Entry)'!$D$3)","v":""},null,null,null,null,null,null,null,null,null,null,null,null,null,null,null,null,null,null,""]
[{"$f":"IF(AND(ISBLANK(INDEX($G:$G,)), ISBLANK(INDEX($C:$C,))), \"\", 'PWS Records (System Entry)'!$D$4)","v":""},{"$f":"IF(AND(ISBLANK(INDEX($G:$G,)), ISBLANK(INDEX($C:$C,))), \"\", 'PWS Records (System Entry)'!$D$3)","v":""},null,null,null,null,null,null,null,null,null,null,null,null,null,null,null,null,null,null,""]
[{"$f":"IF(AND(ISBLANK(INDEX($G:$G,)), ISBLANK(INDEX($C:$C,))), \"\", 'PWS Records (System Entry)'!$D$4)","v":""},{"$f":"IF(AND(ISBLANK(INDEX($G:$G,)), ISBLANK(INDEX($C:$C,))), \"\", 'PWS Records (System Entry)'!$D$3)","v":""},null,null,null,null,null,null,null,null,null,null,null,null,null,null,null,null,null,null,""]
[{"$f":"IF(AND(ISBLANK(INDEX($G:$G,)), ISBLANK(INDEX($C:$C,))), \"\", 'PWS Records (System Entry)'!$D$4)","v":""},{"$f":"IF(AND(ISBLANK(INDEX($G:$G,)), ISBLANK(INDEX($C:$C,))), \"\", 'PWS Records (System Entry)'!$D$3)","v":""},null,null,null,null,null,null,null,null,null,null,null,null,null,null,null,null,null,null,""]
[{"$f":"IF(AND(ISBLANK(INDEX($G:$G,)), ISBLANK(INDEX($C:$C,))), \"\", 'PWS Records (System Entry)'!$D$4)","v":""},{"$f":"IF(AND(ISBLANK(INDEX($G:$G,)), ISBLANK(INDEX($C:$C,))), \"\", 'PWS Records (System Entry)'!$D$3)","v":""},null,null,null,null,null,null,null,null,null,null,null,null,null,null,null,null,null,null,""]
[{"$f":"IF(AND(ISBLANK(INDEX($G:$G,)), ISBLANK(INDEX($C:$C,))), \"\", 'PWS Records (System Entry)'!$D$4)","v":""},{"$f":"IF(AND(ISBLANK(INDEX($G:$G,)), ISBLANK(INDEX($C:$C,))), \"\", 'PWS Records (System Entry)'!$D$3)","v":""},null,null,null,null,null,null,null,null,null,null,null,null,null,null,null,null,null,null,""]
[{"$f":"IF(AND(ISBLANK(INDEX($G:$G,)), ISBLANK(INDEX($C:$C,))), \"\", 'PWS Records (System Entry)'!$D$4)","v":""},{"$f":"IF(AND(ISBLANK(INDEX($G:$G,)), ISBLANK(INDEX($C:$C,))), \"\", 'PWS Records (System Entry)'!$D$3)","v":""},null,null,null,null,null,null,null,null,null,null,null,null,null,null,null,null,null,null,""]
[{"$f":"IF(AND(ISBLANK(INDEX($G:$G,)), ISBLANK(INDEX($C:$C,))), \"\", 'PWS Records (System Entry)'!$D$4)","v":""},{"$f":"IF(AND(ISBLANK(INDEX($G:$G,)), ISBLANK(INDEX($C:$C,))), \"\", 'PWS Records (System Entry)'!$D$3)","v":""},null,null,null,null,null,null,null,null,null,null,null,null,null,null,null,null,null,null,""]
[{"$f":"IF(AND(ISBLANK(INDEX($G:$G,)), ISBLANK(INDEX($C:$C,))), \"\", 'PWS Records (System Entry)'!$D$4)","v":""},{"$f":"IF(AND(ISBLANK(INDEX($G:$G,)), ISBLANK(INDEX($C:$C,))), \"\", 'PWS Records (System Entry)'!$D$3)","v":""},null,null,null,null,null,null,null,null,null,null,null,null,null,null,null,null,null,null,""]
[{"$f":"IF(AND(ISBLANK(INDEX($G:$G,)), ISBLANK(INDEX($C:$C,))), \"\", 'PWS Records (System Entry)'!$D$4)","v":""},{"$f":"IF(AND(ISBLANK(INDEX($G:$G,)), ISBLANK(INDEX($C:$C,))), \"\", 'PWS Records (System Entry)'!$D$3)","v":""},null,null,null,null,null,null,null,null,null,null,null,null,null,null,null,null,null,null,""]
[{"$f":"IF(AND(ISBLANK(INDEX($G:$G,)), ISBLANK(INDEX($C:$C,))), \"\", 'PWS Records (System Entry)'!$D$4)","v":""},{"$f":"IF(AND(ISBLANK(INDEX($G:$G,)), ISBLANK(INDEX($C:$C,))), \"\", 'PWS Records (System Entry)'!$D$3)","v":""},null,null,null,null,null,null,null,null,null,null,null,null,null,null,null,null,null,null,""]
[{"$f":"IF(AND(ISBLANK(INDEX($G:$G,)), ISBLANK(INDEX($C:$C,))), \"\", 'PWS Records (System Entry)'!$D$4)","v":""},{"$f":"IF(AND(ISBLANK(INDEX($G:$G,)), ISBLANK(INDEX($C:$C,))), \"\", 'PWS Records (System Entry)'!$D$3)","v":""},null,null,null,null,null,null,null,null,null,null,null,null,null,null,null,null,null,null,""]
[{"$f":"IF(AND(ISBLANK(INDEX($G:$G,)), ISBLANK(INDEX($C:$C,))), \"\", 'PWS Records (System Entry)'!$D$4)","v":""},{"$f":"IF(AND(ISBLANK(INDEX($G:$G,)), ISBLANK(INDEX($C:$C,))), \"\", 'PWS Records (System Entry)'!$D$3)","v":""},null,null,null,null,null,null,null,null,null,null,null,null,null,null,null,null,null,null,""]
[{"$f":"IF(AND(ISBLANK(INDEX($G:$G,)), ISBLANK(INDEX($C:$C,))), \"\", 'PWS Records (System Entry)'!$D$4)","v":""},{"$f":"IF(AND(ISBLANK(INDEX($G:$G,)), ISBLANK(INDEX($C:$C,))), \"\", 'PWS Records (System Entry)'!$D$3)","v":""},null,null,null,null,null,null,null,null,null,null,null,null,null,null,null,null,null,null,""]
[{"$f":"IF(AND(ISBLANK(INDEX($G:$G,)), ISBLANK(INDEX($C:$C,))), \"\", 'PWS Records (System Entry)'!$D$4)","v":""},{"$f":"IF(AND(ISBLANK(INDEX($G:$G,)), ISBLANK(INDEX($C:$C,))), \"\", 'PWS Records (System Entry)'!$D$3)","v":""},null,null,null,null,null,null,null,null,null,null,null,null,null,null,null,null,null,null,""]
[{"$f":"IF(AND(ISBLANK(INDEX($G:$G,)), ISBLANK(INDEX($C:$C,))), \"\", 'PWS Records (System Entry)'!$D$4)","v":""},{"$f":"IF(AND(ISBLANK(INDEX($G:$G,)), ISBLANK(INDEX($C:$C,))), \"\", 'PWS Records (System Entry)'!$D$3)","v":""},null,null,null,null,null,null,null,null,null,null,null,null,null,null,null,null,null,null,""]
[{"$f":"IF(AND(ISBLANK(INDEX($G:$G,)), ISBLANK(INDEX($C:$C,))), \"\", 'PWS Records (System Entry)'!$D$4)","v":""},{"$f":"IF(AND(ISBLANK(INDEX($G:$G,)), ISBLANK(INDEX($C:$C,))), \"\", 'PWS Records (System Entry)'!$D$3)","v":""},null,null,null,null,null,null,null,null,null,null,null,null,null,null,null,null,null,null,""]
[{"$f":"IF(AND(ISBLANK(INDEX($G:$G,)), ISBLANK(INDEX($C:$C,))), \"\", 'PWS Records (System Entry)'!$D$4)","v":""},{"$f":"IF(AND(ISBLANK(INDEX($G:$G,)), ISBLANK(INDEX($C:$C,))), \"\", 'PWS Records (System Entry)'!$D$3)","v":""},null,null,null,null,null,null,null,null,null,null,null,null,null,null,null,null,null,null,""]
[{"$f":"IF(AND(ISBLANK(INDEX($G:$G,)), ISBLANK(INDEX($C:$C,))), \"\", 'PWS Records (System Entry)'!$D$4)","v":""},{"$f":"IF(AND(ISBLANK(INDEX($G:$G,)), ISBLANK(INDEX($C:$C,))), \"\", 'PWS Records (System Entry)'!$D$3)","v":""},null,null,null,null,null,null,null,null,null,null,null,null,null,null,null,null,null,null,""]
[{"$f":"IF(AND(ISBLANK(INDEX($G:$G,)), ISBLANK(INDEX($C:$C,))), \"\", 'PWS Records (System Entry)'!$D$4)","v":""},{"$f":"IF(AND(ISBLANK(INDEX($G:$G,)), ISBLANK(INDEX($C:$C,))), \"\", 'PWS Records (System Entry)'!$D$3)","v":""},null,null,null,null,null,null,null,null,null,null,null,null,null,null,null,null,null,null,""]
[{"$f":"IF(AND(ISBLANK(INDEX($G:$G,)), ISBLANK(INDEX($C:$C,))), \"\", 'PWS Records (System Entry)'!$D$4)","v":""},{"$f":"IF(AND(ISBLANK(INDEX($G:$G,)), ISBLANK(INDEX($C:$C,))), \"\", 'PWS Records (System Entry)'!$D$3)","v":""},null,null,null,null,null,null,null,null,null,null,null,null,null,null,null,null,null,null,""]
[{"$f":"IF(AND(ISBLANK(INDEX($G:$G,)), ISBLANK(INDEX($C:$C,))), \"\", 'PWS Records (System Entry)'!$D$4)","v":""},{"$f":"IF(AND(ISBLANK(INDEX($G:$G,)), ISBLANK(INDEX($C:$C,))), \"\", 'PWS Records (System Entry)'!$D$3)","v":""},null,null,null,null,null,null,null,null,null,null,null,null,null,null,null,null,null,null,""]
[{"$f":"IF(AND(ISBLANK(INDEX($G:$G,)), ISBLANK(INDEX($C:$C,))), \"\", 'PWS Records (System Entry)'!$D$4)","v":""},{"$f":"IF(AND(ISBLANK(INDEX($G:$G,)), ISBLANK(INDEX($C:$C,))), \"\", 'PWS Records (System Entry)'!$D$3)","v":""},null,null,null,null,null,null,null,null,null,null,null,null,null,null,null,null,null,null,""]
[{"$f":"IF(AND(ISBLANK(INDEX($G:$G,)), ISBLANK(INDEX($C:$C,))), \"\", 'PWS Records (System Entry)'!$D$4)","v":""},{"$f":"IF(AND(ISBLANK(INDEX($G:$G,)), ISBLANK(INDEX($C:$C,))), \"\", 'PWS Records (System Entry)'!$D$3)","v":""},null,null,null,null,null,null,null,null,null,null,null,null,null,null,null,null,null,null,""]
[{"$f":"IF(AND(ISBLANK(INDEX($G:$G,)), ISBLANK(INDEX($C:$C,))), \"\", 'PWS Records (System Entry)'!$D$4)","v":""},{"$f":"IF(AND(ISBLANK(INDEX($G:$G,)), ISBLANK(INDEX($C:$C,))), \"\", 'PWS Records (System Entry)'!$D$3)","v":""},null,null,null,null,null,null,null,null,null,null,null,null,null,null,null,null,null,null,""]
[{"$f":"IF(AND(ISBLANK(INDEX($G:$G,)), ISBLANK(INDEX($C:$C,))), \"\", 'PWS Records (System Entry)'!$D$4)","v":""},{"$f":"IF(AND(ISBLANK(INDEX($G:$G,)), ISBLANK(INDEX($C:$C,))), \"\", 'PWS Records (System Entry)'!$D$3)","v":""},null,null,null,null,null,null,null,null,null,null,null,null,null,null,null,null,null,null,""]
[{"$f":"IF(AND(ISBLANK(INDEX($G:$G,)), ISBLANK(INDEX($C:$C,))), \"\", 'PWS Records (System Entry)'!$D$4)","v":""},{"$f":"IF(AND(ISBLANK(INDEX($G:$G,)), ISBLANK(INDEX($C:$C,))), \"\", 'PWS Records (System Entry)'!$D$3)","v":""},null,null,null,null,null,null,null,null,null,null,null,null,null,null,null,null,null,null,""]
[{"$f":"IF(AND(ISBLANK(INDEX($G:$G,)), ISBLANK(INDEX($C:$C,))), \"\", 'PWS Records (System Entry)'!$D$4)","v":""},{"$f":"IF(AND(ISBLANK(INDEX($G:$G,)), ISBLANK(INDEX($C:$C,))), \"\", 'PWS Records (System Entry)'!$D$3)","v":""},null,null,null,null,null,null,null,null,null,null,null,null,null,null,null,null,null,null,""]
[{"$f":"IF(AND(ISBLANK(INDEX($G:$G,)), ISBLANK(INDEX($C:$C,))), \"\", 'PWS Records (System Entry)'!$D$4)","v":""},{"$f":"IF(AND(ISBLANK(INDEX($G:$G,)), ISBLANK(INDEX($C:$C,))), \"\", 'PWS Records (System Entry)'!$D$3)","v":""},null,null,null,null,null,null,null,null,null,null,null,null,null,null,null,null,null,null,""]
[{"$f":"IF(AND(ISBLANK(INDEX($G:$G,)), ISBLANK(INDEX($C:$C,))), \"\", 'PWS Records (System Entry)'!$D$4)","v":""},{"$f":"IF(AND(ISBLANK(INDEX($G:$G,)), ISBLANK(INDEX($C:$C,))), \"\", 'PWS Records (System Entry)'!$D$3)","v":""},null,null,null,null,null,null,null,null,null,null,null,null,null,null,null,null,null,null,""]
[{"$f":"IF(AND(ISBLANK(INDEX($G:$G,)), ISBLANK(INDEX($C:$C,))), \"\", 'PWS Records (System Entry)'!$D$4)","v":""},{"$f":"IF(AND(ISBLANK(INDEX($G:$G,)), ISBLANK(INDEX($C:$C,))), \"\", 'PWS Records (System Entry)'!$D$3)","v":""},null,null,null,null,null,null,null,null,null,null,null,null,null,null,null,null,null,null,""]
[{"$f":"IF(AND(ISBLANK(INDEX($G:$G,)), ISBLANK(INDEX($C:$C,))), \"\", 'PWS Records (System Entry)'!$D$4)","v":""},{"$f":"IF(AND(ISBLANK(INDEX($G:$G,)), ISBLANK(INDEX($C:$C,))), \"\", 'PWS Records (System Entry)'!$D$3)","v":""},null,null,null,null,null,null,null,null,null,null,null,null,null,null,null,null,null,null,""]
[{"$f":"IF(AND(ISBLANK(INDEX($G:$G,)), ISBLANK(INDEX($C:$C,))), \"\", 'PWS Records (System Entry)'!$D$4)","v":""},{"$f":"IF(AND(ISBLANK(INDEX($G:$G,)), ISBLANK(INDEX($C:$C,))), \"\", 'PWS Records (System Entry)'!$D$3)","v":""},null,null,null,null,null,null,null,null,null,null,null,null,null,null,null,null,null,null,""]
[{"$f":"IF(AND(ISBLANK(INDEX($G:$G,)), ISBLANK(INDEX($C:$C,))), \"\", 'PWS Records (System Entry)'!$D$4)","v":""},{"$f":"IF(AND(ISBLANK(INDEX($G:$G,)), ISBLANK(INDEX($C:$C,))), \"\", 'PWS Records (System Entry)'!$D$3)","v":""},null,null,null,null,null,null,null,null,null,null,null,null,null,null,null,null,null,null,""]
[{"$f":"IF(AND(ISBLANK(INDEX($G:$G,)), ISBLANK(INDEX($C:$C,))), \"\", 'PWS Records (System Entry)'!$D$4)","v":""},{"$f":"IF(AND(ISBLANK(INDEX($G:$G,)), ISBLANK(INDEX($C:$C,))), \"\", 'PWS Records (System Entry)'!$D$3)","v":""},null,null,null,null,null,null,null,null,null,null,null,null,null,null,null,null,null,null,""]
[{"$f":"IF(AND(ISBLANK(INDEX($G:$G,)), ISBLANK(INDEX($C:$C,))), \"\", 'PWS Records (System Entry)'!$D$4)","v":""},{"$f":"IF(AND(ISBLANK(INDEX($G:$G,)), ISBLANK(INDEX($C:$C,))), \"\", 'PWS Records (System Entry)'!$D$3)","v":""},null,null,null,null,null,null,null,null,null,null,null,null,null,null,null,null,null,null,""]
[{"$f":"IF(AND(ISBLANK(INDEX($G:$G,)), ISBLANK(INDEX($C:$C,))), \"\", 'PWS Records (System Entry)'!$D$4)","v":""},{"$f":"IF(AND(ISBLANK(INDEX($G:$G,)), ISBLANK(INDEX($C:$C,))), \"\", 'PWS Records (System Entry)'!$D$3)","v":""},null,null,null,null,null,null,null,null,null,null,null,null,null,null,null,null,null,null,""]
[{"$f":"IF(AND(ISBLANK(INDEX($G:$G,)), ISBLANK(INDEX($C:$C,))), \"\", 'PWS Records (System Entry)'!$D$4)","v":""},{"$f":"IF(AND(ISBLANK(INDEX($G:$G,)), ISBLANK(INDEX($C:$C,))), \"\", 'PWS Records (System Entry)'!$D$3)","v":""},null,null,null,null,null,null,null,null,null,null,null,null,null,null,null,null,null,null,""]
[{"$f":"IF(AND(ISBLANK(INDEX($G:$G,)), ISBLANK(INDEX($C:$C,))), \"\", 'PWS Records (System Entry)'!$D$4)","v":""},{"$f":"IF(AND(ISBLANK(INDEX($G:$G,)), ISBLANK(INDEX($C:$C,))), \"\", 'PWS Records (System Entry)'!$D$3)","v":""},null,null,null,null,null,null,null,null,null,null,null,null,null,null,null,null,null,null,""]
[{"$f":"IF(AND(ISBLANK(INDEX($G:$G,)), ISBLANK(INDEX($C:$C,))), \"\", 'PWS Records (System Entry)'!$D$4)","v":""},{"$f":"IF(AND(ISBLANK(INDEX($G:$G,)), ISBLANK(INDEX($C:$C,))), \"\", 'PWS Records (System Entry)'!$D$3)","v":""},null,null,null,null,null,null,null,null,null,null,null,null,null,null,null,null,null,null,""]
[{"$f":"IF(AND(ISBLANK(INDEX($G:$G,)), ISBLANK(INDEX($C:$C,))), \"\", 'PWS Records (System Entry)'!$D$4)","v":""},{"$f":"IF(AND(ISBLANK(INDEX($G:$G,)), ISBLANK(INDEX($C:$C,))), \"\", 'PWS Records (System Entry)'!$D$3)","v":""},null,null,null,null,null,null,null,null,null,null,null,null,null,null,null,null,null,null,""]
[{"$f":"IF(AND(ISBLANK(INDEX($G:$G,)), ISBLANK(INDEX($C:$C,))), \"\", 'PWS Records (System Entry)'!$D$4)","v":""},{"$f":"IF(AND(ISBLANK(INDEX($G:$G,)), ISBLANK(INDEX($C:$C,))), \"\", 'PWS Records (System Entry)'!$D$3)","v":""},null,null,null,null,null,null,null,null,null,null,null,null,null,null,null,null,null,null,""]
[{"$f":"IF(AND(ISBLANK(INDEX($G:$G,)), ISBLANK(INDEX($C:$C,))), \"\", 'PWS Records (System Entry)'!$D$4)","v":""},{"$f":"IF(AND(ISBLANK(INDEX($G:$G,)), ISBLANK(INDEX($C:$C,))), \"\", 'PWS Records (System Entry)'!$D$3)","v":""},null,null,null,null,null,null,null,null,null,null,null,null,null,null,null,null,null,null,""]
[{"$f":"IF(AND(ISBLANK(INDEX($G:$G,)), ISBLANK(INDEX($C:$C,))), \"\", 'PWS Records (System Entry)'!$D$4)","v":""},{"$f":"IF(AND(ISBLANK(INDEX($G:$G,)), ISBLANK(INDEX($C:$C,))), \"\", 'PWS Records (System Entry)'!$D$3)","v":""},null,null,null,null,null,null,null,null,null,null,null,null,null,null,null,null,null,null,""]
[{"$f":"IF(AND(ISBLANK(INDEX($G:$G,)), ISBLANK(INDEX($C:$C,))), \"\", 'PWS Records (System Entry)'!$D$4)","v":""},{"$f":"IF(AND(ISBLANK(INDEX($G:$G,)), ISBLANK(INDEX($C:$C,))), \"\", 'PWS Records (System Entry)'!$D$3)","v":""},null,null,null,null,null,null,null,null,null,null,null,null,null,null,null,null,null,null,""]
[{"$f":"IF(AND(ISBLANK(INDEX($G:$G,)), ISBLANK(INDEX($C:$C,))), \"\", 'PWS Records (System Entry)'!$D$4)","v":""},{"$f":"IF(AND(ISBLANK(INDEX($G:$G,)), ISBLANK(INDEX($C:$C,))), \"\", 'PWS Records (System Entry)'!$D$3)","v":""},null,null,null,null,null,null,null,null,null,null,null,null,null,null,null,null,null,null,""]
[{"$f":"IF(AND(ISBLANK(INDEX($G:$G,)), ISBLANK(INDEX($C:$C,))), \"\", 'PWS Records (System Entry)'!$D$4)","v":""},{"$f":"IF(AND(ISBLANK(INDEX($G:$G,)), ISBLANK(INDEX($C:$C,))), \"\", 'PWS Records (System Entry)'!$D$3)","v":""},null,null,null,null,null,null,null,null,null,null,null,null,null,null,null,null,null,null,""]
[{"$f":"IF(AND(ISBLANK(INDEX($G:$G,)), ISBLANK(INDEX($C:$C,))), \"\", 'PWS Records (System Entry)'!$D$4)","v":""},{"$f":"IF(AND(ISBLANK(INDEX($G:$G,)), ISBLANK(INDEX($C:$C,))), \"\", 'PWS Records (System Entry)'!$D$3)","v":""},null,null,null,null,null,null,null,null,null,null,null,null,null,null,null,null,null,null,""]
[{"$f":"IF(AND(ISBLANK(INDEX($G:$G,)), ISBLANK(INDEX($C:$C,))), \"\", 'PWS Records (System Entry)'!$D$4)","v":""},{"$f":"IF(AND(ISBLANK(INDEX($G:$G,)), ISBLANK(INDEX($C:$C,))), \"\", 'PWS Records (System Entry)'!$D$3)","v":""},null,null,null,null,null,null,null,null,null,null,null,null,null,null,null,null,null,null,""]
[{"$f":"IF(AND(ISBLANK(INDEX($G:$G,)), ISBLANK(INDEX($C:$C,))), \"\", 'PWS Records (System Entry)'!$D$4)","v":""},{"$f":"IF(AND(ISBLANK(INDEX($G:$G,)), ISBLANK(INDEX($C:$C,))), \"\", 'PWS Records (System Entry)'!$D$3)","v":""},null,null,null,null,null,null,null,null,null,null,null,null,null,null,null,null,null,null,""]
[{"$f":"IF(AND(ISBLANK(INDEX($G:$G,)), ISBLANK(INDEX($C:$C,))), \"\", 'PWS Records (System Entry)'!$D$4)","v":""},{"$f":"IF(AND(ISBLANK(INDEX($G:$G,)), ISBLANK(INDEX($C:$C,))), \"\", 'PWS Records (System Entry)'!$D$3)","v":""},null,null,null,null,null,null,null,null,null,null,null,null,null,null,null,null,null,null,""]
[{"$f":"IF(AND(ISBLANK(INDEX($G:$G,)), ISBLANK(INDEX($C:$C,))), \"\", 'PWS Records (System Entry)'!$D$4)","v":""},{"$f":"IF(AND(ISBLANK(INDEX($G:$G,)), ISBLANK(INDEX($C:$C,))), \"\", 'PWS Records (System Entry)'!$D$3)","v":""},null,null,null,null,null,null,null,null,null,null,null,null,null,null,null,null,null,null,""]
[{"$f":"IF(AND(ISBLANK(INDEX($G:$G,)), ISBLANK(INDEX($C:$C,))), \"\", 'PWS Records (System Entry)'!$D$4)","v":""},{"$f":"IF(AND(ISBLANK(INDEX($G:$G,)), ISBLANK(INDEX($C:$C,))), \"\", 'PWS Records (System Entry)'!$D$3)","v":""},null,null,null,null,null,null,null,null,null,null,null,null,null,null,null,null,null,null,""]
[{"$f":"IF(AND(ISBLANK(INDEX($G:$G,)), ISBLANK(INDEX($C:$C,))), \"\", 'PWS Records (System Entry)'!$D$4)","v":""},{"$f":"IF(AND(ISBLANK(INDEX($G:$G,)), ISBLANK(INDEX($C:$C,))), \"\", 'PWS Records (System Entry)'!$D$3)","v":""},null,null,null,null,null,null,null,null,null,null,null,null,null,null,null,null,null,null,""]
[{"$f":"IF(AND(ISBLANK(INDEX($G:$G,)), ISBLANK(INDEX($C:$C,))), \"\", 'PWS Records (System Entry)'!$D$4)","v":""},{"$f":"IF(AND(ISBLANK(INDEX($G:$G,)), ISBLANK(INDEX($C:$C,))), \"\", 'PWS Records (System Entry)'!$D$3)","v":""},null,null,null,null,null,null,null,null,null,null,null,null,null,null,null,null,null,null,""]
[{"$f":"IF(AND(ISBLANK(INDEX($G:$G,)), ISBLANK(INDEX($C:$C,))), \"\", 'PWS Records (System Entry)'!$D$4)","v":""},{"$f":"IF(AND(ISBLANK(INDEX($G:$G,)), ISBLANK(INDEX($C:$C,))), \"\", 'PWS Records (System Entry)'!$D$3)","v":""},null,null,null,null,null,null,null,null,null,null,null,null,null,null,null,null,null,null,{"$f":"IF(AND(INDEX($K:$K,)=\"\", INDEX($L:$L,)=\"\", INDEX($M:$M,)=\"\", INDEX($Q:$Q,)=\"\", INDEX($R:$R,)=\"\"), \"\", IF(OR(INDEX($K:$K,)=\"Lead\",INDEX($Q:$Q,)=\"Lead\"),\"Lead\",IF(OR(AND(OR(INDEX($M:$M,)=\"Yes\", INDEX($M:$M,)=\"Don't Know\", INDEX($M:$M,)=\"\"), INDEX($Q:$Q,)=\"Galvanized Iron/Steel\"), AND(INDEX($K:$K,)=\"Unknown\", INDEX($M:$M,)=\"No\", INDEX($Q:$Q,)=\"Galvanized Iron/Steel\")), \"Galvanized Requiring Replacement\", IF(OR(AND(OR(INDEX($K:$K,)=\"Galvanized Iron/Steel\", INDEX($K:$K,)=\"Non-Lead - Copper\", INDEX($K:$K,)=\"Non-Lead - Plastic\", INDEX($K:$K,)=\"Non-Lead - Other\", INDEX($K:$K,)=\"Non-Lead - Material Unknown\", INDEX($K:$K,)=\"No System Owned Portion\"), OR(INDEX($Q:$Q,)=\"Galvanized Iron/Steel\", INDEX($Q:$Q,)=\"Non-Lead - Copper\", INDEX($Q:$Q,)=\"Non-Lead - Plastic\", INDEX($Q:$Q,)=\"Non-Lead - Other\", INDEX($Q:$Q,)=\"Non-Lead - Predictive Model\", INDEX($Q:$Q,)=\"No Customer Owned Portion\")), AND(OR( INDEX($K:$K,)=\"Galvanized Iron/Steel\", INDEX($K:$K,)=\"Non-Lead - Copper\", INDEX($K:$K,)=\"Non-Lead - Plastic\", INDEX($K:$K,)=\"Non-Lead - Other\", INDEX($K:$K,)=\"Non-Lead - Material Unknown\", INDEX($K:$K,)=\"No System Owned Portion\"), INDEX($M:$M,)=\"No\", INDEX($Q:$Q,)=\"Non-Lead - Material Unknown\")), \"Non-Lead\", \"Lead Status Unknown\"))))","v":""}]
[{"$f":"IF(AND(ISBLANK(INDEX($G:$G,)), ISBLANK(INDEX($C:$C,))), \"\", 'PWS Records (System Entry)'!$D$4)","v":""},{"$f":"IF(AND(ISBLANK(INDEX($G:$G,)), ISBLANK(INDEX($C:$C,))), \"\", 'PWS Records (System Entry)'!$D$3)","v":""},null,null,null,null,null,null,null,null,null,null,null,null,null,null,null,null,null,null,""]
[{"$f":"IF(AND(ISBLANK(INDEX($G:$G,)), ISBLANK(INDEX($C:$C,))), \"\", 'PWS Records (System Entry)'!$D$4)","v":""},{"$f":"IF(AND(ISBLANK(INDEX($G:$G,)), ISBLANK(INDEX($C:$C,))), \"\", 'PWS Records (System Entry)'!$D$3)","v":""},null,null,null,null,null,null,null,null,null,null,null,null,null,null,null,null,null,null,""]
[{"$f":"IF(AND(ISBLANK(INDEX($G:$G,)), ISBLANK(INDEX($C:$C,))), \"\", 'PWS Records (System Entry)'!$D$4)","v":""},{"$f":"IF(AND(ISBLANK(INDEX($G:$G,)), ISBLANK(INDEX($C:$C,))), \"\", 'PWS Records (System Entry)'!$D$3)","v":""},null,null,null,null,null,null,null,null,null,null,null,null,null,null,null,null,null,null,""]
[{"$f":"IF(AND(ISBLANK(INDEX($G:$G,)), ISBLANK(INDEX($C:$C,))), \"\", 'PWS Records (System Entry)'!$D$4)","v":""},{"$f":"IF(AND(ISBLANK(INDEX($G:$G,)), ISBLANK(INDEX($C:$C,))), \"\", 'PWS Records (System Entry)'!$D$3)","v":""},null,null,null,null,null,null,null,null,null,null,null,null,null,null,null,null,null,null,""]
[{"$f":"IF(AND(ISBLANK(INDEX($G:$G,)), ISBLANK(INDEX($C:$C,))), \"\", 'PWS Records (System Entry)'!$D$4)","v":""},{"$f":"IF(AND(ISBLANK(INDEX($G:$G,)), ISBLANK(INDEX($C:$C,))), \"\", 'PWS Records (System Entry)'!$D$3)","v":""},null,null,null,null,null,null,null,null,null,null,null,null,null,null,null,null,null,null,""]
[{"$f":"IF(AND(ISBLANK(INDEX($G:$G,)), ISBLANK(INDEX($C:$C,))), \"\", 'PWS Records (System Entry)'!$D$4)","v":""},{"$f":"IF(AND(ISBLANK(INDEX($G:$G,)), ISBLANK(INDEX($C:$C,))), \"\", 'PWS Records (System Entry)'!$D$3)","v":""},null,null,null,null,null,null,null,null,null,null,null,null,null,null,null,null,null,null,""]
[{"$f":"IF(AND(ISBLANK(INDEX($G:$G,)), ISBLANK(INDEX($C:$C,))), \"\", 'PWS Records (System Entry)'!$D$4)","v":""},{"$f":"IF(AND(ISBLANK(INDEX($G:$G,)), ISBLANK(INDEX($C:$C,))), \"\", 'PWS Records (System Entry)'!$D$3)","v":""},null,null,null,null,null,null,null,null,null,null,null,null,null,null,null,null,null,null,""]
[{"$f":"IF(AND(ISBLANK(INDEX($G:$G,)), ISBLANK(INDEX($C:$C,))), \"\", 'PWS Records (System Entry)'!$D$4)","v":""},{"$f":"IF(AND(ISBLANK(INDEX($G:$G,)), ISBLANK(INDEX($C:$C,))), \"\", 'PWS Records (System Entry)'!$D$3)","v":""},null,null,null,null,null,null,null,null,null,null,null,null,null,null,null,null,null,null,""]
[{"$f":"IF(AND(ISBLANK(INDEX($G:$G,)), ISBLANK(INDEX($C:$C,))), \"\", 'PWS Records (System Entry)'!$D$4)","v":""},{"$f":"IF(AND(ISBLANK(INDEX($G:$G,)), ISBLANK(INDEX($C:$C,))), \"\", 'PWS Records (System Entry)'!$D$3)","v":""},null,null,null,null,null,null,null,null,null,null,null,null,null,null,null,null,null,null,""]
[{"$f":"IF(AND(ISBLANK(INDEX($G:$G,)), ISBLANK(INDEX($C:$C,))), \"\", 'PWS Records (System Entry)'!$D$4)","v":""},{"$f":"IF(AND(ISBLANK(INDEX($G:$G,)), ISBLANK(INDEX($C:$C,))), \"\", 'PWS Records (System Entry)'!$D$3)","v":""},null,null,null,null,null,null,null,null,null,null,null,null,null,null,null,null,null,null,""]
[{"$f":"IF(AND(ISBLANK(INDEX($G:$G,)), ISBLANK(INDEX($C:$C,))), \"\", 'PWS Records (System Entry)'!$D$4)","v":""},{"$f":"IF(AND(ISBLANK(INDEX($G:$G,)), ISBLANK(INDEX($C:$C,))), \"\", 'PWS Records (System Entry)'!$D$3)","v":""},null,null,null,null,null,null,null,null,null,null,null,null,null,null,null,null,null,null,""]
[{"$f":"IF(AND(ISBLANK(INDEX($G:$G,)), ISBLANK(INDEX($C:$C,))), \"\", 'PWS Records (System Entry)'!$D$4)","v":""},{"$f":"IF(AND(ISBLANK(INDEX($G:$G,)), ISBLANK(INDEX($C:$C,))), \"\", 'PWS Records (System Entry)'!$D$3)","v":""},null,null,null,null,null,null,null,null,null,null,null,null,null,null,null,null,null,null,""]
[{"$f":"IF(AND(ISBLANK(INDEX($G:$G,)), ISBLANK(INDEX($C:$C,))), \"\", 'PWS Records (System Entry)'!$D$4)","v":""},{"$f":"IF(AND(ISBLANK(INDEX($G:$G,)), ISBLANK(INDEX($C:$C,))), \"\", 'PWS Records (System Entry)'!$D$3)","v":""},null,null,null,null,null,null,null,null,null,null,null,null,null,null,null,null,null,null,""]
[{"$f":"IF(AND(ISBLANK(INDEX($G:$G,)), ISBLANK(INDEX($C:$C,))), \"\", 'PWS Records (System Entry)'!$D$4)","v":""},{"$f":"IF(AND(ISBLANK(INDEX($G:$G,)), ISBLANK(INDEX($C:$C,))), \"\", 'PWS Records (System Entry)'!$D$3)","v":""},null,null,null,null,null,null,null,null,null,null,null,null,null,null,null,null,null,null,""]
[{"$f":"IF(AND(ISBLANK(INDEX($G:$G,)), ISBLANK(INDEX($C:$C,))), \"\", 'PWS Records (System Entry)'!$D$4)","v":""},{"$f":"IF(AND(ISBLANK(INDEX($G:$G,)), ISBLANK(INDEX($C:$C,))), \"\", 'PWS Records (System Entry)'!$D$3)","v":""},null,null,null,null,null,null,null,null,null,null,null,null,null,null,null,null,null,null,""]
[{"$f":"IF(AND(ISBLANK(INDEX($G:$G,)), ISBLANK(INDEX($C:$C,))), \"\", 'PWS Records (System Entry)'!$D$4)","v":""},{"$f":"IF(AND(ISBLANK(INDEX($G:$G,)), ISBLANK(INDEX($C:$C,))), \"\", 'PWS Records (System Entry)'!$D$3)","v":""},null,null,null,null,null,null,null,null,null,null,null,null,null,null,null,null,null,null,""]
[{"$f":"IF(AND(ISBLANK(INDEX($G:$G,)), ISBLANK(INDEX($C:$C,))), \"\", 'PWS Records (System Entry)'!$D$4)","v":""},{"$f":"IF(AND(ISBLANK(INDEX($G:$G,)), ISBLANK(INDEX($C:$C,))), \"\", 'PWS Records (System Entry)'!$D$3)","v":""},null,null,null,null,null,null,null,null,null,null,null,null,null,null,null,null,null,null,{"$f":"IF(AND(INDEX($K:$K,)=\"\", INDEX($L:$L,)=\"\", INDEX($M:$M,)=\"\", INDEX($Q:$Q,)=\"\", INDEX($R:$R,)=\"\"), \"\", IF(OR(INDEX($K:$K,)=\"Lead\",INDEX($Q:$Q,)=\"Lead\"),\"Lead\",IF(OR(AND(OR(INDEX($M:$M,)=\"Yes\", INDEX($M:$M,)=\"Don't Know\", INDEX($M:$M,)=\"\"), INDEX($Q:$Q,)=\"Galvanized Iron/Steel\"), AND(INDEX($K:$K,)=\"Unknown\", INDEX($M:$M,)=\"No\", INDEX($Q:$Q,)=\"Galvanized Iron/Steel\")), \"Galvanized Requiring Replacement\", IF(OR(AND(OR(INDEX($K:$K,)=\"Galvanized Iron/Steel\", INDEX($K:$K,)=\"Non-Lead - Copper\", INDEX($K:$K,)=\"Non-Lead - Plastic\", INDEX($K:$K,)=\"Non-Lead - Other\", INDEX($K:$K,)=\"Non-Lead - Material Unknown\", INDEX($K:$K,)=\"No System Owned Portion\"), OR(INDEX($Q:$Q,)=\"Galvanized Iron/Steel\", INDEX($Q:$Q,)=\"Non-Lead - Copper\", INDEX($Q:$Q,)=\"Non-Lead - Plastic\", INDEX($Q:$Q,)=\"Non-Lead - Other\", INDEX($Q:$Q,)=\"Non-Lead - Predictive Model\", INDEX($Q:$Q,)=\"No Customer Owned Portion\")), AND(OR( INDEX($K:$K,)=\"Galvanized Iron/Steel\", INDEX($K:$K,)=\"Non-Lead - Copper\", INDEX($K:$K,)=\"Non-Lead - Plastic\", INDEX($K:$K,)=\"Non-Lead - Other\", INDEX($K:$K,)=\"Non-Lead - Material Unknown\", INDEX($K:$K,)=\"No System Owned Portion\"), INDEX($M:$M,)=\"No\", INDEX($Q:$Q,)=\"Non-Lead - Material Unknown\")), \"Non-Lead\", \"Lead Status Unknown\"))))","v":""}]
[{"$f":"IF(AND(ISBLANK(INDEX($G:$G,)), ISBLANK(INDEX($C:$C,))), \"\", 'PWS Records (System Entry)'!$D$4)","v":""},{"$f":"IF(AND(ISBLANK(INDEX($G:$G,)), ISBLANK(INDEX($C:$C,))), \"\", 'PWS Records (System Entry)'!$D$3)","v":""},null,null,null,null,null,null,null,null,null,null,null,null,null,null,null,null,null,null,""]
[{"$f":"IF(AND(ISBLANK(INDEX($G:$G,)), ISBLANK(INDEX($C:$C,))), \"\", 'PWS Records (System Entry)'!$D$4)","v":""},{"$f":"IF(AND(ISBLANK(INDEX($G:$G,)), ISBLANK(INDEX($C:$C,))), \"\", 'PWS Records (System Entry)'!$D$3)","v":""},null,null,null,null,null,null,null,null,null,null,null,null,null,null,null,null,null,null,""]
[{"$f":"IF(AND(ISBLANK(INDEX($G:$G,)), ISBLANK(INDEX($C:$C,))), \"\", 'PWS Records (System Entry)'!$D$4)","v":""},{"$f":"IF(AND(ISBLANK(INDEX($G:$G,)), ISBLANK(INDEX($C:$C,))), \"\", 'PWS Records (System Entry)'!$D$3)","v":""},null,null,null,null,null,null,null,null,null,null,null,null,null,null,null,null,null,null,""]
[{"$f":"IF(AND(ISBLANK(INDEX($G:$G,)), ISBLANK(INDEX($C:$C,))), \"\", 'PWS Records (System Entry)'!$D$4)","v":""},{"$f":"IF(AND(ISBLANK(INDEX($G:$G,)), ISBLANK(INDEX($C:$C,))), \"\", 'PWS Records (System Entry)'!$D$3)","v":""},null,null,null,null,null,null,null,null,null,null,null,null,null,null,null,null,null,null,""]
[{"$f":"IF(AND(ISBLANK(INDEX($G:$G,)), ISBLANK(INDEX($C:$C,))), \"\", 'PWS Records (System Entry)'!$D$4)","v":""},{"$f":"IF(AND(ISBLANK(INDEX($G:$G,)), ISBLANK(INDEX($C:$C,))), \"\", 'PWS Records (System Entry)'!$D$3)","v":""},null,null,null,null,null,null,null,null,null,null,null,null,null,null,null,null,null,null,""]
[{"$f":"IF(AND(ISBLANK(INDEX($G:$G,)), ISBLANK(INDEX($C:$C,))), \"\", 'PWS Records (System Entry)'!$D$4)","v":""},{"$f":"IF(AND(ISBLANK(INDEX($G:$G,)), ISBLANK(INDEX($C:$C,))), \"\", 'PWS Records (System Entry)'!$D$3)","v":""},null,null,null,null,null,null,null,null,null,null,null,null,null,null,null,null,null,null,""]
[{"$f":"IF(AND(ISBLANK(INDEX($G:$G,)), ISBLANK(INDEX($C:$C,))), \"\", 'PWS Records (System Entry)'!$D$4)","v":""},{"$f":"IF(AND(ISBLANK(INDEX($G:$G,)), ISBLANK(INDEX($C:$C,))), \"\", 'PWS Records (System Entry)'!$D$3)","v":""},null,null,null,null,null,null,null,null,null,null,null,null,null,null,null,null,null,null,""]
[{"$f":"IF(AND(ISBLANK(INDEX($G:$G,)), ISBLANK(INDEX($C:$C,))), \"\", 'PWS Records (System Entry)'!$D$4)","v":""},{"$f":"IF(AND(ISBLANK(INDEX($G:$G,)), ISBLANK(INDEX($C:$C,))), \"\", 'PWS Records (System Entry)'!$D$3)","v":""},null,null,null,null,null,null,null,null,null,null,null,null,null,null,null,null,null,null,""]
[{"$f":"IF(AND(ISBLANK(INDEX($G:$G,)), ISBLANK(INDEX($C:$C,))), \"\", 'PWS Records (System Entry)'!$D$4)","v":""},{"$f":"IF(AND(ISBLANK(INDEX($G:$G,)), ISBLANK(INDEX($C:$C,))), \"\", 'PWS Records (System Entry)'!$D$3)","v":""},null,null,null,null,null,null,null,null,null,null,null,null,null,null,null,null,null,null,""]
[{"$f":"IF(AND(ISBLANK(INDEX($G:$G,)), ISBLANK(INDEX($C:$C,))), \"\", 'PWS Records (System Entry)'!$D$4)","v":""},{"$f":"IF(AND(ISBLANK(INDEX($G:$G,)), ISBLANK(INDEX($C:$C,))), \"\", 'PWS Records (System Entry)'!$D$3)","v":""},null,null,null,null,null,null,null,null,null,null,null,null,null,null,null,null,null,null,""]
[{"$f":"IF(AND(ISBLANK(INDEX($G:$G,)), ISBLANK(INDEX($C:$C,))), \"\", 'PWS Records (System Entry)'!$D$4)","v":""},{"$f":"IF(AND(ISBLANK(INDEX($G:$G,)), ISBLANK(INDEX($C:$C,))), \"\", 'PWS Records (System Entry)'!$D$3)","v":""},null,null,null,null,null,null,null,null,null,null,null,null,null,null,null,null,null,null,""]
[{"$f":"IF(AND(ISBLANK(INDEX($G:$G,)), ISBLANK(INDEX($C:$C,))), \"\", 'PWS Records (System Entry)'!$D$4)","v":""},{"$f":"IF(AND(ISBLANK(INDEX($G:$G,)), ISBLANK(INDEX($C:$C,))), \"\", 'PWS Records (System Entry)'!$D$3)","v":""},null,null,null,null,null,null,null,null,null,null,null,null,null,null,null,null,null,null,""]
[{"$f":"IF(AND(ISBLANK(INDEX($G:$G,)), ISBLANK(INDEX($C:$C,))), \"\", 'PWS Records (System Entry)'!$D$4)","v":""},{"$f":"IF(AND(ISBLANK(INDEX($G:$G,)), ISBLANK(INDEX($C:$C,))), \"\", 'PWS Records (System Entry)'!$D$3)","v":""},null,null,null,null,null,null,null,null,null,null,null,null,null,null,null,null,null,null,""]
[{"$f":"IF(AND(ISBLANK(INDEX($G:$G,)), ISBLANK(INDEX($C:$C,))), \"\", 'PWS Records (System Entry)'!$D$4)","v":""},{"$f":"IF(AND(ISBLANK(INDEX($G:$G,)), ISBLANK(INDEX($C:$C,))), \"\", 'PWS Records (System Entry)'!$D$3)","v":""},null,null,null,null,null,null,null,null,null,null,null,null,null,null,null,null,null,null,""]
[{"$f":"IF(AND(ISBLANK(INDEX($G:$G,)), ISBLANK(INDEX($C:$C,))), \"\", 'PWS Records (System Entry)'!$D$4)","v":""},{"$f":"IF(AND(ISBLANK(INDEX($G:$G,)), ISBLANK(INDEX($C:$C,))), \"\", 'PWS Records (System Entry)'!$D$3)","v":""},null,null,null,null,null,null,null,null,null,null,null,null,null,null,null,null,null,null,""]
[{"$f":"IF(AND(ISBLANK(INDEX($G:$G,)), ISBLANK(INDEX($C:$C,))), \"\", 'PWS Records (System Entry)'!$D$4)","v":""},{"$f":"IF(AND(ISBLANK(INDEX($G:$G,)), ISBLANK(INDEX($C:$C,))), \"\", 'PWS Records (System Entry)'!$D$3)","v":""},null,null,null,null,null,null,null,null,null,null,null,null,null,null,null,null,null,null,""]
[{"$f":"IF(AND(ISBLANK(INDEX($G:$G,)), ISBLANK(INDEX($C:$C,))), \"\", 'PWS Records (System Entry)'!$D$4)","v":""},{"$f":"IF(AND(ISBLANK(INDEX($G:$G,)), ISBLANK(INDEX($C:$C,))), \"\", 'PWS Records (System Entry)'!$D$3)","v":""},null,null,null,null,null,null,null,null,null,null,null,null,null,null,null,null,null,null,""]
[{"$f":"IF(AND(ISBLANK(INDEX($G:$G,)), ISBLANK(INDEX($C:$C,))), \"\", 'PWS Records (System Entry)'!$D$4)","v":""},{"$f":"IF(AND(ISBLANK(INDEX($G:$G,)), ISBLANK(INDEX($C:$C,))), \"\", 'PWS Records (System Entry)'!$D$3)","v":""},null,null,null,null,null,null,null,null,null,null,null,null,null,null,null,null,null,null,""]
[{"$f":"IF(AND(ISBLANK(INDEX($G:$G,)), ISBLANK(INDEX($C:$C,))), \"\", 'PWS Records (System Entry)'!$D$4)","v":""},{"$f":"IF(AND(ISBLANK(INDEX($G:$G,)), ISBLANK(INDEX($C:$C,))), \"\", 'PWS Records (System Entry)'!$D$3)","v":""},null,null,null,null,null,null,null,null,null,null,null,null,null,null,null,null,null,null,""]
[{"$f":"IF(AND(ISBLANK(INDEX($G:$G,)), ISBLANK(INDEX($C:$C,))), \"\", 'PWS Records (System Entry)'!$D$4)","v":""},{"$f":"IF(AND(ISBLANK(INDEX($G:$G,)), ISBLANK(INDEX($C:$C,))), \"\", 'PWS Records (System Entry)'!$D$3)","v":""},null,null,null,null,null,null,null,null,null,null,null,null,null,null,null,null,null,null,""]
[{"$f":"IF(AND(ISBLANK(INDEX($G:$G,)), ISBLANK(INDEX($C:$C,))), \"\", 'PWS Records (System Entry)'!$D$4)","v":""},{"$f":"IF(AND(ISBLANK(INDEX($G:$G,)), ISBLANK(INDEX($C:$C,))), \"\", 'PWS Records (System Entry)'!$D$3)","v":""},null,null,null,null,null,null,null,null,null,null,null,null,null,null,null,null,null,null,""]
[{"$f":"IF(AND(ISBLANK(INDEX($G:$G,)), ISBLANK(INDEX($C:$C,))), \"\", 'PWS Records (System Entry)'!$D$4)","v":""},{"$f":"IF(AND(ISBLANK(INDEX($G:$G,)), ISBLANK(INDEX($C:$C,))), \"\", 'PWS Records (System Entry)'!$D$3)","v":""},null,null,null,null,null,null,null,null,null,null,null,null,null,null,null,null,null,null,""]
[{"$f":"IF(AND(ISBLANK(INDEX($G:$G,)), ISBLANK(INDEX($C:$C,))), \"\", 'PWS Records (System Entry)'!$D$4)","v":""},{"$f":"IF(AND(ISBLANK(INDEX($G:$G,)), ISBLANK(INDEX($C:$C,))), \"\", 'PWS Records (System Entry)'!$D$3)","v":""},null,null,null,null,null,null,null,null,null,null,null,null,null,null,null,null,null,null,""]
[{"$f":"IF(AND(ISBLANK(INDEX($G:$G,)), ISBLANK(INDEX($C:$C,))), \"\", 'PWS Records (System Entry)'!$D$4)","v":""},{"$f":"IF(AND(ISBLANK(INDEX($G:$G,)), ISBLANK(INDEX($C:$C,))), \"\", 'PWS Records (System Entry)'!$D$3)","v":""},null,null,null,null,null,null,null,null,null,null,null,null,null,null,null,null,null,null,""]
[{"$f":"IF(AND(ISBLANK(INDEX($G:$G,)), ISBLANK(INDEX($C:$C,))), \"\", 'PWS Records (System Entry)'!$D$4)","v":""},{"$f":"IF(AND(ISBLANK(INDEX($G:$G,)), ISBLANK(INDEX($C:$C,))), \"\", 'PWS Records (System Entry)'!$D$3)","v":""},null,null,null,null,null,null,null,null,null,null,null,null,null,null,null,null,null,null,""]
[{"$f":"IF(AND(ISBLANK(INDEX($G:$G,)), ISBLANK(INDEX($C:$C,))), \"\", 'PWS Records (System Entry)'!$D$4)","v":""},{"$f":"IF(AND(ISBLANK(INDEX($G:$G,)), ISBLANK(INDEX($C:$C,))), \"\", 'PWS Records (System Entry)'!$D$3)","v":""},null,null,null,null,null,null,null,null,null,null,null,null,null,null,null,null,null,null,""]
[{"$f":"IF(AND(ISBLANK(INDEX($G:$G,)), ISBLANK(INDEX($C:$C,))), \"\", 'PWS Records (System Entry)'!$D$4)","v":""},{"$f":"IF(AND(ISBLANK(INDEX($G:$G,)), ISBLANK(INDEX($C:$C,))), \"\", 'PWS Records (System Entry)'!$D$3)","v":""},null,null,null,null,null,null,null,null,null,null,null,null,null,null,null,null,null,null,""]
[{"$f":"IF(AND(ISBLANK(INDEX($G:$G,)), ISBLANK(INDEX($C:$C,))), \"\", 'PWS Records (System Entry)'!$D$4)","v":""},{"$f":"IF(AND(ISBLANK(INDEX($G:$G,)), ISBLANK(INDEX($C:$C,))), \"\", 'PWS Records (System Entry)'!$D$3)","v":""},null,null,null,null,null,null,null,null,null,null,null,null,null,null,null,null,null,null,""]
[{"$f":"IF(AND(ISBLANK(INDEX($G:$G,)), ISBLANK(INDEX($C:$C,))), \"\", 'PWS Records (System Entry)'!$D$4)","v":""},{"$f":"IF(AND(ISBLANK(INDEX($G:$G,)), ISBLANK(INDEX($C:$C,))), \"\", 'PWS Records (System Entry)'!$D$3)","v":""},null,null,null,null,null,null,null,null,null,null,null,null,null,null,null,null,null,null,""]
[{"$f":"IF(AND(ISBLANK(INDEX($G:$G,)), ISBLANK(INDEX($C:$C,))), \"\", 'PWS Records (System Entry)'!$D$4)","v":""},{"$f":"IF(AND(ISBLANK(INDEX($G:$G,)), ISBLANK(INDEX($C:$C,))), \"\", 'PWS Records (System Entry)'!$D$3)","v":""},null,null,null,null,null,null,null,null,null,null,null,null,null,null,null,null,null,null,""]
[{"$f":"IF(AND(ISBLANK(INDEX($G:$G,)), ISBLANK(INDEX($C:$C,))), \"\", 'PWS Records (System Entry)'!$D$4)","v":""},{"$f":"IF(AND(ISBLANK(INDEX($G:$G,)), ISBLANK(INDEX($C:$C,))), \"\", 'PWS Records (System Entry)'!$D$3)","v":""},null,null,null,null,null,null,null,null,null,null,null,null,null,null,null,null,null,null,""]
[{"$f":"IF(AND(ISBLANK(INDEX($G:$G,)), ISBLANK(INDEX($C:$C,))), \"\", 'PWS Records (System Entry)'!$D$4)","v":""},{"$f":"IF(AND(ISBLANK(INDEX($G:$G,)), ISBLANK(INDEX($C:$C,))), \"\", 'PWS Records (System Entry)'!$D$3)","v":""},null,null,null,null,null,null,null,null,null,null,null,null,null,null,null,null,null,null,""]
[{"$f":"IF(AND(ISBLANK(INDEX($G:$G,)), ISBLANK(INDEX($C:$C,))), \"\", 'PWS Records (System Entry)'!$D$4)","v":""},{"$f":"IF(AND(ISBLANK(INDEX($G:$G,)), ISBLANK(INDEX($C:$C,))), \"\", 'PWS Records (System Entry)'!$D$3)","v":""},null,null,null,null,null,null,null,null,null,null,null,null,null,null,null,null,null,null,""]
[{"$f":"IF(AND(ISBLANK(INDEX($G:$G,)), ISBLANK(INDEX($C:$C,))), \"\", 'PWS Records (System Entry)'!$D$4)","v":""},{"$f":"IF(AND(ISBLANK(INDEX($G:$G,)), ISBLANK(INDEX($C:$C,))), \"\", 'PWS Records (System Entry)'!$D$3)","v":""},null,null,null,null,null,null,null,null,null,null,null,null,null,null,null,null,null,null,""]
[{"$f":"IF(AND(ISBLANK(INDEX($G:$G,)), ISBLANK(INDEX($C:$C,))), \"\", 'PWS Records (System Entry)'!$D$4)","v":""},{"$f":"IF(AND(ISBLANK(INDEX($G:$G,)), ISBLANK(INDEX($C:$C,))), \"\", 'PWS Records (System Entry)'!$D$3)","v":""},null,null,null,null,null,null,null,null,null,null,null,null,null,null,null,null,null,null,""]
[{"$f":"IF(AND(ISBLANK(INDEX($G:$G,)), ISBLANK(INDEX($C:$C,))), \"\", 'PWS Records (System Entry)'!$D$4)","v":""},{"$f":"IF(AND(ISBLANK(INDEX($G:$G,)), ISBLANK(INDEX($C:$C,))), \"\", 'PWS Records (System Entry)'!$D$3)","v":""},null,null,null,null,null,null,null,null,null,null,null,null,null,null,null,null,null,null,""]
[{"$f":"IF(AND(ISBLANK(INDEX($G:$G,)), ISBLANK(INDEX($C:$C,))), \"\", 'PWS Records (System Entry)'!$D$4)","v":""},{"$f":"IF(AND(ISBLANK(INDEX($G:$G,)), ISBLANK(INDEX($C:$C,))), \"\", 'PWS Records (System Entry)'!$D$3)","v":""},null,null,null,null,null,null,null,null,null,null,null,null,null,null,null,null,null,null,""]
[{"$f":"IF(AND(ISBLANK(INDEX($G:$G,)), ISBLANK(INDEX($C:$C,))), \"\", 'PWS Records (System Entry)'!$D$4)","v":""},{"$f":"IF(AND(ISBLANK(INDEX($G:$G,)), ISBLANK(INDEX($C:$C,))), \"\", 'PWS Records (System Entry)'!$D$3)","v":""},null,null,null,null,null,null,null,null,null,null,null,null,null,null,null,null,null,null,""]
[{"$f":"IF(AND(ISBLANK(INDEX($G:$G,)), ISBLANK(INDEX($C:$C,))), \"\", 'PWS Records (System Entry)'!$D$4)","v":""},{"$f":"IF(AND(ISBLANK(INDEX($G:$G,)), ISBLANK(INDEX($C:$C,))), \"\", 'PWS Records (System Entry)'!$D$3)","v":""},null,null,null,null,null,null,null,null,null,null,null,null,null,null,null,null,null,null,""]
[{"$f":"IF(AND(ISBLANK(INDEX($G:$G,)), ISBLANK(INDEX($C:$C,))), \"\", 'PWS Records (System Entry)'!$D$4)","v":""},{"$f":"IF(AND(ISBLANK(INDEX($G:$G,)), ISBLANK(INDEX($C:$C,))), \"\", 'PWS Records (System Entry)'!$D$3)","v":""},null,null,null,null,null,null,null,null,null,null,null,null,null,null,null,null,null,null,""]
[{"$f":"IF(AND(ISBLANK(INDEX($G:$G,)), ISBLANK(INDEX($C:$C,))), \"\", 'PWS Records (System Entry)'!$D$4)","v":""},{"$f":"IF(AND(ISBLANK(INDEX($G:$G,)), ISBLANK(INDEX($C:$C,))), \"\", 'PWS Records (System Entry)'!$D$3)","v":""},null,null,null,null,null,null,null,null,null,null,null,null,null,null,null,null,null,null,""]
[{"$f":"IF(AND(ISBLANK(INDEX($G:$G,)), ISBLANK(INDEX($C:$C,))), \"\", 'PWS Records (System Entry)'!$D$4)","v":""},{"$f":"IF(AND(ISBLANK(INDEX($G:$G,)), ISBLANK(INDEX($C:$C,))), \"\", 'PWS Records (System Entry)'!$D$3)","v":""},null,null,null,null,null,null,null,null,null,null,null,null,null,null,null,null,null,null,""]
[{"$f":"IF(AND(ISBLANK(INDEX($G:$G,)), ISBLANK(INDEX($C:$C,))), \"\", 'PWS Records (System Entry)'!$D$4)","v":""},{"$f":"IF(AND(ISBLANK(INDEX($G:$G,)), ISBLANK(INDEX($C:$C,))), \"\", 'PWS Records (System Entry)'!$D$3)","v":""},null,null,null,null,null,null,null,null,null,null,null,null,null,null,null,null,null,null,""]
[{"$f":"IF(AND(ISBLANK(INDEX($G:$G,)), ISBLANK(INDEX($C:$C,))), \"\", 'PWS Records (System Entry)'!$D$4)","v":""},{"$f":"IF(AND(ISBLANK(INDEX($G:$G,)), ISBLANK(INDEX($C:$C,))), \"\", 'PWS Records (System Entry)'!$D$3)","v":""},null,null,null,null,null,null,null,null,null,null,null,null,null,null,null,null,null,null,""]
[{"$f":"IF(AND(ISBLANK(INDEX($G:$G,)), ISBLANK(INDEX($C:$C,))), \"\", 'PWS Records (System Entry)'!$D$4)","v":""},{"$f":"IF(AND(ISBLANK(INDEX($G:$G,)), ISBLANK(INDEX($C:$C,))), \"\", 'PWS Records (System Entry)'!$D$3)","v":""},null,null,null,null,null,null,null,null,null,null,null,null,null,null,null,null,null,null,""]
[{"$f":"IF(AND(ISBLANK(INDEX($G:$G,)), ISBLANK(INDEX($C:$C,))), \"\", 'PWS Records (System Entry)'!$D$4)","v":""},{"$f":"IF(AND(ISBLANK(INDEX($G:$G,)), ISBLANK(INDEX($C:$C,))), \"\", 'PWS Records (System Entry)'!$D$3)","v":""},null,null,null,null,null,null,null,null,null,null,null,null,null,null,null,null,null,null,""]
[{"$f":"IF(AND(ISBLANK(INDEX($G:$G,)), ISBLANK(INDEX($C:$C,))), \"\", 'PWS Records (System Entry)'!$D$4)","v":""},{"$f":"IF(AND(ISBLANK(INDEX($G:$G,)), ISBLANK(INDEX($C:$C,))), \"\", 'PWS Records (System Entry)'!$D$3)","v":""},null,null,null,null,null,null,null,null,null,null,null,null,null,null,null,null,null,null,""]
[{"$f":"IF(AND(ISBLANK(INDEX($G:$G,)), ISBLANK(INDEX($C:$C,))), \"\", 'PWS Records (System Entry)'!$D$4)","v":""},{"$f":"IF(AND(ISBLANK(INDEX($G:$G,)), ISBLANK(INDEX($C:$C,))), \"\", 'PWS Records (System Entry)'!$D$3)","v":""},null,null,null,null,null,null,null,null,null,null,null,null,null,null,null,null,null,null,""]
[{"$f":"IF(AND(ISBLANK(INDEX($G:$G,)), ISBLANK(INDEX($C:$C,))), \"\", 'PWS Records (System Entry)'!$D$4)","v":""},{"$f":"IF(AND(ISBLANK(INDEX($G:$G,)), ISBLANK(INDEX($C:$C,))), \"\", 'PWS Records (System Entry)'!$D$3)","v":""},null,null,null,null,null,null,null,null,null,null,null,null,null,null,null,null,null,null,""]
[{"$f":"IF(AND(ISBLANK(INDEX($G:$G,)), ISBLANK(INDEX($C:$C,))), \"\", 'PWS Records (System Entry)'!$D$4)","v":""},{"$f":"IF(AND(ISBLANK(INDEX($G:$G,)), ISBLANK(INDEX($C:$C,))), \"\", 'PWS Records (System Entry)'!$D$3)","v":""},null,null,null,null,null,null,null,null,null,null,null,null,null,null,null,null,null,null,""]
[{"$f":"IF(AND(ISBLANK(INDEX($G:$G,)), ISBLANK(INDEX($C:$C,))), \"\", 'PWS Records (System Entry)'!$D$4)","v":""},{"$f":"IF(AND(ISBLANK(INDEX($G:$G,)), ISBLANK(INDEX($C:$C,))), \"\", 'PWS Records (System Entry)'!$D$3)","v":""},null,null,null,null,null,null,null,null,null,null,null,null,null,null,null,null,null,null,""]
[{"$f":"IF(AND(ISBLANK(INDEX($G:$G,)), ISBLANK(INDEX($C:$C,))), \"\", 'PWS Records (System Entry)'!$D$4)","v":""},{"$f":"IF(AND(ISBLANK(INDEX($G:$G,)), ISBLANK(INDEX($C:$C,))), \"\", 'PWS Records (System Entry)'!$D$3)","v":""},null,null,null,null,null,null,null,null,null,null,null,null,null,null,null,null,null,null,""]
[{"$f":"IF(AND(ISBLANK(INDEX($G:$G,)), ISBLANK(INDEX($C:$C,))), \"\", 'PWS Records (System Entry)'!$D$4)","v":""},{"$f":"IF(AND(ISBLANK(INDEX($G:$G,)), ISBLANK(INDEX($C:$C,))), \"\", 'PWS Records (System Entry)'!$D$3)","v":""},null,null,null,null,null,null,null,null,null,null,null,null,null,null,null,null,null,null,""]
[{"$f":"IF(AND(ISBLANK(INDEX($G:$G,)), ISBLANK(INDEX($C:$C,))), \"\", 'PWS Records (System Entry)'!$D$4)","v":""},{"$f":"IF(AND(ISBLANK(INDEX($G:$G,)), ISBLANK(INDEX($C:$C,))), \"\", 'PWS Records (System Entry)'!$D$3)","v":""},null,null,null,null,null,null,null,null,null,null,null,null,null,null,null,null,null,null,""]
[{"$f":"IF(AND(ISBLANK(INDEX($G:$G,)), ISBLANK(INDEX($C:$C,))), \"\", 'PWS Records (System Entry)'!$D$4)","v":""},{"$f":"IF(AND(ISBLANK(INDEX($G:$G,)), ISBLANK(INDEX($C:$C,))), \"\", 'PWS Records (System Entry)'!$D$3)","v":""},null,null,null,null,null,null,null,null,null,null,null,null,null,null,null,null,null,null,""]
[{"$f":"IF(AND(ISBLANK(INDEX($G:$G,)), ISBLANK(INDEX($C:$C,))), \"\", 'PWS Records (System Entry)'!$D$4)","v":""},{"$f":"IF(AND(ISBLANK(INDEX($G:$G,)), ISBLANK(INDEX($C:$C,))), \"\", 'PWS Records (System Entry)'!$D$3)","v":""},null,null,null,null,null,null,null,null,null,null,null,null,null,null,null,null,null,null,""]
[{"$f":"IF(AND(ISBLANK(INDEX($G:$G,)), ISBLANK(INDEX($C:$C,))), \"\", 'PWS Records (System Entry)'!$D$4)","v":""},{"$f":"IF(AND(ISBLANK(INDEX($G:$G,)), ISBLANK(INDEX($C:$C,))), \"\", 'PWS Records (System Entry)'!$D$3)","v":""},null,null,null,null,null,null,null,null,null,null,null,null,null,null,null,null,null,null,""]
[{"$f":"IF(AND(ISBLANK(INDEX($G:$G,)), ISBLANK(INDEX($C:$C,))), \"\", 'PWS Records (System Entry)'!$D$4)","v":""},{"$f":"IF(AND(ISBLANK(INDEX($G:$G,)), ISBLANK(INDEX($C:$C,))), \"\", 'PWS Records (System Entry)'!$D$3)","v":""},null,null,null,null,null,null,null,null,null,null,null,null,null,null,null,null,null,null,""]
[{"$f":"IF(AND(ISBLANK(INDEX($G:$G,)), ISBLANK(INDEX($C:$C,))), \"\", 'PWS Records (System Entry)'!$D$4)","v":""},{"$f":"IF(AND(ISBLANK(INDEX($G:$G,)), ISBLANK(INDEX($C:$C,))), \"\", 'PWS Records (System Entry)'!$D$3)","v":""},null,null,null,null,null,null,null,null,null,null,null,null,null,null,null,null,null,null,""]
[{"$f":"IF(AND(ISBLANK(INDEX($G:$G,)), ISBLANK(INDEX($C:$C,))), \"\", 'PWS Records (System Entry)'!$D$4)","v":""},{"$f":"IF(AND(ISBLANK(INDEX($G:$G,)), ISBLANK(INDEX($C:$C,))), \"\", 'PWS Records (System Entry)'!$D$3)","v":""},null,null,null,null,null,null,null,null,null,null,null,null,null,null,null,null,null,null,""]
[{"$f":"IF(AND(ISBLANK(INDEX($G:$G,)), ISBLANK(INDEX($C:$C,))), \"\", 'PWS Records (System Entry)'!$D$4)","v":""},{"$f":"IF(AND(ISBLANK(INDEX($G:$G,)), ISBLANK(INDEX($C:$C,))), \"\", 'PWS Records (System Entry)'!$D$3)","v":""},null,null,null,null,null,null,null,null,null,null,null,null,null,null,null,null,null,null,""]
[{"$f":"IF(AND(ISBLANK(INDEX($G:$G,)), ISBLANK(INDEX($C:$C,))), \"\", 'PWS Records (System Entry)'!$D$4)","v":""},{"$f":"IF(AND(ISBLANK(INDEX($G:$G,)), ISBLANK(INDEX($C:$C,))), \"\", 'PWS Records (System Entry)'!$D$3)","v":""},null,null,null,null,null,null,null,null,null,null,null,null,null,null,null,null,null,null,""]
[{"$f":"IF(AND(ISBLANK(INDEX($G:$G,)), ISBLANK(INDEX($C:$C,))), \"\", 'PWS Records (System Entry)'!$D$4)","v":""},{"$f":"IF(AND(ISBLANK(INDEX($G:$G,)), ISBLANK(INDEX($C:$C,))), \"\", 'PWS Records (System Entry)'!$D$3)","v":""},null,null,null,null,null,null,null,null,null,null,null,null,null,null,null,null,null,null,""]
[{"$f":"IF(AND(ISBLANK(INDEX($G:$G,)), ISBLANK(INDEX($C:$C,))), \"\", 'PWS Records (System Entry)'!$D$4)","v":""},{"$f":"IF(AND(ISBLANK(INDEX($G:$G,)), ISBLANK(INDEX($C:$C,))), \"\", 'PWS Records (System Entry)'!$D$3)","v":""},null,null,null,null,null,null,null,null,null,null,null,null,null,null,null,null,null,null,""]
[{"$f":"IF(AND(ISBLANK(INDEX($G:$G,)), ISBLANK(INDEX($C:$C,))), \"\", 'PWS Records (System Entry)'!$D$4)","v":""},{"$f":"IF(AND(ISBLANK(INDEX($G:$G,)), ISBLANK(INDEX($C:$C,))), \"\", 'PWS Records (System Entry)'!$D$3)","v":""},null,null,null,null,null,null,null,null,null,null,null,null,null,null,null,null,null,null,""]
[{"$f":"IF(AND(ISBLANK(INDEX($G:$G,)), ISBLANK(INDEX($C:$C,))), \"\", 'PWS Records (System Entry)'!$D$4)","v":""},{"$f":"IF(AND(ISBLANK(INDEX($G:$G,)), ISBLANK(INDEX($C:$C,))), \"\", 'PWS Records (System Entry)'!$D$3)","v":""},null,null,null,null,null,null,null,null,null,null,null,null,null,null,null,null,null,null,""]
[{"$f":"IF(AND(ISBLANK(INDEX($G:$G,)), ISBLANK(INDEX($C:$C,))), \"\", 'PWS Records (System Entry)'!$D$4)","v":""},{"$f":"IF(AND(ISBLANK(INDEX($G:$G,)), ISBLANK(INDEX($C:$C,))), \"\", 'PWS Records (System Entry)'!$D$3)","v":""},null,null,null,null,null,null,null,null,null,null,null,null,null,null,null,null,null,null,""]
[{"$f":"IF(AND(ISBLANK(INDEX($G:$G,)), ISBLANK(INDEX($C:$C,))), \"\", 'PWS Records (System Entry)'!$D$4)","v":""},{"$f":"IF(AND(ISBLANK(INDEX($G:$G,)), ISBLANK(INDEX($C:$C,))), \"\", 'PWS Records (System Entry)'!$D$3)","v":""},null,null,null,null,null,null,null,null,null,null,null,null,null,null,null,null,null,null,""]
[{"$f":"IF(AND(ISBLANK(INDEX($G:$G,)), ISBLANK(INDEX($C:$C,))), \"\", 'PWS Records (System Entry)'!$D$4)","v":""},{"$f":"IF(AND(ISBLANK(INDEX($G:$G,)), ISBLANK(INDEX($C:$C,))), \"\", 'PWS Records (System Entry)'!$D$3)","v":""},null,null,null,null,null,null,null,null,null,null,null,null,null,null,null,null,null,null,""]
[{"$f":"IF(AND(ISBLANK(INDEX($G:$G,)), ISBLANK(INDEX($C:$C,))), \"\", 'PWS Records (System Entry)'!$D$4)","v":""},{"$f":"IF(AND(ISBLANK(INDEX($G:$G,)), ISBLANK(INDEX($C:$C,))), \"\", 'PWS Records (System Entry)'!$D$3)","v":""},null,null,null,null,null,null,null,null,null,null,null,null,null,null,null,null,null,null,""]
[{"$f":"IF(AND(ISBLANK(INDEX($G:$G,)), ISBLANK(INDEX($C:$C,))), \"\", 'PWS Records (System Entry)'!$D$4)","v":""},{"$f":"IF(AND(ISBLANK(INDEX($G:$G,)), ISBLANK(INDEX($C:$C,))), \"\", 'PWS Records (System Entry)'!$D$3)","v":""},null,null,null,null,null,null,null,null,null,null,null,null,null,null,null,null,null,null,""]
[{"$f":"IF(AND(ISBLANK(INDEX($G:$G,)), ISBLANK(INDEX($C:$C,))), \"\", 'PWS Records (System Entry)'!$D$4)","v":""},{"$f":"IF(AND(ISBLANK(INDEX($G:$G,)), ISBLANK(INDEX($C:$C,))), \"\", 'PWS Records (System Entry)'!$D$3)","v":""},null,null,null,null,null,null,null,null,null,null,null,null,null,null,null,null,null,null,""]
[{"$f":"IF(AND(ISBLANK(INDEX($G:$G,)), ISBLANK(INDEX($C:$C,))), \"\", 'PWS Records (System Entry)'!$D$4)","v":""},{"$f":"IF(AND(ISBLANK(INDEX($G:$G,)), ISBLANK(INDEX($C:$C,))), \"\", 'PWS Records (System Entry)'!$D$3)","v":""},null,null,null,null,null,null,null,null,null,null,null,null,null,null,null,null,null,null,""]
[{"$f":"IF(AND(ISBLANK(INDEX($G:$G,)), ISBLANK(INDEX($C:$C,))), \"\", 'PWS Records (System Entry)'!$D$4)","v":""},{"$f":"IF(AND(ISBLANK(INDEX($G:$G,)), ISBLANK(INDEX($C:$C,))), \"\", 'PWS Records (System Entry)'!$D$3)","v":""},null,null,null,null,null,null,null,null,null,null,null,null,null,null,null,null,null,null,""]
[{"$f":"IF(AND(ISBLANK(INDEX($G:$G,)), ISBLANK(INDEX($C:$C,))), \"\", 'PWS Records (System Entry)'!$D$4)","v":""},{"$f":"IF(AND(ISBLANK(INDEX($G:$G,)), ISBLANK(INDEX($C:$C,))), \"\", 'PWS Records (System Entry)'!$D$3)","v":""},null,null,null,null,null,null,null,null,null,null,null,null,null,null,null,null,null,null,""]
[{"$f":"IF(AND(ISBLANK(INDEX($G:$G,)), ISBLANK(INDEX($C:$C,))), \"\", 'PWS Records (System Entry)'!$D$4)","v":""},{"$f":"IF(AND(ISBLANK(INDEX($G:$G,)), ISBLANK(INDEX($C:$C,))), \"\", 'PWS Records (System Entry)'!$D$3)","v":""},null,null,null,null,null,null,null,null,null,null,null,null,null,null,null,null,null,null,""]
[{"$f":"IF(AND(ISBLANK(INDEX($G:$G,)), ISBLANK(INDEX($C:$C,))), \"\", 'PWS Records (System Entry)'!$D$4)","v":""},{"$f":"IF(AND(ISBLANK(INDEX($G:$G,)), ISBLANK(INDEX($C:$C,))), \"\", 'PWS Records (System Entry)'!$D$3)","v":""},null,null,null,null,null,null,null,null,null,null,null,null,null,null,null,null,null,null,""]
[{"$f":"IF(AND(ISBLANK(INDEX($G:$G,)), ISBLANK(INDEX($C:$C,))), \"\", 'PWS Records (System Entry)'!$D$4)","v":""},{"$f":"IF(AND(ISBLANK(INDEX($G:$G,)), ISBLANK(INDEX($C:$C,))), \"\", 'PWS Records (System Entry)'!$D$3)","v":""},null,null,null,null,null,null,null,null,null,null,null,null,null,null,null,null,null,null,""]
[{"$f":"IF(AND(ISBLANK(INDEX($G:$G,)), ISBLANK(INDEX($C:$C,))), \"\", 'PWS Records (System Entry)'!$D$4)","v":""},{"$f":"IF(AND(ISBLANK(INDEX($G:$G,)), ISBLANK(INDEX($C:$C,))), \"\", 'PWS Records (System Entry)'!$D$3)","v":""},null,null,null,null,null,null,null,null,null,null,null,null,null,null,null,null,null,null,""]
[{"$f":"IF(AND(ISBLANK(INDEX($G:$G,)), ISBLANK(INDEX($C:$C,))), \"\", 'PWS Records (System Entry)'!$D$4)","v":""},{"$f":"IF(AND(ISBLANK(INDEX($G:$G,)), ISBLANK(INDEX($C:$C,))), \"\", 'PWS Records (System Entry)'!$D$3)","v":""},null,null,null,null,null,null,null,null,null,null,null,null,null,null,null,null,null,null,""]
[{"$f":"IF(AND(ISBLANK(INDEX($G:$G,)), ISBLANK(INDEX($C:$C,))), \"\", 'PWS Records (System Entry)'!$D$4)","v":""},{"$f":"IF(AND(ISBLANK(INDEX($G:$G,)), ISBLANK(INDEX($C:$C,))), \"\", 'PWS Records (System Entry)'!$D$3)","v":""},null,null,null,null,null,null,null,null,null,null,null,null,null,null,null,null,null,null,""]
[{"$f":"IF(AND(ISBLANK(INDEX($G:$G,)), ISBLANK(INDEX($C:$C,))), \"\", 'PWS Records (System Entry)'!$D$4)","v":""},{"$f":"IF(AND(ISBLANK(INDEX($G:$G,)), ISBLANK(INDEX($C:$C,))), \"\", 'PWS Records (System Entry)'!$D$3)","v":""},null,null,null,null,null,null,null,null,null,null,null,null,null,null,null,null,null,null,""]
[{"$f":"IF(AND(ISBLANK(INDEX($G:$G,)), ISBLANK(INDEX($C:$C,))), \"\", 'PWS Records (System Entry)'!$D$4)","v":""},{"$f":"IF(AND(ISBLANK(INDEX($G:$G,)), ISBLANK(INDEX($C:$C,))), \"\", 'PWS Records (System Entry)'!$D$3)","v":""},null,null,null,null,null,null,null,null,null,null,null,null,null,null,null,null,null,null,""]
[{"$f":"IF(AND(ISBLANK(INDEX($G:$G,)), ISBLANK(INDEX($C:$C,))), \"\", 'PWS Records (System Entry)'!$D$4)","v":""},{"$f":"IF(AND(ISBLANK(INDEX($G:$G,)), ISBLANK(INDEX($C:$C,))), \"\", 'PWS Records (System Entry)'!$D$3)","v":""},null,null,null,null,null,null,null,null,null,null,null,null,null,null,null,null,null,null,""]
[{"$f":"IF(AND(ISBLANK(INDEX($G:$G,)), ISBLANK(INDEX($C:$C,))), \"\", 'PWS Records (System Entry)'!$D$4)","v":""},{"$f":"IF(AND(ISBLANK(INDEX($G:$G,)), ISBLANK(INDEX($C:$C,))), \"\", 'PWS Records (System Entry)'!$D$3)","v":""},null,null,null,null,null,null,null,null,null,null,null,null,null,null,null,null,null,null,{"$f":"IF(AND(INDEX($K:$K,)=\"\", INDEX($L:$L,)=\"\", INDEX($M:$M,)=\"\", INDEX($Q:$Q,)=\"\", INDEX($R:$R,)=\"\"), \"\", IF(OR(INDEX($K:$K,)=\"Lead\",INDEX($Q:$Q,)=\"Lead\"),\"Lead\",IF(OR(AND(OR(INDEX($M:$M,)=\"Yes\", INDEX($M:$M,)=\"Don't Know\", INDEX($M:$M,)=\"\"), INDEX($Q:$Q,)=\"Galvanized Iron/Steel\"), AND(INDEX($K:$K,)=\"Unknown\", INDEX($M:$M,)=\"No\", INDEX($Q:$Q,)=\"Galvanized Iron/Steel\")), \"Galvanized Requiring Replacement\", IF(OR(AND(OR(INDEX($K:$K,)=\"Galvanized Iron/Steel\", INDEX($K:$K,)=\"Non-Lead - Copper\", INDEX($K:$K,)=\"Non-Lead - Plastic\", INDEX($K:$K,)=\"Non-Lead - Other\", INDEX($K:$K,)=\"Non-Lead - Material Unknown\", INDEX($K:$K,)=\"No System Owned Portion\"), OR(INDEX($Q:$Q,)=\"Galvanized Iron/Steel\", INDEX($Q:$Q,)=\"Non-Lead - Copper\", INDEX($Q:$Q,)=\"Non-Lead - Plastic\", INDEX($Q:$Q,)=\"Non-Lead - Other\", INDEX($Q:$Q,)=\"Non-Lead - Predictive Model\", INDEX($Q:$Q,)=\"No Customer Owned Portion\")), AND(OR( INDEX($K:$K,)=\"Galvanized Iron/Steel\", INDEX($K:$K,)=\"Non-Lead - Copper\", INDEX($K:$K,)=\"Non-Lead - Plastic\", INDEX($K:$K,)=\"Non-Lead - Other\", INDEX($K:$K,)=\"Non-Lead - Material Unknown\", INDEX($K:$K,)=\"No System Owned Portion\"), INDEX($M:$M,)=\"No\", INDEX($Q:$Q,)=\"Non-Lead - Material Unknown\")), \"Non-Lead\", \"Lead Status Unknown\"))))","v":""}]
[{"$f":"IF(AND(ISBLANK(INDEX($G:$G,)), ISBLANK(INDEX($C:$C,))), \"\", 'PWS Records (System Entry)'!$D$4)","v":""},{"$f":"IF(AND(ISBLANK(INDEX($G:$G,)), ISBLANK(INDEX($C:$C,))), \"\", 'PWS Records (System Entry)'!$D$3)","v":""},null,null,null,null,null,null,null,null,null,null,null,null,null,null,null,null,null,null,""]
[{"$f":"IF(AND(ISBLANK(INDEX($G:$G,)), ISBLANK(INDEX($C:$C,))), \"\", 'PWS Records (System Entry)'!$D$4)","v":""},{"$f":"IF(AND(ISBLANK(INDEX($G:$G,)), ISBLANK(INDEX($C:$C,))), \"\", 'PWS Records (System Entry)'!$D$3)","v":""},null,null,null,null,null,null,null,null,null,null,null,null,null,null,null,null,null,null,""]
[{"$f":"IF(AND(ISBLANK(INDEX($G:$G,)), ISBLANK(INDEX($C:$C,))), \"\", 'PWS Records (System Entry)'!$D$4)","v":""},{"$f":"IF(AND(ISBLANK(INDEX($G:$G,)), ISBLANK(INDEX($C:$C,))), \"\", 'PWS Records (System Entry)'!$D$3)","v":""},null,null,null,null,null,null,null,null,null,null,null,null,null,null,null,null,null,null,""]
[{"$f":"IF(AND(ISBLANK(INDEX($G:$G,)), ISBLANK(INDEX($C:$C,))), \"\", 'PWS Records (System Entry)'!$D$4)","v":""},{"$f":"IF(AND(ISBLANK(INDEX($G:$G,)), ISBLANK(INDEX($C:$C,))), \"\", 'PWS Records (System Entry)'!$D$3)","v":""},null,null,null,null,null,null,null,null,null,null,null,null,null,null,null,null,null,null,""]
[{"$f":"IF(AND(ISBLANK(INDEX($G:$G,)), ISBLANK(INDEX($C:$C,))), \"\", 'PWS Records (System Entry)'!$D$4)","v":""},{"$f":"IF(AND(ISBLANK(INDEX($G:$G,)), ISBLANK(INDEX($C:$C,))), \"\", 'PWS Records (System Entry)'!$D$3)","v":""},null,null,null,null,null,null,null,null,null,null,null,null,null,null,null,null,null,null,""]
[{"$f":"IF(AND(ISBLANK(INDEX($G:$G,)), ISBLANK(INDEX($C:$C,))), \"\", 'PWS Records (System Entry)'!$D$4)","v":""},{"$f":"IF(AND(ISBLANK(INDEX($G:$G,)), ISBLANK(INDEX($C:$C,))), \"\", 'PWS Records (System Entry)'!$D$3)","v":""},null,null,null,null,null,null,null,null,null,null,null,null,null,null,null,null,null,null,""]
[{"$f":"IF(AND(ISBLANK(INDEX($G:$G,)), ISBLANK(INDEX($C:$C,))), \"\", 'PWS Records (System Entry)'!$D$4)","v":""},{"$f":"IF(AND(ISBLANK(INDEX($G:$G,)), ISBLANK(INDEX($C:$C,))), \"\", 'PWS Records (System Entry)'!$D$3)","v":""},null,null,null,null,null,null,null,null,null,null,null,null,null,null,null,null,null,null,""]
[{"$f":"IF(AND(ISBLANK(INDEX($G:$G,)), ISBLANK(INDEX($C:$C,))), \"\", 'PWS Records (System Entry)'!$D$4)","v":""},{"$f":"IF(AND(ISBLANK(INDEX($G:$G,)), ISBLANK(INDEX($C:$C,))), \"\", 'PWS Records (System Entry)'!$D$3)","v":""},null,null,null,null,null,null,null,null,null,null,null,null,null,null,null,null,null,null,""]
[{"$f":"IF(AND(ISBLANK(INDEX($G:$G,)), ISBLANK(INDEX($C:$C,))), \"\", 'PWS Records (System Entry)'!$D$4)","v":""},{"$f":"IF(AND(ISBLANK(INDEX($G:$G,)), ISBLANK(INDEX($C:$C,))), \"\", 'PWS Records (System Entry)'!$D$3)","v":""},null,null,null,null,null,null,null,null,null,null,null,null,null,null,null,null,null,null,""]
[{"$f":"IF(AND(ISBLANK(INDEX($G:$G,)), ISBLANK(INDEX($C:$C,))), \"\", 'PWS Records (System Entry)'!$D$4)","v":""},{"$f":"IF(AND(ISBLANK(INDEX($G:$G,)), ISBLANK(INDEX($C:$C,))), \"\", 'PWS Records (System Entry)'!$D$3)","v":""},null,null,null,null,null,null,null,null,null,null,null,null,null,null,null,null,null,null,""]
[{"$f":"IF(AND(ISBLANK(INDEX($G:$G,)), ISBLANK(INDEX($C:$C,))), \"\", 'PWS Records (System Entry)'!$D$4)","v":""},{"$f":"IF(AND(ISBLANK(INDEX($G:$G,)), ISBLANK(INDEX($C:$C,))), \"\", 'PWS Records (System Entry)'!$D$3)","v":""},null,null,null,null,null,null,null,null,null,null,null,null,null,null,null,null,null,null,""]
[{"$f":"IF(AND(ISBLANK(INDEX($G:$G,)), ISBLANK(INDEX($C:$C,))), \"\", 'PWS Records (System Entry)'!$D$4)","v":""},{"$f":"IF(AND(ISBLANK(INDEX($G:$G,)), ISBLANK(INDEX($C:$C,))), \"\", 'PWS Records (System Entry)'!$D$3)","v":""},null,null,null,null,null,null,null,null,null,null,null,null,null,null,null,null,null,null,""]
[{"$f":"IF(AND(ISBLANK(INDEX($G:$G,)), ISBLANK(INDEX($C:$C,))), \"\", 'PWS Records (System Entry)'!$D$4)","v":""},{"$f":"IF(AND(ISBLANK(INDEX($G:$G,)), ISBLANK(INDEX($C:$C,))), \"\", 'PWS Records (System Entry)'!$D$3)","v":""},null,null,null,null,null,null,null,null,null,null,null,null,null,null,null,null,null,null,""]
[{"$f":"IF(AND(ISBLANK(INDEX($G:$G,)), ISBLANK(INDEX($C:$C,))), \"\", 'PWS Records (System Entry)'!$D$4)","v":""},{"$f":"IF(AND(ISBLANK(INDEX($G:$G,)), ISBLANK(INDEX($C:$C,))), \"\", 'PWS Records (System Entry)'!$D$3)","v":""},null,null,null,null,null,null,null,null,null,null,null,null,null,null,null,null,null,null,""]
[{"$f":"IF(AND(ISBLANK(INDEX($G:$G,)), ISBLANK(INDEX($C:$C,))), \"\", 'PWS Records (System Entry)'!$D$4)","v":""},{"$f":"IF(AND(ISBLANK(INDEX($G:$G,)), ISBLANK(INDEX($C:$C,))), \"\", 'PWS Records (System Entry)'!$D$3)","v":""},null,null,null,null,null,null,null,null,null,null,null,null,null,null,null,null,null,null,""]
[{"$f":"IF(AND(ISBLANK(INDEX($G:$G,)), ISBLANK(INDEX($C:$C,))), \"\", 'PWS Records (System Entry)'!$D$4)","v":""},{"$f":"IF(AND(ISBLANK(INDEX($G:$G,)), ISBLANK(INDEX($C:$C,))), \"\", 'PWS Records (System Entry)'!$D$3)","v":""},null,null,null,null,null,null,null,null,null,null,null,null,null,null,null,null,null,null,""]
[{"$f":"IF(AND(ISBLANK(INDEX($G:$G,)), ISBLANK(INDEX($C:$C,))), \"\", 'PWS Records (System Entry)'!$D$4)","v":""},{"$f":"IF(AND(ISBLANK(INDEX($G:$G,)), ISBLANK(INDEX($C:$C,))), \"\", 'PWS Records (System Entry)'!$D$3)","v":""},null,null,null,null,null,null,null,null,null,null,null,null,null,null,null,null,null,null,""]
[{"$f":"IF(AND(ISBLANK(INDEX($G:$G,)), ISBLANK(INDEX($C:$C,))), \"\", 'PWS Records (System Entry)'!$D$4)","v":""},{"$f":"IF(AND(ISBLANK(INDEX($G:$G,)), ISBLANK(INDEX($C:$C,))), \"\", 'PWS Records (System Entry)'!$D$3)","v":""},null,null,null,null,null,null,null,null,null,null,null,null,null,null,null,null,null,null,""]
[{"$f":"IF(AND(ISBLANK(INDEX($G:$G,)), ISBLANK(INDEX($C:$C,))), \"\", 'PWS Records (System Entry)'!$D$4)","v":""},{"$f":"IF(AND(ISBLANK(INDEX($G:$G,)), ISBLANK(INDEX($C:$C,))), \"\", 'PWS Records (System Entry)'!$D$3)","v":""},null,null,null,null,null,null,null,null,null,null,null,null,null,null,null,null,null,null,""]
[{"$f":"IF(AND(ISBLANK(INDEX($G:$G,)), ISBLANK(INDEX($C:$C,))), \"\", 'PWS Records (System Entry)'!$D$4)","v":""},{"$f":"IF(AND(ISBLANK(INDEX($G:$G,)), ISBLANK(INDEX($C:$C,))), \"\", 'PWS Records (System Entry)'!$D$3)","v":""},null,null,null,null,null,null,null,null,null,null,null,null,null,null,null,null,null,null,""]
[{"$f":"IF(AND(ISBLANK(INDEX($G:$G,)), ISBLANK(INDEX($C:$C,))), \"\", 'PWS Records (System Entry)'!$D$4)","v":""},{"$f":"IF(AND(ISBLANK(INDEX($G:$G,)), ISBLANK(INDEX($C:$C,))), \"\", 'PWS Records (System Entry)'!$D$3)","v":""},null,null,null,null,null,null,null,null,null,null,null,null,null,null,null,null,null,null,""]
[{"$f":"IF(AND(ISBLANK(INDEX($G:$G,)), ISBLANK(INDEX($C:$C,))), \"\", 'PWS Records (System Entry)'!$D$4)","v":""},{"$f":"IF(AND(ISBLANK(INDEX($G:$G,)), ISBLANK(INDEX($C:$C,))), \"\", 'PWS Records (System Entry)'!$D$3)","v":""},null,null,null,null,null,null,null,null,null,null,null,null,null,null,null,null,null,null,""]
[{"$f":"IF(AND(ISBLANK(INDEX($G:$G,)), ISBLANK(INDEX($C:$C,))), \"\", 'PWS Records (System Entry)'!$D$4)","v":""},{"$f":"IF(AND(ISBLANK(INDEX($G:$G,)), ISBLANK(INDEX($C:$C,))), \"\", 'PWS Records (System Entry)'!$D$3)","v":""},null,null,null,null,null,null,null,null,null,null,null,null,null,null,null,null,null,null,""]
[{"$f":"IF(AND(ISBLANK(INDEX($G:$G,)), ISBLANK(INDEX($C:$C,))), \"\", 'PWS Records (System Entry)'!$D$4)","v":""},{"$f":"IF(AND(ISBLANK(INDEX($G:$G,)), ISBLANK(INDEX($C:$C,))), \"\", 'PWS Records (System Entry)'!$D$3)","v":""},null,null,null,null,null,null,null,null,null,null,null,null,null,null,null,null,null,null,""]
[{"$f":"IF(AND(ISBLANK(INDEX($G:$G,)), ISBLANK(INDEX($C:$C,))), \"\", 'PWS Records (System Entry)'!$D$4)","v":""},{"$f":"IF(AND(ISBLANK(INDEX($G:$G,)), ISBLANK(INDEX($C:$C,))), \"\", 'PWS Records (System Entry)'!$D$3)","v":""},null,null,null,null,null,null,null,null,null,null,null,null,null,null,null,null,null,null,""]
[{"$f":"IF(AND(ISBLANK(INDEX($G:$G,)), ISBLANK(INDEX($C:$C,))), \"\", 'PWS Records (System Entry)'!$D$4)","v":""},{"$f":"IF(AND(ISBLANK(INDEX($G:$G,)), ISBLANK(INDEX($C:$C,))), \"\", 'PWS Records (System Entry)'!$D$3)","v":""},null,null,null,null,null,null,null,null,null,null,null,null,null,null,null,null,null,null,""]
[{"$f":"IF(AND(ISBLANK(INDEX($G:$G,)), ISBLANK(INDEX($C:$C,))), \"\", 'PWS Records (System Entry)'!$D$4)","v":""},{"$f":"IF(AND(ISBLANK(INDEX($G:$G,)), ISBLANK(INDEX($C:$C,))), \"\", 'PWS Records (System Entry)'!$D$3)","v":""},null,null,null,null,null,null,null,null,null,null,null,null,null,null,null,null,null,null,""]
[{"$f":"IF(AND(ISBLANK(INDEX($G:$G,)), ISBLANK(INDEX($C:$C,))), \"\", 'PWS Records (System Entry)'!$D$4)","v":""},{"$f":"IF(AND(ISBLANK(INDEX($G:$G,)), ISBLANK(INDEX($C:$C,))), \"\", 'PWS Records (System Entry)'!$D$3)","v":""},null,null,null,null,null,null,null,null,null,null,null,null,null,null,null,null,null,null,""]
[{"$f":"IF(AND(ISBLANK(INDEX($G:$G,)), ISBLANK(INDEX($C:$C,))), \"\", 'PWS Records (System Entry)'!$D$4)","v":""},{"$f":"IF(AND(ISBLANK(INDEX($G:$G,)), ISBLANK(INDEX($C:$C,))), \"\", 'PWS Records (System Entry)'!$D$3)","v":""},null,null,null,null,null,null,null,null,null,null,null,null,null,null,null,null,null,null,""]
[{"$f":"IF(AND(ISBLANK(INDEX($G:$G,)), ISBLANK(INDEX($C:$C,))), \"\", 'PWS Records (System Entry)'!$D$4)","v":""},{"$f":"IF(AND(ISBLANK(INDEX($G:$G,)), ISBLANK(INDEX($C:$C,))), \"\", 'PWS Records (System Entry)'!$D$3)","v":""},null,null,null,null,null,null,null,null,null,null,null,null,null,null,null,null,null,null,""]
[{"$f":"IF(AND(ISBLANK(INDEX($G:$G,)), ISBLANK(INDEX($C:$C,))), \"\", 'PWS Records (System Entry)'!$D$4)","v":""},{"$f":"IF(AND(ISBLANK(INDEX($G:$G,)), ISBLANK(INDEX($C:$C,))), \"\", 'PWS Records (System Entry)'!$D$3)","v":""},null,null,null,null,null,null,null,null,null,null,null,null,null,null,null,null,null,null,""]
[{"$f":"IF(AND(ISBLANK(INDEX($G:$G,)), ISBLANK(INDEX($C:$C,))), \"\", 'PWS Records (System Entry)'!$D$4)","v":""},{"$f":"IF(AND(ISBLANK(INDEX($G:$G,)), ISBLANK(INDEX($C:$C,))), \"\", 'PWS Records (System Entry)'!$D$3)","v":""},null,null,null,null,null,null,null,null,null,null,null,null,null,null,null,null,null,null,""]
[{"$f":"IF(AND(ISBLANK(INDEX($G:$G,)), ISBLANK(INDEX($C:$C,))), \"\", 'PWS Records (System Entry)'!$D$4)","v":""},{"$f":"IF(AND(ISBLANK(INDEX($G:$G,)), ISBLANK(INDEX($C:$C,))), \"\", 'PWS Records (System Entry)'!$D$3)","v":""},null,null,null,null,null,null,null,null,null,null,null,null,null,null,null,null,null,null,""]
[{"$f":"IF(AND(ISBLANK(INDEX($G:$G,)), ISBLANK(INDEX($C:$C,))), \"\", 'PWS Records (System Entry)'!$D$4)","v":""},{"$f":"IF(AND(ISBLANK(INDEX($G:$G,)), ISBLANK(INDEX($C:$C,))), \"\", 'PWS Records (System Entry)'!$D$3)","v":""},null,null,null,null,null,null,null,null,null,null,null,null,null,null,null,null,null,null,""]
[{"$f":"IF(AND(ISBLANK(INDEX($G:$G,)), ISBLANK(INDEX($C:$C,))), \"\", 'PWS Records (System Entry)'!$D$4)","v":""},{"$f":"IF(AND(ISBLANK(INDEX($G:$G,)), ISBLANK(INDEX($C:$C,))), \"\", 'PWS Records (System Entry)'!$D$3)","v":""},null,null,null,null,null,null,null,null,null,null,null,null,null,null,null,null,null,null,""]
[{"$f":"IF(AND(ISBLANK(INDEX($G:$G,)), ISBLANK(INDEX($C:$C,))), \"\", 'PWS Records (System Entry)'!$D$4)","v":""},{"$f":"IF(AND(ISBLANK(INDEX($G:$G,)), ISBLANK(INDEX($C:$C,))), \"\", 'PWS Records (System Entry)'!$D$3)","v":""},null,null,null,null,null,null,null,null,null,null,null,null,null,null,null,null,null,null,""]
[{"$f":"IF(AND(ISBLANK(INDEX($G:$G,)), ISBLANK(INDEX($C:$C,))), \"\", 'PWS Records (System Entry)'!$D$4)","v":""},{"$f":"IF(AND(ISBLANK(INDEX($G:$G,)), ISBLANK(INDEX($C:$C,))), \"\", 'PWS Records (System Entry)'!$D$3)","v":""},null,null,null,null,null,null,null,null,null,null,null,null,null,null,null,null,null,null,""]
[{"$f":"IF(AND(ISBLANK(INDEX($G:$G,)), ISBLANK(INDEX($C:$C,))), \"\", 'PWS Records (System Entry)'!$D$4)","v":""},{"$f":"IF(AND(ISBLANK(INDEX($G:$G,)), ISBLANK(INDEX($C:$C,))), \"\", 'PWS Records (System Entry)'!$D$3)","v":""},null,null,null,null,null,null,null,null,null,null,null,null,null,null,null,null,null,null,""]
[{"$f":"IF(AND(ISBLANK(INDEX($G:$G,)), ISBLANK(INDEX($C:$C,))), \"\", 'PWS Records (System Entry)'!$D$4)","v":""},{"$f":"IF(AND(ISBLANK(INDEX($G:$G,)), ISBLANK(INDEX($C:$C,))), \"\", 'PWS Records (System Entry)'!$D$3)","v":""},null,null,null,null,null,null,null,null,null,null,null,null,null,null,null,null,null,null,""]
[{"$f":"IF(AND(ISBLANK(INDEX($G:$G,)), ISBLANK(INDEX($C:$C,))), \"\", 'PWS Records (System Entry)'!$D$4)","v":""},{"$f":"IF(AND(ISBLANK(INDEX($G:$G,)), ISBLANK(INDEX($C:$C,))), \"\", 'PWS Records (System Entry)'!$D$3)","v":""},null,null,null,null,null,null,null,null,null,null,null,null,null,null,null,null,null,null,""]
[{"$f":"IF(AND(ISBLANK(INDEX($G:$G,)), ISBLANK(INDEX($C:$C,))), \"\", 'PWS Records (System Entry)'!$D$4)","v":""},{"$f":"IF(AND(ISBLANK(INDEX($G:$G,)), ISBLANK(INDEX($C:$C,))), \"\", 'PWS Records (System Entry)'!$D$3)","v":""},null,null,null,null,null,null,null,null,null,null,null,null,null,null,null,null,null,null,""]
[{"$f":"IF(AND(ISBLANK(INDEX($G:$G,)), ISBLANK(INDEX($C:$C,))), \"\", 'PWS Records (System Entry)'!$D$4)","v":""},{"$f":"IF(AND(ISBLANK(INDEX($G:$G,)), ISBLANK(INDEX($C:$C,))), \"\", 'PWS Records (System Entry)'!$D$3)","v":""},null,null,null,null,null,null,null,null,null,null,null,null,null,null,null,null,null,null,""]
[{"$f":"IF(AND(ISBLANK(INDEX($G:$G,)), ISBLANK(INDEX($C:$C,))), \"\", 'PWS Records (System Entry)'!$D$4)","v":""},{"$f":"IF(AND(ISBLANK(INDEX($G:$G,)), ISBLANK(INDEX($C:$C,))), \"\", 'PWS Records (System Entry)'!$D$3)","v":""},null,null,null,null,null,null,null,null,null,null,null,null,null,null,null,null,null,null,""]
[{"$f":"IF(AND(ISBLANK(INDEX($G:$G,)), ISBLANK(INDEX($C:$C,))), \"\", 'PWS Records (System Entry)'!$D$4)","v":""},{"$f":"IF(AND(ISBLANK(INDEX($G:$G,)), ISBLANK(INDEX($C:$C,))), \"\", 'PWS Records (System Entry)'!$D$3)","v":""},null,null,null,null,null,null,null,null,null,null,null,null,null,null,null,null,null,null,""]
[{"$f":"IF(AND(ISBLANK(INDEX($G:$G,)), ISBLANK(INDEX($C:$C,))), \"\", 'PWS Records (System Entry)'!$D$4)","v":""},{"$f":"IF(AND(ISBLANK(INDEX($G:$G,)), ISBLANK(INDEX($C:$C,))), \"\", 'PWS Records (System Entry)'!$D$3)","v":""},null,null,null,null,null,null,null,null,null,null,null,null,null,null,null,null,null,null,""]
[{"$f":"IF(AND(ISBLANK(INDEX($G:$G,)), ISBLANK(INDEX($C:$C,))), \"\", 'PWS Records (System Entry)'!$D$4)","v":""},{"$f":"IF(AND(ISBLANK(INDEX($G:$G,)), ISBLANK(INDEX($C:$C,))), \"\", 'PWS Records (System Entry)'!$D$3)","v":""},null,null,null,null,null,null,null,null,null,null,null,null,null,null,null,null,null,null,""]
[{"$f":"IF(AND(ISBLANK(INDEX($G:$G,)), ISBLANK(INDEX($C:$C,))), \"\", 'PWS Records (System Entry)'!$D$4)","v":""},{"$f":"IF(AND(ISBLANK(INDEX($G:$G,)), ISBLANK(INDEX($C:$C,))), \"\", 'PWS Records (System Entry)'!$D$3)","v":""},null,null,null,null,null,null,null,null,null,null,null,null,null,null,null,null,null,null,""]
[{"$f":"IF(AND(ISBLANK(INDEX($G:$G,)), ISBLANK(INDEX($C:$C,))), \"\", 'PWS Records (System Entry)'!$D$4)","v":""},{"$f":"IF(AND(ISBLANK(INDEX($G:$G,)), ISBLANK(INDEX($C:$C,))), \"\", 'PWS Records (System Entry)'!$D$3)","v":""},null,null,null,null,null,null,null,null,null,null,null,null,null,null,null,null,null,null,""]
[{"$f":"IF(AND(ISBLANK(INDEX($G:$G,)), ISBLANK(INDEX($C:$C,))), \"\", 'PWS Records (System Entry)'!$D$4)","v":""},{"$f":"IF(AND(ISBLANK(INDEX($G:$G,)), ISBLANK(INDEX($C:$C,))), \"\", 'PWS Records (System Entry)'!$D$3)","v":""},null,null,null,null,null,null,null,null,null,null,null,null,null,null,null,null,null,null,""]
[{"$f":"IF(AND(ISBLANK(INDEX($G:$G,)), ISBLANK(INDEX($C:$C,))), \"\", 'PWS Records (System Entry)'!$D$4)","v":""},{"$f":"IF(AND(ISBLANK(INDEX($G:$G,)), ISBLANK(INDEX($C:$C,))), \"\", 'PWS Records (System Entry)'!$D$3)","v":""},null,null,null,null,null,null,null,null,null,null,null,null,null,null,null,null,null,null,""]
[{"$f":"IF(AND(ISBLANK(INDEX($G:$G,)), ISBLANK(INDEX($C:$C,))), \"\", 'PWS Records (System Entry)'!$D$4)","v":""},{"$f":"IF(AND(ISBLANK(INDEX($G:$G,)), ISBLANK(INDEX($C:$C,))), \"\", 'PWS Records (System Entry)'!$D$3)","v":""},null,null,null,null,null,null,null,null,null,null,null,null,null,null,null,null,null,null,""]
[{"$f":"IF(AND(ISBLANK(INDEX($G:$G,)), ISBLANK(INDEX($C:$C,))), \"\", 'PWS Records (System Entry)'!$D$4)","v":""},{"$f":"IF(AND(ISBLANK(INDEX($G:$G,)), ISBLANK(INDEX($C:$C,))), \"\", 'PWS Records (System Entry)'!$D$3)","v":""},null,null,null,null,null,null,null,null,null,null,null,null,null,null,null,null,null,null,""]
[{"$f":"IF(AND(ISBLANK(INDEX($G:$G,)), ISBLANK(INDEX($C:$C,))), \"\", 'PWS Records (System Entry)'!$D$4)","v":""},{"$f":"IF(AND(ISBLANK(INDEX($G:$G,)), ISBLANK(INDEX($C:$C,))), \"\", 'PWS Records (System Entry)'!$D$3)","v":""},null,null,null,null,null,null,null,null,null,null,null,null,null,null,null,null,null,null,""]
[{"$f":"IF(AND(ISBLANK(INDEX($G:$G,)), ISBLANK(INDEX($C:$C,))), \"\", 'PWS Records (System Entry)'!$D$4)","v":""},{"$f":"IF(AND(ISBLANK(INDEX($G:$G,)), ISBLANK(INDEX($C:$C,))), \"\", 'PWS Records (System Entry)'!$D$3)","v":""},null,null,null,null,null,null,null,null,null,null,null,null,null,null,null,null,null,null,""]
[{"$f":"IF(AND(ISBLANK(INDEX($G:$G,)), ISBLANK(INDEX($C:$C,))), \"\", 'PWS Records (System Entry)'!$D$4)","v":""},{"$f":"IF(AND(ISBLANK(INDEX($G:$G,)), ISBLANK(INDEX($C:$C,))), \"\", 'PWS Records (System Entry)'!$D$3)","v":""},null,null,null,null,null,null,null,null,null,null,null,null,null,null,null,null,null,null,""]
[{"$f":"IF(AND(ISBLANK(INDEX($G:$G,)), ISBLANK(INDEX($C:$C,))), \"\", 'PWS Records (System Entry)'!$D$4)","v":""},{"$f":"IF(AND(ISBLANK(INDEX($G:$G,)), ISBLANK(INDEX($C:$C,))), \"\", 'PWS Records (System Entry)'!$D$3)","v":""},null,null,null,null,null,null,null,null,null,null,null,null,null,null,null,null,null,null,""]
[{"$f":"IF(AND(ISBLANK(INDEX($G:$G,)), ISBLANK(INDEX($C:$C,))), \"\", 'PWS Records (System Entry)'!$D$4)","v":""},{"$f":"IF(AND(ISBLANK(INDEX($G:$G,)), ISBLANK(INDEX($C:$C,))), \"\", 'PWS Records (System Entry)'!$D$3)","v":""},null,null,null,null,null,null,null,null,null,null,null,null,null,null,null,null,null,null,""]
[{"$f":"IF(AND(ISBLANK(INDEX($G:$G,)), ISBLANK(INDEX($C:$C,))), \"\", 'PWS Records (System Entry)'!$D$4)","v":""},{"$f":"IF(AND(ISBLANK(INDEX($G:$G,)), ISBLANK(INDEX($C:$C,))), \"\", 'PWS Records (System Entry)'!$D$3)","v":""},null,null,null,null,null,null,null,null,null,null,null,null,null,null,null,null,null,null,""]
[{"$f":"IF(AND(ISBLANK(INDEX($G:$G,)), ISBLANK(INDEX($C:$C,))), \"\", 'PWS Records (System Entry)'!$D$4)","v":""},{"$f":"IF(AND(ISBLANK(INDEX($G:$G,)), ISBLANK(INDEX($C:$C,))), \"\", 'PWS Records (System Entry)'!$D$3)","v":""},null,null,null,null,null,null,null,null,null,null,null,null,null,null,null,null,null,null,""]
[{"$f":"IF(AND(ISBLANK(INDEX($G:$G,)), ISBLANK(INDEX($C:$C,))), \"\", 'PWS Records (System Entry)'!$D$4)","v":""},{"$f":"IF(AND(ISBLANK(INDEX($G:$G,)), ISBLANK(INDEX($C:$C,))), \"\", 'PWS Records (System Entry)'!$D$3)","v":""},null,null,null,null,null,null,null,null,null,null,null,null,null,null,null,null,null,null,""]
[{"$f":"IF(AND(ISBLANK(INDEX($G:$G,)), ISBLANK(INDEX($C:$C,))), \"\", 'PWS Records (System Entry)'!$D$4)","v":""},{"$f":"IF(AND(ISBLANK(INDEX($G:$G,)), ISBLANK(INDEX($C:$C,))), \"\", 'PWS Records (System Entry)'!$D$3)","v":""},null,null,null,null,null,null,null,null,null,null,null,null,null,null,null,null,null,null,""]
[{"$f":"IF(AND(ISBLANK(INDEX($G:$G,)), ISBLANK(INDEX($C:$C,))), \"\", 'PWS Records (System Entry)'!$D$4)","v":""},{"$f":"IF(AND(ISBLANK(INDEX($G:$G,)), ISBLANK(INDEX($C:$C,))), \"\", 'PWS Records (System Entry)'!$D$3)","v":""},null,null,null,null,null,null,null,null,null,null,null,null,null,null,null,null,null,null,""]
[{"$f":"IF(AND(ISBLANK(INDEX($G:$G,)), ISBLANK(INDEX($C:$C,))), \"\", 'PWS Records (System Entry)'!$D$4)","v":""},{"$f":"IF(AND(ISBLANK(INDEX($G:$G,)), ISBLANK(INDEX($C:$C,))), \"\", 'PWS Records (System Entry)'!$D$3)","v":""},null,null,null,null,null,null,null,null,null,null,null,null,null,null,null,null,null,null,""]
[{"$f":"IF(AND(ISBLANK(INDEX($G:$G,)), ISBLANK(INDEX($C:$C,))), \"\", 'PWS Records (System Entry)'!$D$4)","v":""},{"$f":"IF(AND(ISBLANK(INDEX($G:$G,)), ISBLANK(INDEX($C:$C,))), \"\", 'PWS Records (System Entry)'!$D$3)","v":""},null,null,null,null,null,null,null,null,null,null,null,null,null,null,null,null,null,null,""]
[{"$f":"IF(AND(ISBLANK(INDEX($G:$G,)), ISBLANK(INDEX($C:$C,))), \"\", 'PWS Records (System Entry)'!$D$4)","v":""},{"$f":"IF(AND(ISBLANK(INDEX($G:$G,)), ISBLANK(INDEX($C:$C,))), \"\", 'PWS Records (System Entry)'!$D$3)","v":""},null,null,null,null,null,null,null,null,null,null,null,null,null,null,null,null,null,null,""]
[{"$f":"IF(AND(ISBLANK(INDEX($G:$G,)), ISBLANK(INDEX($C:$C,))), \"\", 'PWS Records (System Entry)'!$D$4)","v":""},{"$f":"IF(AND(ISBLANK(INDEX($G:$G,)), ISBLANK(INDEX($C:$C,))), \"\", 'PWS Records (System Entry)'!$D$3)","v":""},null,null,null,null,null,null,null,null,null,null,null,null,null,null,null,null,null,null,""]
[{"$f":"IF(AND(ISBLANK(INDEX($G:$G,)), ISBLANK(INDEX($C:$C,))), \"\", 'PWS Records (System Entry)'!$D$4)","v":""},{"$f":"IF(AND(ISBLANK(INDEX($G:$G,)), ISBLANK(INDEX($C:$C,))), \"\", 'PWS Records (System Entry)'!$D$3)","v":""},null,null,null,null,null,null,null,null,null,null,null,null,null,null,null,null,null,null,""]
[{"$f":"IF(AND(ISBLANK(INDEX($G:$G,)), ISBLANK(INDEX($C:$C,))), \"\", 'PWS Records (System Entry)'!$D$4)","v":""},{"$f":"IF(AND(ISBLANK(INDEX($G:$G,)), ISBLANK(INDEX($C:$C,))), \"\", 'PWS Records (System Entry)'!$D$3)","v":""},null,null,null,null,null,null,null,null,null,null,null,null,null,null,null,null,null,null,""]
[{"$f":"IF(AND(ISBLANK(INDEX($G:$G,)), ISBLANK(INDEX($C:$C,))), \"\", 'PWS Records (System Entry)'!$D$4)","v":""},{"$f":"IF(AND(ISBLANK(INDEX($G:$G,)), ISBLANK(INDEX($C:$C,))), \"\", 'PWS Records (System Entry)'!$D$3)","v":""},null,null,null,null,null,null,null,null,null,null,null,null,null,null,null,null,null,null,{"$f":"IF(AND(INDEX($K:$K,)=\"\", INDEX($L:$L,)=\"\", INDEX($M:$M,)=\"\", INDEX($Q:$Q,)=\"\", INDEX($R:$R,)=\"\"), \"\", IF(OR(INDEX($K:$K,)=\"Lead\",INDEX($Q:$Q,)=\"Lead\"),\"Lead\",IF(OR(AND(OR(INDEX($M:$M,)=\"Yes\", INDEX($M:$M,)=\"Don't Know\", INDEX($M:$M,)=\"\"), INDEX($Q:$Q,)=\"Galvanized Iron/Steel\"), AND(INDEX($K:$K,)=\"Unknown\", INDEX($M:$M,)=\"No\", INDEX($Q:$Q,)=\"Galvanized Iron/Steel\")), \"Galvanized Requiring Replacement\", IF(OR(AND(OR(INDEX($K:$K,)=\"Galvanized Iron/Steel\", INDEX($K:$K,)=\"Non-Lead - Copper\", INDEX($K:$K,)=\"Non-Lead - Plastic\", INDEX($K:$K,)=\"Non-Lead - Other\", INDEX($K:$K,)=\"Non-Lead - Material Unknown\", INDEX($K:$K,)=\"No System Owned Portion\"), OR(INDEX($Q:$Q,)=\"Galvanized Iron/Steel\", INDEX($Q:$Q,)=\"Non-Lead - Copper\", INDEX($Q:$Q,)=\"Non-Lead - Plastic\", INDEX($Q:$Q,)=\"Non-Lead - Other\", INDEX($Q:$Q,)=\"Non-Lead - Predictive Model\", INDEX($Q:$Q,)=\"No Customer Owned Portion\")), AND(OR( INDEX($K:$K,)=\"Galvanized Iron/Steel\", INDEX($K:$K,)=\"Non-Lead - Copper\", INDEX($K:$K,)=\"Non-Lead - Plastic\", INDEX($K:$K,)=\"Non-Lead - Other\", INDEX($K:$K,)=\"Non-Lead - Material Unknown\", INDEX($K:$K,)=\"No System Owned Portion\"), INDEX($M:$M,)=\"No\", INDEX($Q:$Q,)=\"Non-Lead - Material Unknown\")), \"Non-Lead\", \"Lead Status Unknown\"))))","v":""}]
[{"$f":"IF(AND(ISBLANK(INDEX($G:$G,)), ISBLANK(INDEX($C:$C,))), \"\", 'PWS Records (System Entry)'!$D$4)","v":""},{"$f":"IF(AND(ISBLANK(INDEX($G:$G,)), ISBLANK(INDEX($C:$C,))), \"\", 'PWS Records (System Entry)'!$D$3)","v":""},null,null,null,null,null,null,null,null,null,null,null,null,null,null,null,null,null,null,""]
[{"$f":"IF(AND(ISBLANK(INDEX($G:$G,)), ISBLANK(INDEX($C:$C,))), \"\", 'PWS Records (System Entry)'!$D$4)","v":""},{"$f":"IF(AND(ISBLANK(INDEX($G:$G,)), ISBLANK(INDEX($C:$C,))), \"\", 'PWS Records (System Entry)'!$D$3)","v":""},null,null,null,null,null,null,null,null,null,null,null,null,null,null,null,null,null,null,""]
[{"$f":"IF(AND(ISBLANK(INDEX($G:$G,)), ISBLANK(INDEX($C:$C,))), \"\", 'PWS Records (System Entry)'!$D$4)","v":""},{"$f":"IF(AND(ISBLANK(INDEX($G:$G,)), ISBLANK(INDEX($C:$C,))), \"\", 'PWS Records (System Entry)'!$D$3)","v":""},null,null,null,null,null,null,null,null,null,null,null,null,null,null,null,null,null,null,""]
[{"$f":"IF(AND(ISBLANK(INDEX($G:$G,)), ISBLANK(INDEX($C:$C,))), \"\", 'PWS Records (System Entry)'!$D$4)","v":""},{"$f":"IF(AND(ISBLANK(INDEX($G:$G,)), ISBLANK(INDEX($C:$C,))), \"\", 'PWS Records (System Entry)'!$D$3)","v":""},null,null,null,null,null,null,null,null,null,null,null,null,null,null,null,null,null,null,""]
[{"$f":"IF(AND(ISBLANK(INDEX($G:$G,)), ISBLANK(INDEX($C:$C,))), \"\", 'PWS Records (System Entry)'!$D$4)","v":""},{"$f":"IF(AND(ISBLANK(INDEX($G:$G,)), ISBLANK(INDEX($C:$C,))), \"\", 'PWS Records (System Entry)'!$D$3)","v":""},null,null,null,null,null,null,null,null,null,null,null,null,null,null,null,null,null,null,""]
[{"$f":"IF(AND(ISBLANK(INDEX($G:$G,)), ISBLANK(INDEX($C:$C,))), \"\", 'PWS Records (System Entry)'!$D$4)","v":""},{"$f":"IF(AND(ISBLANK(INDEX($G:$G,)), ISBLANK(INDEX($C:$C,))), \"\", 'PWS Records (System Entry)'!$D$3)","v":""},null,null,null,null,null,null,null,null,null,null,null,null,null,null,null,null,null,null,""]
[{"$f":"IF(AND(ISBLANK(INDEX($G:$G,)), ISBLANK(INDEX($C:$C,))), \"\", 'PWS Records (System Entry)'!$D$4)","v":""},{"$f":"IF(AND(ISBLANK(INDEX($G:$G,)), ISBLANK(INDEX($C:$C,))), \"\", 'PWS Records (System Entry)'!$D$3)","v":""},null,null,null,null,null,null,null,null,null,null,null,null,null,null,null,null,null,null,""]
[{"$f":"IF(AND(ISBLANK(INDEX($G:$G,)), ISBLANK(INDEX($C:$C,))), \"\", 'PWS Records (System Entry)'!$D$4)","v":""},{"$f":"IF(AND(ISBLANK(INDEX($G:$G,)), ISBLANK(INDEX($C:$C,))), \"\", 'PWS Records (System Entry)'!$D$3)","v":""},null,null,null,null,null,null,null,null,null,null,null,null,null,null,null,null,null,null,""]
[{"$f":"IF(AND(ISBLANK(INDEX($G:$G,)), ISBLANK(INDEX($C:$C,))), \"\", 'PWS Records (System Entry)'!$D$4)","v":""},{"$f":"IF(AND(ISBLANK(INDEX($G:$G,)), ISBLANK(INDEX($C:$C,))), \"\", 'PWS Records (System Entry)'!$D$3)","v":""},null,null,null,null,null,null,null,null,null,null,null,null,null,null,null,null,null,null,""]
[{"$f":"IF(AND(ISBLANK(INDEX($G:$G,)), ISBLANK(INDEX($C:$C,))), \"\", 'PWS Records (System Entry)'!$D$4)","v":""},{"$f":"IF(AND(ISBLANK(INDEX($G:$G,)), ISBLANK(INDEX($C:$C,))), \"\", 'PWS Records (System Entry)'!$D$3)","v":""},null,null,null,null,null,null,null,null,null,null,null,null,null,null,null,null,null,null,""]
[{"$f":"IF(AND(ISBLANK(INDEX($G:$G,)), ISBLANK(INDEX($C:$C,))), \"\", 'PWS Records (System Entry)'!$D$4)","v":""},{"$f":"IF(AND(ISBLANK(INDEX($G:$G,)), ISBLANK(INDEX($C:$C,))), \"\", 'PWS Records (System Entry)'!$D$3)","v":""},null,null,null,null,null,null,null,null,null,null,null,null,null,null,null,null,null,null,""]
[{"$f":"IF(AND(ISBLANK(INDEX($G:$G,)), ISBLANK(INDEX($C:$C,))), \"\", 'PWS Records (System Entry)'!$D$4)","v":""},{"$f":"IF(AND(ISBLANK(INDEX($G:$G,)), ISBLANK(INDEX($C:$C,))), \"\", 'PWS Records (System Entry)'!$D$3)","v":""},null,null,null,null,null,null,null,null,null,null,null,null,null,null,null,null,null,null,""]
[{"$f":"IF(AND(ISBLANK(INDEX($G:$G,)), ISBLANK(INDEX($C:$C,))), \"\", 'PWS Records (System Entry)'!$D$4)","v":""},{"$f":"IF(AND(ISBLANK(INDEX($G:$G,)), ISBLANK(INDEX($C:$C,))), \"\", 'PWS Records (System Entry)'!$D$3)","v":""},null,null,null,null,null,null,null,null,null,null,null,null,null,null,null,null,null,null,""]
[{"$f":"IF(AND(ISBLANK(INDEX($G:$G,)), ISBLANK(INDEX($C:$C,))), \"\", 'PWS Records (System Entry)'!$D$4)","v":""},{"$f":"IF(AND(ISBLANK(INDEX($G:$G,)), ISBLANK(INDEX($C:$C,))), \"\", 'PWS Records (System Entry)'!$D$3)","v":""},null,null,null,null,null,null,null,null,null,null,null,null,null,null,null,null,null,null,""]
[{"$f":"IF(AND(ISBLANK(INDEX($G:$G,)), ISBLANK(INDEX($C:$C,))), \"\", 'PWS Records (System Entry)'!$D$4)","v":""},{"$f":"IF(AND(ISBLANK(INDEX($G:$G,)), ISBLANK(INDEX($C:$C,))), \"\", 'PWS Records (System Entry)'!$D$3)","v":""},null,null,null,null,null,null,null,null,null,null,null,null,null,null,null,null,null,null,""]
[{"$f":"IF(AND(ISBLANK(INDEX($G:$G,)), ISBLANK(INDEX($C:$C,))), \"\", 'PWS Records (System Entry)'!$D$4)","v":""},{"$f":"IF(AND(ISBLANK(INDEX($G:$G,)), ISBLANK(INDEX($C:$C,))), \"\", 'PWS Records (System Entry)'!$D$3)","v":""},null,null,null,null,null,null,null,null,null,null,null,null,null,null,null,null,null,null,""]
[{"$f":"IF(AND(ISBLANK(INDEX($G:$G,)), ISBLANK(INDEX($C:$C,))), \"\", 'PWS Records (System Entry)'!$D$4)","v":""},{"$f":"IF(AND(ISBLANK(INDEX($G:$G,)), ISBLANK(INDEX($C:$C,))), \"\", 'PWS Records (System Entry)'!$D$3)","v":""},null,null,null,null,null,null,null,null,null,null,null,null,null,null,null,null,null,null,""]
[{"$f":"IF(AND(ISBLANK(INDEX($G:$G,)), ISBLANK(INDEX($C:$C,))), \"\", 'PWS Records (System Entry)'!$D$4)","v":""},{"$f":"IF(AND(ISBLANK(INDEX($G:$G,)), ISBLANK(INDEX($C:$C,))), \"\", 'PWS Records (System Entry)'!$D$3)","v":""},null,null,null,null,null,null,null,null,null,null,null,null,null,null,null,null,null,null,""]
[{"$f":"IF(AND(ISBLANK(INDEX($G:$G,)), ISBLANK(INDEX($C:$C,))), \"\", 'PWS Records (System Entry)'!$D$4)","v":""},{"$f":"IF(AND(ISBLANK(INDEX($G:$G,)), ISBLANK(INDEX($C:$C,))), \"\", 'PWS Records (System Entry)'!$D$3)","v":""},null,null,null,null,null,null,null,null,null,null,null,null,null,null,null,null,null,null,""]
[{"$f":"IF(AND(ISBLANK(INDEX($G:$G,)), ISBLANK(INDEX($C:$C,))), \"\", 'PWS Records (System Entry)'!$D$4)","v":""},{"$f":"IF(AND(ISBLANK(INDEX($G:$G,)), ISBLANK(INDEX($C:$C,))), \"\", 'PWS Records (System Entry)'!$D$3)","v":""},null,null,null,null,null,null,null,null,null,null,null,null,null,null,null,null,null,null,""]
[{"$f":"IF(AND(ISBLANK(INDEX($G:$G,)), ISBLANK(INDEX($C:$C,))), \"\", 'PWS Records (System Entry)'!$D$4)","v":""},{"$f":"IF(AND(ISBLANK(INDEX($G:$G,)), ISBLANK(INDEX($C:$C,))), \"\", 'PWS Records (System Entry)'!$D$3)","v":""},null,null,null,null,null,null,null,null,null,null,null,null,null,null,null,null,null,null,""]
[{"$f":"IF(AND(ISBLANK(INDEX($G:$G,)), ISBLANK(INDEX($C:$C,))), \"\", 'PWS Records (System Entry)'!$D$4)","v":""},{"$f":"IF(AND(ISBLANK(INDEX($G:$G,)), ISBLANK(INDEX($C:$C,))), \"\", 'PWS Records (System Entry)'!$D$3)","v":""},null,null,null,null,null,null,null,null,null,null,null,null,null,null,null,null,null,null,""]
[{"$f":"IF(AND(ISBLANK(INDEX($G:$G,)), ISBLANK(INDEX($C:$C,))), \"\", 'PWS Records (System Entry)'!$D$4)","v":""},{"$f":"IF(AND(ISBLANK(INDEX($G:$G,)), ISBLANK(INDEX($C:$C,))), \"\", 'PWS Records (System Entry)'!$D$3)","v":""},null,null,null,null,null,null,null,null,null,null,null,null,null,null,null,null,null,null,""]
[{"$f":"IF(AND(ISBLANK(INDEX($G:$G,)), ISBLANK(INDEX($C:$C,))), \"\", 'PWS Records (System Entry)'!$D$4)","v":""},{"$f":"IF(AND(ISBLANK(INDEX($G:$G,)), ISBLANK(INDEX($C:$C,))), \"\", 'PWS Records (System Entry)'!$D$3)","v":""},null,null,null,null,null,null,null,null,null,null,null,null,null,null,null,null,null,null,""]
[{"$f":"IF(AND(ISBLANK(INDEX($G:$G,)), ISBLANK(INDEX($C:$C,))), \"\", 'PWS Records (System Entry)'!$D$4)","v":""},{"$f":"IF(AND(ISBLANK(INDEX($G:$G,)), ISBLANK(INDEX($C:$C,))), \"\", 'PWS Records (System Entry)'!$D$3)","v":""},null,null,null,null,null,null,null,null,null,null,null,null,null,null,null,null,null,null,""]
[{"$f":"IF(AND(ISBLANK(INDEX($G:$G,)), ISBLANK(INDEX($C:$C,))), \"\", 'PWS Records (System Entry)'!$D$4)","v":""},{"$f":"IF(AND(ISBLANK(INDEX($G:$G,)), ISBLANK(INDEX($C:$C,))), \"\", 'PWS Records (System Entry)'!$D$3)","v":""},null,null,null,null,null,null,null,null,null,null,null,null,null,null,null,null,null,null,""]
[{"$f":"IF(AND(ISBLANK(INDEX($G:$G,)), ISBLANK(INDEX($C:$C,))), \"\", 'PWS Records (System Entry)'!$D$4)","v":""},{"$f":"IF(AND(ISBLANK(INDEX($G:$G,)), ISBLANK(INDEX($C:$C,))), \"\", 'PWS Records (System Entry)'!$D$3)","v":""},null,null,null,null,null,null,null,null,null,null,null,null,null,null,null,null,null,null,""]
[{"$f":"IF(AND(ISBLANK(INDEX($G:$G,)), ISBLANK(INDEX($C:$C,))), \"\", 'PWS Records (System Entry)'!$D$4)","v":""},{"$f":"IF(AND(ISBLANK(INDEX($G:$G,)), ISBLANK(INDEX($C:$C,))), \"\", 'PWS Records (System Entry)'!$D$3)","v":""},null,null,null,null,null,null,null,null,null,null,null,null,null,null,null,null,null,null,""]
[{"$f":"IF(AND(ISBLANK(INDEX($G:$G,)), ISBLANK(INDEX($C:$C,))), \"\", 'PWS Records (System Entry)'!$D$4)","v":""},{"$f":"IF(AND(ISBLANK(INDEX($G:$G,)), ISBLANK(INDEX($C:$C,))), \"\", 'PWS Records (System Entry)'!$D$3)","v":""},null,null,null,null,null,null,null,null,null,null,null,null,null,null,null,null,null,null,""]
[{"$f":"IF(AND(ISBLANK(INDEX($G:$G,)), ISBLANK(INDEX($C:$C,))), \"\", 'PWS Records (System Entry)'!$D$4)","v":""},{"$f":"IF(AND(ISBLANK(INDEX($G:$G,)), ISBLANK(INDEX($C:$C,))), \"\", 'PWS Records (System Entry)'!$D$3)","v":""},null,null,null,null,null,null,null,null,null,null,null,null,null,null,null,null,null,null,""]
[{"$f":"IF(AND(ISBLANK(INDEX($G:$G,)), ISBLANK(INDEX($C:$C,))), \"\", 'PWS Records (System Entry)'!$D$4)","v":""},{"$f":"IF(AND(ISBLANK(INDEX($G:$G,)), ISBLANK(INDEX($C:$C,))), \"\", 'PWS Records (System Entry)'!$D$3)","v":""},null,null,null,null,null,null,null,null,null,null,null,null,null,null,null,null,null,null,""]
[{"$f":"IF(AND(ISBLANK(INDEX($G:$G,)), ISBLANK(INDEX($C:$C,))), \"\", 'PWS Records (System Entry)'!$D$4)","v":""},{"$f":"IF(AND(ISBLANK(INDEX($G:$G,)), ISBLANK(INDEX($C:$C,))), \"\", 'PWS Records (System Entry)'!$D$3)","v":""},null,null,null,null,null,null,null,null,null,null,null,null,null,null,null,null,null,null,""]
[{"$f":"IF(AND(ISBLANK(INDEX($G:$G,)), ISBLANK(INDEX($C:$C,))), \"\", 'PWS Records (System Entry)'!$D$4)","v":""},{"$f":"IF(AND(ISBLANK(INDEX($G:$G,)), ISBLANK(INDEX($C:$C,))), \"\", 'PWS Records (System Entry)'!$D$3)","v":""},null,null,null,null,null,null,null,null,null,null,null,null,null,null,null,null,null,null,""]
[{"$f":"IF(AND(ISBLANK(INDEX($G:$G,)), ISBLANK(INDEX($C:$C,))), \"\", 'PWS Records (System Entry)'!$D$4)","v":""},{"$f":"IF(AND(ISBLANK(INDEX($G:$G,)), ISBLANK(INDEX($C:$C,))), \"\", 'PWS Records (System Entry)'!$D$3)","v":""},null,null,null,null,null,null,null,null,null,null,null,null,null,null,null,null,null,null,""]
[{"$f":"IF(AND(ISBLANK(INDEX($G:$G,)), ISBLANK(INDEX($C:$C,))), \"\", 'PWS Records (System Entry)'!$D$4)","v":""},{"$f":"IF(AND(ISBLANK(INDEX($G:$G,)), ISBLANK(INDEX($C:$C,))), \"\", 'PWS Records (System Entry)'!$D$3)","v":""},null,null,null,null,null,null,null,null,null,null,null,null,null,null,null,null,null,null,""]
[{"$f":"IF(AND(ISBLANK(INDEX($G:$G,)), ISBLANK(INDEX($C:$C,))), \"\", 'PWS Records (System Entry)'!$D$4)","v":""},{"$f":"IF(AND(ISBLANK(INDEX($G:$G,)), ISBLANK(INDEX($C:$C,))), \"\", 'PWS Records (System Entry)'!$D$3)","v":""},null,null,null,null,null,null,null,null,null,null,null,null,null,null,null,null,null,null,""]
[{"$f":"IF(AND(ISBLANK(INDEX($G:$G,)), ISBLANK(INDEX($C:$C,))), \"\", 'PWS Records (System Entry)'!$D$4)","v":""},{"$f":"IF(AND(ISBLANK(INDEX($G:$G,)), ISBLANK(INDEX($C:$C,))), \"\", 'PWS Records (System Entry)'!$D$3)","v":""},null,null,null,null,null,null,null,null,null,null,null,null,null,null,null,null,null,null,""]
[{"$f":"IF(AND(ISBLANK(INDEX($G:$G,)), ISBLANK(INDEX($C:$C,))), \"\", 'PWS Records (System Entry)'!$D$4)","v":""},{"$f":"IF(AND(ISBLANK(INDEX($G:$G,)), ISBLANK(INDEX($C:$C,))), \"\", 'PWS Records (System Entry)'!$D$3)","v":""},null,null,null,null,null,null,null,null,null,null,null,null,null,null,null,null,null,null,""]
[{"$f":"IF(AND(ISBLANK(INDEX($G:$G,)), ISBLANK(INDEX($C:$C,))), \"\", 'PWS Records (System Entry)'!$D$4)","v":""},{"$f":"IF(AND(ISBLANK(INDEX($G:$G,)), ISBLANK(INDEX($C:$C,))), \"\", 'PWS Records (System Entry)'!$D$3)","v":""},null,null,null,null,null,null,null,null,null,null,null,null,null,null,null,null,null,null,""]
[{"$f":"IF(AND(ISBLANK(INDEX($G:$G,)), ISBLANK(INDEX($C:$C,))), \"\", 'PWS Records (System Entry)'!$D$4)","v":""},{"$f":"IF(AND(ISBLANK(INDEX($G:$G,)), ISBLANK(INDEX($C:$C,))), \"\", 'PWS Records (System Entry)'!$D$3)","v":""},null,null,null,null,null,null,null,null,null,null,null,null,null,null,null,null,null,null,""]
[{"$f":"IF(AND(ISBLANK(INDEX($G:$G,)), ISBLANK(INDEX($C:$C,))), \"\", 'PWS Records (System Entry)'!$D$4)","v":""},{"$f":"IF(AND(ISBLANK(INDEX($G:$G,)), ISBLANK(INDEX($C:$C,))), \"\", 'PWS Records (System Entry)'!$D$3)","v":""},null,null,null,null,null,null,null,null,null,null,null,null,null,null,null,null,null,null,""]
[{"$f":"IF(AND(ISBLANK(INDEX($G:$G,)), ISBLANK(INDEX($C:$C,))), \"\", 'PWS Records (System Entry)'!$D$4)","v":""},{"$f":"IF(AND(ISBLANK(INDEX($G:$G,)), ISBLANK(INDEX($C:$C,))), \"\", 'PWS Records (System Entry)'!$D$3)","v":""},null,null,null,null,null,null,null,null,null,null,null,null,null,null,null,null,null,null,""]
[{"$f":"IF(AND(ISBLANK(INDEX($G:$G,)), ISBLANK(INDEX($C:$C,))), \"\", 'PWS Records (System Entry)'!$D$4)","v":""},{"$f":"IF(AND(ISBLANK(INDEX($G:$G,)), ISBLANK(INDEX($C:$C,))), \"\", 'PWS Records (System Entry)'!$D$3)","v":""},null,null,null,null,null,null,null,null,null,null,null,null,null,null,null,null,null,null,""]
[{"$f":"IF(AND(ISBLANK(INDEX($G:$G,)), ISBLANK(INDEX($C:$C,))), \"\", 'PWS Records (System Entry)'!$D$4)","v":""},{"$f":"IF(AND(ISBLANK(INDEX($G:$G,)), ISBLANK(INDEX($C:$C,))), \"\", 'PWS Records (System Entry)'!$D$3)","v":""},null,null,null,null,null,null,null,null,null,null,null,null,null,null,null,null,null,null,""]
[{"$f":"IF(AND(ISBLANK(INDEX($G:$G,)), ISBLANK(INDEX($C:$C,))), \"\", 'PWS Records (System Entry)'!$D$4)","v":""},{"$f":"IF(AND(ISBLANK(INDEX($G:$G,)), ISBLANK(INDEX($C:$C,))), \"\", 'PWS Records (System Entry)'!$D$3)","v":""},null,null,null,null,null,null,null,null,null,null,null,null,null,null,null,null,null,null,""]
[{"$f":"IF(AND(ISBLANK(INDEX($G:$G,)), ISBLANK(INDEX($C:$C,))), \"\", 'PWS Records (System Entry)'!$D$4)","v":""},{"$f":"IF(AND(ISBLANK(INDEX($G:$G,)), ISBLANK(INDEX($C:$C,))), \"\", 'PWS Records (System Entry)'!$D$3)","v":""},null,null,null,null,null,null,null,null,null,null,null,null,null,null,null,null,null,null,""]
[{"$f":"IF(AND(ISBLANK(INDEX($G:$G,)), ISBLANK(INDEX($C:$C,))), \"\", 'PWS Records (System Entry)'!$D$4)","v":""},{"$f":"IF(AND(ISBLANK(INDEX($G:$G,)), ISBLANK(INDEX($C:$C,))), \"\", 'PWS Records (System Entry)'!$D$3)","v":""},null,null,null,null,null,null,null,null,null,null,null,null,null,null,null,null,null,null,""]
[{"$f":"IF(AND(ISBLANK(INDEX($G:$G,)), ISBLANK(INDEX($C:$C,))), \"\", 'PWS Records (System Entry)'!$D$4)","v":""},{"$f":"IF(AND(ISBLANK(INDEX($G:$G,)), ISBLANK(INDEX($C:$C,))), \"\", 'PWS Records (System Entry)'!$D$3)","v":""},null,null,null,null,null,null,null,null,null,null,null,null,null,null,null,null,null,null,""]
[{"$f":"IF(AND(ISBLANK(INDEX($G:$G,)), ISBLANK(INDEX($C:$C,))), \"\", 'PWS Records (System Entry)'!$D$4)","v":""},{"$f":"IF(AND(ISBLANK(INDEX($G:$G,)), ISBLANK(INDEX($C:$C,))), \"\", 'PWS Records (System Entry)'!$D$3)","v":""},null,null,null,null,null,null,null,null,null,null,null,null,null,null,null,null,null,null,""]
[{"$f":"IF(AND(ISBLANK(INDEX($G:$G,)), ISBLANK(INDEX($C:$C,))), \"\", 'PWS Records (System Entry)'!$D$4)","v":""},{"$f":"IF(AND(ISBLANK(INDEX($G:$G,)), ISBLANK(INDEX($C:$C,))), \"\", 'PWS Records (System Entry)'!$D$3)","v":""},null,null,null,null,null,null,null,null,null,null,null,null,null,null,null,null,null,null,""]
[{"$f":"IF(AND(ISBLANK(INDEX($G:$G,)), ISBLANK(INDEX($C:$C,))), \"\", 'PWS Records (System Entry)'!$D$4)","v":""},{"$f":"IF(AND(ISBLANK(INDEX($G:$G,)), ISBLANK(INDEX($C:$C,))), \"\", 'PWS Records (System Entry)'!$D$3)","v":""},null,null,null,null,null,null,null,null,null,null,null,null,null,null,null,null,null,null,""]
[{"$f":"IF(AND(ISBLANK(INDEX($G:$G,)), ISBLANK(INDEX($C:$C,))), \"\", 'PWS Records (System Entry)'!$D$4)","v":""},{"$f":"IF(AND(ISBLANK(INDEX($G:$G,)), ISBLANK(INDEX($C:$C,))), \"\", 'PWS Records (System Entry)'!$D$3)","v":""},null,null,null,null,null,null,null,null,null,null,null,null,null,null,null,null,null,null,""]
[{"$f":"IF(AND(ISBLANK(INDEX($G:$G,)), ISBLANK(INDEX($C:$C,))), \"\", 'PWS Records (System Entry)'!$D$4)","v":""},{"$f":"IF(AND(ISBLANK(INDEX($G:$G,)), ISBLANK(INDEX($C:$C,))), \"\", 'PWS Records (System Entry)'!$D$3)","v":""},null,null,null,null,null,null,null,null,null,null,null,null,null,null,null,null,null,null,""]
[{"$f":"IF(AND(ISBLANK(INDEX($G:$G,)), ISBLANK(INDEX($C:$C,))), \"\", 'PWS Records (System Entry)'!$D$4)","v":""},{"$f":"IF(AND(ISBLANK(INDEX($G:$G,)), ISBLANK(INDEX($C:$C,))), \"\", 'PWS Records (System Entry)'!$D$3)","v":""},null,null,null,null,null,null,null,null,null,null,null,null,null,null,null,null,null,null,""]
[{"$f":"IF(AND(ISBLANK(INDEX($G:$G,)), ISBLANK(INDEX($C:$C,))), \"\", 'PWS Records (System Entry)'!$D$4)","v":""},{"$f":"IF(AND(ISBLANK(INDEX($G:$G,)), ISBLANK(INDEX($C:$C,))), \"\", 'PWS Records (System Entry)'!$D$3)","v":""},null,null,null,null,null,null,null,null,null,null,null,null,null,null,null,null,null,null,""]
[{"$f":"IF(AND(ISBLANK(INDEX($G:$G,)), ISBLANK(INDEX($C:$C,))), \"\", 'PWS Records (System Entry)'!$D$4)","v":""},{"$f":"IF(AND(ISBLANK(INDEX($G:$G,)), ISBLANK(INDEX($C:$C,))), \"\", 'PWS Records (System Entry)'!$D$3)","v":""},null,null,null,null,null,null,null,null,null,null,null,null,null,null,null,null,null,null,""]
[{"$f":"IF(AND(ISBLANK(INDEX($G:$G,)), ISBLANK(INDEX($C:$C,))), \"\", 'PWS Records (System Entry)'!$D$4)","v":""},{"$f":"IF(AND(ISBLANK(INDEX($G:$G,)), ISBLANK(INDEX($C:$C,))), \"\", 'PWS Records (System Entry)'!$D$3)","v":""},null,null,null,null,null,null,null,null,null,null,null,null,null,null,null,null,null,null,""]
[{"$f":"IF(AND(ISBLANK(INDEX($G:$G,)), ISBLANK(INDEX($C:$C,))), \"\", 'PWS Records (System Entry)'!$D$4)","v":""},{"$f":"IF(AND(ISBLANK(INDEX($G:$G,)), ISBLANK(INDEX($C:$C,))), \"\", 'PWS Records (System Entry)'!$D$3)","v":""},null,null,null,null,null,null,null,null,null,null,null,null,null,null,null,null,null,null,""]
[{"$f":"IF(AND(ISBLANK(INDEX($G:$G,)), ISBLANK(INDEX($C:$C,))), \"\", 'PWS Records (System Entry)'!$D$4)","v":""},{"$f":"IF(AND(ISBLANK(INDEX($G:$G,)), ISBLANK(INDEX($C:$C,))), \"\", 'PWS Records (System Entry)'!$D$3)","v":""},null,null,null,null,null,null,null,null,null,null,null,null,null,null,null,null,null,null,""]
[{"$f":"IF(AND(ISBLANK(INDEX($G:$G,)), ISBLANK(INDEX($C:$C,))), \"\", 'PWS Records (System Entry)'!$D$4)","v":""},{"$f":"IF(AND(ISBLANK(INDEX($G:$G,)), ISBLANK(INDEX($C:$C,))), \"\", 'PWS Records (System Entry)'!$D$3)","v":""},null,null,null,null,null,null,null,null,null,null,null,null,null,null,null,null,null,null,""]
[{"$f":"IF(AND(ISBLANK(INDEX($G:$G,)), ISBLANK(INDEX($C:$C,))), \"\", 'PWS Records (System Entry)'!$D$4)","v":""},{"$f":"IF(AND(ISBLANK(INDEX($G:$G,)), ISBLANK(INDEX($C:$C,))), \"\", 'PWS Records (System Entry)'!$D$3)","v":""},null,null,null,null,null,null,null,null,null,null,null,null,null,null,null,null,null,null,""]
[{"$f":"IF(AND(ISBLANK(INDEX($G:$G,)), ISBLANK(INDEX($C:$C,))), \"\", 'PWS Records (System Entry)'!$D$4)","v":""},{"$f":"IF(AND(ISBLANK(INDEX($G:$G,)), ISBLANK(INDEX($C:$C,))), \"\", 'PWS Records (System Entry)'!$D$3)","v":""},null,null,null,null,null,null,null,null,null,null,null,null,null,null,null,null,null,null,""]
[{"$f":"IF(AND(ISBLANK(INDEX($G:$G,)), ISBLANK(INDEX($C:$C,))), \"\", 'PWS Records (System Entry)'!$D$4)","v":""},{"$f":"IF(AND(ISBLANK(INDEX($G:$G,)), ISBLANK(INDEX($C:$C,))), \"\", 'PWS Records (System Entry)'!$D$3)","v":""},null,null,null,null,null,null,null,null,null,null,null,null,null,null,null,null,null,null,""]
[{"$f":"IF(AND(ISBLANK(INDEX($G:$G,)), ISBLANK(INDEX($C:$C,))), \"\", 'PWS Records (System Entry)'!$D$4)","v":""},{"$f":"IF(AND(ISBLANK(INDEX($G:$G,)), ISBLANK(INDEX($C:$C,))), \"\", 'PWS Records (System Entry)'!$D$3)","v":""},null,null,null,null,null,null,null,null,null,null,null,null,null,null,null,null,null,null,""]
[{"$f":"IF(AND(ISBLANK(INDEX($G:$G,)), ISBLANK(INDEX($C:$C,))), \"\", 'PWS Records (System Entry)'!$D$4)","v":""},{"$f":"IF(AND(ISBLANK(INDEX($G:$G,)), ISBLANK(INDEX($C:$C,))), \"\", 'PWS Records (System Entry)'!$D$3)","v":""},null,null,null,null,null,null,null,null,null,null,null,null,null,null,null,null,null,null,""]
[{"$f":"IF(AND(ISBLANK(INDEX($G:$G,)), ISBLANK(INDEX($C:$C,))), \"\", 'PWS Records (System Entry)'!$D$4)","v":""},{"$f":"IF(AND(ISBLANK(INDEX($G:$G,)), ISBLANK(INDEX($C:$C,))), \"\", 'PWS Records (System Entry)'!$D$3)","v":""},null,null,null,null,null,null,null,null,null,null,null,null,null,null,null,null,null,null,""]
[{"$f":"IF(AND(ISBLANK(INDEX($G:$G,)), ISBLANK(INDEX($C:$C,))), \"\", 'PWS Records (System Entry)'!$D$4)","v":""},{"$f":"IF(AND(ISBLANK(INDEX($G:$G,)), ISBLANK(INDEX($C:$C,))), \"\", 'PWS Records (System Entry)'!$D$3)","v":""},null,null,null,null,null,null,null,null,null,null,null,null,null,null,null,null,null,null,""]
[{"$f":"IF(AND(ISBLANK(INDEX($G:$G,)), ISBLANK(INDEX($C:$C,))), \"\", 'PWS Records (System Entry)'!$D$4)","v":""},{"$f":"IF(AND(ISBLANK(INDEX($G:$G,)), ISBLANK(INDEX($C:$C,))), \"\", 'PWS Records (System Entry)'!$D$3)","v":""},null,null,null,null,null,null,null,null,null,null,null,null,null,null,null,null,null,null,""]
[{"$f":"IF(AND(ISBLANK(INDEX($G:$G,)), ISBLANK(INDEX($C:$C,))), \"\", 'PWS Records (System Entry)'!$D$4)","v":""},{"$f":"IF(AND(ISBLANK(INDEX($G:$G,)), ISBLANK(INDEX($C:$C,))), \"\", 'PWS Records (System Entry)'!$D$3)","v":""},null,null,null,null,null,null,null,null,null,null,null,null,null,null,null,null,null,null,""]
[{"$f":"IF(AND(ISBLANK(INDEX($G:$G,)), ISBLANK(INDEX($C:$C,))), \"\", 'PWS Records (System Entry)'!$D$4)","v":""},{"$f":"IF(AND(ISBLANK(INDEX($G:$G,)), ISBLANK(INDEX($C:$C,))), \"\", 'PWS Records (System Entry)'!$D$3)","v":""},null,null,null,null,null,null,null,null,null,null,null,null,null,null,null,null,null,null,""]
[{"$f":"IF(AND(ISBLANK(INDEX($G:$G,)), ISBLANK(INDEX($C:$C,))), \"\", 'PWS Records (System Entry)'!$D$4)","v":""},{"$f":"IF(AND(ISBLANK(INDEX($G:$G,)), ISBLANK(INDEX($C:$C,))), \"\", 'PWS Records (System Entry)'!$D$3)","v":""},null,null,null,null,null,null,null,null,null,null,null,null,null,null,null,null,null,null,""]
[{"$f":"IF(AND(ISBLANK(INDEX($G:$G,)), ISBLANK(INDEX($C:$C,))), \"\", 'PWS Records (System Entry)'!$D$4)","v":""},{"$f":"IF(AND(ISBLANK(INDEX($G:$G,)), ISBLANK(INDEX($C:$C,))), \"\", 'PWS Records (System Entry)'!$D$3)","v":""},null,null,null,null,null,null,null,null,null,null,null,null,null,null,null,null,null,null,""]
[{"$f":"IF(AND(ISBLANK(INDEX($G:$G,)), ISBLANK(INDEX($C:$C,))), \"\", 'PWS Records (System Entry)'!$D$4)","v":""},{"$f":"IF(AND(ISBLANK(INDEX($G:$G,)), ISBLANK(INDEX($C:$C,))), \"\", 'PWS Records (System Entry)'!$D$3)","v":""},null,null,null,null,null,null,null,null,null,null,null,null,null,null,null,null,null,null,""]
[{"$f":"IF(AND(ISBLANK(INDEX($G:$G,)), ISBLANK(INDEX($C:$C,))), \"\", 'PWS Records (System Entry)'!$D$4)","v":""},{"$f":"IF(AND(ISBLANK(INDEX($G:$G,)), ISBLANK(INDEX($C:$C,))), \"\", 'PWS Records (System Entry)'!$D$3)","v":""},null,null,null,null,null,null,null,null,null,null,null,null,null,null,null,null,null,null,""]
[{"$f":"IF(AND(ISBLANK(INDEX($G:$G,)), ISBLANK(INDEX($C:$C,))), \"\", 'PWS Records (System Entry)'!$D$4)","v":""},{"$f":"IF(AND(ISBLANK(INDEX($G:$G,)), ISBLANK(INDEX($C:$C,))), \"\", 'PWS Records (System Entry)'!$D$3)","v":""},null,null,null,null,null,null,null,null,null,null,null,null,null,null,null,null,null,null,""]
[{"$f":"IF(AND(ISBLANK(INDEX($G:$G,)), ISBLANK(INDEX($C:$C,))), \"\", 'PWS Records (System Entry)'!$D$4)","v":""},{"$f":"IF(AND(ISBLANK(INDEX($G:$G,)), ISBLANK(INDEX($C:$C,))), \"\", 'PWS Records (System Entry)'!$D$3)","v":""},null,null,null,null,null,null,null,null,null,null,null,null,null,null,null,null,null,null,""]
[{"$f":"IF(AND(ISBLANK(INDEX($G:$G,)), ISBLANK(INDEX($C:$C,))), \"\", 'PWS Records (System Entry)'!$D$4)","v":""},{"$f":"IF(AND(ISBLANK(INDEX($G:$G,)), ISBLANK(INDEX($C:$C,))), \"\", 'PWS Records (System Entry)'!$D$3)","v":""},null,null,null,null,null,null,null,null,null,null,null,null,null,null,null,null,null,null,""]
[{"$f":"IF(AND(ISBLANK(INDEX($G:$G,)), ISBLANK(INDEX($C:$C,))), \"\", 'PWS Records (System Entry)'!$D$4)","v":""},{"$f":"IF(AND(ISBLANK(INDEX($G:$G,)), ISBLANK(INDEX($C:$C,))), \"\", 'PWS Records (System Entry)'!$D$3)","v":""},null,null,null,null,null,null,null,null,null,null,null,null,null,null,null,null,null,null,""]
[{"$f":"IF(AND(ISBLANK(INDEX($G:$G,)), ISBLANK(INDEX($C:$C,))), \"\", 'PWS Records (System Entry)'!$D$4)","v":""},{"$f":"IF(AND(ISBLANK(INDEX($G:$G,)), ISBLANK(INDEX($C:$C,))), \"\", 'PWS Records (System Entry)'!$D$3)","v":""},null,null,null,null,null,null,null,null,null,null,null,null,null,null,null,null,null,null,""]
[{"$f":"IF(AND(ISBLANK(INDEX($G:$G,)), ISBLANK(INDEX($C:$C,))), \"\", 'PWS Records (System Entry)'!$D$4)","v":""},{"$f":"IF(AND(ISBLANK(INDEX($G:$G,)), ISBLANK(INDEX($C:$C,))), \"\", 'PWS Records (System Entry)'!$D$3)","v":""},null,null,null,null,null,null,null,null,null,null,null,null,null,null,null,null,null,null,""]
[{"$f":"IF(AND(ISBLANK(INDEX($G:$G,)), ISBLANK(INDEX($C:$C,))), \"\", 'PWS Records (System Entry)'!$D$4)","v":""},{"$f":"IF(AND(ISBLANK(INDEX($G:$G,)), ISBLANK(INDEX($C:$C,))), \"\", 'PWS Records (System Entry)'!$D$3)","v":""},null,null,null,null,null,null,null,null,null,null,null,null,null,null,null,null,null,null,""]
[{"$f":"IF(AND(ISBLANK(INDEX($G:$G,)), ISBLANK(INDEX($C:$C,))), \"\", 'PWS Records (System Entry)'!$D$4)","v":""},{"$f":"IF(AND(ISBLANK(INDEX($G:$G,)), ISBLANK(INDEX($C:$C,))), \"\", 'PWS Records (System Entry)'!$D$3)","v":""},null,null,null,null,null,null,null,null,null,null,null,null,null,null,null,null,null,null,""]
[{"$f":"IF(AND(ISBLANK(INDEX($G:$G,)), ISBLANK(INDEX($C:$C,))), \"\", 'PWS Records (System Entry)'!$D$4)","v":""},{"$f":"IF(AND(ISBLANK(INDEX($G:$G,)), ISBLANK(INDEX($C:$C,))), \"\", 'PWS Records (System Entry)'!$D$3)","v":""},null,null,null,null,null,null,null,null,null,null,null,null,null,null,null,null,null,null,""]
[{"$f":"IF(AND(ISBLANK(INDEX($G:$G,)), ISBLANK(INDEX($C:$C,))), \"\", 'PWS Records (System Entry)'!$D$4)","v":""},{"$f":"IF(AND(ISBLANK(INDEX($G:$G,)), ISBLANK(INDEX($C:$C,))), \"\", 'PWS Records (System Entry)'!$D$3)","v":""},null,null,null,null,null,null,null,null,null,null,null,null,null,null,null,null,null,null,""]
[{"$f":"IF(AND(ISBLANK(INDEX($G:$G,)), ISBLANK(INDEX($C:$C,))), \"\", 'PWS Records (System Entry)'!$D$4)","v":""},{"$f":"IF(AND(ISBLANK(INDEX($G:$G,)), ISBLANK(INDEX($C:$C,))), \"\", 'PWS Records (System Entry)'!$D$3)","v":""},null,null,null,null,null,null,null,null,null,null,null,null,null,null,null,null,null,null,""]
[{"$f":"IF(AND(ISBLANK(INDEX($G:$G,)), ISBLANK(INDEX($C:$C,))), \"\", 'PWS Records (System Entry)'!$D$4)","v":""},{"$f":"IF(AND(ISBLANK(INDEX($G:$G,)), ISBLANK(INDEX($C:$C,))), \"\", 'PWS Records (System Entry)'!$D$3)","v":""},null,null,null,null,null,null,null,null,null,null,null,null,null,null,null,null,null,null,""]
[{"$f":"IF(AND(ISBLANK(INDEX($G:$G,)), ISBLANK(INDEX($C:$C,))), \"\", 'PWS Records (System Entry)'!$D$4)","v":""},{"$f":"IF(AND(ISBLANK(INDEX($G:$G,)), ISBLANK(INDEX($C:$C,))), \"\", 'PWS Records (System Entry)'!$D$3)","v":""},null,null,null,null,null,null,null,null,null,null,null,null,null,null,null,null,null,null,""]
[{"$f":"IF(AND(ISBLANK(INDEX($G:$G,)), ISBLANK(INDEX($C:$C,))), \"\", 'PWS Records (System Entry)'!$D$4)","v":""},{"$f":"IF(AND(ISBLANK(INDEX($G:$G,)), ISBLANK(INDEX($C:$C,))), \"\", 'PWS Records (System Entry)'!$D$3)","v":""},null,null,null,null,null,null,null,null,null,null,null,null,null,null,null,null,null,null,""]
[{"$f":"IF(AND(ISBLANK(INDEX($G:$G,)), ISBLANK(INDEX($C:$C,))), \"\", 'PWS Records (System Entry)'!$D$4)","v":""},{"$f":"IF(AND(ISBLANK(INDEX($G:$G,)), ISBLANK(INDEX($C:$C,))), \"\", 'PWS Records (System Entry)'!$D$3)","v":""},null,null,null,null,null,null,null,null,null,null,null,null,null,null,null,null,null,null,""]
[{"$f":"IF(AND(ISBLANK(INDEX($G:$G,)), ISBLANK(INDEX($C:$C,))), \"\", 'PWS Records (System Entry)'!$D$4)","v":""},{"$f":"IF(AND(ISBLANK(INDEX($G:$G,)), ISBLANK(INDEX($C:$C,))), \"\", 'PWS Records (System Entry)'!$D$3)","v":""},null,null,null,null,null,null,null,null,null,null,null,null,null,null,null,null,null,null,""]
[{"$f":"IF(AND(ISBLANK(INDEX($G:$G,)), ISBLANK(INDEX($C:$C,))), \"\", 'PWS Records (System Entry)'!$D$4)","v":""},{"$f":"IF(AND(ISBLANK(INDEX($G:$G,)), ISBLANK(INDEX($C:$C,))), \"\", 'PWS Records (System Entry)'!$D$3)","v":""},null,null,null,null,null,null,null,null,null,null,null,null,null,null,null,null,null,null,""]
[{"$f":"IF(AND(ISBLANK(INDEX($G:$G,)), ISBLANK(INDEX($C:$C,))), \"\", 'PWS Records (System Entry)'!$D$4)","v":""},{"$f":"IF(AND(ISBLANK(INDEX($G:$G,)), ISBLANK(INDEX($C:$C,))), \"\", 'PWS Records (System Entry)'!$D$3)","v":""},null,null,null,null,null,null,null,null,null,null,null,null,null,null,null,null,null,null,""]
[{"$f":"IF(AND(ISBLANK(INDEX($G:$G,)), ISBLANK(INDEX($C:$C,))), \"\", 'PWS Records (System Entry)'!$D$4)","v":""},{"$f":"IF(AND(ISBLANK(INDEX($G:$G,)), ISBLANK(INDEX($C:$C,))), \"\", 'PWS Records (System Entry)'!$D$3)","v":""},null,null,null,null,null,null,null,null,null,null,null,null,null,null,null,null,null,null,""]
[{"$f":"IF(AND(ISBLANK(INDEX($G:$G,)), ISBLANK(INDEX($C:$C,))), \"\", 'PWS Records (System Entry)'!$D$4)","v":""},{"$f":"IF(AND(ISBLANK(INDEX($G:$G,)), ISBLANK(INDEX($C:$C,))), \"\", 'PWS Records (System Entry)'!$D$3)","v":""},null,null,null,null,null,null,null,null,null,null,null,null,null,null,null,null,null,null,""]
[{"$f":"IF(AND(ISBLANK(INDEX($G:$G,)), ISBLANK(INDEX($C:$C,))), \"\", 'PWS Records (System Entry)'!$D$4)","v":""},{"$f":"IF(AND(ISBLANK(INDEX($G:$G,)), ISBLANK(INDEX($C:$C,))), \"\", 'PWS Records (System Entry)'!$D$3)","v":""},null,null,null,null,null,null,null,null,null,null,null,null,null,null,null,null,null,null,""]
[{"$f":"IF(AND(ISBLANK(INDEX($G:$G,)), ISBLANK(INDEX($C:$C,))), \"\", 'PWS Records (System Entry)'!$D$4)","v":""},{"$f":"IF(AND(ISBLANK(INDEX($G:$G,)), ISBLANK(INDEX($C:$C,))), \"\", 'PWS Records (System Entry)'!$D$3)","v":""},null,null,null,null,null,null,null,null,null,null,null,null,null,null,null,null,null,null,""]
[{"$f":"IF(AND(ISBLANK(INDEX($G:$G,)), ISBLANK(INDEX($C:$C,))), \"\", 'PWS Records (System Entry)'!$D$4)","v":""},{"$f":"IF(AND(ISBLANK(INDEX($G:$G,)), ISBLANK(INDEX($C:$C,))), \"\", 'PWS Records (System Entry)'!$D$3)","v":""},null,null,null,null,null,null,null,null,null,null,null,null,null,null,null,null,null,null,""]
[{"$f":"IF(AND(ISBLANK(INDEX($G:$G,)), ISBLANK(INDEX($C:$C,))), \"\", 'PWS Records (System Entry)'!$D$4)","v":""},{"$f":"IF(AND(ISBLANK(INDEX($G:$G,)), ISBLANK(INDEX($C:$C,))), \"\", 'PWS Records (System Entry)'!$D$3)","v":""},null,null,null,null,null,null,null,null,null,null,null,null,null,null,null,null,null,null,""]
[{"$f":"IF(AND(ISBLANK(INDEX($G:$G,)), ISBLANK(INDEX($C:$C,))), \"\", 'PWS Records (System Entry)'!$D$4)","v":""},{"$f":"IF(AND(ISBLANK(INDEX($G:$G,)), ISBLANK(INDEX($C:$C,))), \"\", 'PWS Records (System Entry)'!$D$3)","v":""},null,null,null,null,null,null,null,null,null,null,null,null,null,null,null,null,null,null,""]
[{"$f":"IF(AND(ISBLANK(INDEX($G:$G,)), ISBLANK(INDEX($C:$C,))), \"\", 'PWS Records (System Entry)'!$D$4)","v":""},{"$f":"IF(AND(ISBLANK(INDEX($G:$G,)), ISBLANK(INDEX($C:$C,))), \"\", 'PWS Records (System Entry)'!$D$3)","v":""},null,null,null,null,null,null,null,null,null,null,null,null,null,null,null,null,null,null,""]
[{"$f":"IF(AND(ISBLANK(INDEX($G:$G,)), ISBLANK(INDEX($C:$C,))), \"\", 'PWS Records (System Entry)'!$D$4)","v":""},{"$f":"IF(AND(ISBLANK(INDEX($G:$G,)), ISBLANK(INDEX($C:$C,))), \"\", 'PWS Records (System Entry)'!$D$3)","v":""},null,null,null,null,null,null,null,null,null,null,null,null,null,null,null,null,null,null,""]
[{"$f":"IF(AND(ISBLANK(INDEX($G:$G,)), ISBLANK(INDEX($C:$C,))), \"\", 'PWS Records (System Entry)'!$D$4)","v":""},{"$f":"IF(AND(ISBLANK(INDEX($G:$G,)), ISBLANK(INDEX($C:$C,))), \"\", 'PWS Records (System Entry)'!$D$3)","v":""},null,null,null,null,null,null,null,null,null,null,null,null,null,null,null,null,null,null,{"$f":"IF(AND(INDEX($K:$K,)=\"\", INDEX($L:$L,)=\"\", INDEX($M:$M,)=\"\", INDEX($Q:$Q,)=\"\", INDEX($R:$R,)=\"\"), \"\", IF(OR(INDEX($K:$K,)=\"Lead\",INDEX($Q:$Q,)=\"Lead\"),\"Lead\",IF(OR(AND(OR(INDEX($M:$M,)=\"Yes\", INDEX($M:$M,)=\"Don't Know\", INDEX($M:$M,)=\"\"), INDEX($Q:$Q,)=\"Galvanized Iron/Steel\"), AND(INDEX($K:$K,)=\"Unknown\", INDEX($M:$M,)=\"No\", INDEX($Q:$Q,)=\"Galvanized Iron/Steel\")), \"Galvanized Requiring Replacement\", IF(OR(AND(OR(INDEX($K:$K,)=\"Galvanized Iron/Steel\", INDEX($K:$K,)=\"Non-Lead - Copper\", INDEX($K:$K,)=\"Non-Lead - Plastic\", INDEX($K:$K,)=\"Non-Lead - Other\", INDEX($K:$K,)=\"Non-Lead - Material Unknown\", INDEX($K:$K,)=\"No System Owned Portion\"), OR(INDEX($Q:$Q,)=\"Galvanized Iron/Steel\", INDEX($Q:$Q,)=\"Non-Lead - Copper\", INDEX($Q:$Q,)=\"Non-Lead - Plastic\", INDEX($Q:$Q,)=\"Non-Lead - Other\", INDEX($Q:$Q,)=\"Non-Lead - Predictive Model\", INDEX($Q:$Q,)=\"No Customer Owned Portion\")), AND(OR( INDEX($K:$K,)=\"Galvanized Iron/Steel\", INDEX($K:$K,)=\"Non-Lead - Copper\", INDEX($K:$K,)=\"Non-Lead - Plastic\", INDEX($K:$K,)=\"Non-Lead - Other\", INDEX($K:$K,)=\"Non-Lead - Material Unknown\", INDEX($K:$K,)=\"No System Owned Portion\"), INDEX($M:$M,)=\"No\", INDEX($Q:$Q,)=\"Non-Lead - Material Unknown\")), \"Non-Lead\", \"Lead Status Unknown\"))))","v":""}]
[{"$f":"IF(AND(ISBLANK(INDEX($G:$G,)), ISBLANK(INDEX($C:$C,))), \"\", 'PWS Records (System Entry)'!$D$4)","v":""},{"$f":"IF(AND(ISBLANK(INDEX($G:$G,)), ISBLANK(INDEX($C:$C,))), \"\", 'PWS Records (System Entry)'!$D$3)","v":""},null,null,null,null,null,null,null,null,null,null,null,null,null,null,null,null,null,null,""]
[{"$f":"IF(AND(ISBLANK(INDEX($G:$G,)), ISBLANK(INDEX($C:$C,))), \"\", 'PWS Records (System Entry)'!$D$4)","v":""},{"$f":"IF(AND(ISBLANK(INDEX($G:$G,)), ISBLANK(INDEX($C:$C,))), \"\", 'PWS Records (System Entry)'!$D$3)","v":""},null,null,null,null,null,null,null,null,null,null,null,null,null,null,null,null,null,null,""]
[{"$f":"IF(AND(ISBLANK(INDEX($G:$G,)), ISBLANK(INDEX($C:$C,))), \"\", 'PWS Records (System Entry)'!$D$4)","v":""},{"$f":"IF(AND(ISBLANK(INDEX($G:$G,)), ISBLANK(INDEX($C:$C,))), \"\", 'PWS Records (System Entry)'!$D$3)","v":""},null,null,null,null,null,null,null,null,null,null,null,null,null,null,null,null,null,null,""]
[{"$f":"IF(AND(ISBLANK(INDEX($G:$G,)), ISBLANK(INDEX($C:$C,))), \"\", 'PWS Records (System Entry)'!$D$4)","v":""},{"$f":"IF(AND(ISBLANK(INDEX($G:$G,)), ISBLANK(INDEX($C:$C,))), \"\", 'PWS Records (System Entry)'!$D$3)","v":""},null,null,null,null,null,null,null,null,null,null,null,null,null,null,null,null,null,null,""]
[{"$f":"IF(AND(ISBLANK(INDEX($G:$G,)), ISBLANK(INDEX($C:$C,))), \"\", 'PWS Records (System Entry)'!$D$4)","v":""},{"$f":"IF(AND(ISBLANK(INDEX($G:$G,)), ISBLANK(INDEX($C:$C,))), \"\", 'PWS Records (System Entry)'!$D$3)","v":""},null,null,null,null,null,null,null,null,null,null,null,null,null,null,null,null,null,null,""]
[{"$f":"IF(AND(ISBLANK(INDEX($G:$G,)), ISBLANK(INDEX($C:$C,))), \"\", 'PWS Records (System Entry)'!$D$4)","v":""},{"$f":"IF(AND(ISBLANK(INDEX($G:$G,)), ISBLANK(INDEX($C:$C,))), \"\", 'PWS Records (System Entry)'!$D$3)","v":""},null,null,null,null,null,null,null,null,null,null,null,null,null,null,null,null,null,null,""]
[{"$f":"IF(AND(ISBLANK(INDEX($G:$G,)), ISBLANK(INDEX($C:$C,))), \"\", 'PWS Records (System Entry)'!$D$4)","v":""},{"$f":"IF(AND(ISBLANK(INDEX($G:$G,)), ISBLANK(INDEX($C:$C,))), \"\", 'PWS Records (System Entry)'!$D$3)","v":""},null,null,null,null,null,null,null,null,null,null,null,null,null,null,null,null,null,null,""]
[{"$f":"IF(AND(ISBLANK(INDEX($G:$G,)), ISBLANK(INDEX($C:$C,))), \"\", 'PWS Records (System Entry)'!$D$4)","v":""},{"$f":"IF(AND(ISBLANK(INDEX($G:$G,)), ISBLANK(INDEX($C:$C,))), \"\", 'PWS Records (System Entry)'!$D$3)","v":""},null,null,null,null,null,null,null,null,null,null,null,null,null,null,null,null,null,null,""]
[{"$f":"IF(AND(ISBLANK(INDEX($G:$G,)), ISBLANK(INDEX($C:$C,))), \"\", 'PWS Records (System Entry)'!$D$4)","v":""},{"$f":"IF(AND(ISBLANK(INDEX($G:$G,)), ISBLANK(INDEX($C:$C,))), \"\", 'PWS Records (System Entry)'!$D$3)","v":""},null,null,null,null,null,null,null,null,null,null,null,null,null,null,null,null,null,null,""]
[{"$f":"IF(AND(ISBLANK(INDEX($G:$G,)), ISBLANK(INDEX($C:$C,))), \"\", 'PWS Records (System Entry)'!$D$4)","v":""},{"$f":"IF(AND(ISBLANK(INDEX($G:$G,)), ISBLANK(INDEX($C:$C,))), \"\", 'PWS Records (System Entry)'!$D$3)","v":""},null,null,null,null,null,null,null,null,null,null,null,null,null,null,null,null,null,null,""]
[{"$f":"IF(AND(ISBLANK(INDEX($G:$G,)), ISBLANK(INDEX($C:$C,))), \"\", 'PWS Records (System Entry)'!$D$4)","v":""},{"$f":"IF(AND(ISBLANK(INDEX($G:$G,)), ISBLANK(INDEX($C:$C,))), \"\", 'PWS Records (System Entry)'!$D$3)","v":""},null,null,null,null,null,null,null,null,null,null,null,null,null,null,null,null,null,null,""]
[{"$f":"IF(AND(ISBLANK(INDEX($G:$G,)), ISBLANK(INDEX($C:$C,))), \"\", 'PWS Records (System Entry)'!$D$4)","v":""},{"$f":"IF(AND(ISBLANK(INDEX($G:$G,)), ISBLANK(INDEX($C:$C,))), \"\", 'PWS Records (System Entry)'!$D$3)","v":""},null,null,null,null,null,null,null,null,null,null,null,null,null,null,null,null,null,null,""]
[{"$f":"IF(AND(ISBLANK(INDEX($G:$G,)), ISBLANK(INDEX($C:$C,))), \"\", 'PWS Records (System Entry)'!$D$4)","v":""},{"$f":"IF(AND(ISBLANK(INDEX($G:$G,)), ISBLANK(INDEX($C:$C,))), \"\", 'PWS Records (System Entry)'!$D$3)","v":""},null,null,null,null,null,null,null,null,null,null,null,null,null,null,null,null,null,null,""]
[{"$f":"IF(AND(ISBLANK(INDEX($G:$G,)), ISBLANK(INDEX($C:$C,))), \"\", 'PWS Records (System Entry)'!$D$4)","v":""},{"$f":"IF(AND(ISBLANK(INDEX($G:$G,)), ISBLANK(INDEX($C:$C,))), \"\", 'PWS Records (System Entry)'!$D$3)","v":""},null,null,null,null,null,null,null,null,null,null,null,null,null,null,null,null,null,null,""]
[{"$f":"IF(AND(ISBLANK(INDEX($G:$G,)), ISBLANK(INDEX($C:$C,))), \"\", 'PWS Records (System Entry)'!$D$4)","v":""},{"$f":"IF(AND(ISBLANK(INDEX($G:$G,)), ISBLANK(INDEX($C:$C,))), \"\", 'PWS Records (System Entry)'!$D$3)","v":""},null,null,null,null,null,null,null,null,null,null,null,null,null,null,null,null,null,null,""]
[{"$f":"IF(AND(ISBLANK(INDEX($G:$G,)), ISBLANK(INDEX($C:$C,))), \"\", 'PWS Records (System Entry)'!$D$4)","v":""},{"$f":"IF(AND(ISBLANK(INDEX($G:$G,)), ISBLANK(INDEX($C:$C,))), \"\", 'PWS Records (System Entry)'!$D$3)","v":""},null,null,null,null,null,null,null,null,null,null,null,null,null,null,null,null,null,null,""]
[{"$f":"IF(AND(ISBLANK(INDEX($G:$G,)), ISBLANK(INDEX($C:$C,))), \"\", 'PWS Records (System Entry)'!$D$4)","v":""},{"$f":"IF(AND(ISBLANK(INDEX($G:$G,)), ISBLANK(INDEX($C:$C,))), \"\", 'PWS Records (System Entry)'!$D$3)","v":""},null,null,null,null,null,null,null,null,null,null,null,null,null,null,null,null,null,null,""]
[{"$f":"IF(AND(ISBLANK(INDEX($G:$G,)), ISBLANK(INDEX($C:$C,))), \"\", 'PWS Records (System Entry)'!$D$4)","v":""},{"$f":"IF(AND(ISBLANK(INDEX($G:$G,)), ISBLANK(INDEX($C:$C,))), \"\", 'PWS Records (System Entry)'!$D$3)","v":""},null,null,null,null,null,null,null,null,null,null,null,null,null,null,null,null,null,null,""]
[{"$f":"IF(AND(ISBLANK(INDEX($G:$G,)), ISBLANK(INDEX($C:$C,))), \"\", 'PWS Records (System Entry)'!$D$4)","v":""},{"$f":"IF(AND(ISBLANK(INDEX($G:$G,)), ISBLANK(INDEX($C:$C,))), \"\", 'PWS Records (System Entry)'!$D$3)","v":""},null,null,null,null,null,null,null,null,null,null,null,null,null,null,null,null,null,null,""]
[{"$f":"IF(AND(ISBLANK(INDEX($G:$G,)), ISBLANK(INDEX($C:$C,))), \"\", 'PWS Records (System Entry)'!$D$4)","v":""},{"$f":"IF(AND(ISBLANK(INDEX($G:$G,)), ISBLANK(INDEX($C:$C,))), \"\", 'PWS Records (System Entry)'!$D$3)","v":""},null,null,null,null,null,null,null,null,null,null,null,null,null,null,null,null,null,null,""]
[{"$f":"IF(AND(ISBLANK(INDEX($G:$G,)), ISBLANK(INDEX($C:$C,))), \"\", 'PWS Records (System Entry)'!$D$4)","v":""},{"$f":"IF(AND(ISBLANK(INDEX($G:$G,)), ISBLANK(INDEX($C:$C,))), \"\", 'PWS Records (System Entry)'!$D$3)","v":""},null,null,null,null,null,null,null,null,null,null,null,null,null,null,null,null,null,null,""]
[{"$f":"IF(AND(ISBLANK(INDEX($G:$G,)), ISBLANK(INDEX($C:$C,))), \"\", 'PWS Records (System Entry)'!$D$4)","v":""},{"$f":"IF(AND(ISBLANK(INDEX($G:$G,)), ISBLANK(INDEX($C:$C,))), \"\", 'PWS Records (System Entry)'!$D$3)","v":""},null,null,null,null,null,null,null,null,null,null,null,null,null,null,null,null,null,null,""]
[{"$f":"IF(AND(ISBLANK(INDEX($G:$G,)), ISBLANK(INDEX($C:$C,))), \"\", 'PWS Records (System Entry)'!$D$4)","v":""},{"$f":"IF(AND(ISBLANK(INDEX($G:$G,)), ISBLANK(INDEX($C:$C,))), \"\", 'PWS Records (System Entry)'!$D$3)","v":""},null,null,null,null,null,null,null,null,null,null,null,null,null,null,null,null,null,null,""]
[{"$f":"IF(AND(ISBLANK(INDEX($G:$G,)), ISBLANK(INDEX($C:$C,))), \"\", 'PWS Records (System Entry)'!$D$4)","v":""},{"$f":"IF(AND(ISBLANK(INDEX($G:$G,)), ISBLANK(INDEX($C:$C,))), \"\", 'PWS Records (System Entry)'!$D$3)","v":""},null,null,null,null,null,null,null,null,null,null,null,null,null,null,null,null,null,null,""]
[{"$f":"IF(AND(ISBLANK(INDEX($G:$G,)), ISBLANK(INDEX($C:$C,))), \"\", 'PWS Records (System Entry)'!$D$4)","v":""},{"$f":"IF(AND(ISBLANK(INDEX($G:$G,)), ISBLANK(INDEX($C:$C,))), \"\", 'PWS Records (System Entry)'!$D$3)","v":""},null,null,null,null,null,null,null,null,null,null,null,null,null,null,null,null,null,null,""]
[{"$f":"IF(AND(ISBLANK(INDEX($G:$G,)), ISBLANK(INDEX($C:$C,))), \"\", 'PWS Records (System Entry)'!$D$4)","v":""},{"$f":"IF(AND(ISBLANK(INDEX($G:$G,)), ISBLANK(INDEX($C:$C,))), \"\", 'PWS Records (System Entry)'!$D$3)","v":""},null,null,null,null,null,null,null,null,null,null,null,null,null,null,null,null,null,null,""]
[{"$f":"IF(AND(ISBLANK(INDEX($G:$G,)), ISBLANK(INDEX($C:$C,))), \"\", 'PWS Records (System Entry)'!$D$4)","v":""},{"$f":"IF(AND(ISBLANK(INDEX($G:$G,)), ISBLANK(INDEX($C:$C,))), \"\", 'PWS Records (System Entry)'!$D$3)","v":""},null,null,null,null,null,null,null,null,null,null,null,null,null,null,null,null,null,null,""]
[{"$f":"IF(AND(ISBLANK(INDEX($G:$G,)), ISBLANK(INDEX($C:$C,))), \"\", 'PWS Records (System Entry)'!$D$4)","v":""},{"$f":"IF(AND(ISBLANK(INDEX($G:$G,)), ISBLANK(INDEX($C:$C,))), \"\", 'PWS Records (System Entry)'!$D$3)","v":""},null,null,null,null,null,null,null,null,null,null,null,null,null,null,null,null,null,null,""]
[{"$f":"IF(AND(ISBLANK(INDEX($G:$G,)), ISBLANK(INDEX($C:$C,))), \"\", 'PWS Records (System Entry)'!$D$4)","v":""},{"$f":"IF(AND(ISBLANK(INDEX($G:$G,)), ISBLANK(INDEX($C:$C,))), \"\", 'PWS Records (System Entry)'!$D$3)","v":""},null,null,null,null,null,null,null,null,null,null,null,null,null,null,null,null,null,null,""]
[{"$f":"IF(AND(ISBLANK(INDEX($G:$G,)), ISBLANK(INDEX($C:$C,))), \"\", 'PWS Records (System Entry)'!$D$4)","v":""},{"$f":"IF(AND(ISBLANK(INDEX($G:$G,)), ISBLANK(INDEX($C:$C,))), \"\", 'PWS Records (System Entry)'!$D$3)","v":""},null,null,null,null,null,null,null,null,null,null,null,null,null,null,null,null,null,null,""]
[{"$f":"IF(AND(ISBLANK(INDEX($G:$G,)), ISBLANK(INDEX($C:$C,))), \"\", 'PWS Records (System Entry)'!$D$4)","v":""},{"$f":"IF(AND(ISBLANK(INDEX($G:$G,)), ISBLANK(INDEX($C:$C,))), \"\", 'PWS Records (System Entry)'!$D$3)","v":""},null,null,null,null,null,null,null,null,null,null,null,null,null,null,null,null,null,null,""]
[{"$f":"IF(AND(ISBLANK(INDEX($G:$G,)), ISBLANK(INDEX($C:$C,))), \"\", 'PWS Records (System Entry)'!$D$4)","v":""},{"$f":"IF(AND(ISBLANK(INDEX($G:$G,)), ISBLANK(INDEX($C:$C,))), \"\", 'PWS Records (System Entry)'!$D$3)","v":""},null,null,null,null,null,null,null,null,null,null,null,null,null,null,null,null,null,null,""]
[{"$f":"IF(AND(ISBLANK(INDEX($G:$G,)), ISBLANK(INDEX($C:$C,))), \"\", 'PWS Records (System Entry)'!$D$4)","v":""},{"$f":"IF(AND(ISBLANK(INDEX($G:$G,)), ISBLANK(INDEX($C:$C,))), \"\", 'PWS Records (System Entry)'!$D$3)","v":""},null,null,null,null,null,null,null,null,null,null,null,null,null,null,null,null,null,null,""]
[{"$f":"IF(AND(ISBLANK(INDEX($G:$G,)), ISBLANK(INDEX($C:$C,))), \"\", 'PWS Records (System Entry)'!$D$4)","v":""},{"$f":"IF(AND(ISBLANK(INDEX($G:$G,)), ISBLANK(INDEX($C:$C,))), \"\", 'PWS Records (System Entry)'!$D$3)","v":""},null,null,null,null,null,null,null,null,null,null,null,null,null,null,null,null,null,null,""]
[{"$f":"IF(AND(ISBLANK(INDEX($G:$G,)), ISBLANK(INDEX($C:$C,))), \"\", 'PWS Records (System Entry)'!$D$4)","v":""},{"$f":"IF(AND(ISBLANK(INDEX($G:$G,)), ISBLANK(INDEX($C:$C,))), \"\", 'PWS Records (System Entry)'!$D$3)","v":""},null,null,null,null,null,null,null,null,null,null,null,null,null,null,null,null,null,null,""]
[{"$f":"IF(AND(ISBLANK(INDEX($G:$G,)), ISBLANK(INDEX($C:$C,))), \"\", 'PWS Records (System Entry)'!$D$4)","v":""},{"$f":"IF(AND(ISBLANK(INDEX($G:$G,)), ISBLANK(INDEX($C:$C,))), \"\", 'PWS Records (System Entry)'!$D$3)","v":""},null,null,null,null,null,null,null,null,null,null,null,null,null,null,null,null,null,null,""]
[{"$f":"IF(AND(ISBLANK(INDEX($G:$G,)), ISBLANK(INDEX($C:$C,))), \"\", 'PWS Records (System Entry)'!$D$4)","v":""},{"$f":"IF(AND(ISBLANK(INDEX($G:$G,)), ISBLANK(INDEX($C:$C,))), \"\", 'PWS Records (System Entry)'!$D$3)","v":""},null,null,null,null,null,null,null,null,null,null,null,null,null,null,null,null,null,null,""]
[{"$f":"IF(AND(ISBLANK(INDEX($G:$G,)), ISBLANK(INDEX($C:$C,))), \"\", 'PWS Records (System Entry)'!$D$4)","v":""},{"$f":"IF(AND(ISBLANK(INDEX($G:$G,)), ISBLANK(INDEX($C:$C,))), \"\", 'PWS Records (System Entry)'!$D$3)","v":""},null,null,null,null,null,null,null,null,null,null,null,null,null,null,null,null,null,null,""]
[{"$f":"IF(AND(ISBLANK(INDEX($G:$G,)), ISBLANK(INDEX($C:$C,))), \"\", 'PWS Records (System Entry)'!$D$4)","v":""},{"$f":"IF(AND(ISBLANK(INDEX($G:$G,)), ISBLANK(INDEX($C:$C,))), \"\", 'PWS Records (System Entry)'!$D$3)","v":""},null,null,null,null,null,null,null,null,null,null,null,null,null,null,null,null,null,null,""]
[{"$f":"IF(AND(ISBLANK(INDEX($G:$G,)), ISBLANK(INDEX($C:$C,))), \"\", 'PWS Records (System Entry)'!$D$4)","v":""},{"$f":"IF(AND(ISBLANK(INDEX($G:$G,)), ISBLANK(INDEX($C:$C,))), \"\", 'PWS Records (System Entry)'!$D$3)","v":""},null,null,null,null,null,null,null,null,null,null,null,null,null,null,null,null,null,null,""]
[{"$f":"IF(AND(ISBLANK(INDEX($G:$G,)), ISBLANK(INDEX($C:$C,))), \"\", 'PWS Records (System Entry)'!$D$4)","v":""},{"$f":"IF(AND(ISBLANK(INDEX($G:$G,)), ISBLANK(INDEX($C:$C,))), \"\", 'PWS Records (System Entry)'!$D$3)","v":""},null,null,null,null,null,null,null,null,null,null,null,null,null,null,null,null,null,null,""]
[{"$f":"IF(AND(ISBLANK(INDEX($G:$G,)), ISBLANK(INDEX($C:$C,))), \"\", 'PWS Records (System Entry)'!$D$4)","v":""},{"$f":"IF(AND(ISBLANK(INDEX($G:$G,)), ISBLANK(INDEX($C:$C,))), \"\", 'PWS Records (System Entry)'!$D$3)","v":""},null,null,null,null,null,null,null,null,null,null,null,null,null,null,null,null,null,null,""]
[{"$f":"IF(AND(ISBLANK(INDEX($G:$G,)), ISBLANK(INDEX($C:$C,))), \"\", 'PWS Records (System Entry)'!$D$4)","v":""},{"$f":"IF(AND(ISBLANK(INDEX($G:$G,)), ISBLANK(INDEX($C:$C,))), \"\", 'PWS Records (System Entry)'!$D$3)","v":""},null,null,null,null,null,null,null,null,null,null,null,null,null,null,null,null,null,null,""]
[{"$f":"IF(AND(ISBLANK(INDEX($G:$G,)), ISBLANK(INDEX($C:$C,))), \"\", 'PWS Records (System Entry)'!$D$4)","v":""},{"$f":"IF(AND(ISBLANK(INDEX($G:$G,)), ISBLANK(INDEX($C:$C,))), \"\", 'PWS Records (System Entry)'!$D$3)","v":""},null,null,null,null,null,null,null,null,null,null,null,null,null,null,null,null,null,null,""]
[{"$f":"IF(AND(ISBLANK(INDEX($G:$G,)), ISBLANK(INDEX($C:$C,))), \"\", 'PWS Records (System Entry)'!$D$4)","v":""},{"$f":"IF(AND(ISBLANK(INDEX($G:$G,)), ISBLANK(INDEX($C:$C,))), \"\", 'PWS Records (System Entry)'!$D$3)","v":""},null,null,null,null,null,null,null,null,null,null,null,null,null,null,null,null,null,null,""]
[{"$f":"IF(AND(ISBLANK(INDEX($G:$G,)), ISBLANK(INDEX($C:$C,))), \"\", 'PWS Records (System Entry)'!$D$4)","v":""},{"$f":"IF(AND(ISBLANK(INDEX($G:$G,)), ISBLANK(INDEX($C:$C,))), \"\", 'PWS Records (System Entry)'!$D$3)","v":""},null,null,null,null,null,null,null,null,null,null,null,null,null,null,null,null,null,null,""]
[{"$f":"IF(AND(ISBLANK(INDEX($G:$G,)), ISBLANK(INDEX($C:$C,))), \"\", 'PWS Records (System Entry)'!$D$4)","v":""},{"$f":"IF(AND(ISBLANK(INDEX($G:$G,)), ISBLANK(INDEX($C:$C,))), \"\", 'PWS Records (System Entry)'!$D$3)","v":""},null,null,null,null,null,null,null,null,null,null,null,null,null,null,null,null,null,null,""]
[{"$f":"IF(AND(ISBLANK(INDEX($G:$G,)), ISBLANK(INDEX($C:$C,))), \"\", 'PWS Records (System Entry)'!$D$4)","v":""},{"$f":"IF(AND(ISBLANK(INDEX($G:$G,)), ISBLANK(INDEX($C:$C,))), \"\", 'PWS Records (System Entry)'!$D$3)","v":""},null,null,null,null,null,null,null,null,null,null,null,null,null,null,null,null,null,null,""]
[{"$f":"IF(AND(ISBLANK(INDEX($G:$G,)), ISBLANK(INDEX($C:$C,))), \"\", 'PWS Records (System Entry)'!$D$4)","v":""},{"$f":"IF(AND(ISBLANK(INDEX($G:$G,)), ISBLANK(INDEX($C:$C,))), \"\", 'PWS Records (System Entry)'!$D$3)","v":""},null,null,null,null,null,null,null,null,null,null,null,null,null,null,null,null,null,null,""]
[{"$f":"IF(AND(ISBLANK(INDEX($G:$G,)), ISBLANK(INDEX($C:$C,))), \"\", 'PWS Records (System Entry)'!$D$4)","v":""},{"$f":"IF(AND(ISBLANK(INDEX($G:$G,)), ISBLANK(INDEX($C:$C,))), \"\", 'PWS Records (System Entry)'!$D$3)","v":""},null,null,null,null,null,null,null,null,null,null,null,null,null,null,null,null,null,null,""]
[{"$f":"IF(AND(ISBLANK(INDEX($G:$G,)), ISBLANK(INDEX($C:$C,))), \"\", 'PWS Records (System Entry)'!$D$4)","v":""},{"$f":"IF(AND(ISBLANK(INDEX($G:$G,)), ISBLANK(INDEX($C:$C,))), \"\", 'PWS Records (System Entry)'!$D$3)","v":""},null,null,null,null,null,null,null,null,null,null,null,null,null,null,null,null,null,null,{"$f":"IF(AND(INDEX($K:$K,)=\"\", INDEX($L:$L,)=\"\", INDEX($M:$M,)=\"\", INDEX($Q:$Q,)=\"\", INDEX($R:$R,)=\"\"), \"\", IF(OR(INDEX($K:$K,)=\"Lead\",INDEX($Q:$Q,)=\"Lead\"),\"Lead\",IF(OR(AND(OR(INDEX($M:$M,)=\"Yes\", INDEX($M:$M,)=\"Don't Know\", INDEX($M:$M,)=\"\"), INDEX($Q:$Q,)=\"Galvanized Iron/Steel\"), AND(INDEX($K:$K,)=\"Unknown\", INDEX($M:$M,)=\"No\", INDEX($Q:$Q,)=\"Galvanized Iron/Steel\")), \"Galvanized Requiring Replacement\", IF(OR(AND(OR(INDEX($K:$K,)=\"Galvanized Iron/Steel\", INDEX($K:$K,)=\"Non-Lead - Copper\", INDEX($K:$K,)=\"Non-Lead - Plastic\", INDEX($K:$K,)=\"Non-Lead - Other\", INDEX($K:$K,)=\"Non-Lead - Material Unknown\", INDEX($K:$K,)=\"No System Owned Portion\"), OR(INDEX($Q:$Q,)=\"Galvanized Iron/Steel\", INDEX($Q:$Q,)=\"Non-Lead - Copper\", INDEX($Q:$Q,)=\"Non-Lead - Plastic\", INDEX($Q:$Q,)=\"Non-Lead - Other\", INDEX($Q:$Q,)=\"Non-Lead - Predictive Model\", INDEX($Q:$Q,)=\"No Customer Owned Portion\")), AND(OR( INDEX($K:$K,)=\"Galvanized Iron/Steel\", INDEX($K:$K,)=\"Non-Lead - Copper\", INDEX($K:$K,)=\"Non-Lead - Plastic\", INDEX($K:$K,)=\"Non-Lead - Other\", INDEX($K:$K,)=\"Non-Lead - Material Unknown\", INDEX($K:$K,)=\"No System Owned Portion\"), INDEX($M:$M,)=\"No\", INDEX($Q:$Q,)=\"Non-Lead - Material Unknown\")), \"Non-Lead\", \"Lead Status Unknown\"))))","v":""}]
[{"$f":"IF(AND(ISBLANK(INDEX($G:$G,)), ISBLANK(INDEX($C:$C,))), \"\", 'PWS Records (System Entry)'!$D$4)","v":""},{"$f":"IF(AND(ISBLANK(INDEX($G:$G,)), ISBLANK(INDEX($C:$C,))), \"\", 'PWS Records (System Entry)'!$D$3)","v":""},null,null,null,null,null,null,null,null,null,null,null,null,null,null,null,null,null,null,""]
[{"$f":"IF(AND(ISBLANK(INDEX($G:$G,)), ISBLANK(INDEX($C:$C,))), \"\", 'PWS Records (System Entry)'!$D$4)","v":""},{"$f":"IF(AND(ISBLANK(INDEX($G:$G,)), ISBLANK(INDEX($C:$C,))), \"\", 'PWS Records (System Entry)'!$D$3)","v":""},null,null,null,null,null,null,null,null,null,null,null,null,null,null,null,null,null,null,""]
[{"$f":"IF(AND(ISBLANK(INDEX($G:$G,)), ISBLANK(INDEX($C:$C,))), \"\", 'PWS Records (System Entry)'!$D$4)","v":""},{"$f":"IF(AND(ISBLANK(INDEX($G:$G,)), ISBLANK(INDEX($C:$C,))), \"\", 'PWS Records (System Entry)'!$D$3)","v":""},null,null,null,null,null,null,null,null,null,null,null,null,null,null,null,null,null,null,""]
[{"$f":"IF(AND(ISBLANK(INDEX($G:$G,)), ISBLANK(INDEX($C:$C,))), \"\", 'PWS Records (System Entry)'!$D$4)","v":""},{"$f":"IF(AND(ISBLANK(INDEX($G:$G,)), ISBLANK(INDEX($C:$C,))), \"\", 'PWS Records (System Entry)'!$D$3)","v":""},null,null,null,null,null,null,null,null,null,null,null,null,null,null,null,null,null,null,""]
[{"$f":"IF(AND(ISBLANK(INDEX($G:$G,)), ISBLANK(INDEX($C:$C,))), \"\", 'PWS Records (System Entry)'!$D$4)","v":""},{"$f":"IF(AND(ISBLANK(INDEX($G:$G,)), ISBLANK(INDEX($C:$C,))), \"\", 'PWS Records (System Entry)'!$D$3)","v":""},null,null,null,null,null,null,null,null,null,null,null,null,null,null,null,null,null,null,""]
[{"$f":"IF(AND(ISBLANK(INDEX($G:$G,)), ISBLANK(INDEX($C:$C,))), \"\", 'PWS Records (System Entry)'!$D$4)","v":""},{"$f":"IF(AND(ISBLANK(INDEX($G:$G,)), ISBLANK(INDEX($C:$C,))), \"\", 'PWS Records (System Entry)'!$D$3)","v":""},null,null,null,null,null,null,null,null,null,null,null,null,null,null,null,null,null,null,""]
[{"$f":"IF(AND(ISBLANK(INDEX($G:$G,)), ISBLANK(INDEX($C:$C,))), \"\", 'PWS Records (System Entry)'!$D$4)","v":""},{"$f":"IF(AND(ISBLANK(INDEX($G:$G,)), ISBLANK(INDEX($C:$C,))), \"\", 'PWS Records (System Entry)'!$D$3)","v":""},null,null,null,null,null,null,null,null,null,null,null,null,null,null,null,null,null,null,""]
[{"$f":"IF(AND(ISBLANK(INDEX($G:$G,)), ISBLANK(INDEX($C:$C,))), \"\", 'PWS Records (System Entry)'!$D$4)","v":""},{"$f":"IF(AND(ISBLANK(INDEX($G:$G,)), ISBLANK(INDEX($C:$C,))), \"\", 'PWS Records (System Entry)'!$D$3)","v":""},null,null,null,null,null,null,null,null,null,null,null,null,null,null,null,null,null,null,""]
[{"$f":"IF(AND(ISBLANK(INDEX($G:$G,)), ISBLANK(INDEX($C:$C,))), \"\", 'PWS Records (System Entry)'!$D$4)","v":""},{"$f":"IF(AND(ISBLANK(INDEX($G:$G,)), ISBLANK(INDEX($C:$C,))), \"\", 'PWS Records (System Entry)'!$D$3)","v":""},null,null,null,null,null,null,null,null,null,null,null,null,null,null,null,null,null,null,""]
[{"$f":"IF(AND(ISBLANK(INDEX($G:$G,)), ISBLANK(INDEX($C:$C,))), \"\", 'PWS Records (System Entry)'!$D$4)","v":""},{"$f":"IF(AND(ISBLANK(INDEX($G:$G,)), ISBLANK(INDEX($C:$C,))), \"\", 'PWS Records (System Entry)'!$D$3)","v":""},null,null,null,null,null,null,null,null,null,null,null,null,null,null,null,null,null,null,""]
[{"$f":"IF(AND(ISBLANK(INDEX($G:$G,)), ISBLANK(INDEX($C:$C,))), \"\", 'PWS Records (System Entry)'!$D$4)","v":""},{"$f":"IF(AND(ISBLANK(INDEX($G:$G,)), ISBLANK(INDEX($C:$C,))), \"\", 'PWS Records (System Entry)'!$D$3)","v":""},null,null,null,null,null,null,null,null,null,null,null,null,null,null,null,null,null,null,""]
[{"$f":"IF(AND(ISBLANK(INDEX($G:$G,)), ISBLANK(INDEX($C:$C,))), \"\", 'PWS Records (System Entry)'!$D$4)","v":""},{"$f":"IF(AND(ISBLANK(INDEX($G:$G,)), ISBLANK(INDEX($C:$C,))), \"\", 'PWS Records (System Entry)'!$D$3)","v":""},null,null,null,null,null,null,null,null,null,null,null,null,null,null,null,null,null,null,""]
[{"$f":"IF(AND(ISBLANK(INDEX($G:$G,)), ISBLANK(INDEX($C:$C,))), \"\", 'PWS Records (System Entry)'!$D$4)","v":""},{"$f":"IF(AND(ISBLANK(INDEX($G:$G,)), ISBLANK(INDEX($C:$C,))), \"\", 'PWS Records (System Entry)'!$D$3)","v":""},null,null,null,null,null,null,null,null,null,null,null,null,null,null,null,null,null,null,""]
[{"$f":"IF(AND(ISBLANK(INDEX($G:$G,)), ISBLANK(INDEX($C:$C,))), \"\", 'PWS Records (System Entry)'!$D$4)","v":""},{"$f":"IF(AND(ISBLANK(INDEX($G:$G,)), ISBLANK(INDEX($C:$C,))), \"\", 'PWS Records (System Entry)'!$D$3)","v":""},null,null,null,null,null,null,null,null,null,null,null,null,null,null,null,null,null,null,""]
[{"$f":"IF(AND(ISBLANK(INDEX($G:$G,)), ISBLANK(INDEX($C:$C,))), \"\", 'PWS Records (System Entry)'!$D$4)","v":""},{"$f":"IF(AND(ISBLANK(INDEX($G:$G,)), ISBLANK(INDEX($C:$C,))), \"\", 'PWS Records (System Entry)'!$D$3)","v":""},null,null,null,null,null,null,null,null,null,null,null,null,null,null,null,null,null,null,""]
[{"$f":"IF(AND(ISBLANK(INDEX($G:$G,)), ISBLANK(INDEX($C:$C,))), \"\", 'PWS Records (System Entry)'!$D$4)","v":""},{"$f":"IF(AND(ISBLANK(INDEX($G:$G,)), ISBLANK(INDEX($C:$C,))), \"\", 'PWS Records (System Entry)'!$D$3)","v":""},null,null,null,null,null,null,null,null,null,null,null,null,null,null,null,null,null,null,""]
[{"$f":"IF(AND(ISBLANK(INDEX($G:$G,)), ISBLANK(INDEX($C:$C,))), \"\", 'PWS Records (System Entry)'!$D$4)","v":""},{"$f":"IF(AND(ISBLANK(INDEX($G:$G,)), ISBLANK(INDEX($C:$C,))), \"\", 'PWS Records (System Entry)'!$D$3)","v":""},null,null,null,null,null,null,null,null,null,null,null,null,null,null,null,null,null,null,""]
[{"$f":"IF(AND(ISBLANK(INDEX($G:$G,)), ISBLANK(INDEX($C:$C,))), \"\", 'PWS Records (System Entry)'!$D$4)","v":""},{"$f":"IF(AND(ISBLANK(INDEX($G:$G,)), ISBLANK(INDEX($C:$C,))), \"\", 'PWS Records (System Entry)'!$D$3)","v":""},null,null,null,null,null,null,null,null,null,null,null,null,null,null,null,null,null,null,""]
[{"$f":"IF(AND(ISBLANK(INDEX($G:$G,)), ISBLANK(INDEX($C:$C,))), \"\", 'PWS Records (System Entry)'!$D$4)","v":""},{"$f":"IF(AND(ISBLANK(INDEX($G:$G,)), ISBLANK(INDEX($C:$C,))), \"\", 'PWS Records (System Entry)'!$D$3)","v":""},null,null,null,null,null,null,null,null,null,null,null,null,null,null,null,null,null,null,""]
[{"$f":"IF(AND(ISBLANK(INDEX($G:$G,)), ISBLANK(INDEX($C:$C,))), \"\", 'PWS Records (System Entry)'!$D$4)","v":""},{"$f":"IF(AND(ISBLANK(INDEX($G:$G,)), ISBLANK(INDEX($C:$C,))), \"\", 'PWS Records (System Entry)'!$D$3)","v":""},null,null,null,null,null,null,null,null,null,null,null,null,null,null,null,null,null,null,""]
[{"$f":"IF(AND(ISBLANK(INDEX($G:$G,)), ISBLANK(INDEX($C:$C,))), \"\", 'PWS Records (System Entry)'!$D$4)","v":""},{"$f":"IF(AND(ISBLANK(INDEX($G:$G,)), ISBLANK(INDEX($C:$C,))), \"\", 'PWS Records (System Entry)'!$D$3)","v":""},null,null,null,null,null,null,null,null,null,null,null,null,null,null,null,null,null,null,""]
[{"$f":"IF(AND(ISBLANK(INDEX($G:$G,)), ISBLANK(INDEX($C:$C,))), \"\", 'PWS Records (System Entry)'!$D$4)","v":""},{"$f":"IF(AND(ISBLANK(INDEX($G:$G,)), ISBLANK(INDEX($C:$C,))), \"\", 'PWS Records (System Entry)'!$D$3)","v":""},null,null,null,null,null,null,null,null,null,null,null,null,null,null,null,null,null,null,""]
[{"$f":"IF(AND(ISBLANK(INDEX($G:$G,)), ISBLANK(INDEX($C:$C,))), \"\", 'PWS Records (System Entry)'!$D$4)","v":""},{"$f":"IF(AND(ISBLANK(INDEX($G:$G,)), ISBLANK(INDEX($C:$C,))), \"\", 'PWS Records (System Entry)'!$D$3)","v":""},null,null,null,null,null,null,null,null,null,null,null,null,null,null,null,null,null,null,""]
[{"$f":"IF(AND(ISBLANK(INDEX($G:$G,)), ISBLANK(INDEX($C:$C,))), \"\", 'PWS Records (System Entry)'!$D$4)","v":""},{"$f":"IF(AND(ISBLANK(INDEX($G:$G,)), ISBLANK(INDEX($C:$C,))), \"\", 'PWS Records (System Entry)'!$D$3)","v":""},null,null,null,null,null,null,null,null,null,null,null,null,null,null,null,null,null,null,""]
[{"$f":"IF(AND(ISBLANK(INDEX($G:$G,)), ISBLANK(INDEX($C:$C,))), \"\", 'PWS Records (System Entry)'!$D$4)","v":""},{"$f":"IF(AND(ISBLANK(INDEX($G:$G,)), ISBLANK(INDEX($C:$C,))), \"\", 'PWS Records (System Entry)'!$D$3)","v":""},null,null,null,null,null,null,null,null,null,null,null,null,null,null,null,null,null,null,""]
[{"$f":"IF(AND(ISBLANK(INDEX($G:$G,)), ISBLANK(INDEX($C:$C,))), \"\", 'PWS Records (System Entry)'!$D$4)","v":""},{"$f":"IF(AND(ISBLANK(INDEX($G:$G,)), ISBLANK(INDEX($C:$C,))), \"\", 'PWS Records (System Entry)'!$D$3)","v":""},null,null,null,null,null,null,null,null,null,null,null,null,null,null,null,null,null,null,""]
[{"$f":"IF(AND(ISBLANK(INDEX($G:$G,)), ISBLANK(INDEX($C:$C,))), \"\", 'PWS Records (System Entry)'!$D$4)","v":""},{"$f":"IF(AND(ISBLANK(INDEX($G:$G,)), ISBLANK(INDEX($C:$C,))), \"\", 'PWS Records (System Entry)'!$D$3)","v":""},null,null,null,null,null,null,null,null,null,null,null,null,null,null,null,null,null,null,""]
[{"$f":"IF(AND(ISBLANK(INDEX($G:$G,)), ISBLANK(INDEX($C:$C,))), \"\", 'PWS Records (System Entry)'!$D$4)","v":""},{"$f":"IF(AND(ISBLANK(INDEX($G:$G,)), ISBLANK(INDEX($C:$C,))), \"\", 'PWS Records (System Entry)'!$D$3)","v":""},null,null,null,null,null,null,null,null,null,null,null,null,null,null,null,null,null,null,""]
[{"$f":"IF(AND(ISBLANK(INDEX($G:$G,)), ISBLANK(INDEX($C:$C,))), \"\", 'PWS Records (System Entry)'!$D$4)","v":""},{"$f":"IF(AND(ISBLANK(INDEX($G:$G,)), ISBLANK(INDEX($C:$C,))), \"\", 'PWS Records (System Entry)'!$D$3)","v":""},null,null,null,null,null,null,null,null,null,null,null,null,null,null,null,null,null,null,""]
[{"$f":"IF(AND(ISBLANK(INDEX($G:$G,)), ISBLANK(INDEX($C:$C,))), \"\", 'PWS Records (System Entry)'!$D$4)","v":""},{"$f":"IF(AND(ISBLANK(INDEX($G:$G,)), ISBLANK(INDEX($C:$C,))), \"\", 'PWS Records (System Entry)'!$D$3)","v":""},null,null,null,null,null,null,null,null,null,null,null,null,null,null,null,null,null,null,""]
[{"$f":"IF(AND(ISBLANK(INDEX($G:$G,)), ISBLANK(INDEX($C:$C,))), \"\", 'PWS Records (System Entry)'!$D$4)","v":""},{"$f":"IF(AND(ISBLANK(INDEX($G:$G,)), ISBLANK(INDEX($C:$C,))), \"\", 'PWS Records (System Entry)'!$D$3)","v":""},null,null,null,null,null,null,null,null,null,null,null,null,null,null,null,null,null,null,""]
[{"$f":"IF(AND(ISBLANK(INDEX($G:$G,)), ISBLANK(INDEX($C:$C,))), \"\", 'PWS Records (System Entry)'!$D$4)","v":""},{"$f":"IF(AND(ISBLANK(INDEX($G:$G,)), ISBLANK(INDEX($C:$C,))), \"\", 'PWS Records (System Entry)'!$D$3)","v":""},null,null,null,null,null,null,null,null,null,null,null,null,null,null,null,null,null,null,""]
[{"$f":"IF(AND(ISBLANK(INDEX($G:$G,)), ISBLANK(INDEX($C:$C,))), \"\", 'PWS Records (System Entry)'!$D$4)","v":""},{"$f":"IF(AND(ISBLANK(INDEX($G:$G,)), ISBLANK(INDEX($C:$C,))), \"\", 'PWS Records (System Entry)'!$D$3)","v":""},null,null,null,null,null,null,null,null,null,null,null,null,null,null,null,null,null,null,""]
[{"$f":"IF(AND(ISBLANK(INDEX($G:$G,)), ISBLANK(INDEX($C:$C,))), \"\", 'PWS Records (System Entry)'!$D$4)","v":""},{"$f":"IF(AND(ISBLANK(INDEX($G:$G,)), ISBLANK(INDEX($C:$C,))), \"\", 'PWS Records (System Entry)'!$D$3)","v":""},null,null,null,null,null,null,null,null,null,null,null,null,null,null,null,null,null,null,{"$f":"IF(AND(INDEX($K:$K,)=\"\", INDEX($L:$L,)=\"\", INDEX($M:$M,)=\"\", INDEX($Q:$Q,)=\"\", INDEX($R:$R,)=\"\"), \"\", IF(OR(INDEX($K:$K,)=\"Lead\",INDEX($Q:$Q,)=\"Lead\"),\"Lead\",IF(OR(AND(OR(INDEX($M:$M,)=\"Yes\", INDEX($M:$M,)=\"Don't Know\", INDEX($M:$M,)=\"\"), INDEX($Q:$Q,)=\"Galvanized Iron/Steel\"), AND(INDEX($K:$K,)=\"Unknown\", INDEX($M:$M,)=\"No\", INDEX($Q:$Q,)=\"Galvanized Iron/Steel\")), \"Galvanized Requiring Replacement\", IF(OR(AND(OR(INDEX($K:$K,)=\"Galvanized Iron/Steel\", INDEX($K:$K,)=\"Non-Lead - Copper\", INDEX($K:$K,)=\"Non-Lead - Plastic\", INDEX($K:$K,)=\"Non-Lead - Other\", INDEX($K:$K,)=\"Non-Lead - Material Unknown\", INDEX($K:$K,)=\"No System Owned Portion\"), OR(INDEX($Q:$Q,)=\"Galvanized Iron/Steel\", INDEX($Q:$Q,)=\"Non-Lead - Copper\", INDEX($Q:$Q,)=\"Non-Lead - Plastic\", INDEX($Q:$Q,)=\"Non-Lead - Other\", INDEX($Q:$Q,)=\"Non-Lead - Predictive Model\", INDEX($Q:$Q,)=\"No Customer Owned Portion\")), AND(OR( INDEX($K:$K,)=\"Galvanized Iron/Steel\", INDEX($K:$K,)=\"Non-Lead - Copper\", INDEX($K:$K,)=\"Non-Lead - Plastic\", INDEX($K:$K,)=\"Non-Lead - Other\", INDEX($K:$K,)=\"Non-Lead - Material Unknown\", INDEX($K:$K,)=\"No System Owned Portion\"), INDEX($M:$M,)=\"No\", INDEX($Q:$Q,)=\"Non-Lead - Material Unknown\")), \"Non-Lead\", \"Lead Status Unknown\"))))","v":""}]
[{"$f":"IF(AND(ISBLANK(INDEX($G:$G,)), ISBLANK(INDEX($C:$C,))), \"\", 'PWS Records (System Entry)'!$D$4)","v":""},{"$f":"IF(AND(ISBLANK(INDEX($G:$G,)), ISBLANK(INDEX($C:$C,))), \"\", 'PWS Records (System Entry)'!$D$3)","v":""},null,null,null,null,null,null,null,null,null,null,null,null,null,null,null,null,null,null,""]
[{"$f":"IF(AND(ISBLANK(INDEX($G:$G,)), ISBLANK(INDEX($C:$C,))), \"\", 'PWS Records (System Entry)'!$D$4)","v":""},{"$f":"IF(AND(ISBLANK(INDEX($G:$G,)), ISBLANK(INDEX($C:$C,))), \"\", 'PWS Records (System Entry)'!$D$3)","v":""},null,null,null,null,null,null,null,null,null,null,null,null,null,null,null,null,null,null,""]
[{"$f":"IF(AND(ISBLANK(INDEX($G:$G,)), ISBLANK(INDEX($C:$C,))), \"\", 'PWS Records (System Entry)'!$D$4)","v":""},{"$f":"IF(AND(ISBLANK(INDEX($G:$G,)), ISBLANK(INDEX($C:$C,))), \"\", 'PWS Records (System Entry)'!$D$3)","v":""},null,null,null,null,null,null,null,null,null,null,null,null,null,null,null,null,null,null,""]
[{"$f":"IF(AND(ISBLANK(INDEX($G:$G,)), ISBLANK(INDEX($C:$C,))), \"\", 'PWS Records (System Entry)'!$D$4)","v":""},{"$f":"IF(AND(ISBLANK(INDEX($G:$G,)), ISBLANK(INDEX($C:$C,))), \"\", 'PWS Records (System Entry)'!$D$3)","v":""},null,null,null,null,null,null,null,null,null,null,null,null,null,null,null,null,null,null,""]
[{"$f":"IF(AND(ISBLANK(INDEX($G:$G,)), ISBLANK(INDEX($C:$C,))), \"\", 'PWS Records (System Entry)'!$D$4)","v":""},{"$f":"IF(AND(ISBLANK(INDEX($G:$G,)), ISBLANK(INDEX($C:$C,))), \"\", 'PWS Records (System Entry)'!$D$3)","v":""},null,null,null,null,null,null,null,null,null,null,null,null,null,null,null,null,null,null,""]
[{"$f":"IF(AND(ISBLANK(INDEX($G:$G,)), ISBLANK(INDEX($C:$C,))), \"\", 'PWS Records (System Entry)'!$D$4)","v":""},{"$f":"IF(AND(ISBLANK(INDEX($G:$G,)), ISBLANK(INDEX($C:$C,))), \"\", 'PWS Records (System Entry)'!$D$3)","v":""},null,null,null,null,null,null,null,null,null,null,null,null,null,null,null,null,null,null,""]
[{"$f":"IF(AND(ISBLANK(INDEX($G:$G,)), ISBLANK(INDEX($C:$C,))), \"\", 'PWS Records (System Entry)'!$D$4)","v":""},{"$f":"IF(AND(ISBLANK(INDEX($G:$G,)), ISBLANK(INDEX($C:$C,))), \"\", 'PWS Records (System Entry)'!$D$3)","v":""},null,null,null,null,null,null,null,null,null,null,null,null,null,null,null,null,null,null,""]
[{"$f":"IF(AND(ISBLANK(INDEX($G:$G,)), ISBLANK(INDEX($C:$C,))), \"\", 'PWS Records (System Entry)'!$D$4)","v":""},{"$f":"IF(AND(ISBLANK(INDEX($G:$G,)), ISBLANK(INDEX($C:$C,))), \"\", 'PWS Records (System Entry)'!$D$3)","v":""},null,null,null,null,null,null,null,null,null,null,null,null,null,null,null,null,null,null,""]
[{"$f":"IF(AND(ISBLANK(INDEX($G:$G,)), ISBLANK(INDEX($C:$C,))), \"\", 'PWS Records (System Entry)'!$D$4)","v":""},{"$f":"IF(AND(ISBLANK(INDEX($G:$G,)), ISBLANK(INDEX($C:$C,))), \"\", 'PWS Records (System Entry)'!$D$3)","v":""},null,null,null,null,null,null,null,null,null,null,null,null,null,null,null,null,null,null,""]
[{"$f":"IF(AND(ISBLANK(INDEX($G:$G,)), ISBLANK(INDEX($C:$C,))), \"\", 'PWS Records (System Entry)'!$D$4)","v":""},{"$f":"IF(AND(ISBLANK(INDEX($G:$G,)), ISBLANK(INDEX($C:$C,))), \"\", 'PWS Records (System Entry)'!$D$3)","v":""},null,null,null,null,null,null,null,null,null,null,null,null,null,null,null,null,null,null,""]
[{"$f":"IF(AND(ISBLANK(INDEX($G:$G,)), ISBLANK(INDEX($C:$C,))), \"\", 'PWS Records (System Entry)'!$D$4)","v":""},{"$f":"IF(AND(ISBLANK(INDEX($G:$G,)), ISBLANK(INDEX($C:$C,))), \"\", 'PWS Records (System Entry)'!$D$3)","v":""},null,null,null,null,null,null,null,null,null,null,null,null,null,null,null,null,null,null,""]
[{"$f":"IF(AND(ISBLANK(INDEX($G:$G,)), ISBLANK(INDEX($C:$C,))), \"\", 'PWS Records (System Entry)'!$D$4)","v":""},{"$f":"IF(AND(ISBLANK(INDEX($G:$G,)), ISBLANK(INDEX($C:$C,))), \"\", 'PWS Records (System Entry)'!$D$3)","v":""},null,null,null,null,null,null,null,null,null,null,null,null,null,null,null,null,null,null,""]
[{"$f":"IF(AND(ISBLANK(INDEX($G:$G,)), ISBLANK(INDEX($C:$C,))), \"\", 'PWS Records (System Entry)'!$D$4)","v":""},{"$f":"IF(AND(ISBLANK(INDEX($G:$G,)), ISBLANK(INDEX($C:$C,))), \"\", 'PWS Records (System Entry)'!$D$3)","v":""},null,null,null,null,null,null,null,null,null,null,null,null,null,null,null,null,null,null,""]
[{"$f":"IF(AND(ISBLANK(INDEX($G:$G,)), ISBLANK(INDEX($C:$C,))), \"\", 'PWS Records (System Entry)'!$D$4)","v":""},{"$f":"IF(AND(ISBLANK(INDEX($G:$G,)), ISBLANK(INDEX($C:$C,))), \"\", 'PWS Records (System Entry)'!$D$3)","v":""},null,null,null,null,null,null,null,null,null,null,null,null,null,null,null,null,null,null,""]
[{"$f":"IF(AND(ISBLANK(INDEX($G:$G,)), ISBLANK(INDEX($C:$C,))), \"\", 'PWS Records (System Entry)'!$D$4)","v":""},{"$f":"IF(AND(ISBLANK(INDEX($G:$G,)), ISBLANK(INDEX($C:$C,))), \"\", 'PWS Records (System Entry)'!$D$3)","v":""},null,null,null,null,null,null,null,null,null,null,null,null,null,null,null,null,null,null,""]
[{"$f":"IF(AND(ISBLANK(INDEX($G:$G,)), ISBLANK(INDEX($C:$C,))), \"\", 'PWS Records (System Entry)'!$D$4)","v":""},{"$f":"IF(AND(ISBLANK(INDEX($G:$G,)), ISBLANK(INDEX($C:$C,))), \"\", 'PWS Records (System Entry)'!$D$3)","v":""},null,null,null,null,null,null,null,null,null,null,null,null,null,null,null,null,null,null,""]
[{"$f":"IF(AND(ISBLANK(INDEX($G:$G,)), ISBLANK(INDEX($C:$C,))), \"\", 'PWS Records (System Entry)'!$D$4)","v":""},{"$f":"IF(AND(ISBLANK(INDEX($G:$G,)), ISBLANK(INDEX($C:$C,))), \"\", 'PWS Records (System Entry)'!$D$3)","v":""},null,null,null,null,null,null,null,null,null,null,null,null,null,null,null,null,null,null,""]
[{"$f":"IF(AND(ISBLANK(INDEX($G:$G,)), ISBLANK(INDEX($C:$C,))), \"\", 'PWS Records (System Entry)'!$D$4)","v":""},{"$f":"IF(AND(ISBLANK(INDEX($G:$G,)), ISBLANK(INDEX($C:$C,))), \"\", 'PWS Records (System Entry)'!$D$3)","v":""},null,null,null,null,null,null,null,null,null,null,null,null,null,null,null,null,null,null,""]
[{"$f":"IF(AND(ISBLANK(INDEX($G:$G,)), ISBLANK(INDEX($C:$C,))), \"\", 'PWS Records (System Entry)'!$D$4)","v":""},{"$f":"IF(AND(ISBLANK(INDEX($G:$G,)), ISBLANK(INDEX($C:$C,))), \"\", 'PWS Records (System Entry)'!$D$3)","v":""},null,null,null,null,null,null,null,null,null,null,null,null,null,null,null,null,null,null,""]
[{"$f":"IF(AND(ISBLANK(INDEX($G:$G,)), ISBLANK(INDEX($C:$C,))), \"\", 'PWS Records (System Entry)'!$D$4)","v":""},{"$f":"IF(AND(ISBLANK(INDEX($G:$G,)), ISBLANK(INDEX($C:$C,))), \"\", 'PWS Records (System Entry)'!$D$3)","v":""},null,null,null,null,null,null,null,null,null,null,null,null,null,null,null,null,null,null,""]
[{"$f":"IF(AND(ISBLANK(INDEX($G:$G,)), ISBLANK(INDEX($C:$C,))), \"\", 'PWS Records (System Entry)'!$D$4)","v":""},{"$f":"IF(AND(ISBLANK(INDEX($G:$G,)), ISBLANK(INDEX($C:$C,))), \"\", 'PWS Records (System Entry)'!$D$3)","v":""},null,null,null,null,null,null,null,null,null,null,null,null,null,null,null,null,null,null,""]
[{"$f":"IF(AND(ISBLANK(INDEX($G:$G,)), ISBLANK(INDEX($C:$C,))), \"\", 'PWS Records (System Entry)'!$D$4)","v":""},{"$f":"IF(AND(ISBLANK(INDEX($G:$G,)), ISBLANK(INDEX($C:$C,))), \"\", 'PWS Records (System Entry)'!$D$3)","v":""},null,null,null,null,null,null,null,null,null,null,null,null,null,null,null,null,null,null,""]
[{"$f":"IF(AND(ISBLANK(INDEX($G:$G,)), ISBLANK(INDEX($C:$C,))), \"\", 'PWS Records (System Entry)'!$D$4)","v":""},{"$f":"IF(AND(ISBLANK(INDEX($G:$G,)), ISBLANK(INDEX($C:$C,))), \"\", 'PWS Records (System Entry)'!$D$3)","v":""},null,null,null,null,null,null,null,null,null,null,null,null,null,null,null,null,null,null,""]
[{"$f":"IF(AND(ISBLANK(INDEX($G:$G,)), ISBLANK(INDEX($C:$C,))), \"\", 'PWS Records (System Entry)'!$D$4)","v":""},{"$f":"IF(AND(ISBLANK(INDEX($G:$G,)), ISBLANK(INDEX($C:$C,))), \"\", 'PWS Records (System Entry)'!$D$3)","v":""},null,null,null,null,null,null,null,null,null,null,null,null,null,null,null,null,null,null,""]
[{"$f":"IF(AND(ISBLANK(INDEX($G:$G,)), ISBLANK(INDEX($C:$C,))), \"\", 'PWS Records (System Entry)'!$D$4)","v":""},{"$f":"IF(AND(ISBLANK(INDEX($G:$G,)), ISBLANK(INDEX($C:$C,))), \"\", 'PWS Records (System Entry)'!$D$3)","v":""},null,null,null,null,null,null,null,null,null,null,null,null,null,null,null,null,null,null,""]
[{"$f":"IF(AND(ISBLANK(INDEX($G:$G,)), ISBLANK(INDEX($C:$C,))), \"\", 'PWS Records (System Entry)'!$D$4)","v":""},{"$f":"IF(AND(ISBLANK(INDEX($G:$G,)), ISBLANK(INDEX($C:$C,))), \"\", 'PWS Records (System Entry)'!$D$3)","v":""},null,null,null,null,null,null,null,null,null,null,null,null,null,null,null,null,null,null,""]
[{"$f":"IF(AND(ISBLANK(INDEX($G:$G,)), ISBLANK(INDEX($C:$C,))), \"\", 'PWS Records (System Entry)'!$D$4)","v":""},{"$f":"IF(AND(ISBLANK(INDEX($G:$G,)), ISBLANK(INDEX($C:$C,))), \"\", 'PWS Records (System Entry)'!$D$3)","v":""},null,null,null,null,null,null,null,null,null,null,null,null,null,null,null,null,null,null,""]
[{"$f":"IF(AND(ISBLANK(INDEX($G:$G,)), ISBLANK(INDEX($C:$C,))), \"\", 'PWS Records (System Entry)'!$D$4)","v":""},{"$f":"IF(AND(ISBLANK(INDEX($G:$G,)), ISBLANK(INDEX($C:$C,))), \"\", 'PWS Records (System Entry)'!$D$3)","v":""},null,null,null,null,null,null,null,null,null,null,null,null,null,null,null,null,null,null,""]
[{"$f":"IF(AND(ISBLANK(INDEX($G:$G,)), ISBLANK(INDEX($C:$C,))), \"\", 'PWS Records (System Entry)'!$D$4)","v":""},{"$f":"IF(AND(ISBLANK(INDEX($G:$G,)), ISBLANK(INDEX($C:$C,))), \"\", 'PWS Records (System Entry)'!$D$3)","v":""},null,null,null,null,null,null,null,null,null,null,null,null,null,null,null,null,null,null,""]
[{"$f":"IF(AND(ISBLANK(INDEX($G:$G,)), ISBLANK(INDEX($C:$C,))), \"\", 'PWS Records (System Entry)'!$D$4)","v":""},{"$f":"IF(AND(ISBLANK(INDEX($G:$G,)), ISBLANK(INDEX($C:$C,))), \"\", 'PWS Records (System Entry)'!$D$3)","v":""},null,null,null,null,null,null,null,null,null,null,null,null,null,null,null,null,null,null,""]
[{"$f":"IF(AND(ISBLANK(INDEX($G:$G,)), ISBLANK(INDEX($C:$C,))), \"\", 'PWS Records (System Entry)'!$D$4)","v":""},{"$f":"IF(AND(ISBLANK(INDEX($G:$G,)), ISBLANK(INDEX($C:$C,))), \"\", 'PWS Records (System Entry)'!$D$3)","v":""},null,null,null,null,null,null,null,null,null,null,null,null,null,null,null,null,null,null,""]
[{"$f":"IF(AND(ISBLANK(INDEX($G:$G,)), ISBLANK(INDEX($C:$C,))), \"\", 'PWS Records (System Entry)'!$D$4)","v":""},{"$f":"IF(AND(ISBLANK(INDEX($G:$G,)), ISBLANK(INDEX($C:$C,))), \"\", 'PWS Records (System Entry)'!$D$3)","v":""},null,null,null,null,null,null,null,null,null,null,null,null,null,null,null,null,null,null,""]
[{"$f":"IF(AND(ISBLANK(INDEX($G:$G,)), ISBLANK(INDEX($C:$C,))), \"\", 'PWS Records (System Entry)'!$D$4)","v":""},{"$f":"IF(AND(ISBLANK(INDEX($G:$G,)), ISBLANK(INDEX($C:$C,))), \"\", 'PWS Records (System Entry)'!$D$3)","v":""},null,null,null,null,null,null,null,null,null,null,null,null,null,null,null,null,null,null,""]
[{"$f":"IF(AND(ISBLANK(INDEX($G:$G,)), ISBLANK(INDEX($C:$C,))), \"\", 'PWS Records (System Entry)'!$D$4)","v":""},{"$f":"IF(AND(ISBLANK(INDEX($G:$G,)), ISBLANK(INDEX($C:$C,))), \"\", 'PWS Records (System Entry)'!$D$3)","v":""},null,null,null,null,null,null,null,null,null,null,null,null,null,null,null,null,null,null,""]
[{"$f":"IF(AND(ISBLANK(INDEX($G:$G,)), ISBLANK(INDEX($C:$C,))), \"\", 'PWS Records (System Entry)'!$D$4)","v":""},{"$f":"IF(AND(ISBLANK(INDEX($G:$G,)), ISBLANK(INDEX($C:$C,))), \"\", 'PWS Records (System Entry)'!$D$3)","v":""},null,null,null,null,null,null,null,null,null,null,null,null,null,null,null,null,null,null,""]
[{"$f":"IF(AND(ISBLANK(INDEX($G:$G,)), ISBLANK(INDEX($C:$C,))), \"\", 'PWS Records (System Entry)'!$D$4)","v":""},{"$f":"IF(AND(ISBLANK(INDEX($G:$G,)), ISBLANK(INDEX($C:$C,))), \"\", 'PWS Records (System Entry)'!$D$3)","v":""},null,null,null,null,null,null,null,null,null,null,null,null,null,null,null,null,null,null,""]
[{"$f":"IF(AND(ISBLANK(INDEX($G:$G,)), ISBLANK(INDEX($C:$C,))), \"\", 'PWS Records (System Entry)'!$D$4)","v":""},{"$f":"IF(AND(ISBLANK(INDEX($G:$G,)), ISBLANK(INDEX($C:$C,))), \"\", 'PWS Records (System Entry)'!$D$3)","v":""},null,null,null,null,null,null,null,null,null,null,null,null,null,null,null,null,null,null,""]
[{"$f":"IF(AND(ISBLANK(INDEX($G:$G,)), ISBLANK(INDEX($C:$C,))), \"\", 'PWS Records (System Entry)'!$D$4)","v":""},{"$f":"IF(AND(ISBLANK(INDEX($G:$G,)), ISBLANK(INDEX($C:$C,))), \"\", 'PWS Records (System Entry)'!$D$3)","v":""},null,null,null,null,null,null,null,null,null,null,null,null,null,null,null,null,null,null,""]
[{"$f":"IF(AND(ISBLANK(INDEX($G:$G,)), ISBLANK(INDEX($C:$C,))), \"\", 'PWS Records (System Entry)'!$D$4)","v":""},{"$f":"IF(AND(ISBLANK(INDEX($G:$G,)), ISBLANK(INDEX($C:$C,))), \"\", 'PWS Records (System Entry)'!$D$3)","v":""},null,null,null,null,null,null,null,null,null,null,null,null,null,null,null,null,null,null,""]
[{"$f":"IF(AND(ISBLANK(INDEX($G:$G,)), ISBLANK(INDEX($C:$C,))), \"\", 'PWS Records (System Entry)'!$D$4)","v":""},{"$f":"IF(AND(ISBLANK(INDEX($G:$G,)), ISBLANK(INDEX($C:$C,))), \"\", 'PWS Records (System Entry)'!$D$3)","v":""},null,null,null,null,null,null,null,null,null,null,null,null,null,null,null,null,null,null,""]
[{"$f":"IF(AND(ISBLANK(INDEX($G:$G,)), ISBLANK(INDEX($C:$C,))), \"\", 'PWS Records (System Entry)'!$D$4)","v":""},{"$f":"IF(AND(ISBLANK(INDEX($G:$G,)), ISBLANK(INDEX($C:$C,))), \"\", 'PWS Records (System Entry)'!$D$3)","v":""},null,null,null,null,null,null,null,null,null,null,null,null,null,null,null,null,null,null,""]
[{"$f":"IF(AND(ISBLANK(INDEX($G:$G,)), ISBLANK(INDEX($C:$C,))), \"\", 'PWS Records (System Entry)'!$D$4)","v":""},{"$f":"IF(AND(ISBLANK(INDEX($G:$G,)), ISBLANK(INDEX($C:$C,))), \"\", 'PWS Records (System Entry)'!$D$3)","v":""},null,null,null,null,null,null,null,null,null,null,null,null,null,null,null,null,null,null,""]
[{"$f":"IF(AND(ISBLANK(INDEX($G:$G,)), ISBLANK(INDEX($C:$C,))), \"\", 'PWS Records (System Entry)'!$D$4)","v":""},{"$f":"IF(AND(ISBLANK(INDEX($G:$G,)), ISBLANK(INDEX($C:$C,))), \"\", 'PWS Records (System Entry)'!$D$3)","v":""},null,null,null,null,null,null,null,null,null,null,null,null,null,null,null,null,null,null,""]
[{"$f":"IF(AND(ISBLANK(INDEX($G:$G,)), ISBLANK(INDEX($C:$C,))), \"\", 'PWS Records (System Entry)'!$D$4)","v":""},{"$f":"IF(AND(ISBLANK(INDEX($G:$G,)), ISBLANK(INDEX($C:$C,))), \"\", 'PWS Records (System Entry)'!$D$3)","v":""},null,null,null,null,null,null,null,null,null,null,null,null,null,null,null,null,null,null,""]
[{"$f":"IF(AND(ISBLANK(INDEX($G:$G,)), ISBLANK(INDEX($C:$C,))), \"\", 'PWS Records (System Entry)'!$D$4)","v":""},{"$f":"IF(AND(ISBLANK(INDEX($G:$G,)), ISBLANK(INDEX($C:$C,))), \"\", 'PWS Records (System Entry)'!$D$3)","v":""},null,null,null,null,null,null,null,null,null,null,null,null,null,null,null,null,null,null,""]
[{"$f":"IF(AND(ISBLANK(INDEX($G:$G,)), ISBLANK(INDEX($C:$C,))), \"\", 'PWS Records (System Entry)'!$D$4)","v":""},{"$f":"IF(AND(ISBLANK(INDEX($G:$G,)), ISBLANK(INDEX($C:$C,))), \"\", 'PWS Records (System Entry)'!$D$3)","v":""},null,null,null,null,null,null,null,null,null,null,null,null,null,null,null,null,null,null,""]
[{"$f":"IF(AND(ISBLANK(INDEX($G:$G,)), ISBLANK(INDEX($C:$C,))), \"\", 'PWS Records (System Entry)'!$D$4)","v":""},{"$f":"IF(AND(ISBLANK(INDEX($G:$G,)), ISBLANK(INDEX($C:$C,))), \"\", 'PWS Records (System Entry)'!$D$3)","v":""},null,null,null,null,null,null,null,null,null,null,null,null,null,null,null,null,null,null,""]
[{"$f":"IF(AND(ISBLANK(INDEX($G:$G,)), ISBLANK(INDEX($C:$C,))), \"\", 'PWS Records (System Entry)'!$D$4)","v":""},{"$f":"IF(AND(ISBLANK(INDEX($G:$G,)), ISBLANK(INDEX($C:$C,))), \"\", 'PWS Records (System Entry)'!$D$3)","v":""},null,null,null,null,null,null,null,null,null,null,null,null,null,null,null,null,null,null,""]
[{"$f":"IF(AND(ISBLANK(INDEX($G:$G,)), ISBLANK(INDEX($C:$C,))), \"\", 'PWS Records (System Entry)'!$D$4)","v":""},{"$f":"IF(AND(ISBLANK(INDEX($G:$G,)), ISBLANK(INDEX($C:$C,))), \"\", 'PWS Records (System Entry)'!$D$3)","v":""},null,null,null,null,null,null,null,null,null,null,null,null,null,null,null,null,null,null,""]
[{"$f":"IF(AND(ISBLANK(INDEX($G:$G,)), ISBLANK(INDEX($C:$C,))), \"\", 'PWS Records (System Entry)'!$D$4)","v":""},{"$f":"IF(AND(ISBLANK(INDEX($G:$G,)), ISBLANK(INDEX($C:$C,))), \"\", 'PWS Records (System Entry)'!$D$3)","v":""},null,null,null,null,null,null,null,null,null,null,null,null,null,null,null,null,null,null,""]
[{"$f":"IF(AND(ISBLANK(INDEX($G:$G,)), ISBLANK(INDEX($C:$C,))), \"\", 'PWS Records (System Entry)'!$D$4)","v":""},{"$f":"IF(AND(ISBLANK(INDEX($G:$G,)), ISBLANK(INDEX($C:$C,))), \"\", 'PWS Records (System Entry)'!$D$3)","v":""},null,null,null,null,null,null,null,null,null,null,null,null,null,null,null,null,null,null,""]
[{"$f":"IF(AND(ISBLANK(INDEX($G:$G,)), ISBLANK(INDEX($C:$C,))), \"\", 'PWS Records (System Entry)'!$D$4)","v":""},{"$f":"IF(AND(ISBLANK(INDEX($G:$G,)), ISBLANK(INDEX($C:$C,))), \"\", 'PWS Records (System Entry)'!$D$3)","v":""},null,null,null,null,null,null,null,null,null,null,null,null,null,null,null,null,null,null,""]
[{"$f":"IF(AND(ISBLANK(INDEX($G:$G,)), ISBLANK(INDEX($C:$C,))), \"\", 'PWS Records (System Entry)'!$D$4)","v":""},{"$f":"IF(AND(ISBLANK(INDEX($G:$G,)), ISBLANK(INDEX($C:$C,))), \"\", 'PWS Records (System Entry)'!$D$3)","v":""},null,null,null,null,null,null,null,null,null,null,null,null,null,null,null,null,null,null,""]
[{"$f":"IF(AND(ISBLANK(INDEX($G:$G,)), ISBLANK(INDEX($C:$C,))), \"\", 'PWS Records (System Entry)'!$D$4)","v":""},{"$f":"IF(AND(ISBLANK(INDEX($G:$G,)), ISBLANK(INDEX($C:$C,))), \"\", 'PWS Records (System Entry)'!$D$3)","v":""},null,null,null,null,null,null,null,null,null,null,null,null,null,null,null,null,null,null,""]
[{"$f":"IF(AND(ISBLANK(INDEX($G:$G,)), ISBLANK(INDEX($C:$C,))), \"\", 'PWS Records (System Entry)'!$D$4)","v":""},{"$f":"IF(AND(ISBLANK(INDEX($G:$G,)), ISBLANK(INDEX($C:$C,))), \"\", 'PWS Records (System Entry)'!$D$3)","v":""},null,null,null,null,null,null,null,null,null,null,null,null,null,null,null,null,null,null,""]
[{"$f":"IF(AND(ISBLANK(INDEX($G:$G,)), ISBLANK(INDEX($C:$C,))), \"\", 'PWS Records (System Entry)'!$D$4)","v":""},{"$f":"IF(AND(ISBLANK(INDEX($G:$G,)), ISBLANK(INDEX($C:$C,))), \"\", 'PWS Records (System Entry)'!$D$3)","v":""},null,null,null,null,null,null,null,null,null,null,null,null,null,null,null,null,null,null,""]
[{"$f":"IF(AND(ISBLANK(INDEX($G:$G,)), ISBLANK(INDEX($C:$C,))), \"\", 'PWS Records (System Entry)'!$D$4)","v":""},{"$f":"IF(AND(ISBLANK(INDEX($G:$G,)), ISBLANK(INDEX($C:$C,))), \"\", 'PWS Records (System Entry)'!$D$3)","v":""},null,null,null,null,null,null,null,null,null,null,null,null,null,null,null,null,null,null,""]
[{"$f":"IF(AND(ISBLANK(INDEX($G:$G,)), ISBLANK(INDEX($C:$C,))), \"\", 'PWS Records (System Entry)'!$D$4)","v":""},{"$f":"IF(AND(ISBLANK(INDEX($G:$G,)), ISBLANK(INDEX($C:$C,))), \"\", 'PWS Records (System Entry)'!$D$3)","v":""},null,null,null,null,null,null,null,null,null,null,null,null,null,null,null,null,null,null,""]
[{"$f":"IF(AND(ISBLANK(INDEX($G:$G,)), ISBLANK(INDEX($C:$C,))), \"\", 'PWS Records (System Entry)'!$D$4)","v":""},{"$f":"IF(AND(ISBLANK(INDEX($G:$G,)), ISBLANK(INDEX($C:$C,))), \"\", 'PWS Records (System Entry)'!$D$3)","v":""},null,null,null,null,null,null,null,null,null,null,null,null,null,null,null,null,null,null,""]
[{"$f":"IF(AND(ISBLANK(INDEX($G:$G,)), ISBLANK(INDEX($C:$C,))), \"\", 'PWS Records (System Entry)'!$D$4)","v":""},{"$f":"IF(AND(ISBLANK(INDEX($G:$G,)), ISBLANK(INDEX($C:$C,))), \"\", 'PWS Records (System Entry)'!$D$3)","v":""},null,null,null,null,null,null,null,null,null,null,null,null,null,null,null,null,null,null,""]
[{"$f":"IF(AND(ISBLANK(INDEX($G:$G,)), ISBLANK(INDEX($C:$C,))), \"\", 'PWS Records (System Entry)'!$D$4)","v":""},{"$f":"IF(AND(ISBLANK(INDEX($G:$G,)), ISBLANK(INDEX($C:$C,))), \"\", 'PWS Records (System Entry)'!$D$3)","v":""},null,null,null,null,null,null,null,null,null,null,null,null,null,null,null,null,null,null,""]
[{"$f":"IF(AND(ISBLANK(INDEX($G:$G,)), ISBLANK(INDEX($C:$C,))), \"\", 'PWS Records (System Entry)'!$D$4)","v":""},{"$f":"IF(AND(ISBLANK(INDEX($G:$G,)), ISBLANK(INDEX($C:$C,))), \"\", 'PWS Records (System Entry)'!$D$3)","v":""},null,null,null,null,null,null,null,null,null,null,null,null,null,null,null,null,null,null,""]
[{"$f":"IF(AND(ISBLANK(INDEX($G:$G,)), ISBLANK(INDEX($C:$C,))), \"\", 'PWS Records (System Entry)'!$D$4)","v":""},{"$f":"IF(AND(ISBLANK(INDEX($G:$G,)), ISBLANK(INDEX($C:$C,))), \"\", 'PWS Records (System Entry)'!$D$3)","v":""},null,null,null,null,null,null,null,null,null,null,null,null,null,null,null,null,null,null,""]
[{"$f":"IF(AND(ISBLANK(INDEX($G:$G,)), ISBLANK(INDEX($C:$C,))), \"\", 'PWS Records (System Entry)'!$D$4)","v":""},{"$f":"IF(AND(ISBLANK(INDEX($G:$G,)), ISBLANK(INDEX($C:$C,))), \"\", 'PWS Records (System Entry)'!$D$3)","v":""},null,null,null,null,null,null,null,null,null,null,null,null,null,null,null,null,null,null,""]
[{"$f":"IF(AND(ISBLANK(INDEX($G:$G,)), ISBLANK(INDEX($C:$C,))), \"\", 'PWS Records (System Entry)'!$D$4)","v":""},{"$f":"IF(AND(ISBLANK(INDEX($G:$G,)), ISBLANK(INDEX($C:$C,))), \"\", 'PWS Records (System Entry)'!$D$3)","v":""},null,null,null,null,null,null,null,null,null,null,null,null,null,null,null,null,null,null,""]
[{"$f":"IF(AND(ISBLANK(INDEX($G:$G,)), ISBLANK(INDEX($C:$C,))), \"\", 'PWS Records (System Entry)'!$D$4)","v":""},{"$f":"IF(AND(ISBLANK(INDEX($G:$G,)), ISBLANK(INDEX($C:$C,))), \"\", 'PWS Records (System Entry)'!$D$3)","v":""},null,null,null,null,null,null,null,null,null,null,null,null,null,null,null,null,null,null,""]
[{"$f":"IF(AND(ISBLANK(INDEX($G:$G,)), ISBLANK(INDEX($C:$C,))), \"\", 'PWS Records (System Entry)'!$D$4)","v":""},{"$f":"IF(AND(ISBLANK(INDEX($G:$G,)), ISBLANK(INDEX($C:$C,))), \"\", 'PWS Records (System Entry)'!$D$3)","v":""},null,null,null,null,null,null,null,null,null,null,null,null,null,null,null,null,null,null,""]
[{"$f":"IF(AND(ISBLANK(INDEX($G:$G,)), ISBLANK(INDEX($C:$C,))), \"\", 'PWS Records (System Entry)'!$D$4)","v":""},{"$f":"IF(AND(ISBLANK(INDEX($G:$G,)), ISBLANK(INDEX($C:$C,))), \"\", 'PWS Records (System Entry)'!$D$3)","v":""},null,null,null,null,null,null,null,null,null,null,null,null,null,null,null,null,null,null,""]
[{"$f":"IF(AND(ISBLANK(INDEX($G:$G,)), ISBLANK(INDEX($C:$C,))), \"\", 'PWS Records (System Entry)'!$D$4)","v":""},{"$f":"IF(AND(ISBLANK(INDEX($G:$G,)), ISBLANK(INDEX($C:$C,))), \"\", 'PWS Records (System Entry)'!$D$3)","v":""},null,null,null,null,null,null,null,null,null,null,null,null,null,null,null,null,null,null,{"$f":"IF(AND(INDEX($K:$K,)=\"\", INDEX($L:$L,)=\"\", INDEX($M:$M,)=\"\", INDEX($Q:$Q,)=\"\", INDEX($R:$R,)=\"\"), \"\", IF(OR(INDEX($K:$K,)=\"Lead\",INDEX($Q:$Q,)=\"Lead\"),\"Lead\",IF(OR(AND(OR(INDEX($M:$M,)=\"Yes\", INDEX($M:$M,)=\"Don't Know\", INDEX($M:$M,)=\"\"), INDEX($Q:$Q,)=\"Galvanized Iron/Steel\"), AND(INDEX($K:$K,)=\"Unknown\", INDEX($M:$M,)=\"No\", INDEX($Q:$Q,)=\"Galvanized Iron/Steel\")), \"Galvanized Requiring Replacement\", IF(OR(AND(OR(INDEX($K:$K,)=\"Galvanized Iron/Steel\", INDEX($K:$K,)=\"Non-Lead - Copper\", INDEX($K:$K,)=\"Non-Lead - Plastic\", INDEX($K:$K,)=\"Non-Lead - Other\", INDEX($K:$K,)=\"Non-Lead - Material Unknown\", INDEX($K:$K,)=\"No System Owned Portion\"), OR(INDEX($Q:$Q,)=\"Galvanized Iron/Steel\", INDEX($Q:$Q,)=\"Non-Lead - Copper\", INDEX($Q:$Q,)=\"Non-Lead - Plastic\", INDEX($Q:$Q,)=\"Non-Lead - Other\", INDEX($Q:$Q,)=\"Non-Lead - Predictive Model\", INDEX($Q:$Q,)=\"No Customer Owned Portion\")), AND(OR( INDEX($K:$K,)=\"Galvanized Iron/Steel\", INDEX($K:$K,)=\"Non-Lead - Copper\", INDEX($K:$K,)=\"Non-Lead - Plastic\", INDEX($K:$K,)=\"Non-Lead - Other\", INDEX($K:$K,)=\"Non-Lead - Material Unknown\", INDEX($K:$K,)=\"No System Owned Portion\"), INDEX($M:$M,)=\"No\", INDEX($Q:$Q,)=\"Non-Lead - Material Unknown\")), \"Non-Lead\", \"Lead Status Unknown\"))))","v":""}]
[{"$f":"IF(AND(ISBLANK(INDEX($G:$G,)), ISBLANK(INDEX($C:$C,))), \"\", 'PWS Records (System Entry)'!$D$4)","v":""},{"$f":"IF(AND(ISBLANK(INDEX($G:$G,)), ISBLANK(INDEX($C:$C,))), \"\", 'PWS Records (System Entry)'!$D$3)","v":""},null,null,null,null,null,null,null,null,null,null,null,null,null,null,null,null,null,null,""]
[{"$f":"IF(AND(ISBLANK(INDEX($G:$G,)), ISBLANK(INDEX($C:$C,))), \"\", 'PWS Records (System Entry)'!$D$4)","v":""},{"$f":"IF(AND(ISBLANK(INDEX($G:$G,)), ISBLANK(INDEX($C:$C,))), \"\", 'PWS Records (System Entry)'!$D$3)","v":""},null,null,null,null,null,null,null,null,null,null,null,null,null,null,null,null,null,null,""]
[{"$f":"IF(AND(ISBLANK(INDEX($G:$G,)), ISBLANK(INDEX($C:$C,))), \"\", 'PWS Records (System Entry)'!$D$4)","v":""},{"$f":"IF(AND(ISBLANK(INDEX($G:$G,)), ISBLANK(INDEX($C:$C,))), \"\", 'PWS Records (System Entry)'!$D$3)","v":""},null,null,null,null,null,null,null,null,null,null,null,null,null,null,null,null,null,null,""]
[{"$f":"IF(AND(ISBLANK(INDEX($G:$G,)), ISBLANK(INDEX($C:$C,))), \"\", 'PWS Records (System Entry)'!$D$4)","v":""},{"$f":"IF(AND(ISBLANK(INDEX($G:$G,)), ISBLANK(INDEX($C:$C,))), \"\", 'PWS Records (System Entry)'!$D$3)","v":""},null,null,null,null,null,null,null,null,null,null,null,null,null,null,null,null,null,null,""]
[{"$f":"IF(AND(ISBLANK(INDEX($G:$G,)), ISBLANK(INDEX($C:$C,))), \"\", 'PWS Records (System Entry)'!$D$4)","v":""},{"$f":"IF(AND(ISBLANK(INDEX($G:$G,)), ISBLANK(INDEX($C:$C,))), \"\", 'PWS Records (System Entry)'!$D$3)","v":""},null,null,null,null,null,null,null,null,null,null,null,null,null,null,null,null,null,null,""]
[{"$f":"IF(AND(ISBLANK(INDEX($G:$G,)), ISBLANK(INDEX($C:$C,))), \"\", 'PWS Records (System Entry)'!$D$4)","v":""},{"$f":"IF(AND(ISBLANK(INDEX($G:$G,)), ISBLANK(INDEX($C:$C,))), \"\", 'PWS Records (System Entry)'!$D$3)","v":""},null,null,null,null,null,null,null,null,null,null,null,null,null,null,null,null,null,null,""]
[{"$f":"IF(AND(ISBLANK(INDEX($G:$G,)), ISBLANK(INDEX($C:$C,))), \"\", 'PWS Records (System Entry)'!$D$4)","v":""},{"$f":"IF(AND(ISBLANK(INDEX($G:$G,)), ISBLANK(INDEX($C:$C,))), \"\", 'PWS Records (System Entry)'!$D$3)","v":""},null,null,null,null,null,null,null,null,null,null,null,null,null,null,null,null,null,null,""]
[{"$f":"IF(AND(ISBLANK(INDEX($G:$G,)), ISBLANK(INDEX($C:$C,))), \"\", 'PWS Records (System Entry)'!$D$4)","v":""},{"$f":"IF(AND(ISBLANK(INDEX($G:$G,)), ISBLANK(INDEX($C:$C,))), \"\", 'PWS Records (System Entry)'!$D$3)","v":""},null,null,null,null,null,null,null,null,null,null,null,null,null,null,null,null,null,null,""]
[{"$f":"IF(AND(ISBLANK(INDEX($G:$G,)), ISBLANK(INDEX($C:$C,))), \"\", 'PWS Records (System Entry)'!$D$4)","v":""},{"$f":"IF(AND(ISBLANK(INDEX($G:$G,)), ISBLANK(INDEX($C:$C,))), \"\", 'PWS Records (System Entry)'!$D$3)","v":""},null,null,null,null,null,null,null,null,null,null,null,null,null,null,null,null,null,null,""]
[{"$f":"IF(AND(ISBLANK(INDEX($G:$G,)), ISBLANK(INDEX($C:$C,))), \"\", 'PWS Records (System Entry)'!$D$4)","v":""},{"$f":"IF(AND(ISBLANK(INDEX($G:$G,)), ISBLANK(INDEX($C:$C,))), \"\", 'PWS Records (System Entry)'!$D$3)","v":""},null,null,null,null,null,null,null,null,null,null,null,null,null,null,null,null,null,null,""]
[{"$f":"IF(AND(ISBLANK(INDEX($G:$G,)), ISBLANK(INDEX($C:$C,))), \"\", 'PWS Records (System Entry)'!$D$4)","v":""},{"$f":"IF(AND(ISBLANK(INDEX($G:$G,)), ISBLANK(INDEX($C:$C,))), \"\", 'PWS Records (System Entry)'!$D$3)","v":""},null,null,null,null,null,null,null,null,null,null,null,null,null,null,null,null,null,null,""]
[{"$f":"IF(AND(ISBLANK(INDEX($G:$G,)), ISBLANK(INDEX($C:$C,))), \"\", 'PWS Records (System Entry)'!$D$4)","v":""},{"$f":"IF(AND(ISBLANK(INDEX($G:$G,)), ISBLANK(INDEX($C:$C,))), \"\", 'PWS Records (System Entry)'!$D$3)","v":""},null,null,null,null,null,null,null,null,null,null,null,null,null,null,null,null,null,null,""]
[{"$f":"IF(AND(ISBLANK(INDEX($G:$G,)), ISBLANK(INDEX($C:$C,))), \"\", 'PWS Records (System Entry)'!$D$4)","v":""},{"$f":"IF(AND(ISBLANK(INDEX($G:$G,)), ISBLANK(INDEX($C:$C,))), \"\", 'PWS Records (System Entry)'!$D$3)","v":""},null,null,null,null,null,null,null,null,null,null,null,null,null,null,null,null,null,null,""]
[{"$f":"IF(AND(ISBLANK(INDEX($G:$G,)), ISBLANK(INDEX($C:$C,))), \"\", 'PWS Records (System Entry)'!$D$4)","v":""},{"$f":"IF(AND(ISBLANK(INDEX($G:$G,)), ISBLANK(INDEX($C:$C,))), \"\", 'PWS Records (System Entry)'!$D$3)","v":""},null,null,null,null,null,null,null,null,null,null,null,null,null,null,null,null,null,null,""]
[{"$f":"IF(AND(ISBLANK(INDEX($G:$G,)), ISBLANK(INDEX($C:$C,))), \"\", 'PWS Records (System Entry)'!$D$4)","v":""},{"$f":"IF(AND(ISBLANK(INDEX($G:$G,)), ISBLANK(INDEX($C:$C,))), \"\", 'PWS Records (System Entry)'!$D$3)","v":""},null,null,null,null,null,null,null,null,null,null,null,null,null,null,null,null,null,null,""]
[{"$f":"IF(AND(ISBLANK(INDEX($G:$G,)), ISBLANK(INDEX($C:$C,))), \"\", 'PWS Records (System Entry)'!$D$4)","v":""},{"$f":"IF(AND(ISBLANK(INDEX($G:$G,)), ISBLANK(INDEX($C:$C,))), \"\", 'PWS Records (System Entry)'!$D$3)","v":""},null,null,null,null,null,null,null,null,null,null,null,null,null,null,null,null,null,null,""]
[{"$f":"IF(AND(ISBLANK(INDEX($G:$G,)), ISBLANK(INDEX($C:$C,))), \"\", 'PWS Records (System Entry)'!$D$4)","v":""},{"$f":"IF(AND(ISBLANK(INDEX($G:$G,)), ISBLANK(INDEX($C:$C,))), \"\", 'PWS Records (System Entry)'!$D$3)","v":""},null,null,null,null,null,null,null,null,null,null,null,null,null,null,null,null,null,null,""]
[{"$f":"IF(AND(ISBLANK(INDEX($G:$G,)), ISBLANK(INDEX($C:$C,))), \"\", 'PWS Records (System Entry)'!$D$4)","v":""},{"$f":"IF(AND(ISBLANK(INDEX($G:$G,)), ISBLANK(INDEX($C:$C,))), \"\", 'PWS Records (System Entry)'!$D$3)","v":""},null,null,null,null,null,null,null,null,null,null,null,null,null,null,null,null,null,null,""]
[{"$f":"IF(AND(ISBLANK(INDEX($G:$G,)), ISBLANK(INDEX($C:$C,))), \"\", 'PWS Records (System Entry)'!$D$4)","v":""},{"$f":"IF(AND(ISBLANK(INDEX($G:$G,)), ISBLANK(INDEX($C:$C,))), \"\", 'PWS Records (System Entry)'!$D$3)","v":""},null,null,null,null,null,null,null,null,null,null,null,null,null,null,null,null,null,null,""]
[{"$f":"IF(AND(ISBLANK(INDEX($G:$G,)), ISBLANK(INDEX($C:$C,))), \"\", 'PWS Records (System Entry)'!$D$4)","v":""},{"$f":"IF(AND(ISBLANK(INDEX($G:$G,)), ISBLANK(INDEX($C:$C,))), \"\", 'PWS Records (System Entry)'!$D$3)","v":""},null,null,null,null,null,null,null,null,null,null,null,null,null,null,null,null,null,null,""]
[{"$f":"IF(AND(ISBLANK(INDEX($G:$G,)), ISBLANK(INDEX($C:$C,))), \"\", 'PWS Records (System Entry)'!$D$4)","v":""},{"$f":"IF(AND(ISBLANK(INDEX($G:$G,)), ISBLANK(INDEX($C:$C,))), \"\", 'PWS Records (System Entry)'!$D$3)","v":""},null,null,null,null,null,null,null,null,null,null,null,null,null,null,null,null,null,null,""]
[{"$f":"IF(AND(ISBLANK(INDEX($G:$G,)), ISBLANK(INDEX($C:$C,))), \"\", 'PWS Records (System Entry)'!$D$4)","v":""},{"$f":"IF(AND(ISBLANK(INDEX($G:$G,)), ISBLANK(INDEX($C:$C,))), \"\", 'PWS Records (System Entry)'!$D$3)","v":""},null,null,null,null,null,null,null,null,null,null,null,null,null,null,null,null,null,null,""]
[{"$f":"IF(AND(ISBLANK(INDEX($G:$G,)), ISBLANK(INDEX($C:$C,))), \"\", 'PWS Records (System Entry)'!$D$4)","v":""},{"$f":"IF(AND(ISBLANK(INDEX($G:$G,)), ISBLANK(INDEX($C:$C,))), \"\", 'PWS Records (System Entry)'!$D$3)","v":""},null,null,null,null,null,null,null,null,null,null,null,null,null,null,null,null,null,null,""]
[{"$f":"IF(AND(ISBLANK(INDEX($G:$G,)), ISBLANK(INDEX($C:$C,))), \"\", 'PWS Records (System Entry)'!$D$4)","v":""},{"$f":"IF(AND(ISBLANK(INDEX($G:$G,)), ISBLANK(INDEX($C:$C,))), \"\", 'PWS Records (System Entry)'!$D$3)","v":""},null,null,null,null,null,null,null,null,null,null,null,null,null,null,null,null,null,null,""]
[{"$f":"IF(AND(ISBLANK(INDEX($G:$G,)), ISBLANK(INDEX($C:$C,))), \"\", 'PWS Records (System Entry)'!$D$4)","v":""},{"$f":"IF(AND(ISBLANK(INDEX($G:$G,)), ISBLANK(INDEX($C:$C,))), \"\", 'PWS Records (System Entry)'!$D$3)","v":""},null,null,null,null,null,null,null,null,null,null,null,null,null,null,null,null,null,null,""]
[{"$f":"IF(AND(ISBLANK(INDEX($G:$G,)), ISBLANK(INDEX($C:$C,))), \"\", 'PWS Records (System Entry)'!$D$4)","v":""},{"$f":"IF(AND(ISBLANK(INDEX($G:$G,)), ISBLANK(INDEX($C:$C,))), \"\", 'PWS Records (System Entry)'!$D$3)","v":""},null,null,null,null,null,null,null,null,null,null,null,null,null,null,null,null,null,null,""]
[{"$f":"IF(AND(ISBLANK(INDEX($G:$G,)), ISBLANK(INDEX($C:$C,))), \"\", 'PWS Records (System Entry)'!$D$4)","v":""},{"$f":"IF(AND(ISBLANK(INDEX($G:$G,)), ISBLANK(INDEX($C:$C,))), \"\", 'PWS Records (System Entry)'!$D$3)","v":""},null,null,null,null,null,null,null,null,null,null,null,null,null,null,null,null,null,null,""]
[{"$f":"IF(AND(ISBLANK(INDEX($G:$G,)), ISBLANK(INDEX($C:$C,))), \"\", 'PWS Records (System Entry)'!$D$4)","v":""},{"$f":"IF(AND(ISBLANK(INDEX($G:$G,)), ISBLANK(INDEX($C:$C,))), \"\", 'PWS Records (System Entry)'!$D$3)","v":""},null,null,null,null,null,null,null,null,null,null,null,null,null,null,null,null,null,null,""]
[{"$f":"IF(AND(ISBLANK(INDEX($G:$G,)), ISBLANK(INDEX($C:$C,))), \"\", 'PWS Records (System Entry)'!$D$4)","v":""},{"$f":"IF(AND(ISBLANK(INDEX($G:$G,)), ISBLANK(INDEX($C:$C,))), \"\", 'PWS Records (System Entry)'!$D$3)","v":""},null,null,null,null,null,null,null,null,null,null,null,null,null,null,null,null,null,null,""]
[{"$f":"IF(AND(ISBLANK(INDEX($G:$G,)), ISBLANK(INDEX($C:$C,))), \"\", 'PWS Records (System Entry)'!$D$4)","v":""},{"$f":"IF(AND(ISBLANK(INDEX($G:$G,)), ISBLANK(INDEX($C:$C,))), \"\", 'PWS Records (System Entry)'!$D$3)","v":""},null,null,null,null,null,null,null,null,null,null,null,null,null,null,null,null,null,null,""]
[{"$f":"IF(AND(ISBLANK(INDEX($G:$G,)), ISBLANK(INDEX($C:$C,))), \"\", 'PWS Records (System Entry)'!$D$4)","v":""},{"$f":"IF(AND(ISBLANK(INDEX($G:$G,)), ISBLANK(INDEX($C:$C,))), \"\", 'PWS Records (System Entry)'!$D$3)","v":""},null,null,null,null,null,null,null,null,null,null,null,null,null,null,null,null,null,null,""]
[{"$f":"IF(AND(ISBLANK(INDEX($G:$G,)), ISBLANK(INDEX($C:$C,))), \"\", 'PWS Records (System Entry)'!$D$4)","v":""},{"$f":"IF(AND(ISBLANK(INDEX($G:$G,)), ISBLANK(INDEX($C:$C,))), \"\", 'PWS Records (System Entry)'!$D$3)","v":""},null,null,null,null,null,null,null,null,null,null,null,null,null,null,null,null,null,null,""]
[{"$f":"IF(AND(ISBLANK(INDEX($G:$G,)), ISBLANK(INDEX($C:$C,))), \"\", 'PWS Records (System Entry)'!$D$4)","v":""},{"$f":"IF(AND(ISBLANK(INDEX($G:$G,)), ISBLANK(INDEX($C:$C,))), \"\", 'PWS Records (System Entry)'!$D$3)","v":""},null,null,null,null,null,null,null,null,null,null,null,null,null,null,null,null,null,null,""]
[{"$f":"IF(AND(ISBLANK(INDEX($G:$G,)), ISBLANK(INDEX($C:$C,))), \"\", 'PWS Records (System Entry)'!$D$4)","v":""},{"$f":"IF(AND(ISBLANK(INDEX($G:$G,)), ISBLANK(INDEX($C:$C,))), \"\", 'PWS Records (System Entry)'!$D$3)","v":""},null,null,null,null,null,null,null,null,null,null,null,null,null,null,null,null,null,null,""]
[{"$f":"IF(AND(ISBLANK(INDEX($G:$G,)), ISBLANK(INDEX($C:$C,))), \"\", 'PWS Records (System Entry)'!$D$4)","v":""},{"$f":"IF(AND(ISBLANK(INDEX($G:$G,)), ISBLANK(INDEX($C:$C,))), \"\", 'PWS Records (System Entry)'!$D$3)","v":""},null,null,null,null,null,null,null,null,null,null,null,null,null,null,null,null,null,null,""]
[{"$f":"IF(AND(ISBLANK(INDEX($G:$G,)), ISBLANK(INDEX($C:$C,))), \"\", 'PWS Records (System Entry)'!$D$4)","v":""},{"$f":"IF(AND(ISBLANK(INDEX($G:$G,)), ISBLANK(INDEX($C:$C,))), \"\", 'PWS Records (System Entry)'!$D$3)","v":""},null,null,null,null,null,null,null,null,null,null,null,null,null,null,null,null,null,null,""]
[{"$f":"IF(AND(ISBLANK(INDEX($G:$G,)), ISBLANK(INDEX($C:$C,))), \"\", 'PWS Records (System Entry)'!$D$4)","v":""},{"$f":"IF(AND(ISBLANK(INDEX($G:$G,)), ISBLANK(INDEX($C:$C,))), \"\", 'PWS Records (System Entry)'!$D$3)","v":""},null,null,null,null,null,null,null,null,null,null,null,null,null,null,null,null,null,null,""]
[{"$f":"IF(AND(ISBLANK(INDEX($G:$G,)), ISBLANK(INDEX($C:$C,))), \"\", 'PWS Records (System Entry)'!$D$4)","v":""},{"$f":"IF(AND(ISBLANK(INDEX($G:$G,)), ISBLANK(INDEX($C:$C,))), \"\", 'PWS Records (System Entry)'!$D$3)","v":""},null,null,null,null,null,null,null,null,null,null,null,null,null,null,null,null,null,null,""]
[{"$f":"IF(AND(ISBLANK(INDEX($G:$G,)), ISBLANK(INDEX($C:$C,))), \"\", 'PWS Records (System Entry)'!$D$4)","v":""},{"$f":"IF(AND(ISBLANK(INDEX($G:$G,)), ISBLANK(INDEX($C:$C,))), \"\", 'PWS Records (System Entry)'!$D$3)","v":""},null,null,null,null,null,null,null,null,null,null,null,null,null,null,null,null,null,null,""]
[{"$f":"IF(AND(ISBLANK(INDEX($G:$G,)), ISBLANK(INDEX($C:$C,))), \"\", 'PWS Records (System Entry)'!$D$4)","v":""},{"$f":"IF(AND(ISBLANK(INDEX($G:$G,)), ISBLANK(INDEX($C:$C,))), \"\", 'PWS Records (System Entry)'!$D$3)","v":""},null,null,null,null,null,null,null,null,null,null,null,null,null,null,null,null,null,null,""]
[{"$f":"IF(AND(ISBLANK(INDEX($G:$G,)), ISBLANK(INDEX($C:$C,))), \"\", 'PWS Records (System Entry)'!$D$4)","v":""},{"$f":"IF(AND(ISBLANK(INDEX($G:$G,)), ISBLANK(INDEX($C:$C,))), \"\", 'PWS Records (System Entry)'!$D$3)","v":""},null,null,null,null,null,null,null,null,null,null,null,null,null,null,null,null,null,null,""]
[{"$f":"IF(AND(ISBLANK(INDEX($G:$G,)), ISBLANK(INDEX($C:$C,))), \"\", 'PWS Records (System Entry)'!$D$4)","v":""},{"$f":"IF(AND(ISBLANK(INDEX($G:$G,)), ISBLANK(INDEX($C:$C,))), \"\", 'PWS Records (System Entry)'!$D$3)","v":""},null,null,null,null,null,null,null,null,null,null,null,null,null,null,null,null,null,null,""]
[{"$f":"IF(AND(ISBLANK(INDEX($G:$G,)), ISBLANK(INDEX($C:$C,))), \"\", 'PWS Records (System Entry)'!$D$4)","v":""},{"$f":"IF(AND(ISBLANK(INDEX($G:$G,)), ISBLANK(INDEX($C:$C,))), \"\", 'PWS Records (System Entry)'!$D$3)","v":""},null,null,null,null,null,null,null,null,null,null,null,null,null,null,null,null,null,null,""]
[{"$f":"IF(AND(ISBLANK(INDEX($G:$G,)), ISBLANK(INDEX($C:$C,))), \"\", 'PWS Records (System Entry)'!$D$4)","v":""},{"$f":"IF(AND(ISBLANK(INDEX($G:$G,)), ISBLANK(INDEX($C:$C,))), \"\", 'PWS Records (System Entry)'!$D$3)","v":""},null,null,null,null,null,null,null,null,null,null,null,null,null,null,null,null,null,null,""]
[{"$f":"IF(AND(ISBLANK(INDEX($G:$G,)), ISBLANK(INDEX($C:$C,))), \"\", 'PWS Records (System Entry)'!$D$4)","v":""},{"$f":"IF(AND(ISBLANK(INDEX($G:$G,)), ISBLANK(INDEX($C:$C,))), \"\", 'PWS Records (System Entry)'!$D$3)","v":""},null,null,null,null,null,null,null,null,null,null,null,null,null,null,null,null,null,null,""]
[{"$f":"IF(AND(ISBLANK(INDEX($G:$G,)), ISBLANK(INDEX($C:$C,))), \"\", 'PWS Records (System Entry)'!$D$4)","v":""},{"$f":"IF(AND(ISBLANK(INDEX($G:$G,)), ISBLANK(INDEX($C:$C,))), \"\", 'PWS Records (System Entry)'!$D$3)","v":""},null,null,null,null,null,null,null,null,null,null,null,null,null,null,null,null,null,null,""]
[{"$f":"IF(AND(ISBLANK(INDEX($G:$G,)), ISBLANK(INDEX($C:$C,))), \"\", 'PWS Records (System Entry)'!$D$4)","v":""},{"$f":"IF(AND(ISBLANK(INDEX($G:$G,)), ISBLANK(INDEX($C:$C,))), \"\", 'PWS Records (System Entry)'!$D$3)","v":""},null,null,null,null,null,null,null,null,null,null,null,null,null,null,null,null,null,null,""]
[{"$f":"IF(AND(ISBLANK(INDEX($G:$G,)), ISBLANK(INDEX($C:$C,))), \"\", 'PWS Records (System Entry)'!$D$4)","v":""},{"$f":"IF(AND(ISBLANK(INDEX($G:$G,)), ISBLANK(INDEX($C:$C,))), \"\", 'PWS Records (System Entry)'!$D$3)","v":""},null,null,null,null,null,null,null,null,null,null,null,null,null,null,null,null,null,null,""]
[{"$f":"IF(AND(ISBLANK(INDEX($G:$G,)), ISBLANK(INDEX($C:$C,))), \"\", 'PWS Records (System Entry)'!$D$4)","v":""},{"$f":"IF(AND(ISBLANK(INDEX($G:$G,)), ISBLANK(INDEX($C:$C,))), \"\", 'PWS Records (System Entry)'!$D$3)","v":""},null,null,null,null,null,null,null,null,null,null,null,null,null,null,null,null,null,null,""]
[{"$f":"IF(AND(ISBLANK(INDEX($G:$G,)), ISBLANK(INDEX($C:$C,))), \"\", 'PWS Records (System Entry)'!$D$4)","v":""},{"$f":"IF(AND(ISBLANK(INDEX($G:$G,)), ISBLANK(INDEX($C:$C,))), \"\", 'PWS Records (System Entry)'!$D$3)","v":""},null,null,null,null,null,null,null,null,null,null,null,null,null,null,null,null,null,null,""]
[{"$f":"IF(AND(ISBLANK(INDEX($G:$G,)), ISBLANK(INDEX($C:$C,))), \"\", 'PWS Records (System Entry)'!$D$4)","v":""},{"$f":"IF(AND(ISBLANK(INDEX($G:$G,)), ISBLANK(INDEX($C:$C,))), \"\", 'PWS Records (System Entry)'!$D$3)","v":""},null,null,null,null,null,null,null,null,null,null,null,null,null,null,null,null,null,null,""]
[{"$f":"IF(AND(ISBLANK(INDEX($G:$G,)), ISBLANK(INDEX($C:$C,))), \"\", 'PWS Records (System Entry)'!$D$4)","v":""},{"$f":"IF(AND(ISBLANK(INDEX($G:$G,)), ISBLANK(INDEX($C:$C,))), \"\", 'PWS Records (System Entry)'!$D$3)","v":""},null,null,null,null,null,null,null,null,null,null,null,null,null,null,null,null,null,null,""]
[{"$f":"IF(AND(ISBLANK(INDEX($G:$G,)), ISBLANK(INDEX($C:$C,))), \"\", 'PWS Records (System Entry)'!$D$4)","v":""},{"$f":"IF(AND(ISBLANK(INDEX($G:$G,)), ISBLANK(INDEX($C:$C,))), \"\", 'PWS Records (System Entry)'!$D$3)","v":""},null,null,null,null,null,null,null,null,null,null,null,null,null,null,null,null,null,null,""]
[{"$f":"IF(AND(ISBLANK(INDEX($G:$G,)), ISBLANK(INDEX($C:$C,))), \"\", 'PWS Records (System Entry)'!$D$4)","v":""},{"$f":"IF(AND(ISBLANK(INDEX($G:$G,)), ISBLANK(INDEX($C:$C,))), \"\", 'PWS Records (System Entry)'!$D$3)","v":""},null,null,null,null,null,null,null,null,null,null,null,null,null,null,null,null,null,null,""]
[{"$f":"IF(AND(ISBLANK(INDEX($G:$G,)), ISBLANK(INDEX($C:$C,))), \"\", 'PWS Records (System Entry)'!$D$4)","v":""},{"$f":"IF(AND(ISBLANK(INDEX($G:$G,)), ISBLANK(INDEX($C:$C,))), \"\", 'PWS Records (System Entry)'!$D$3)","v":""},null,null,null,null,null,null,null,null,null,null,null,null,null,null,null,null,null,null,""]
[{"$f":"IF(AND(ISBLANK(INDEX($G:$G,)), ISBLANK(INDEX($C:$C,))), \"\", 'PWS Records (System Entry)'!$D$4)","v":""},{"$f":"IF(AND(ISBLANK(INDEX($G:$G,)), ISBLANK(INDEX($C:$C,))), \"\", 'PWS Records (System Entry)'!$D$3)","v":""},null,null,null,null,null,null,null,null,null,null,null,null,null,null,null,null,null,null,""]
[{"$f":"IF(AND(ISBLANK(INDEX($G:$G,)), ISBLANK(INDEX($C:$C,))), \"\", 'PWS Records (System Entry)'!$D$4)","v":""},{"$f":"IF(AND(ISBLANK(INDEX($G:$G,)), ISBLANK(INDEX($C:$C,))), \"\", 'PWS Records (System Entry)'!$D$3)","v":""},null,null,null,null,null,null,null,null,null,null,null,null,null,null,null,null,null,null,""]
[{"$f":"IF(AND(ISBLANK(INDEX($G:$G,)), ISBLANK(INDEX($C:$C,))), \"\", 'PWS Records (System Entry)'!$D$4)","v":""},{"$f":"IF(AND(ISBLANK(INDEX($G:$G,)), ISBLANK(INDEX($C:$C,))), \"\", 'PWS Records (System Entry)'!$D$3)","v":""},null,null,null,null,null,null,null,null,null,null,null,null,null,null,null,null,null,null,""]
[{"$f":"IF(AND(ISBLANK(INDEX($G:$G,)), ISBLANK(INDEX($C:$C,))), \"\", 'PWS Records (System Entry)'!$D$4)","v":""},{"$f":"IF(AND(ISBLANK(INDEX($G:$G,)), ISBLANK(INDEX($C:$C,))), \"\", 'PWS Records (System Entry)'!$D$3)","v":""},null,null,null,null,null,null,null,null,null,null,null,null,null,null,null,null,null,null,""]
[{"$f":"IF(AND(ISBLANK(INDEX($G:$G,)), ISBLANK(INDEX($C:$C,))), \"\", 'PWS Records (System Entry)'!$D$4)","v":""},{"$f":"IF(AND(ISBLANK(INDEX($G:$G,)), ISBLANK(INDEX($C:$C,))), \"\", 'PWS Records (System Entry)'!$D$3)","v":""},null,null,null,null,null,null,null,null,null,null,null,null,null,null,null,null,null,null,""]
[{"$f":"IF(AND(ISBLANK(INDEX($G:$G,)), ISBLANK(INDEX($C:$C,))), \"\", 'PWS Records (System Entry)'!$D$4)","v":""},{"$f":"IF(AND(ISBLANK(INDEX($G:$G,)), ISBLANK(INDEX($C:$C,))), \"\", 'PWS Records (System Entry)'!$D$3)","v":""},null,null,null,null,null,null,null,null,null,null,null,null,null,null,null,null,null,null,""]
[{"$f":"IF(AND(ISBLANK(INDEX($G:$G,)), ISBLANK(INDEX($C:$C,))), \"\", 'PWS Records (System Entry)'!$D$4)","v":""},{"$f":"IF(AND(ISBLANK(INDEX($G:$G,)), ISBLANK(INDEX($C:$C,))), \"\", 'PWS Records (System Entry)'!$D$3)","v":""},null,null,null,null,null,null,null,null,null,null,null,null,null,null,null,null,null,null,""]
[{"$f":"IF(AND(ISBLANK(INDEX($G:$G,)), ISBLANK(INDEX($C:$C,))), \"\", 'PWS Records (System Entry)'!$D$4)","v":""},{"$f":"IF(AND(ISBLANK(INDEX($G:$G,)), ISBLANK(INDEX($C:$C,))), \"\", 'PWS Records (System Entry)'!$D$3)","v":""},null,null,null,null,null,null,null,null,null,null,null,null,null,null,null,null,null,null,""]
[{"$f":"IF(AND(ISBLANK(INDEX($G:$G,)), ISBLANK(INDEX($C:$C,))), \"\", 'PWS Records (System Entry)'!$D$4)","v":""},{"$f":"IF(AND(ISBLANK(INDEX($G:$G,)), ISBLANK(INDEX($C:$C,))), \"\", 'PWS Records (System Entry)'!$D$3)","v":""},null,null,null,null,null,null,null,null,null,null,null,null,null,null,null,null,null,null,""]
[{"$f":"IF(AND(ISBLANK(INDEX($G:$G,)), ISBLANK(INDEX($C:$C,))), \"\", 'PWS Records (System Entry)'!$D$4)","v":""},{"$f":"IF(AND(ISBLANK(INDEX($G:$G,)), ISBLANK(INDEX($C:$C,))), \"\", 'PWS Records (System Entry)'!$D$3)","v":""},null,null,null,null,null,null,null,null,null,null,null,null,null,null,null,null,null,null,""]
[{"$f":"IF(AND(ISBLANK(INDEX($G:$G,)), ISBLANK(INDEX($C:$C,))), \"\", 'PWS Records (System Entry)'!$D$4)","v":""},{"$f":"IF(AND(ISBLANK(INDEX($G:$G,)), ISBLANK(INDEX($C:$C,))), \"\", 'PWS Records (System Entry)'!$D$3)","v":""},null,null,null,null,null,null,null,null,null,null,null,null,null,null,null,null,null,null,""]
[{"$f":"IF(AND(ISBLANK(INDEX($G:$G,)), ISBLANK(INDEX($C:$C,))), \"\", 'PWS Records (System Entry)'!$D$4)","v":""},{"$f":"IF(AND(ISBLANK(INDEX($G:$G,)), ISBLANK(INDEX($C:$C,))), \"\", 'PWS Records (System Entry)'!$D$3)","v":""},null,null,null,null,null,null,null,null,null,null,null,null,null,null,null,null,null,null,""]
[{"$f":"IF(AND(ISBLANK(INDEX($G:$G,)), ISBLANK(INDEX($C:$C,))), \"\", 'PWS Records (System Entry)'!$D$4)","v":""},{"$f":"IF(AND(ISBLANK(INDEX($G:$G,)), ISBLANK(INDEX($C:$C,))), \"\", 'PWS Records (System Entry)'!$D$3)","v":""},null,null,null,null,null,null,null,null,null,null,null,null,null,null,null,null,null,null,""]
[{"$f":"IF(AND(ISBLANK(INDEX($G:$G,)), ISBLANK(INDEX($C:$C,))), \"\", 'PWS Records (System Entry)'!$D$4)","v":""},{"$f":"IF(AND(ISBLANK(INDEX($G:$G,)), ISBLANK(INDEX($C:$C,))), \"\", 'PWS Records (System Entry)'!$D$3)","v":""},null,null,null,null,null,null,null,null,null,null,null,null,null,null,null,null,null,null,""]
[{"$f":"IF(AND(ISBLANK(INDEX($G:$G,)), ISBLANK(INDEX($C:$C,))), \"\", 'PWS Records (System Entry)'!$D$4)","v":""},{"$f":"IF(AND(ISBLANK(INDEX($G:$G,)), ISBLANK(INDEX($C:$C,))), \"\", 'PWS Records (System Entry)'!$D$3)","v":""},null,null,null,null,null,null,null,null,null,null,null,null,null,null,null,null,null,null,""]
[{"$f":"IF(AND(ISBLANK(INDEX($G:$G,)), ISBLANK(INDEX($C:$C,))), \"\", 'PWS Records (System Entry)'!$D$4)","v":""},{"$f":"IF(AND(ISBLANK(INDEX($G:$G,)), ISBLANK(INDEX($C:$C,))), \"\", 'PWS Records (System Entry)'!$D$3)","v":""},null,null,null,null,null,null,null,null,null,null,null,null,null,null,null,null,null,null,""]
[{"$f":"IF(AND(ISBLANK(INDEX($G:$G,)), ISBLANK(INDEX($C:$C,))), \"\", 'PWS Records (System Entry)'!$D$4)","v":""},{"$f":"IF(AND(ISBLANK(INDEX($G:$G,)), ISBLANK(INDEX($C:$C,))), \"\", 'PWS Records (System Entry)'!$D$3)","v":""},null,null,null,null,null,null,null,null,null,null,null,null,null,null,null,null,null,null,""]
[{"$f":"IF(AND(ISBLANK(INDEX($G:$G,)), ISBLANK(INDEX($C:$C,))), \"\", 'PWS Records (System Entry)'!$D$4)","v":""},{"$f":"IF(AND(ISBLANK(INDEX($G:$G,)), ISBLANK(INDEX($C:$C,))), \"\", 'PWS Records (System Entry)'!$D$3)","v":""},null,null,null,null,null,null,null,null,null,null,null,null,null,null,null,null,null,null,""]
[{"$f":"IF(AND(ISBLANK(INDEX($G:$G,)), ISBLANK(INDEX($C:$C,))), \"\", 'PWS Records (System Entry)'!$D$4)","v":""},{"$f":"IF(AND(ISBLANK(INDEX($G:$G,)), ISBLANK(INDEX($C:$C,))), \"\", 'PWS Records (System Entry)'!$D$3)","v":""},null,null,null,null,null,null,null,null,null,null,null,null,null,null,null,null,null,null,""]
[{"$f":"IF(AND(ISBLANK(INDEX($G:$G,)), ISBLANK(INDEX($C:$C,))), \"\", 'PWS Records (System Entry)'!$D$4)","v":""},{"$f":"IF(AND(ISBLANK(INDEX($G:$G,)), ISBLANK(INDEX($C:$C,))), \"\", 'PWS Records (System Entry)'!$D$3)","v":""},null,null,null,null,null,null,null,null,null,null,null,null,null,null,null,null,null,null,""]
[{"$f":"IF(AND(ISBLANK(INDEX($G:$G,)), ISBLANK(INDEX($C:$C,))), \"\", 'PWS Records (System Entry)'!$D$4)","v":""},{"$f":"IF(AND(ISBLANK(INDEX($G:$G,)), ISBLANK(INDEX($C:$C,))), \"\", 'PWS Records (System Entry)'!$D$3)","v":""},null,null,null,null,null,null,null,null,null,null,null,null,null,null,null,null,null,null,""]
[{"$f":"IF(AND(ISBLANK(INDEX($G:$G,)), ISBLANK(INDEX($C:$C,))), \"\", 'PWS Records (System Entry)'!$D$4)","v":""},{"$f":"IF(AND(ISBLANK(INDEX($G:$G,)), ISBLANK(INDEX($C:$C,))), \"\", 'PWS Records (System Entry)'!$D$3)","v":""},null,null,null,null,null,null,null,null,null,null,null,null,null,null,null,null,null,null,""]
[{"$f":"IF(AND(ISBLANK(INDEX($G:$G,)), ISBLANK(INDEX($C:$C,))), \"\", 'PWS Records (System Entry)'!$D$4)","v":""},{"$f":"IF(AND(ISBLANK(INDEX($G:$G,)), ISBLANK(INDEX($C:$C,))), \"\", 'PWS Records (System Entry)'!$D$3)","v":""},null,null,null,null,null,null,null,null,null,null,null,null,null,null,null,null,null,null,""]
[{"$f":"IF(AND(ISBLANK(INDEX($G:$G,)), ISBLANK(INDEX($C:$C,))), \"\", 'PWS Records (System Entry)'!$D$4)","v":""},{"$f":"IF(AND(ISBLANK(INDEX($G:$G,)), ISBLANK(INDEX($C:$C,))), \"\", 'PWS Records (System Entry)'!$D$3)","v":""},null,null,null,null,null,null,null,null,null,null,null,null,null,null,null,null,null,null,""]
[{"$f":"IF(AND(ISBLANK(INDEX($G:$G,)), ISBLANK(INDEX($C:$C,))), \"\", 'PWS Records (System Entry)'!$D$4)","v":""},{"$f":"IF(AND(ISBLANK(INDEX($G:$G,)), ISBLANK(INDEX($C:$C,))), \"\", 'PWS Records (System Entry)'!$D$3)","v":""},null,null,null,null,null,null,null,null,null,null,null,null,null,null,null,null,null,null,""]
[{"$f":"IF(AND(ISBLANK(INDEX($G:$G,)), ISBLANK(INDEX($C:$C,))), \"\", 'PWS Records (System Entry)'!$D$4)","v":""},{"$f":"IF(AND(ISBLANK(INDEX($G:$G,)), ISBLANK(INDEX($C:$C,))), \"\", 'PWS Records (System Entry)'!$D$3)","v":""},null,null,null,null,null,null,null,null,null,null,null,null,null,null,null,null,null,null,""]
[{"$f":"IF(AND(ISBLANK(INDEX($G:$G,)), ISBLANK(INDEX($C:$C,))), \"\", 'PWS Records (System Entry)'!$D$4)","v":""},{"$f":"IF(AND(ISBLANK(INDEX($G:$G,)), ISBLANK(INDEX($C:$C,))), \"\", 'PWS Records (System Entry)'!$D$3)","v":""},null,null,null,null,null,null,null,null,null,null,null,null,null,null,null,null,null,null,""]
[{"$f":"IF(AND(ISBLANK(INDEX($G:$G,)), ISBLANK(INDEX($C:$C,))), \"\", 'PWS Records (System Entry)'!$D$4)","v":""},{"$f":"IF(AND(ISBLANK(INDEX($G:$G,)), ISBLANK(INDEX($C:$C,))), \"\", 'PWS Records (System Entry)'!$D$3)","v":""},null,null,null,null,null,null,null,null,null,null,null,null,null,null,null,null,null,null,""]
[{"$f":"IF(AND(ISBLANK(INDEX($G:$G,)), ISBLANK(INDEX($C:$C,))), \"\", 'PWS Records (System Entry)'!$D$4)","v":""},{"$f":"IF(AND(ISBLANK(INDEX($G:$G,)), ISBLANK(INDEX($C:$C,))), \"\", 'PWS Records (System Entry)'!$D$3)","v":""},null,null,null,null,null,null,null,null,null,null,null,null,null,null,null,null,null,null,""]
[{"$f":"IF(AND(ISBLANK(INDEX($G:$G,)), ISBLANK(INDEX($C:$C,))), \"\", 'PWS Records (System Entry)'!$D$4)","v":""},{"$f":"IF(AND(ISBLANK(INDEX($G:$G,)), ISBLANK(INDEX($C:$C,))), \"\", 'PWS Records (System Entry)'!$D$3)","v":""},null,null,null,null,null,null,null,null,null,null,null,null,null,null,null,null,null,null,{"$f":"IF(AND(INDEX($K:$K,)=\"\", INDEX($L:$L,)=\"\", INDEX($M:$M,)=\"\", INDEX($Q:$Q,)=\"\", INDEX($R:$R,)=\"\"), \"\", IF(OR(INDEX($K:$K,)=\"Lead\",INDEX($Q:$Q,)=\"Lead\"),\"Lead\",IF(OR(AND(OR(INDEX($M:$M,)=\"Yes\", INDEX($M:$M,)=\"Don't Know\", INDEX($M:$M,)=\"\"), INDEX($Q:$Q,)=\"Galvanized Iron/Steel\"), AND(INDEX($K:$K,)=\"Unknown\", INDEX($M:$M,)=\"No\", INDEX($Q:$Q,)=\"Galvanized Iron/Steel\")), \"Galvanized Requiring Replacement\", IF(OR(AND(OR(INDEX($K:$K,)=\"Galvanized Iron/Steel\", INDEX($K:$K,)=\"Non-Lead - Copper\", INDEX($K:$K,)=\"Non-Lead - Plastic\", INDEX($K:$K,)=\"Non-Lead - Other\", INDEX($K:$K,)=\"Non-Lead - Material Unknown\", INDEX($K:$K,)=\"No System Owned Portion\"), OR(INDEX($Q:$Q,)=\"Galvanized Iron/Steel\", INDEX($Q:$Q,)=\"Non-Lead - Copper\", INDEX($Q:$Q,)=\"Non-Lead - Plastic\", INDEX($Q:$Q,)=\"Non-Lead - Other\", INDEX($Q:$Q,)=\"Non-Lead - Predictive Model\", INDEX($Q:$Q,)=\"No Customer Owned Portion\")), AND(OR( INDEX($K:$K,)=\"Galvanized Iron/Steel\", INDEX($K:$K,)=\"Non-Lead - Copper\", INDEX($K:$K,)=\"Non-Lead - Plastic\", INDEX($K:$K,)=\"Non-Lead - Other\", INDEX($K:$K,)=\"Non-Lead - Material Unknown\", INDEX($K:$K,)=\"No System Owned Portion\"), INDEX($M:$M,)=\"No\", INDEX($Q:$Q,)=\"Non-Lead - Material Unknown\")), \"Non-Lead\", \"Lead Status Unknown\"))))","v":""}]
[{"$f":"IF(AND(ISBLANK(INDEX($G:$G,)), ISBLANK(INDEX($C:$C,))), \"\", 'PWS Records (System Entry)'!$D$4)","v":""},{"$f":"IF(AND(ISBLANK(INDEX($G:$G,)), ISBLANK(INDEX($C:$C,))), \"\", 'PWS Records (System Entry)'!$D$3)","v":""},null,null,null,null,null,null,null,null,null,null,null,null,null,null,null,null,null,null,""]
[{"$f":"IF(AND(ISBLANK(INDEX($G:$G,)), ISBLANK(INDEX($C:$C,))), \"\", 'PWS Records (System Entry)'!$D$4)","v":""},{"$f":"IF(AND(ISBLANK(INDEX($G:$G,)), ISBLANK(INDEX($C:$C,))), \"\", 'PWS Records (System Entry)'!$D$3)","v":""},null,null,null,null,null,null,null,null,null,null,null,null,null,null,null,null,null,null,""]
[{"$f":"IF(AND(ISBLANK(INDEX($G:$G,)), ISBLANK(INDEX($C:$C,))), \"\", 'PWS Records (System Entry)'!$D$4)","v":""},{"$f":"IF(AND(ISBLANK(INDEX($G:$G,)), ISBLANK(INDEX($C:$C,))), \"\", 'PWS Records (System Entry)'!$D$3)","v":""},null,null,null,null,null,null,null,null,null,null,null,null,null,null,null,null,null,null,""]
[{"$f":"IF(AND(ISBLANK(INDEX($G:$G,)), ISBLANK(INDEX($C:$C,))), \"\", 'PWS Records (System Entry)'!$D$4)","v":""},{"$f":"IF(AND(ISBLANK(INDEX($G:$G,)), ISBLANK(INDEX($C:$C,))), \"\", 'PWS Records (System Entry)'!$D$3)","v":""},null,null,null,null,null,null,null,null,null,null,null,null,null,null,null,null,null,null,""]
[{"$f":"IF(AND(ISBLANK(INDEX($G:$G,)), ISBLANK(INDEX($C:$C,))), \"\", 'PWS Records (System Entry)'!$D$4)","v":""},{"$f":"IF(AND(ISBLANK(INDEX($G:$G,)), ISBLANK(INDEX($C:$C,))), \"\", 'PWS Records (System Entry)'!$D$3)","v":""},null,null,null,null,null,null,null,null,null,null,null,null,null,null,null,null,null,null,""]
[{"$f":"IF(AND(ISBLANK(INDEX($G:$G,)), ISBLANK(INDEX($C:$C,))), \"\", 'PWS Records (System Entry)'!$D$4)","v":""},{"$f":"IF(AND(ISBLANK(INDEX($G:$G,)), ISBLANK(INDEX($C:$C,))), \"\", 'PWS Records (System Entry)'!$D$3)","v":""},null,null,null,null,null,null,null,null,null,null,null,null,null,null,null,null,null,null,""]
[{"$f":"IF(AND(ISBLANK(INDEX($G:$G,)), ISBLANK(INDEX($C:$C,))), \"\", 'PWS Records (System Entry)'!$D$4)","v":""},{"$f":"IF(AND(ISBLANK(INDEX($G:$G,)), ISBLANK(INDEX($C:$C,))), \"\", 'PWS Records (System Entry)'!$D$3)","v":""},null,null,null,null,null,null,null,null,null,null,null,null,null,null,null,null,null,null,""]
[{"$f":"IF(AND(ISBLANK(INDEX($G:$G,)), ISBLANK(INDEX($C:$C,))), \"\", 'PWS Records (System Entry)'!$D$4)","v":""},{"$f":"IF(AND(ISBLANK(INDEX($G:$G,)), ISBLANK(INDEX($C:$C,))), \"\", 'PWS Records (System Entry)'!$D$3)","v":""},null,null,null,null,null,null,null,null,null,null,null,null,null,null,null,null,null,null,""]
[{"$f":"IF(AND(ISBLANK(INDEX($G:$G,)), ISBLANK(INDEX($C:$C,))), \"\", 'PWS Records (System Entry)'!$D$4)","v":""},{"$f":"IF(AND(ISBLANK(INDEX($G:$G,)), ISBLANK(INDEX($C:$C,))), \"\", 'PWS Records (System Entry)'!$D$3)","v":""},null,null,null,null,null,null,null,null,null,null,null,null,null,null,null,null,null,null,""]
[{"$f":"IF(AND(ISBLANK(INDEX($G:$G,)), ISBLANK(INDEX($C:$C,))), \"\", 'PWS Records (System Entry)'!$D$4)","v":""},{"$f":"IF(AND(ISBLANK(INDEX($G:$G,)), ISBLANK(INDEX($C:$C,))), \"\", 'PWS Records (System Entry)'!$D$3)","v":""},null,null,null,null,null,null,null,null,null,null,null,null,null,null,null,null,null,null,""]
[{"$f":"IF(AND(ISBLANK(INDEX($G:$G,)), ISBLANK(INDEX($C:$C,))), \"\", 'PWS Records (System Entry)'!$D$4)","v":""},{"$f":"IF(AND(ISBLANK(INDEX($G:$G,)), ISBLANK(INDEX($C:$C,))), \"\", 'PWS Records (System Entry)'!$D$3)","v":""},null,null,null,null,null,null,null,null,null,null,null,null,null,null,null,null,null,null,""]
[{"$f":"IF(AND(ISBLANK(INDEX($G:$G,)), ISBLANK(INDEX($C:$C,))), \"\", 'PWS Records (System Entry)'!$D$4)","v":""},{"$f":"IF(AND(ISBLANK(INDEX($G:$G,)), ISBLANK(INDEX($C:$C,))), \"\", 'PWS Records (System Entry)'!$D$3)","v":""},null,null,null,null,null,null,null,null,null,null,null,null,null,null,null,null,null,null,""]
[{"$f":"IF(AND(ISBLANK(INDEX($G:$G,)), ISBLANK(INDEX($C:$C,))), \"\", 'PWS Records (System Entry)'!$D$4)","v":""},{"$f":"IF(AND(ISBLANK(INDEX($G:$G,)), ISBLANK(INDEX($C:$C,))), \"\", 'PWS Records (System Entry)'!$D$3)","v":""},null,null,null,null,null,null,null,null,null,null,null,null,null,null,null,null,null,null,""]
[{"$f":"IF(AND(ISBLANK(INDEX($G:$G,)), ISBLANK(INDEX($C:$C,))), \"\", 'PWS Records (System Entry)'!$D$4)","v":""},{"$f":"IF(AND(ISBLANK(INDEX($G:$G,)), ISBLANK(INDEX($C:$C,))), \"\", 'PWS Records (System Entry)'!$D$3)","v":""},null,null,null,null,null,null,null,null,null,null,null,null,null,null,null,null,null,null,""]
[{"$f":"IF(AND(ISBLANK(INDEX($G:$G,)), ISBLANK(INDEX($C:$C,))), \"\", 'PWS Records (System Entry)'!$D$4)","v":""},{"$f":"IF(AND(ISBLANK(INDEX($G:$G,)), ISBLANK(INDEX($C:$C,))), \"\", 'PWS Records (System Entry)'!$D$3)","v":""},null,null,null,null,null,null,null,null,null,null,null,null,null,null,null,null,null,null,""]
[{"$f":"IF(AND(ISBLANK(INDEX($G:$G,)), ISBLANK(INDEX($C:$C,))), \"\", 'PWS Records (System Entry)'!$D$4)","v":""},{"$f":"IF(AND(ISBLANK(INDEX($G:$G,)), ISBLANK(INDEX($C:$C,))), \"\", 'PWS Records (System Entry)'!$D$3)","v":""},null,null,null,null,null,null,null,null,null,null,null,null,null,null,null,null,null,null,""]
[{"$f":"IF(AND(ISBLANK(INDEX($G:$G,)), ISBLANK(INDEX($C:$C,))), \"\", 'PWS Records (System Entry)'!$D$4)","v":""},{"$f":"IF(AND(ISBLANK(INDEX($G:$G,)), ISBLANK(INDEX($C:$C,))), \"\", 'PWS Records (System Entry)'!$D$3)","v":""},null,null,null,null,null,null,null,null,null,null,null,null,null,null,null,null,null,null,{"$f":"IF(AND(INDEX($K:$K,)=\"\", INDEX($L:$L,)=\"\", INDEX($M:$M,)=\"\", INDEX($Q:$Q,)=\"\", INDEX($R:$R,)=\"\"), \"\", IF(OR(INDEX($K:$K,)=\"Lead\",INDEX($Q:$Q,)=\"Lead\"),\"Lead\",IF(OR(AND(OR(INDEX($M:$M,)=\"Yes\", INDEX($M:$M,)=\"Don't Know\", INDEX($M:$M,)=\"\"), INDEX($Q:$Q,)=\"Galvanized Iron/Steel\"), AND(INDEX($K:$K,)=\"Unknown\", INDEX($M:$M,)=\"No\", INDEX($Q:$Q,)=\"Galvanized Iron/Steel\")), \"Galvanized Requiring Replacement\", IF(OR(AND(OR(INDEX($K:$K,)=\"Galvanized Iron/Steel\", INDEX($K:$K,)=\"Non-Lead - Copper\", INDEX($K:$K,)=\"Non-Lead - Plastic\", INDEX($K:$K,)=\"Non-Lead - Other\", INDEX($K:$K,)=\"Non-Lead - Material Unknown\", INDEX($K:$K,)=\"No System Owned Portion\"), OR(INDEX($Q:$Q,)=\"Galvanized Iron/Steel\", INDEX($Q:$Q,)=\"Non-Lead - Copper\", INDEX($Q:$Q,)=\"Non-Lead - Plastic\", INDEX($Q:$Q,)=\"Non-Lead - Other\", INDEX($Q:$Q,)=\"Non-Lead - Predictive Model\", INDEX($Q:$Q,)=\"No Customer Owned Portion\")), AND(OR( INDEX($K:$K,)=\"Galvanized Iron/Steel\", INDEX($K:$K,)=\"Non-Lead - Copper\", INDEX($K:$K,)=\"Non-Lead - Plastic\", INDEX($K:$K,)=\"Non-Lead - Other\", INDEX($K:$K,)=\"Non-Lead - Material Unknown\", INDEX($K:$K,)=\"No System Owned Portion\"), INDEX($M:$M,)=\"No\", INDEX($Q:$Q,)=\"Non-Lead - Material Unknown\")), \"Non-Lead\", \"Lead Status Unknown\"))))","v":""}]
[{"$f":"IF(AND(ISBLANK(INDEX($G:$G,)), ISBLANK(INDEX($C:$C,))), \"\", 'PWS Records (System Entry)'!$D$4)","v":""},{"$f":"IF(AND(ISBLANK(INDEX($G:$G,)), ISBLANK(INDEX($C:$C,))), \"\", 'PWS Records (System Entry)'!$D$3)","v":""},null,null,null,null,null,null,null,null,null,null,null,null,null,null,null,null,null,null,""]
[{"$f":"IF(AND(ISBLANK(INDEX($G:$G,)), ISBLANK(INDEX($C:$C,))), \"\", 'PWS Records (System Entry)'!$D$4)","v":""},{"$f":"IF(AND(ISBLANK(INDEX($G:$G,)), ISBLANK(INDEX($C:$C,))), \"\", 'PWS Records (System Entry)'!$D$3)","v":""},null,null,null,null,null,null,null,null,null,null,null,null,null,null,null,null,null,null,""]
[{"$f":"IF(AND(ISBLANK(INDEX($G:$G,)), ISBLANK(INDEX($C:$C,))), \"\", 'PWS Records (System Entry)'!$D$4)","v":""},{"$f":"IF(AND(ISBLANK(INDEX($G:$G,)), ISBLANK(INDEX($C:$C,))), \"\", 'PWS Records (System Entry)'!$D$3)","v":""},null,null,null,null,null,null,null,null,null,null,null,null,null,null,null,null,null,null,""]
[{"$f":"IF(AND(ISBLANK(INDEX($G:$G,)), ISBLANK(INDEX($C:$C,))), \"\", 'PWS Records (System Entry)'!$D$4)","v":""},{"$f":"IF(AND(ISBLANK(INDEX($G:$G,)), ISBLANK(INDEX($C:$C,))), \"\", 'PWS Records (System Entry)'!$D$3)","v":""},null,null,null,null,null,null,null,null,null,null,null,null,null,null,null,null,null,null,""]
[{"$f":"IF(AND(ISBLANK(INDEX($G:$G,)), ISBLANK(INDEX($C:$C,))), \"\", 'PWS Records (System Entry)'!$D$4)","v":""},{"$f":"IF(AND(ISBLANK(INDEX($G:$G,)), ISBLANK(INDEX($C:$C,))), \"\", 'PWS Records (System Entry)'!$D$3)","v":""},null,null,null,null,null,null,null,null,null,null,null,null,null,null,null,null,null,null,""]
[{"$f":"IF(AND(ISBLANK(INDEX($G:$G,)), ISBLANK(INDEX($C:$C,))), \"\", 'PWS Records (System Entry)'!$D$4)","v":""},{"$f":"IF(AND(ISBLANK(INDEX($G:$G,)), ISBLANK(INDEX($C:$C,))), \"\", 'PWS Records (System Entry)'!$D$3)","v":""},null,null,null,null,null,null,null,null,null,null,null,null,null,null,null,null,null,null,""]
[{"$f":"IF(AND(ISBLANK(INDEX($G:$G,)), ISBLANK(INDEX($C:$C,))), \"\", 'PWS Records (System Entry)'!$D$4)","v":""},{"$f":"IF(AND(ISBLANK(INDEX($G:$G,)), ISBLANK(INDEX($C:$C,))), \"\", 'PWS Records (System Entry)'!$D$3)","v":""},null,null,null,null,null,null,null,null,null,null,null,null,null,null,null,null,null,null,""]
[{"$f":"IF(AND(ISBLANK(INDEX($G:$G,)), ISBLANK(INDEX($C:$C,))), \"\", 'PWS Records (System Entry)'!$D$4)","v":""},{"$f":"IF(AND(ISBLANK(INDEX($G:$G,)), ISBLANK(INDEX($C:$C,))), \"\", 'PWS Records (System Entry)'!$D$3)","v":""},null,null,null,null,null,null,null,null,null,null,null,null,null,null,null,null,null,null,""]
[{"$f":"IF(AND(ISBLANK(INDEX($G:$G,)), ISBLANK(INDEX($C:$C,))), \"\", 'PWS Records (System Entry)'!$D$4)","v":""},{"$f":"IF(AND(ISBLANK(INDEX($G:$G,)), ISBLANK(INDEX($C:$C,))), \"\", 'PWS Records (System Entry)'!$D$3)","v":""},null,null,null,null,null,null,null,null,null,null,null,null,null,null,null,null,null,null,""]
[{"$f":"IF(AND(ISBLANK(INDEX($G:$G,)), ISBLANK(INDEX($C:$C,))), \"\", 'PWS Records (System Entry)'!$D$4)","v":""},{"$f":"IF(AND(ISBLANK(INDEX($G:$G,)), ISBLANK(INDEX($C:$C,))), \"\", 'PWS Records (System Entry)'!$D$3)","v":""},null,null,null,null,null,null,null,null,null,null,null,null,null,null,null,null,null,null,""]
[{"$f":"IF(AND(ISBLANK(INDEX($G:$G,)), ISBLANK(INDEX($C:$C,))), \"\", 'PWS Records (System Entry)'!$D$4)","v":""},{"$f":"IF(AND(ISBLANK(INDEX($G:$G,)), ISBLANK(INDEX($C:$C,))), \"\", 'PWS Records (System Entry)'!$D$3)","v":""},null,null,null,null,null,null,null,null,null,null,null,null,null,null,null,null,null,null,""]
[{"$f":"IF(AND(ISBLANK(INDEX($G:$G,)), ISBLANK(INDEX($C:$C,))), \"\", 'PWS Records (System Entry)'!$D$4)","v":""},{"$f":"IF(AND(ISBLANK(INDEX($G:$G,)), ISBLANK(INDEX($C:$C,))), \"\", 'PWS Records (System Entry)'!$D$3)","v":""},null,null,null,null,null,null,null,null,null,null,null,null,null,null,null,null,null,null,""]
[{"$f":"IF(AND(ISBLANK(INDEX($G:$G,)), ISBLANK(INDEX($C:$C,))), \"\", 'PWS Records (System Entry)'!$D$4)","v":""},{"$f":"IF(AND(ISBLANK(INDEX($G:$G,)), ISBLANK(INDEX($C:$C,))), \"\", 'PWS Records (System Entry)'!$D$3)","v":""},null,null,null,null,null,null,null,null,null,null,null,null,null,null,null,null,null,null,""]
[{"$f":"IF(AND(ISBLANK(INDEX($G:$G,)), ISBLANK(INDEX($C:$C,))), \"\", 'PWS Records (System Entry)'!$D$4)","v":""},{"$f":"IF(AND(ISBLANK(INDEX($G:$G,)), ISBLANK(INDEX($C:$C,))), \"\", 'PWS Records (System Entry)'!$D$3)","v":""},null,null,null,null,null,null,null,null,null,null,null,null,null,null,null,null,null,null,""]
[{"$f":"IF(AND(ISBLANK(INDEX($G:$G,)), ISBLANK(INDEX($C:$C,))), \"\", 'PWS Records (System Entry)'!$D$4)","v":""},{"$f":"IF(AND(ISBLANK(INDEX($G:$G,)), ISBLANK(INDEX($C:$C,))), \"\", 'PWS Records (System Entry)'!$D$3)","v":""},null,null,null,null,null,null,null,null,null,null,null,null,null,null,null,null,null,null,""]
[{"$f":"IF(AND(ISBLANK(INDEX($G:$G,)), ISBLANK(INDEX($C:$C,))), \"\", 'PWS Records (System Entry)'!$D$4)","v":""},{"$f":"IF(AND(ISBLANK(INDEX($G:$G,)), ISBLANK(INDEX($C:$C,))), \"\", 'PWS Records (System Entry)'!$D$3)","v":""},null,null,null,null,null,null,null,null,null,null,null,null,null,null,null,null,null,null,""]
[{"$f":"IF(AND(ISBLANK(INDEX($G:$G,)), ISBLANK(INDEX($C:$C,))), \"\", 'PWS Records (System Entry)'!$D$4)","v":""},{"$f":"IF(AND(ISBLANK(INDEX($G:$G,)), ISBLANK(INDEX($C:$C,))), \"\", 'PWS Records (System Entry)'!$D$3)","v":""},null,null,null,null,null,null,null,null,null,null,null,null,null,null,null,null,null,null,""]
[{"$f":"IF(AND(ISBLANK(INDEX($G:$G,)), ISBLANK(INDEX($C:$C,))), \"\", 'PWS Records (System Entry)'!$D$4)","v":""},{"$f":"IF(AND(ISBLANK(INDEX($G:$G,)), ISBLANK(INDEX($C:$C,))), \"\", 'PWS Records (System Entry)'!$D$3)","v":""},null,null,null,null,null,null,null,null,null,null,null,null,null,null,null,null,null,null,""]
[{"$f":"IF(AND(ISBLANK(INDEX($G:$G,)), ISBLANK(INDEX($C:$C,))), \"\", 'PWS Records (System Entry)'!$D$4)","v":""},{"$f":"IF(AND(ISBLANK(INDEX($G:$G,)), ISBLANK(INDEX($C:$C,))), \"\", 'PWS Records (System Entry)'!$D$3)","v":""},null,null,null,null,null,null,null,null,null,null,null,null,null,null,null,null,null,null,""]
[{"$f":"IF(AND(ISBLANK(INDEX($G:$G,)), ISBLANK(INDEX($C:$C,))), \"\", 'PWS Records (System Entry)'!$D$4)","v":""},{"$f":"IF(AND(ISBLANK(INDEX($G:$G,)), ISBLANK(INDEX($C:$C,))), \"\", 'PWS Records (System Entry)'!$D$3)","v":""},null,null,null,null,null,null,null,null,null,null,null,null,null,null,null,null,null,null,""]
[{"$f":"IF(AND(ISBLANK(INDEX($G:$G,)), ISBLANK(INDEX($C:$C,))), \"\", 'PWS Records (System Entry)'!$D$4)","v":""},{"$f":"IF(AND(ISBLANK(INDEX($G:$G,)), ISBLANK(INDEX($C:$C,))), \"\", 'PWS Records (System Entry)'!$D$3)","v":""},null,null,null,null,null,null,null,null,null,null,null,null,null,null,null,null,null,null,""]
[{"$f":"IF(AND(ISBLANK(INDEX($G:$G,)), ISBLANK(INDEX($C:$C,))), \"\", 'PWS Records (System Entry)'!$D$4)","v":""},{"$f":"IF(AND(ISBLANK(INDEX($G:$G,)), ISBLANK(INDEX($C:$C,))), \"\", 'PWS Records (System Entry)'!$D$3)","v":""},null,null,null,null,null,null,null,null,null,null,null,null,null,null,null,null,null,null,""]
[{"$f":"IF(AND(ISBLANK(INDEX($G:$G,)), ISBLANK(INDEX($C:$C,))), \"\", 'PWS Records (System Entry)'!$D$4)","v":""},{"$f":"IF(AND(ISBLANK(INDEX($G:$G,)), ISBLANK(INDEX($C:$C,))), \"\", 'PWS Records (System Entry)'!$D$3)","v":""},null,null,null,null,null,null,null,null,null,null,null,null,null,null,null,null,null,null,""]
[{"$f":"IF(AND(ISBLANK(INDEX($G:$G,)), ISBLANK(INDEX($C:$C,))), \"\", 'PWS Records (System Entry)'!$D$4)","v":""},{"$f":"IF(AND(ISBLANK(INDEX($G:$G,)), ISBLANK(INDEX($C:$C,))), \"\", 'PWS Records (System Entry)'!$D$3)","v":""},null,null,null,null,null,null,null,null,null,null,null,null,null,null,null,null,null,null,""]
[{"$f":"IF(AND(ISBLANK(INDEX($G:$G,)), ISBLANK(INDEX($C:$C,))), \"\", 'PWS Records (System Entry)'!$D$4)","v":""},{"$f":"IF(AND(ISBLANK(INDEX($G:$G,)), ISBLANK(INDEX($C:$C,))), \"\", 'PWS Records (System Entry)'!$D$3)","v":""},null,null,null,null,null,null,null,null,null,null,null,null,null,null,null,null,null,null,""]
[{"$f":"IF(AND(ISBLANK(INDEX($G:$G,)), ISBLANK(INDEX($C:$C,))), \"\", 'PWS Records (System Entry)'!$D$4)","v":""},{"$f":"IF(AND(ISBLANK(INDEX($G:$G,)), ISBLANK(INDEX($C:$C,))), \"\", 'PWS Records (System Entry)'!$D$3)","v":""},null,null,null,null,null,null,null,null,null,null,null,null,null,null,null,null,null,null,""]
[{"$f":"IF(AND(ISBLANK(INDEX($G:$G,)), ISBLANK(INDEX($C:$C,))), \"\", 'PWS Records (System Entry)'!$D$4)","v":""},{"$f":"IF(AND(ISBLANK(INDEX($G:$G,)), ISBLANK(INDEX($C:$C,))), \"\", 'PWS Records (System Entry)'!$D$3)","v":""},null,null,null,null,null,null,null,null,null,null,null,null,null,null,null,null,null,null,""]
[{"$f":"IF(AND(ISBLANK(INDEX($G:$G,)), ISBLANK(INDEX($C:$C,))), \"\", 'PWS Records (System Entry)'!$D$4)","v":""},{"$f":"IF(AND(ISBLANK(INDEX($G:$G,)), ISBLANK(INDEX($C:$C,))), \"\", 'PWS Records (System Entry)'!$D$3)","v":""},null,null,null,null,null,null,null,null,null,null,null,null,null,null,null,null,null,null,""]
[{"$f":"IF(AND(ISBLANK(INDEX($G:$G,)), ISBLANK(INDEX($C:$C,))), \"\", 'PWS Records (System Entry)'!$D$4)","v":""},{"$f":"IF(AND(ISBLANK(INDEX($G:$G,)), ISBLANK(INDEX($C:$C,))), \"\", 'PWS Records (System Entry)'!$D$3)","v":""},null,null,null,null,null,null,null,null,null,null,null,null,null,null,null,null,null,null,""]
[{"$f":"IF(AND(ISBLANK(INDEX($G:$G,)), ISBLANK(INDEX($C:$C,))), \"\", 'PWS Records (System Entry)'!$D$4)","v":""},{"$f":"IF(AND(ISBLANK(INDEX($G:$G,)), ISBLANK(INDEX($C:$C,))), \"\", 'PWS Records (System Entry)'!$D$3)","v":""},null,null,null,null,null,null,null,null,null,null,null,null,null,null,null,null,null,null,""]
[{"$f":"IF(AND(ISBLANK(INDEX($G:$G,)), ISBLANK(INDEX($C:$C,))), \"\", 'PWS Records (System Entry)'!$D$4)","v":""},{"$f":"IF(AND(ISBLANK(INDEX($G:$G,)), ISBLANK(INDEX($C:$C,))), \"\", 'PWS Records (System Entry)'!$D$3)","v":""},null,null,null,null,null,null,null,null,null,null,null,null,null,null,null,null,null,null,""]
[{"$f":"IF(AND(ISBLANK(INDEX($G:$G,)), ISBLANK(INDEX($C:$C,))), \"\", 'PWS Records (System Entry)'!$D$4)","v":""},{"$f":"IF(AND(ISBLANK(INDEX($G:$G,)), ISBLANK(INDEX($C:$C,))), \"\", 'PWS Records (System Entry)'!$D$3)","v":""},null,null,null,null,null,null,null,null,null,null,null,null,null,null,null,null,null,null,""]
[{"$f":"IF(AND(ISBLANK(INDEX($G:$G,)), ISBLANK(INDEX($C:$C,))), \"\", 'PWS Records (System Entry)'!$D$4)","v":""},{"$f":"IF(AND(ISBLANK(INDEX($G:$G,)), ISBLANK(INDEX($C:$C,))), \"\", 'PWS Records (System Entry)'!$D$3)","v":""},null,null,null,null,null,null,null,null,null,null,null,null,null,null,null,null,null,null,""]
[{"$f":"IF(AND(ISBLANK(INDEX($G:$G,)), ISBLANK(INDEX($C:$C,))), \"\", 'PWS Records (System Entry)'!$D$4)","v":""},{"$f":"IF(AND(ISBLANK(INDEX($G:$G,)), ISBLANK(INDEX($C:$C,))), \"\", 'PWS Records (System Entry)'!$D$3)","v":""},null,null,null,null,null,null,null,null,null,null,null,null,null,null,null,null,null,null,""]
[{"$f":"IF(AND(ISBLANK(INDEX($G:$G,)), ISBLANK(INDEX($C:$C,))), \"\", 'PWS Records (System Entry)'!$D$4)","v":""},{"$f":"IF(AND(ISBLANK(INDEX($G:$G,)), ISBLANK(INDEX($C:$C,))), \"\", 'PWS Records (System Entry)'!$D$3)","v":""},null,null,null,null,null,null,null,null,null,null,null,null,null,null,null,null,null,null,""]
[{"$f":"IF(AND(ISBLANK(INDEX($G:$G,)), ISBLANK(INDEX($C:$C,))), \"\", 'PWS Records (System Entry)'!$D$4)","v":""},{"$f":"IF(AND(ISBLANK(INDEX($G:$G,)), ISBLANK(INDEX($C:$C,))), \"\", 'PWS Records (System Entry)'!$D$3)","v":""},null,null,null,null,null,null,null,null,null,null,null,null,null,null,null,null,null,null,""]
[{"$f":"IF(AND(ISBLANK(INDEX($G:$G,)), ISBLANK(INDEX($C:$C,))), \"\", 'PWS Records (System Entry)'!$D$4)","v":""},{"$f":"IF(AND(ISBLANK(INDEX($G:$G,)), ISBLANK(INDEX($C:$C,))), \"\", 'PWS Records (System Entry)'!$D$3)","v":""},null,null,null,null,null,null,null,null,null,null,null,null,null,null,null,null,null,null,""]
[{"$f":"IF(AND(ISBLANK(INDEX($G:$G,)), ISBLANK(INDEX($C:$C,))), \"\", 'PWS Records (System Entry)'!$D$4)","v":""},{"$f":"IF(AND(ISBLANK(INDEX($G:$G,)), ISBLANK(INDEX($C:$C,))), \"\", 'PWS Records (System Entry)'!$D$3)","v":""},null,null,null,null,null,null,null,null,null,null,null,null,null,null,null,null,null,null,""]
[{"$f":"IF(AND(ISBLANK(INDEX($G:$G,)), ISBLANK(INDEX($C:$C,))), \"\", 'PWS Records (System Entry)'!$D$4)","v":""},{"$f":"IF(AND(ISBLANK(INDEX($G:$G,)), ISBLANK(INDEX($C:$C,))), \"\", 'PWS Records (System Entry)'!$D$3)","v":""},null,null,null,null,null,null,null,null,null,null,null,null,null,null,null,null,null,null,""]
[{"$f":"IF(AND(ISBLANK(INDEX($G:$G,)), ISBLANK(INDEX($C:$C,))), \"\", 'PWS Records (System Entry)'!$D$4)","v":""},{"$f":"IF(AND(ISBLANK(INDEX($G:$G,)), ISBLANK(INDEX($C:$C,))), \"\", 'PWS Records (System Entry)'!$D$3)","v":""},null,null,null,null,null,null,null,null,null,null,null,null,null,null,null,null,null,null,""]
[{"$f":"IF(AND(ISBLANK(INDEX($G:$G,)), ISBLANK(INDEX($C:$C,))), \"\", 'PWS Records (System Entry)'!$D$4)","v":""},{"$f":"IF(AND(ISBLANK(INDEX($G:$G,)), ISBLANK(INDEX($C:$C,))), \"\", 'PWS Records (System Entry)'!$D$3)","v":""},null,null,null,null,null,null,null,null,null,null,null,null,null,null,null,null,null,null,""]
[{"$f":"IF(AND(ISBLANK(INDEX($G:$G,)), ISBLANK(INDEX($C:$C,))), \"\", 'PWS Records (System Entry)'!$D$4)","v":""},{"$f":"IF(AND(ISBLANK(INDEX($G:$G,)), ISBLANK(INDEX($C:$C,))), \"\", 'PWS Records (System Entry)'!$D$3)","v":""},null,null,null,null,null,null,null,null,null,null,null,null,null,null,null,null,null,null,""]
[{"$f":"IF(AND(ISBLANK(INDEX($G:$G,)), ISBLANK(INDEX($C:$C,))), \"\", 'PWS Records (System Entry)'!$D$4)","v":""},{"$f":"IF(AND(ISBLANK(INDEX($G:$G,)), ISBLANK(INDEX($C:$C,))), \"\", 'PWS Records (System Entry)'!$D$3)","v":""},null,null,null,null,null,null,null,null,null,null,null,null,null,null,null,null,null,null,""]
[{"$f":"IF(AND(ISBLANK(INDEX($G:$G,)), ISBLANK(INDEX($C:$C,))), \"\", 'PWS Records (System Entry)'!$D$4)","v":""},{"$f":"IF(AND(ISBLANK(INDEX($G:$G,)), ISBLANK(INDEX($C:$C,))), \"\", 'PWS Records (System Entry)'!$D$3)","v":""},null,null,null,null,null,null,null,null,null,null,null,null,null,null,null,null,null,null,""]
[{"$f":"IF(AND(ISBLANK(INDEX($G:$G,)), ISBLANK(INDEX($C:$C,))), \"\", 'PWS Records (System Entry)'!$D$4)","v":""},{"$f":"IF(AND(ISBLANK(INDEX($G:$G,)), ISBLANK(INDEX($C:$C,))), \"\", 'PWS Records (System Entry)'!$D$3)","v":""},null,null,null,null,null,null,null,null,null,null,null,null,null,null,null,null,null,null,""]
[{"$f":"IF(AND(ISBLANK(INDEX($G:$G,)), ISBLANK(INDEX($C:$C,))), \"\", 'PWS Records (System Entry)'!$D$4)","v":""},{"$f":"IF(AND(ISBLANK(INDEX($G:$G,)), ISBLANK(INDEX($C:$C,))), \"\", 'PWS Records (System Entry)'!$D$3)","v":""},null,null,null,null,null,null,null,null,null,null,null,null,null,null,null,null,null,null,""]
[{"$f":"IF(AND(ISBLANK(INDEX($G:$G,)), ISBLANK(INDEX($C:$C,))), \"\", 'PWS Records (System Entry)'!$D$4)","v":""},{"$f":"IF(AND(ISBLANK(INDEX($G:$G,)), ISBLANK(INDEX($C:$C,))), \"\", 'PWS Records (System Entry)'!$D$3)","v":""},null,null,null,null,null,null,null,null,null,null,null,null,null,null,null,null,null,null,""]
[{"$f":"IF(AND(ISBLANK(INDEX($G:$G,)), ISBLANK(INDEX($C:$C,))), \"\", 'PWS Records (System Entry)'!$D$4)","v":""},{"$f":"IF(AND(ISBLANK(INDEX($G:$G,)), ISBLANK(INDEX($C:$C,))), \"\", 'PWS Records (System Entry)'!$D$3)","v":""},null,null,null,null,null,null,null,null,null,null,null,null,null,null,null,null,null,null,""]
[{"$f":"IF(AND(ISBLANK(INDEX($G:$G,)), ISBLANK(INDEX($C:$C,))), \"\", 'PWS Records (System Entry)'!$D$4)","v":""},{"$f":"IF(AND(ISBLANK(INDEX($G:$G,)), ISBLANK(INDEX($C:$C,))), \"\", 'PWS Records (System Entry)'!$D$3)","v":""},null,null,null,null,null,null,null,null,null,null,null,null,null,null,null,null,null,null,""]
[{"$f":"IF(AND(ISBLANK(INDEX($G:$G,)), ISBLANK(INDEX($C:$C,))), \"\", 'PWS Records (System Entry)'!$D$4)","v":""},{"$f":"IF(AND(ISBLANK(INDEX($G:$G,)), ISBLANK(INDEX($C:$C,))), \"\", 'PWS Records (System Entry)'!$D$3)","v":""},null,null,null,null,null,null,null,null,null,null,null,null,null,null,null,null,null,null,""]
[{"$f":"IF(AND(ISBLANK(INDEX($G:$G,)), ISBLANK(INDEX($C:$C,))), \"\", 'PWS Records (System Entry)'!$D$4)","v":""},{"$f":"IF(AND(ISBLANK(INDEX($G:$G,)), ISBLANK(INDEX($C:$C,))), \"\", 'PWS Records (System Entry)'!$D$3)","v":""},null,null,null,null,null,null,null,null,null,null,null,null,null,null,null,null,null,null,""]
[{"$f":"IF(AND(ISBLANK(INDEX($G:$G,)), ISBLANK(INDEX($C:$C,))), \"\", 'PWS Records (System Entry)'!$D$4)","v":""},{"$f":"IF(AND(ISBLANK(INDEX($G:$G,)), ISBLANK(INDEX($C:$C,))), \"\", 'PWS Records (System Entry)'!$D$3)","v":""},null,null,null,null,null,null,null,null,null,null,null,null,null,null,null,null,null,null,""]
[{"$f":"IF(AND(ISBLANK(INDEX($G:$G,)), ISBLANK(INDEX($C:$C,))), \"\", 'PWS Records (System Entry)'!$D$4)","v":""},{"$f":"IF(AND(ISBLANK(INDEX($G:$G,)), ISBLANK(INDEX($C:$C,))), \"\", 'PWS Records (System Entry)'!$D$3)","v":""},null,null,null,null,null,null,null,null,null,null,null,null,null,null,null,null,null,null,""]
[{"$f":"IF(AND(ISBLANK(INDEX($G:$G,)), ISBLANK(INDEX($C:$C,))), \"\", 'PWS Records (System Entry)'!$D$4)","v":""},{"$f":"IF(AND(ISBLANK(INDEX($G:$G,)), ISBLANK(INDEX($C:$C,))), \"\", 'PWS Records (System Entry)'!$D$3)","v":""},null,null,null,null,null,null,null,null,null,null,null,null,null,null,null,null,null,null,""]
[{"$f":"IF(AND(ISBLANK(INDEX($G:$G,)), ISBLANK(INDEX($C:$C,))), \"\", 'PWS Records (System Entry)'!$D$4)","v":""},{"$f":"IF(AND(ISBLANK(INDEX($G:$G,)), ISBLANK(INDEX($C:$C,))), \"\", 'PWS Records (System Entry)'!$D$3)","v":""},null,null,null,null,null,null,null,null,null,null,null,null,null,null,null,null,null,null,""]
[{"$f":"IF(AND(ISBLANK(INDEX($G:$G,)), ISBLANK(INDEX($C:$C,))), \"\", 'PWS Records (System Entry)'!$D$4)","v":""},{"$f":"IF(AND(ISBLANK(INDEX($G:$G,)), ISBLANK(INDEX($C:$C,))), \"\", 'PWS Records (System Entry)'!$D$3)","v":""},null,null,null,null,null,null,null,null,null,null,null,null,null,null,null,null,null,null,""]
[{"$f":"IF(AND(ISBLANK(INDEX($G:$G,)), ISBLANK(INDEX($C:$C,))), \"\", 'PWS Records (System Entry)'!$D$4)","v":""},{"$f":"IF(AND(ISBLANK(INDEX($G:$G,)), ISBLANK(INDEX($C:$C,))), \"\", 'PWS Records (System Entry)'!$D$3)","v":""},null,null,null,null,null,null,null,null,null,null,null,null,null,null,null,null,null,null,""]
[{"$f":"IF(AND(ISBLANK(INDEX($G:$G,)), ISBLANK(INDEX($C:$C,))), \"\", 'PWS Records (System Entry)'!$D$4)","v":""},{"$f":"IF(AND(ISBLANK(INDEX($G:$G,)), ISBLANK(INDEX($C:$C,))), \"\", 'PWS Records (System Entry)'!$D$3)","v":""},null,null,null,null,null,null,null,null,null,null,null,null,null,null,null,null,null,null,""]
[{"$f":"IF(AND(ISBLANK(INDEX($G:$G,)), ISBLANK(INDEX($C:$C,))), \"\", 'PWS Records (System Entry)'!$D$4)","v":""},{"$f":"IF(AND(ISBLANK(INDEX($G:$G,)), ISBLANK(INDEX($C:$C,))), \"\", 'PWS Records (System Entry)'!$D$3)","v":""},null,null,null,null,null,null,null,null,null,null,null,null,null,null,null,null,null,null,""]
[{"$f":"IF(AND(ISBLANK(INDEX($G:$G,)), ISBLANK(INDEX($C:$C,))), \"\", 'PWS Records (System Entry)'!$D$4)","v":""},{"$f":"IF(AND(ISBLANK(INDEX($G:$G,)), ISBLANK(INDEX($C:$C,))), \"\", 'PWS Records (System Entry)'!$D$3)","v":""},null,null,null,null,null,null,null,null,null,null,null,null,null,null,null,null,null,null,""]
[{"$f":"IF(AND(ISBLANK(INDEX($G:$G,)), ISBLANK(INDEX($C:$C,))), \"\", 'PWS Records (System Entry)'!$D$4)","v":""},{"$f":"IF(AND(ISBLANK(INDEX($G:$G,)), ISBLANK(INDEX($C:$C,))), \"\", 'PWS Records (System Entry)'!$D$3)","v":""},null,null,null,null,null,null,null,null,null,null,null,null,null,null,null,null,null,null,""]
[{"$f":"IF(AND(ISBLANK(INDEX($G:$G,)), ISBLANK(INDEX($C:$C,))), \"\", 'PWS Records (System Entry)'!$D$4)","v":""},{"$f":"IF(AND(ISBLANK(INDEX($G:$G,)), ISBLANK(INDEX($C:$C,))), \"\", 'PWS Records (System Entry)'!$D$3)","v":""},null,null,null,null,null,null,null,null,null,null,null,null,null,null,null,null,null,null,""]
[{"$f":"IF(AND(ISBLANK(INDEX($G:$G,)), ISBLANK(INDEX($C:$C,))), \"\", 'PWS Records (System Entry)'!$D$4)","v":""},{"$f":"IF(AND(ISBLANK(INDEX($G:$G,)), ISBLANK(INDEX($C:$C,))), \"\", 'PWS Records (System Entry)'!$D$3)","v":""},null,null,null,null,null,null,null,null,null,null,null,null,null,null,null,null,null,null,""]
[{"$f":"IF(AND(ISBLANK(INDEX($G:$G,)), ISBLANK(INDEX($C:$C,))), \"\", 'PWS Records (System Entry)'!$D$4)","v":""},{"$f":"IF(AND(ISBLANK(INDEX($G:$G,)), ISBLANK(INDEX($C:$C,))), \"\", 'PWS Records (System Entry)'!$D$3)","v":""},null,null,null,null,null,null,null,null,null,null,null,null,null,null,null,null,null,null,""]
[{"$f":"IF(AND(ISBLANK(INDEX($G:$G,)), ISBLANK(INDEX($C:$C,))), \"\", 'PWS Records (System Entry)'!$D$4)","v":""},{"$f":"IF(AND(ISBLANK(INDEX($G:$G,)), ISBLANK(INDEX($C:$C,))), \"\", 'PWS Records (System Entry)'!$D$3)","v":""},null,null,null,null,null,null,null,null,null,null,null,null,null,null,null,null,null,null,""]
[{"$f":"IF(AND(ISBLANK(INDEX($G:$G,)), ISBLANK(INDEX($C:$C,))), \"\", 'PWS Records (System Entry)'!$D$4)","v":""},{"$f":"IF(AND(ISBLANK(INDEX($G:$G,)), ISBLANK(INDEX($C:$C,))), \"\", 'PWS Records (System Entry)'!$D$3)","v":""},null,null,null,null,null,null,null,null,null,null,null,null,null,null,null,null,null,null,""]
[{"$f":"IF(AND(ISBLANK(INDEX($G:$G,)), ISBLANK(INDEX($C:$C,))), \"\", 'PWS Records (System Entry)'!$D$4)","v":""},{"$f":"IF(AND(ISBLANK(INDEX($G:$G,)), ISBLANK(INDEX($C:$C,))), \"\", 'PWS Records (System Entry)'!$D$3)","v":""},null,null,null,null,null,null,null,null,null,null,null,null,null,null,null,null,null,null,""]
[{"$f":"IF(AND(ISBLANK(INDEX($G:$G,)), ISBLANK(INDEX($C:$C,))), \"\", 'PWS Records (System Entry)'!$D$4)","v":""},{"$f":"IF(AND(ISBLANK(INDEX($G:$G,)), ISBLANK(INDEX($C:$C,))), \"\", 'PWS Records (System Entry)'!$D$3)","v":""},null,null,null,null,null,null,null,null,null,null,null,null,null,null,null,null,null,null,""]
[{"$f":"IF(AND(ISBLANK(INDEX($G:$G,)), ISBLANK(INDEX($C:$C,))), \"\", 'PWS Records (System Entry)'!$D$4)","v":""},{"$f":"IF(AND(ISBLANK(INDEX($G:$G,)), ISBLANK(INDEX($C:$C,))), \"\", 'PWS Records (System Entry)'!$D$3)","v":""},null,null,null,null,null,null,null,null,null,null,null,null,null,null,null,null,null,null,""]
[{"$f":"IF(AND(ISBLANK(INDEX($G:$G,)), ISBLANK(INDEX($C:$C,))), \"\", 'PWS Records (System Entry)'!$D$4)","v":""},{"$f":"IF(AND(ISBLANK(INDEX($G:$G,)), ISBLANK(INDEX($C:$C,))), \"\", 'PWS Records (System Entry)'!$D$3)","v":""},null,null,null,null,null,null,null,null,null,null,null,null,null,null,null,null,null,null,""]
[{"$f":"IF(AND(ISBLANK(INDEX($G:$G,)), ISBLANK(INDEX($C:$C,))), \"\", 'PWS Records (System Entry)'!$D$4)","v":""},{"$f":"IF(AND(ISBLANK(INDEX($G:$G,)), ISBLANK(INDEX($C:$C,))), \"\", 'PWS Records (System Entry)'!$D$3)","v":""},null,null,null,null,null,null,null,null,null,null,null,null,null,null,null,null,null,null,""]
[{"$f":"IF(AND(ISBLANK(INDEX($G:$G,)), ISBLANK(INDEX($C:$C,))), \"\", 'PWS Records (System Entry)'!$D$4)","v":""},{"$f":"IF(AND(ISBLANK(INDEX($G:$G,)), ISBLANK(INDEX($C:$C,))), \"\", 'PWS Records (System Entry)'!$D$3)","v":""},null,null,null,null,null,null,null,null,null,null,null,null,null,null,null,null,null,null,""]
[{"$f":"IF(AND(ISBLANK(INDEX($G:$G,)), ISBLANK(INDEX($C:$C,))), \"\", 'PWS Records (System Entry)'!$D$4)","v":""},{"$f":"IF(AND(ISBLANK(INDEX($G:$G,)), ISBLANK(INDEX($C:$C,))), \"\", 'PWS Records (System Entry)'!$D$3)","v":""},null,null,null,null,null,null,null,null,null,null,null,null,null,null,null,null,null,null,""]
[{"$f":"IF(AND(ISBLANK(INDEX($G:$G,)), ISBLANK(INDEX($C:$C,))), \"\", 'PWS Records (System Entry)'!$D$4)","v":""},{"$f":"IF(AND(ISBLANK(INDEX($G:$G,)), ISBLANK(INDEX($C:$C,))), \"\", 'PWS Records (System Entry)'!$D$3)","v":""},null,null,null,null,null,null,null,null,null,null,null,null,null,null,null,null,null,null,""]
[{"$f":"IF(AND(ISBLANK(INDEX($G:$G,)), ISBLANK(INDEX($C:$C,))), \"\", 'PWS Records (System Entry)'!$D$4)","v":""},{"$f":"IF(AND(ISBLANK(INDEX($G:$G,)), ISBLANK(INDEX($C:$C,))), \"\", 'PWS Records (System Entry)'!$D$3)","v":""},null,null,null,null,null,null,null,null,null,null,null,null,null,null,null,null,null,null,""]
[{"$f":"IF(AND(ISBLANK(INDEX($G:$G,)), ISBLANK(INDEX($C:$C,))), \"\", 'PWS Records (System Entry)'!$D$4)","v":""},{"$f":"IF(AND(ISBLANK(INDEX($G:$G,)), ISBLANK(INDEX($C:$C,))), \"\", 'PWS Records (System Entry)'!$D$3)","v":""},null,null,null,null,null,null,null,null,null,null,null,null,null,null,null,null,null,null,""]
[{"$f":"IF(AND(ISBLANK(INDEX($G:$G,)), ISBLANK(INDEX($C:$C,))), \"\", 'PWS Records (System Entry)'!$D$4)","v":""},{"$f":"IF(AND(ISBLANK(INDEX($G:$G,)), ISBLANK(INDEX($C:$C,))), \"\", 'PWS Records (System Entry)'!$D$3)","v":""},null,null,null,null,null,null,null,null,null,null,null,null,null,null,null,null,null,null,""]
[{"$f":"IF(AND(ISBLANK(INDEX($G:$G,)), ISBLANK(INDEX($C:$C,))), \"\", 'PWS Records (System Entry)'!$D$4)","v":""},{"$f":"IF(AND(ISBLANK(INDEX($G:$G,)), ISBLANK(INDEX($C:$C,))), \"\", 'PWS Records (System Entry)'!$D$3)","v":""},null,null,null,null,null,null,null,null,null,null,null,null,null,null,null,null,null,null,""]
[{"$f":"IF(AND(ISBLANK(INDEX($G:$G,)), ISBLANK(INDEX($C:$C,))), \"\", 'PWS Records (System Entry)'!$D$4)","v":""},{"$f":"IF(AND(ISBLANK(INDEX($G:$G,)), ISBLANK(INDEX($C:$C,))), \"\", 'PWS Records (System Entry)'!$D$3)","v":""},null,null,null,null,null,null,null,null,null,null,null,null,null,null,null,null,null,null,""]
[{"$f":"IF(AND(ISBLANK(INDEX($G:$G,)), ISBLANK(INDEX($C:$C,))), \"\", 'PWS Records (System Entry)'!$D$4)","v":""},{"$f":"IF(AND(ISBLANK(INDEX($G:$G,)), ISBLANK(INDEX($C:$C,))), \"\", 'PWS Records (System Entry)'!$D$3)","v":""},null,null,null,null,null,null,null,null,null,null,null,null,null,null,null,null,null,null,""]
[{"$f":"IF(AND(ISBLANK(INDEX($G:$G,)), ISBLANK(INDEX($C:$C,))), \"\", 'PWS Records (System Entry)'!$D$4)","v":""},{"$f":"IF(AND(ISBLANK(INDEX($G:$G,)), ISBLANK(INDEX($C:$C,))), \"\", 'PWS Records (System Entry)'!$D$3)","v":""},null,null,null,null,null,null,null,null,null,null,null,null,null,null,null,null,null,null,""]
[{"$f":"IF(AND(ISBLANK(INDEX($G:$G,)), ISBLANK(INDEX($C:$C,))), \"\", 'PWS Records (System Entry)'!$D$4)","v":""},{"$f":"IF(AND(ISBLANK(INDEX($G:$G,)), ISBLANK(INDEX($C:$C,))), \"\", 'PWS Records (System Entry)'!$D$3)","v":""},null,null,null,null,null,null,null,null,null,null,null,null,null,null,null,null,null,null,""]
[{"$f":"IF(AND(ISBLANK(INDEX($G:$G,)), ISBLANK(INDEX($C:$C,))), \"\", 'PWS Records (System Entry)'!$D$4)","v":""},{"$f":"IF(AND(ISBLANK(INDEX($G:$G,)), ISBLANK(INDEX($C:$C,))), \"\", 'PWS Records (System Entry)'!$D$3)","v":""},null,null,null,null,null,null,null,null,null,null,null,null,null,null,null,null,null,null,""]
[{"$f":"IF(AND(ISBLANK(INDEX($G:$G,)), ISBLANK(INDEX($C:$C,))), \"\", 'PWS Records (System Entry)'!$D$4)","v":""},{"$f":"IF(AND(ISBLANK(INDEX($G:$G,)), ISBLANK(INDEX($C:$C,))), \"\", 'PWS Records (System Entry)'!$D$3)","v":""},null,null,null,null,null,null,null,null,null,null,null,null,null,null,null,null,null,null,""]
[{"$f":"IF(AND(ISBLANK(INDEX($G:$G,)), ISBLANK(INDEX($C:$C,))), \"\", 'PWS Records (System Entry)'!$D$4)","v":""},{"$f":"IF(AND(ISBLANK(INDEX($G:$G,)), ISBLANK(INDEX($C:$C,))), \"\", 'PWS Records (System Entry)'!$D$3)","v":""},null,null,null,null,null,null,null,null,null,null,null,null,null,null,null,null,null,null,{"$f":"IF(AND(INDEX($K:$K,)=\"\", INDEX($L:$L,)=\"\", INDEX($M:$M,)=\"\", INDEX($Q:$Q,)=\"\", INDEX($R:$R,)=\"\"), \"\", IF(OR(INDEX($K:$K,)=\"Lead\",INDEX($Q:$Q,)=\"Lead\"),\"Lead\",IF(OR(AND(OR(INDEX($M:$M,)=\"Yes\", INDEX($M:$M,)=\"Don't Know\", INDEX($M:$M,)=\"\"), INDEX($Q:$Q,)=\"Galvanized Iron/Steel\"), AND(INDEX($K:$K,)=\"Unknown\", INDEX($M:$M,)=\"No\", INDEX($Q:$Q,)=\"Galvanized Iron/Steel\")), \"Galvanized Requiring Replacement\", IF(OR(AND(OR(INDEX($K:$K,)=\"Galvanized Iron/Steel\", INDEX($K:$K,)=\"Non-Lead - Copper\", INDEX($K:$K,)=\"Non-Lead - Plastic\", INDEX($K:$K,)=\"Non-Lead - Other\", INDEX($K:$K,)=\"Non-Lead - Material Unknown\", INDEX($K:$K,)=\"No System Owned Portion\"), OR(INDEX($Q:$Q,)=\"Galvanized Iron/Steel\", INDEX($Q:$Q,)=\"Non-Lead - Copper\", INDEX($Q:$Q,)=\"Non-Lead - Plastic\", INDEX($Q:$Q,)=\"Non-Lead - Other\", INDEX($Q:$Q,)=\"Non-Lead - Predictive Model\", INDEX($Q:$Q,)=\"No Customer Owned Portion\")), AND(OR( INDEX($K:$K,)=\"Galvanized Iron/Steel\", INDEX($K:$K,)=\"Non-Lead - Copper\", INDEX($K:$K,)=\"Non-Lead - Plastic\", INDEX($K:$K,)=\"Non-Lead - Other\", INDEX($K:$K,)=\"Non-Lead - Material Unknown\", INDEX($K:$K,)=\"No System Owned Portion\"), INDEX($M:$M,)=\"No\", INDEX($Q:$Q,)=\"Non-Lead - Material Unknown\")), \"Non-Lead\", \"Lead Status Unknown\"))))","v":""}]
[{"$f":"IF(AND(ISBLANK(INDEX($G:$G,)), ISBLANK(INDEX($C:$C,))), \"\", 'PWS Records (System Entry)'!$D$4)","v":""},{"$f":"IF(AND(ISBLANK(INDEX($G:$G,)), ISBLANK(INDEX($C:$C,))), \"\", 'PWS Records (System Entry)'!$D$3)","v":""},null,null,null,null,null,null,null,null,null,null,null,null,null,null,null,null,null,null,""]
[{"$f":"IF(AND(ISBLANK(INDEX($G:$G,)), ISBLANK(INDEX($C:$C,))), \"\", 'PWS Records (System Entry)'!$D$4)","v":""},{"$f":"IF(AND(ISBLANK(INDEX($G:$G,)), ISBLANK(INDEX($C:$C,))), \"\", 'PWS Records (System Entry)'!$D$3)","v":""},null,null,null,null,null,null,null,null,null,null,null,null,null,null,null,null,null,null,""]
[{"$f":"IF(AND(ISBLANK(INDEX($G:$G,)), ISBLANK(INDEX($C:$C,))), \"\", 'PWS Records (System Entry)'!$D$4)","v":""},{"$f":"IF(AND(ISBLANK(INDEX($G:$G,)), ISBLANK(INDEX($C:$C,))), \"\", 'PWS Records (System Entry)'!$D$3)","v":""},null,null,null,null,null,null,null,null,null,null,null,null,null,null,null,null,null,null,""]
[{"$f":"IF(AND(ISBLANK(INDEX($G:$G,)), ISBLANK(INDEX($C:$C,))), \"\", 'PWS Records (System Entry)'!$D$4)","v":""},{"$f":"IF(AND(ISBLANK(INDEX($G:$G,)), ISBLANK(INDEX($C:$C,))), \"\", 'PWS Records (System Entry)'!$D$3)","v":""},null,null,null,null,null,null,null,null,null,null,null,null,null,null,null,null,null,null,""]
[{"$f":"IF(AND(ISBLANK(INDEX($G:$G,)), ISBLANK(INDEX($C:$C,))), \"\", 'PWS Records (System Entry)'!$D$4)","v":""},{"$f":"IF(AND(ISBLANK(INDEX($G:$G,)), ISBLANK(INDEX($C:$C,))), \"\", 'PWS Records (System Entry)'!$D$3)","v":""},null,null,null,null,null,null,null,null,null,null,null,null,null,null,null,null,null,null,""]
[{"$f":"IF(AND(ISBLANK(INDEX($G:$G,)), ISBLANK(INDEX($C:$C,))), \"\", 'PWS Records (System Entry)'!$D$4)","v":""},{"$f":"IF(AND(ISBLANK(INDEX($G:$G,)), ISBLANK(INDEX($C:$C,))), \"\", 'PWS Records (System Entry)'!$D$3)","v":""},null,null,null,null,null,null,null,null,null,null,null,null,null,null,null,null,null,null,""]
[{"$f":"IF(AND(ISBLANK(INDEX($G:$G,)), ISBLANK(INDEX($C:$C,))), \"\", 'PWS Records (System Entry)'!$D$4)","v":""},{"$f":"IF(AND(ISBLANK(INDEX($G:$G,)), ISBLANK(INDEX($C:$C,))), \"\", 'PWS Records (System Entry)'!$D$3)","v":""},null,null,null,null,null,null,null,null,null,null,null,null,null,null,null,null,null,null,""]
[{"$f":"IF(AND(ISBLANK(INDEX($G:$G,)), ISBLANK(INDEX($C:$C,))), \"\", 'PWS Records (System Entry)'!$D$4)","v":""},{"$f":"IF(AND(ISBLANK(INDEX($G:$G,)), ISBLANK(INDEX($C:$C,))), \"\", 'PWS Records (System Entry)'!$D$3)","v":""},null,null,null,null,null,null,null,null,null,null,null,null,null,null,null,null,null,null,""]
[{"$f":"IF(AND(ISBLANK(INDEX($G:$G,)), ISBLANK(INDEX($C:$C,))), \"\", 'PWS Records (System Entry)'!$D$4)","v":""},{"$f":"IF(AND(ISBLANK(INDEX($G:$G,)), ISBLANK(INDEX($C:$C,))), \"\", 'PWS Records (System Entry)'!$D$3)","v":""},null,null,null,null,null,null,null,null,null,null,null,null,null,null,null,null,null,null,""]
[{"$f":"IF(AND(ISBLANK(INDEX($G:$G,)), ISBLANK(INDEX($C:$C,))), \"\", 'PWS Records (System Entry)'!$D$4)","v":""},{"$f":"IF(AND(ISBLANK(INDEX($G:$G,)), ISBLANK(INDEX($C:$C,))), \"\", 'PWS Records (System Entry)'!$D$3)","v":""},null,null,null,null,null,null,null,null,null,null,null,null,null,null,null,null,null,null,""]
[{"$f":"IF(AND(ISBLANK(INDEX($G:$G,)), ISBLANK(INDEX($C:$C,))), \"\", 'PWS Records (System Entry)'!$D$4)","v":""},{"$f":"IF(AND(ISBLANK(INDEX($G:$G,)), ISBLANK(INDEX($C:$C,))), \"\", 'PWS Records (System Entry)'!$D$3)","v":""},null,null,null,null,null,null,null,null,null,null,null,null,null,null,null,null,null,null,""]
[{"$f":"IF(AND(ISBLANK(INDEX($G:$G,)), ISBLANK(INDEX($C:$C,))), \"\", 'PWS Records (System Entry)'!$D$4)","v":""},{"$f":"IF(AND(ISBLANK(INDEX($G:$G,)), ISBLANK(INDEX($C:$C,))), \"\", 'PWS Records (System Entry)'!$D$3)","v":""},null,null,null,null,null,null,null,null,null,null,null,null,null,null,null,null,null,null,""]
[{"$f":"IF(AND(ISBLANK(INDEX($G:$G,)), ISBLANK(INDEX($C:$C,))), \"\", 'PWS Records (System Entry)'!$D$4)","v":""},{"$f":"IF(AND(ISBLANK(INDEX($G:$G,)), ISBLANK(INDEX($C:$C,))), \"\", 'PWS Records (System Entry)'!$D$3)","v":""},null,null,null,null,null,null,null,null,null,null,null,null,null,null,null,null,null,null,""]
[{"$f":"IF(AND(ISBLANK(INDEX($G:$G,)), ISBLANK(INDEX($C:$C,))), \"\", 'PWS Records (System Entry)'!$D$4)","v":""},{"$f":"IF(AND(ISBLANK(INDEX($G:$G,)), ISBLANK(INDEX($C:$C,))), \"\", 'PWS Records (System Entry)'!$D$3)","v":""},null,null,null,null,null,null,null,null,null,null,null,null,null,null,null,null,null,null,""]
[{"$f":"IF(AND(ISBLANK(INDEX($G:$G,)), ISBLANK(INDEX($C:$C,))), \"\", 'PWS Records (System Entry)'!$D$4)","v":""},{"$f":"IF(AND(ISBLANK(INDEX($G:$G,)), ISBLANK(INDEX($C:$C,))), \"\", 'PWS Records (System Entry)'!$D$3)","v":""},null,null,null,null,null,null,null,null,null,null,null,null,null,null,null,null,null,null,""]
[{"$f":"IF(AND(ISBLANK(INDEX($G:$G,)), ISBLANK(INDEX($C:$C,))), \"\", 'PWS Records (System Entry)'!$D$4)","v":""},{"$f":"IF(AND(ISBLANK(INDEX($G:$G,)), ISBLANK(INDEX($C:$C,))), \"\", 'PWS Records (System Entry)'!$D$3)","v":""},null,null,null,null,null,null,null,null,null,null,null,null,null,null,null,null,null,null,""]
[{"$f":"IF(AND(ISBLANK(INDEX($G:$G,)), ISBLANK(INDEX($C:$C,))), \"\", 'PWS Records (System Entry)'!$D$4)","v":""},{"$f":"IF(AND(ISBLANK(INDEX($G:$G,)), ISBLANK(INDEX($C:$C,))), \"\", 'PWS Records (System Entry)'!$D$3)","v":""},null,null,null,null,null,null,null,null,null,null,null,null,null,null,null,null,null,null,""]
[{"$f":"IF(AND(ISBLANK(INDEX($G:$G,)), ISBLANK(INDEX($C:$C,))), \"\", 'PWS Records (System Entry)'!$D$4)","v":""},{"$f":"IF(AND(ISBLANK(INDEX($G:$G,)), ISBLANK(INDEX($C:$C,))), \"\", 'PWS Records (System Entry)'!$D$3)","v":""},null,null,null,null,null,null,null,null,null,null,null,null,null,null,null,null,null,null,""]
[{"$f":"IF(AND(ISBLANK(INDEX($G:$G,)), ISBLANK(INDEX($C:$C,))), \"\", 'PWS Records (System Entry)'!$D$4)","v":""},{"$f":"IF(AND(ISBLANK(INDEX($G:$G,)), ISBLANK(INDEX($C:$C,))), \"\", 'PWS Records (System Entry)'!$D$3)","v":""},null,null,null,null,null,null,null,null,null,null,null,null,null,null,null,null,null,null,""]
[{"$f":"IF(AND(ISBLANK(INDEX($G:$G,)), ISBLANK(INDEX($C:$C,))), \"\", 'PWS Records (System Entry)'!$D$4)","v":""},{"$f":"IF(AND(ISBLANK(INDEX($G:$G,)), ISBLANK(INDEX($C:$C,))), \"\", 'PWS Records (System Entry)'!$D$3)","v":""},null,null,null,null,null,null,null,null,null,null,null,null,null,null,null,null,null,null,""]
[{"$f":"IF(AND(ISBLANK(INDEX($G:$G,)), ISBLANK(INDEX($C:$C,))), \"\", 'PWS Records (System Entry)'!$D$4)","v":""},{"$f":"IF(AND(ISBLANK(INDEX($G:$G,)), ISBLANK(INDEX($C:$C,))), \"\", 'PWS Records (System Entry)'!$D$3)","v":""},null,null,null,null,null,null,null,null,null,null,null,null,null,null,null,null,null,null,""]
[{"$f":"IF(AND(ISBLANK(INDEX($G:$G,)), ISBLANK(INDEX($C:$C,))), \"\", 'PWS Records (System Entry)'!$D$4)","v":""},{"$f":"IF(AND(ISBLANK(INDEX($G:$G,)), ISBLANK(INDEX($C:$C,))), \"\", 'PWS Records (System Entry)'!$D$3)","v":""},null,null,null,null,null,null,null,null,null,null,null,null,null,null,null,null,null,null,""]
[{"$f":"IF(AND(ISBLANK(INDEX($G:$G,)), ISBLANK(INDEX($C:$C,))), \"\", 'PWS Records (System Entry)'!$D$4)","v":""},{"$f":"IF(AND(ISBLANK(INDEX($G:$G,)), ISBLANK(INDEX($C:$C,))), \"\", 'PWS Records (System Entry)'!$D$3)","v":""},null,null,null,null,null,null,null,null,null,null,null,null,null,null,null,null,null,null,""]
[{"$f":"IF(AND(ISBLANK(INDEX($G:$G,)), ISBLANK(INDEX($C:$C,))), \"\", 'PWS Records (System Entry)'!$D$4)","v":""},{"$f":"IF(AND(ISBLANK(INDEX($G:$G,)), ISBLANK(INDEX($C:$C,))), \"\", 'PWS Records (System Entry)'!$D$3)","v":""},null,null,null,null,null,null,null,null,null,null,null,null,null,null,null,null,null,null,""]
[{"$f":"IF(AND(ISBLANK(INDEX($G:$G,)), ISBLANK(INDEX($C:$C,))), \"\", 'PWS Records (System Entry)'!$D$4)","v":""},{"$f":"IF(AND(ISBLANK(INDEX($G:$G,)), ISBLANK(INDEX($C:$C,))), \"\", 'PWS Records (System Entry)'!$D$3)","v":""},null,null,null,null,null,null,null,null,null,null,null,null,null,null,null,null,null,null,""]
[{"$f":"IF(AND(ISBLANK(INDEX($G:$G,)), ISBLANK(INDEX($C:$C,))), \"\", 'PWS Records (System Entry)'!$D$4)","v":""},{"$f":"IF(AND(ISBLANK(INDEX($G:$G,)), ISBLANK(INDEX($C:$C,))), \"\", 'PWS Records (System Entry)'!$D$3)","v":""},null,null,null,null,null,null,null,null,null,null,null,null,null,null,null,null,null,null,""]
[{"$f":"IF(AND(ISBLANK(INDEX($G:$G,)), ISBLANK(INDEX($C:$C,))), \"\", 'PWS Records (System Entry)'!$D$4)","v":""},{"$f":"IF(AND(ISBLANK(INDEX($G:$G,)), ISBLANK(INDEX($C:$C,))), \"\", 'PWS Records (System Entry)'!$D$3)","v":""},null,null,null,null,null,null,null,null,null,null,null,null,null,null,null,null,null,null,""]
[{"$f":"IF(AND(ISBLANK(INDEX($G:$G,)), ISBLANK(INDEX($C:$C,))), \"\", 'PWS Records (System Entry)'!$D$4)","v":""},{"$f":"IF(AND(ISBLANK(INDEX($G:$G,)), ISBLANK(INDEX($C:$C,))), \"\", 'PWS Records (System Entry)'!$D$3)","v":""},null,null,null,null,null,null,null,null,null,null,null,null,null,null,null,null,null,null,""]
[{"$f":"IF(AND(ISBLANK(INDEX($G:$G,)), ISBLANK(INDEX($C:$C,))), \"\", 'PWS Records (System Entry)'!$D$4)","v":""},{"$f":"IF(AND(ISBLANK(INDEX($G:$G,)), ISBLANK(INDEX($C:$C,))), \"\", 'PWS Records (System Entry)'!$D$3)","v":""},null,null,null,null,null,null,null,null,null,null,null,null,null,null,null,null,null,null,""]
[{"$f":"IF(AND(ISBLANK(INDEX($G:$G,)), ISBLANK(INDEX($C:$C,))), \"\", 'PWS Records (System Entry)'!$D$4)","v":""},{"$f":"IF(AND(ISBLANK(INDEX($G:$G,)), ISBLANK(INDEX($C:$C,))), \"\", 'PWS Records (System Entry)'!$D$3)","v":""},null,null,null,null,null,null,null,null,null,null,null,null,null,null,null,null,null,null,""]
[{"$f":"IF(AND(ISBLANK(INDEX($G:$G,)), ISBLANK(INDEX($C:$C,))), \"\", 'PWS Records (System Entry)'!$D$4)","v":""},{"$f":"IF(AND(ISBLANK(INDEX($G:$G,)), ISBLANK(INDEX($C:$C,))), \"\", 'PWS Records (System Entry)'!$D$3)","v":""},null,null,null,null,null,null,null,null,null,null,null,null,null,null,null,null,null,null,""]
[{"$f":"IF(AND(ISBLANK(INDEX($G:$G,)), ISBLANK(INDEX($C:$C,))), \"\", 'PWS Records (System Entry)'!$D$4)","v":""},{"$f":"IF(AND(ISBLANK(INDEX($G:$G,)), ISBLANK(INDEX($C:$C,))), \"\", 'PWS Records (System Entry)'!$D$3)","v":""},null,null,null,null,null,null,null,null,null,null,null,null,null,null,null,null,null,null,""]
[{"$f":"IF(AND(ISBLANK(INDEX($G:$G,)), ISBLANK(INDEX($C:$C,))), \"\", 'PWS Records (System Entry)'!$D$4)","v":""},{"$f":"IF(AND(ISBLANK(INDEX($G:$G,)), ISBLANK(INDEX($C:$C,))), \"\", 'PWS Records (System Entry)'!$D$3)","v":""},null,null,null,null,null,null,null,null,null,null,null,null,null,null,null,null,null,null,""]
[{"$f":"IF(AND(ISBLANK(INDEX($G:$G,)), ISBLANK(INDEX($C:$C,))), \"\", 'PWS Records (System Entry)'!$D$4)","v":""},{"$f":"IF(AND(ISBLANK(INDEX($G:$G,)), ISBLANK(INDEX($C:$C,))), \"\", 'PWS Records (System Entry)'!$D$3)","v":""},null,null,null,null,null,null,null,null,null,null,null,null,null,null,null,null,null,null,""]
[{"$f":"IF(AND(ISBLANK(INDEX($G:$G,)), ISBLANK(INDEX($C:$C,))), \"\", 'PWS Records (System Entry)'!$D$4)","v":""},{"$f":"IF(AND(ISBLANK(INDEX($G:$G,)), ISBLANK(INDEX($C:$C,))), \"\", 'PWS Records (System Entry)'!$D$3)","v":""},null,null,null,null,null,null,null,null,null,null,null,null,null,null,null,null,null,null,""]
[{"$f":"IF(AND(ISBLANK(INDEX($G:$G,)), ISBLANK(INDEX($C:$C,))), \"\", 'PWS Records (System Entry)'!$D$4)","v":""},{"$f":"IF(AND(ISBLANK(INDEX($G:$G,)), ISBLANK(INDEX($C:$C,))), \"\", 'PWS Records (System Entry)'!$D$3)","v":""},null,null,null,null,null,null,null,null,null,null,null,null,null,null,null,null,null,null,""]
[{"$f":"IF(AND(ISBLANK(INDEX($G:$G,)), ISBLANK(INDEX($C:$C,))), \"\", 'PWS Records (System Entry)'!$D$4)","v":""},{"$f":"IF(AND(ISBLANK(INDEX($G:$G,)), ISBLANK(INDEX($C:$C,))), \"\", 'PWS Records (System Entry)'!$D$3)","v":""},null,null,null,null,null,null,null,null,null,null,null,null,null,null,null,null,null,null,""]
[{"$f":"IF(AND(ISBLANK(INDEX($G:$G,)), ISBLANK(INDEX($C:$C,))), \"\", 'PWS Records (System Entry)'!$D$4)","v":""},{"$f":"IF(AND(ISBLANK(INDEX($G:$G,)), ISBLANK(INDEX($C:$C,))), \"\", 'PWS Records (System Entry)'!$D$3)","v":""},null,null,null,null,null,null,null,null,null,null,null,null,null,null,null,null,null,null,""]
[{"$f":"IF(AND(ISBLANK(INDEX($G:$G,)), ISBLANK(INDEX($C:$C,))), \"\", 'PWS Records (System Entry)'!$D$4)","v":""},{"$f":"IF(AND(ISBLANK(INDEX($G:$G,)), ISBLANK(INDEX($C:$C,))), \"\", 'PWS Records (System Entry)'!$D$3)","v":""},null,null,null,null,null,null,null,null,null,null,null,null,null,null,null,null,null,null,""]
[{"$f":"IF(AND(ISBLANK(INDEX($G:$G,)), ISBLANK(INDEX($C:$C,))), \"\", 'PWS Records (System Entry)'!$D$4)","v":""},{"$f":"IF(AND(ISBLANK(INDEX($G:$G,)), ISBLANK(INDEX($C:$C,))), \"\", 'PWS Records (System Entry)'!$D$3)","v":""},null,null,null,null,null,null,null,null,null,null,null,null,null,null,null,null,null,null,""]
[{"$f":"IF(AND(ISBLANK(INDEX($G:$G,)), ISBLANK(INDEX($C:$C,))), \"\", 'PWS Records (System Entry)'!$D$4)","v":""},{"$f":"IF(AND(ISBLANK(INDEX($G:$G,)), ISBLANK(INDEX($C:$C,))), \"\", 'PWS Records (System Entry)'!$D$3)","v":""},null,null,null,null,null,null,null,null,null,null,null,null,null,null,null,null,null,null,""]
[{"$f":"IF(AND(ISBLANK(INDEX($G:$G,)), ISBLANK(INDEX($C:$C,))), \"\", 'PWS Records (System Entry)'!$D$4)","v":""},{"$f":"IF(AND(ISBLANK(INDEX($G:$G,)), ISBLANK(INDEX($C:$C,))), \"\", 'PWS Records (System Entry)'!$D$3)","v":""},null,null,null,null,null,null,null,null,null,null,null,null,null,null,null,null,null,null,""]
[{"$f":"IF(AND(ISBLANK(INDEX($G:$G,)), ISBLANK(INDEX($C:$C,))), \"\", 'PWS Records (System Entry)'!$D$4)","v":""},{"$f":"IF(AND(ISBLANK(INDEX($G:$G,)), ISBLANK(INDEX($C:$C,))), \"\", 'PWS Records (System Entry)'!$D$3)","v":""},null,null,null,null,null,null,null,null,null,null,null,null,null,null,null,null,null,null,""]
[{"$f":"IF(AND(ISBLANK(INDEX($G:$G,)), ISBLANK(INDEX($C:$C,))), \"\", 'PWS Records (System Entry)'!$D$4)","v":""},{"$f":"IF(AND(ISBLANK(INDEX($G:$G,)), ISBLANK(INDEX($C:$C,))), \"\", 'PWS Records (System Entry)'!$D$3)","v":""},null,null,null,null,null,null,null,null,null,null,null,null,null,null,null,null,null,null,""]
[{"$f":"IF(AND(ISBLANK(INDEX($G:$G,)), ISBLANK(INDEX($C:$C,))), \"\", 'PWS Records (System Entry)'!$D$4)","v":""},{"$f":"IF(AND(ISBLANK(INDEX($G:$G,)), ISBLANK(INDEX($C:$C,))), \"\", 'PWS Records (System Entry)'!$D$3)","v":""},null,null,null,null,null,null,null,null,null,null,null,null,null,null,null,null,null,null,""]
[{"$f":"IF(AND(ISBLANK(INDEX($G:$G,)), ISBLANK(INDEX($C:$C,))), \"\", 'PWS Records (System Entry)'!$D$4)","v":""},{"$f":"IF(AND(ISBLANK(INDEX($G:$G,)), ISBLANK(INDEX($C:$C,))), \"\", 'PWS Records (System Entry)'!$D$3)","v":""},null,null,null,null,null,null,null,null,null,null,null,null,null,null,null,null,null,null,""]
[{"$f":"IF(AND(ISBLANK(INDEX($G:$G,)), ISBLANK(INDEX($C:$C,))), \"\", 'PWS Records (System Entry)'!$D$4)","v":""},{"$f":"IF(AND(ISBLANK(INDEX($G:$G,)), ISBLANK(INDEX($C:$C,))), \"\", 'PWS Records (System Entry)'!$D$3)","v":""},null,null,null,null,null,null,null,null,null,null,null,null,null,null,null,null,null,null,""]
[{"$f":"IF(AND(ISBLANK(INDEX($G:$G,)), ISBLANK(INDEX($C:$C,))), \"\", 'PWS Records (System Entry)'!$D$4)","v":""},{"$f":"IF(AND(ISBLANK(INDEX($G:$G,)), ISBLANK(INDEX($C:$C,))), \"\", 'PWS Records (System Entry)'!$D$3)","v":""},null,null,null,null,null,null,null,null,null,null,null,null,null,null,null,null,null,null,""]
[{"$f":"IF(AND(ISBLANK(INDEX($G:$G,)), ISBLANK(INDEX($C:$C,))), \"\", 'PWS Records (System Entry)'!$D$4)","v":""},{"$f":"IF(AND(ISBLANK(INDEX($G:$G,)), ISBLANK(INDEX($C:$C,))), \"\", 'PWS Records (System Entry)'!$D$3)","v":""},null,null,null,null,null,null,null,null,null,null,null,null,null,null,null,null,null,null,""]
[{"$f":"IF(AND(ISBLANK(INDEX($G:$G,)), ISBLANK(INDEX($C:$C,))), \"\", 'PWS Records (System Entry)'!$D$4)","v":""},{"$f":"IF(AND(ISBLANK(INDEX($G:$G,)), ISBLANK(INDEX($C:$C,))), \"\", 'PWS Records (System Entry)'!$D$3)","v":""},null,null,null,null,null,null,null,null,null,null,null,null,null,null,null,null,null,null,""]
[{"$f":"IF(AND(ISBLANK(INDEX($G:$G,)), ISBLANK(INDEX($C:$C,))), \"\", 'PWS Records (System Entry)'!$D$4)","v":""},{"$f":"IF(AND(ISBLANK(INDEX($G:$G,)), ISBLANK(INDEX($C:$C,))), \"\", 'PWS Records (System Entry)'!$D$3)","v":""},null,null,null,null,null,null,null,null,null,null,null,null,null,null,null,null,null,null,""]
[{"$f":"IF(AND(ISBLANK(INDEX($G:$G,)), ISBLANK(INDEX($C:$C,))), \"\", 'PWS Records (System Entry)'!$D$4)","v":""},{"$f":"IF(AND(ISBLANK(INDEX($G:$G,)), ISBLANK(INDEX($C:$C,))), \"\", 'PWS Records (System Entry)'!$D$3)","v":""},null,null,null,null,null,null,null,null,null,null,null,null,null,null,null,null,null,null,""]
[{"$f":"IF(AND(ISBLANK(INDEX($G:$G,)), ISBLANK(INDEX($C:$C,))), \"\", 'PWS Records (System Entry)'!$D$4)","v":""},{"$f":"IF(AND(ISBLANK(INDEX($G:$G,)), ISBLANK(INDEX($C:$C,))), \"\", 'PWS Records (System Entry)'!$D$3)","v":""},null,null,null,null,null,null,null,null,null,null,null,null,null,null,null,null,null,null,""]
[{"$f":"IF(AND(ISBLANK(INDEX($G:$G,)), ISBLANK(INDEX($C:$C,))), \"\", 'PWS Records (System Entry)'!$D$4)","v":""},{"$f":"IF(AND(ISBLANK(INDEX($G:$G,)), ISBLANK(INDEX($C:$C,))), \"\", 'PWS Records (System Entry)'!$D$3)","v":""},null,null,null,null,null,null,null,null,null,null,null,null,null,null,null,null,null,null,""]
[{"$f":"IF(AND(ISBLANK(INDEX($G:$G,)), ISBLANK(INDEX($C:$C,))), \"\", 'PWS Records (System Entry)'!$D$4)","v":""},{"$f":"IF(AND(ISBLANK(INDEX($G:$G,)), ISBLANK(INDEX($C:$C,))), \"\", 'PWS Records (System Entry)'!$D$3)","v":""},null,null,null,null,null,null,null,null,null,null,null,null,null,null,null,null,null,null,""]
[{"$f":"IF(AND(ISBLANK(INDEX($G:$G,)), ISBLANK(INDEX($C:$C,))), \"\", 'PWS Records (System Entry)'!$D$4)","v":""},{"$f":"IF(AND(ISBLANK(INDEX($G:$G,)), ISBLANK(INDEX($C:$C,))), \"\", 'PWS Records (System Entry)'!$D$3)","v":""},null,null,null,null,null,null,null,null,null,null,null,null,null,null,null,null,null,null,""]
[{"$f":"IF(AND(ISBLANK(INDEX($G:$G,)), ISBLANK(INDEX($C:$C,))), \"\", 'PWS Records (System Entry)'!$D$4)","v":""},{"$f":"IF(AND(ISBLANK(INDEX($G:$G,)), ISBLANK(INDEX($C:$C,))), \"\", 'PWS Records (System Entry)'!$D$3)","v":""},null,null,null,null,null,null,null,null,null,null,null,null,null,null,null,null,null,null,""]
[{"$f":"IF(AND(ISBLANK(INDEX($G:$G,)), ISBLANK(INDEX($C:$C,))), \"\", 'PWS Records (System Entry)'!$D$4)","v":""},{"$f":"IF(AND(ISBLANK(INDEX($G:$G,)), ISBLANK(INDEX($C:$C,))), \"\", 'PWS Records (System Entry)'!$D$3)","v":""},null,null,null,null,null,null,null,null,null,null,null,null,null,null,null,null,null,null,""]
[{"$f":"IF(AND(ISBLANK(INDEX($G:$G,)), ISBLANK(INDEX($C:$C,))), \"\", 'PWS Records (System Entry)'!$D$4)","v":""},{"$f":"IF(AND(ISBLANK(INDEX($G:$G,)), ISBLANK(INDEX($C:$C,))), \"\", 'PWS Records (System Entry)'!$D$3)","v":""},null,null,null,null,null,null,null,null,null,null,null,null,null,null,null,null,null,null,""]
[{"$f":"IF(AND(ISBLANK(INDEX($G:$G,)), ISBLANK(INDEX($C:$C,))), \"\", 'PWS Records (System Entry)'!$D$4)","v":""},{"$f":"IF(AND(ISBLANK(INDEX($G:$G,)), ISBLANK(INDEX($C:$C,))), \"\", 'PWS Records (System Entry)'!$D$3)","v":""},null,null,null,null,null,null,null,null,null,null,null,null,null,null,null,null,null,null,""]
[{"$f":"IF(AND(ISBLANK(INDEX($G:$G,)), ISBLANK(INDEX($C:$C,))), \"\", 'PWS Records (System Entry)'!$D$4)","v":""},{"$f":"IF(AND(ISBLANK(INDEX($G:$G,)), ISBLANK(INDEX($C:$C,))), \"\", 'PWS Records (System Entry)'!$D$3)","v":""},null,null,null,null,null,null,null,null,null,null,null,null,null,null,null,null,null,null,""]
[{"$f":"IF(AND(ISBLANK(INDEX($G:$G,)), ISBLANK(INDEX($C:$C,))), \"\", 'PWS Records (System Entry)'!$D$4)","v":""},{"$f":"IF(AND(ISBLANK(INDEX($G:$G,)), ISBLANK(INDEX($C:$C,))), \"\", 'PWS Records (System Entry)'!$D$3)","v":""},null,null,null,null,null,null,null,null,null,null,null,null,null,null,null,null,null,null,""]
[{"$f":"IF(AND(ISBLANK(INDEX($G:$G,)), ISBLANK(INDEX($C:$C,))), \"\", 'PWS Records (System Entry)'!$D$4)","v":""},{"$f":"IF(AND(ISBLANK(INDEX($G:$G,)), ISBLANK(INDEX($C:$C,))), \"\", 'PWS Records (System Entry)'!$D$3)","v":""},null,null,null,null,null,null,null,null,null,null,null,null,null,null,null,null,null,null,""]
[{"$f":"IF(AND(ISBLANK(INDEX($G:$G,)), ISBLANK(INDEX($C:$C,))), \"\", 'PWS Records (System Entry)'!$D$4)","v":""},{"$f":"IF(AND(ISBLANK(INDEX($G:$G,)), ISBLANK(INDEX($C:$C,))), \"\", 'PWS Records (System Entry)'!$D$3)","v":""},null,null,null,null,null,null,null,null,null,null,null,null,null,null,null,null,null,null,""]
[{"$f":"IF(AND(ISBLANK(INDEX($G:$G,)), ISBLANK(INDEX($C:$C,))), \"\", 'PWS Records (System Entry)'!$D$4)","v":""},{"$f":"IF(AND(ISBLANK(INDEX($G:$G,)), ISBLANK(INDEX($C:$C,))), \"\", 'PWS Records (System Entry)'!$D$3)","v":""},null,null,null,null,null,null,null,null,null,null,null,null,null,null,null,null,null,null,""]
[{"$f":"IF(AND(ISBLANK(INDEX($G:$G,)), ISBLANK(INDEX($C:$C,))), \"\", 'PWS Records (System Entry)'!$D$4)","v":""},{"$f":"IF(AND(ISBLANK(INDEX($G:$G,)), ISBLANK(INDEX($C:$C,))), \"\", 'PWS Records (System Entry)'!$D$3)","v":""},null,null,null,null,null,null,null,null,null,null,null,null,null,null,null,null,null,null,""]
[{"$f":"IF(AND(ISBLANK(INDEX($G:$G,)), ISBLANK(INDEX($C:$C,))), \"\", 'PWS Records (System Entry)'!$D$4)","v":""},{"$f":"IF(AND(ISBLANK(INDEX($G:$G,)), ISBLANK(INDEX($C:$C,))), \"\", 'PWS Records (System Entry)'!$D$3)","v":""},null,null,null,null,null,null,null,null,null,null,null,null,null,null,null,null,null,null,""]
[{"$f":"IF(AND(ISBLANK(INDEX($G:$G,)), ISBLANK(INDEX($C:$C,))), \"\", 'PWS Records (System Entry)'!$D$4)","v":""},{"$f":"IF(AND(ISBLANK(INDEX($G:$G,)), ISBLANK(INDEX($C:$C,))), \"\", 'PWS Records (System Entry)'!$D$3)","v":""},null,null,null,null,null,null,null,null,null,null,null,null,null,null,null,null,null,null,""]
[{"$f":"IF(AND(ISBLANK(INDEX($G:$G,)), ISBLANK(INDEX($C:$C,))), \"\", 'PWS Records (System Entry)'!$D$4)","v":""},{"$f":"IF(AND(ISBLANK(INDEX($G:$G,)), ISBLANK(INDEX($C:$C,))), \"\", 'PWS Records (System Entry)'!$D$3)","v":""},null,null,null,null,null,null,null,null,null,null,null,null,null,null,null,null,null,null,{"$f":"IF(AND(INDEX($K:$K,)=\"\", INDEX($L:$L,)=\"\", INDEX($M:$M,)=\"\", INDEX($Q:$Q,)=\"\", INDEX($R:$R,)=\"\"), \"\", IF(OR(INDEX($K:$K,)=\"Lead\",INDEX($Q:$Q,)=\"Lead\"),\"Lead\",IF(OR(AND(OR(INDEX($M:$M,)=\"Yes\", INDEX($M:$M,)=\"Don't Know\", INDEX($M:$M,)=\"\"), INDEX($Q:$Q,)=\"Galvanized Iron/Steel\"), AND(INDEX($K:$K,)=\"Unknown\", INDEX($M:$M,)=\"No\", INDEX($Q:$Q,)=\"Galvanized Iron/Steel\")), \"Galvanized Requiring Replacement\", IF(OR(AND(OR(INDEX($K:$K,)=\"Galvanized Iron/Steel\", INDEX($K:$K,)=\"Non-Lead - Copper\", INDEX($K:$K,)=\"Non-Lead - Plastic\", INDEX($K:$K,)=\"Non-Lead - Other\", INDEX($K:$K,)=\"Non-Lead - Material Unknown\", INDEX($K:$K,)=\"No System Owned Portion\"), OR(INDEX($Q:$Q,)=\"Galvanized Iron/Steel\", INDEX($Q:$Q,)=\"Non-Lead - Copper\", INDEX($Q:$Q,)=\"Non-Lead - Plastic\", INDEX($Q:$Q,)=\"Non-Lead - Other\", INDEX($Q:$Q,)=\"Non-Lead - Predictive Model\", INDEX($Q:$Q,)=\"No Customer Owned Portion\")), AND(OR( INDEX($K:$K,)=\"Galvanized Iron/Steel\", INDEX($K:$K,)=\"Non-Lead - Copper\", INDEX($K:$K,)=\"Non-Lead - Plastic\", INDEX($K:$K,)=\"Non-Lead - Other\", INDEX($K:$K,)=\"Non-Lead - Material Unknown\", INDEX($K:$K,)=\"No System Owned Portion\"), INDEX($M:$M,)=\"No\", INDEX($Q:$Q,)=\"Non-Lead - Material Unknown\")), \"Non-Lead\", \"Lead Status Unknown\"))))","v":""}]
[{"$f":"IF(AND(ISBLANK(INDEX($G:$G,)), ISBLANK(INDEX($C:$C,))), \"\", 'PWS Records (System Entry)'!$D$4)","v":""},{"$f":"IF(AND(ISBLANK(INDEX($G:$G,)), ISBLANK(INDEX($C:$C,))), \"\", 'PWS Records (System Entry)'!$D$3)","v":""},null,null,null,null,null,null,null,null,null,null,null,null,null,null,null,null,null,null,""]
[{"$f":"IF(AND(ISBLANK(INDEX($G:$G,)), ISBLANK(INDEX($C:$C,))), \"\", 'PWS Records (System Entry)'!$D$4)","v":""},{"$f":"IF(AND(ISBLANK(INDEX($G:$G,)), ISBLANK(INDEX($C:$C,))), \"\", 'PWS Records (System Entry)'!$D$3)","v":""},null,null,null,null,null,null,null,null,null,null,null,null,null,null,null,null,null,null,""]
[{"$f":"IF(AND(ISBLANK(INDEX($G:$G,)), ISBLANK(INDEX($C:$C,))), \"\", 'PWS Records (System Entry)'!$D$4)","v":""},{"$f":"IF(AND(ISBLANK(INDEX($G:$G,)), ISBLANK(INDEX($C:$C,))), \"\", 'PWS Records (System Entry)'!$D$3)","v":""},null,null,null,null,null,null,null,null,null,null,null,null,null,null,null,null,null,null,""]
[{"$f":"IF(AND(ISBLANK(INDEX($G:$G,)), ISBLANK(INDEX($C:$C,))), \"\", 'PWS Records (System Entry)'!$D$4)","v":""},{"$f":"IF(AND(ISBLANK(INDEX($G:$G,)), ISBLANK(INDEX($C:$C,))), \"\", 'PWS Records (System Entry)'!$D$3)","v":""},null,null,null,null,null,null,null,null,null,null,null,null,null,null,null,null,null,null,""]
[{"$f":"IF(AND(ISBLANK(INDEX($G:$G,)), ISBLANK(INDEX($C:$C,))), \"\", 'PWS Records (System Entry)'!$D$4)","v":""},{"$f":"IF(AND(ISBLANK(INDEX($G:$G,)), ISBLANK(INDEX($C:$C,))), \"\", 'PWS Records (System Entry)'!$D$3)","v":""},null,null,null,null,null,null,null,null,null,null,null,null,null,null,null,null,null,null,""]
[{"$f":"IF(AND(ISBLANK(INDEX($G:$G,)), ISBLANK(INDEX($C:$C,))), \"\", 'PWS Records (System Entry)'!$D$4)","v":""},{"$f":"IF(AND(ISBLANK(INDEX($G:$G,)), ISBLANK(INDEX($C:$C,))), \"\", 'PWS Records (System Entry)'!$D$3)","v":""},null,null,null,null,null,null,null,null,null,null,null,null,null,null,null,null,null,null,""]
[{"$f":"IF(AND(ISBLANK(INDEX($G:$G,)), ISBLANK(INDEX($C:$C,))), \"\", 'PWS Records (System Entry)'!$D$4)","v":""},{"$f":"IF(AND(ISBLANK(INDEX($G:$G,)), ISBLANK(INDEX($C:$C,))), \"\", 'PWS Records (System Entry)'!$D$3)","v":""},null,null,null,null,null,null,null,null,null,null,null,null,null,null,null,null,null,null,""]
[{"$f":"IF(AND(ISBLANK(INDEX($G:$G,)), ISBLANK(INDEX($C:$C,))), \"\", 'PWS Records (System Entry)'!$D$4)","v":""},{"$f":"IF(AND(ISBLANK(INDEX($G:$G,)), ISBLANK(INDEX($C:$C,))), \"\", 'PWS Records (System Entry)'!$D$3)","v":""},null,null,null,null,null,null,null,null,null,null,null,null,null,null,null,null,null,null,""]
[{"$f":"IF(AND(ISBLANK(INDEX($G:$G,)), ISBLANK(INDEX($C:$C,))), \"\", 'PWS Records (System Entry)'!$D$4)","v":""},{"$f":"IF(AND(ISBLANK(INDEX($G:$G,)), ISBLANK(INDEX($C:$C,))), \"\", 'PWS Records (System Entry)'!$D$3)","v":""},null,null,null,null,null,null,null,null,null,null,null,null,null,null,null,null,null,null,""]
[{"$f":"IF(AND(ISBLANK(INDEX($G:$G,)), ISBLANK(INDEX($C:$C,))), \"\", 'PWS Records (System Entry)'!$D$4)","v":""},{"$f":"IF(AND(ISBLANK(INDEX($G:$G,)), ISBLANK(INDEX($C:$C,))), \"\", 'PWS Records (System Entry)'!$D$3)","v":""},null,null,null,null,null,null,null,null,null,null,null,null,null,null,null,null,null,null,""]
[{"$f":"IF(AND(ISBLANK(INDEX($G:$G,)), ISBLANK(INDEX($C:$C,))), \"\", 'PWS Records (System Entry)'!$D$4)","v":""},{"$f":"IF(AND(ISBLANK(INDEX($G:$G,)), ISBLANK(INDEX($C:$C,))), \"\", 'PWS Records (System Entry)'!$D$3)","v":""},null,null,null,null,null,null,null,null,null,null,null,null,null,null,null,null,null,null,""]
[{"$f":"IF(AND(ISBLANK(INDEX($G:$G,)), ISBLANK(INDEX($C:$C,))), \"\", 'PWS Records (System Entry)'!$D$4)","v":""},{"$f":"IF(AND(ISBLANK(INDEX($G:$G,)), ISBLANK(INDEX($C:$C,))), \"\", 'PWS Records (System Entry)'!$D$3)","v":""},null,null,null,null,null,null,null,null,null,null,null,null,null,null,null,null,null,null,""]
[{"$f":"IF(AND(ISBLANK(INDEX($G:$G,)), ISBLANK(INDEX($C:$C,))), \"\", 'PWS Records (System Entry)'!$D$4)","v":""},{"$f":"IF(AND(ISBLANK(INDEX($G:$G,)), ISBLANK(INDEX($C:$C,))), \"\", 'PWS Records (System Entry)'!$D$3)","v":""},null,null,null,null,null,null,null,null,null,null,null,null,null,null,null,null,null,null,""]
[{"$f":"IF(AND(ISBLANK(INDEX($G:$G,)), ISBLANK(INDEX($C:$C,))), \"\", 'PWS Records (System Entry)'!$D$4)","v":""},{"$f":"IF(AND(ISBLANK(INDEX($G:$G,)), ISBLANK(INDEX($C:$C,))), \"\", 'PWS Records (System Entry)'!$D$3)","v":""},null,null,null,null,null,null,null,null,null,null,null,null,null,null,null,null,null,null,""]
[{"$f":"IF(AND(ISBLANK(INDEX($G:$G,)), ISBLANK(INDEX($C:$C,))), \"\", 'PWS Records (System Entry)'!$D$4)","v":""},{"$f":"IF(AND(ISBLANK(INDEX($G:$G,)), ISBLANK(INDEX($C:$C,))), \"\", 'PWS Records (System Entry)'!$D$3)","v":""},null,null,null,null,null,null,null,null,null,null,null,null,null,null,null,null,null,null,""]
[{"$f":"IF(AND(ISBLANK(INDEX($G:$G,)), ISBLANK(INDEX($C:$C,))), \"\", 'PWS Records (System Entry)'!$D$4)","v":""},{"$f":"IF(AND(ISBLANK(INDEX($G:$G,)), ISBLANK(INDEX($C:$C,))), \"\", 'PWS Records (System Entry)'!$D$3)","v":""},null,null,null,null,null,null,null,null,null,null,null,null,null,null,null,null,null,null,""]
[{"$f":"IF(AND(ISBLANK(INDEX($G:$G,)), ISBLANK(INDEX($C:$C,))), \"\", 'PWS Records (System Entry)'!$D$4)","v":""},{"$f":"IF(AND(ISBLANK(INDEX($G:$G,)), ISBLANK(INDEX($C:$C,))), \"\", 'PWS Records (System Entry)'!$D$3)","v":""},null,null,null,null,null,null,null,null,null,null,null,null,null,null,null,null,null,null,""]
[{"$f":"IF(AND(ISBLANK(INDEX($G:$G,)), ISBLANK(INDEX($C:$C,))), \"\", 'PWS Records (System Entry)'!$D$4)","v":""},{"$f":"IF(AND(ISBLANK(INDEX($G:$G,)), ISBLANK(INDEX($C:$C,))), \"\", 'PWS Records (System Entry)'!$D$3)","v":""},null,null,null,null,null,null,null,null,null,null,null,null,null,null,null,null,null,null,""]
[{"$f":"IF(AND(ISBLANK(INDEX($G:$G,)), ISBLANK(INDEX($C:$C,))), \"\", 'PWS Records (System Entry)'!$D$4)","v":""},{"$f":"IF(AND(ISBLANK(INDEX($G:$G,)), ISBLANK(INDEX($C:$C,))), \"\", 'PWS Records (System Entry)'!$D$3)","v":""},null,null,null,null,null,null,null,null,null,null,null,null,null,null,null,null,null,null,""]
[{"$f":"IF(AND(ISBLANK(INDEX($G:$G,)), ISBLANK(INDEX($C:$C,))), \"\", 'PWS Records (System Entry)'!$D$4)","v":""},{"$f":"IF(AND(ISBLANK(INDEX($G:$G,)), ISBLANK(INDEX($C:$C,))), \"\", 'PWS Records (System Entry)'!$D$3)","v":""},null,null,null,null,null,null,null,null,null,null,null,null,null,null,null,null,null,null,""]
[{"$f":"IF(AND(ISBLANK(INDEX($G:$G,)), ISBLANK(INDEX($C:$C,))), \"\", 'PWS Records (System Entry)'!$D$4)","v":""},{"$f":"IF(AND(ISBLANK(INDEX($G:$G,)), ISBLANK(INDEX($C:$C,))), \"\", 'PWS Records (System Entry)'!$D$3)","v":""},null,null,null,null,null,null,null,null,null,null,null,null,null,null,null,null,null,null,""]
[{"$f":"IF(AND(ISBLANK(INDEX($G:$G,)), ISBLANK(INDEX($C:$C,))), \"\", 'PWS Records (System Entry)'!$D$4)","v":""},{"$f":"IF(AND(ISBLANK(INDEX($G:$G,)), ISBLANK(INDEX($C:$C,))), \"\", 'PWS Records (System Entry)'!$D$3)","v":""},null,null,null,null,null,null,null,null,null,null,null,null,null,null,null,null,null,null,""]
[{"$f":"IF(AND(ISBLANK(INDEX($G:$G,)), ISBLANK(INDEX($C:$C,))), \"\", 'PWS Records (System Entry)'!$D$4)","v":""},{"$f":"IF(AND(ISBLANK(INDEX($G:$G,)), ISBLANK(INDEX($C:$C,))), \"\", 'PWS Records (System Entry)'!$D$3)","v":""},null,null,null,null,null,null,null,null,null,null,null,null,null,null,null,null,null,null,""]
[{"$f":"IF(AND(ISBLANK(INDEX($G:$G,)), ISBLANK(INDEX($C:$C,))), \"\", 'PWS Records (System Entry)'!$D$4)","v":""},{"$f":"IF(AND(ISBLANK(INDEX($G:$G,)), ISBLANK(INDEX($C:$C,))), \"\", 'PWS Records (System Entry)'!$D$3)","v":""},null,null,null,null,null,null,null,null,null,null,null,null,null,null,null,null,null,null,""]
[{"$f":"IF(AND(ISBLANK(INDEX($G:$G,)), ISBLANK(INDEX($C:$C,))), \"\", 'PWS Records (System Entry)'!$D$4)","v":""},{"$f":"IF(AND(ISBLANK(INDEX($G:$G,)), ISBLANK(INDEX($C:$C,))), \"\", 'PWS Records (System Entry)'!$D$3)","v":""},null,null,null,null,null,null,null,null,null,null,null,null,null,null,null,null,null,null,""]
[{"$f":"IF(AND(ISBLANK(INDEX($G:$G,)), ISBLANK(INDEX($C:$C,))), \"\", 'PWS Records (System Entry)'!$D$4)","v":""},{"$f":"IF(AND(ISBLANK(INDEX($G:$G,)), ISBLANK(INDEX($C:$C,))), \"\", 'PWS Records (System Entry)'!$D$3)","v":""},null,null,null,null,null,null,null,null,null,null,null,null,null,null,null,null,null,null,""]
[{"$f":"IF(AND(ISBLANK(INDEX($G:$G,)), ISBLANK(INDEX($C:$C,))), \"\", 'PWS Records (System Entry)'!$D$4)","v":""},{"$f":"IF(AND(ISBLANK(INDEX($G:$G,)), ISBLANK(INDEX($C:$C,))), \"\", 'PWS Records (System Entry)'!$D$3)","v":""},null,null,null,null,null,null,null,null,null,null,null,null,null,null,null,null,null,null,""]
[{"$f":"IF(AND(ISBLANK(INDEX($G:$G,)), ISBLANK(INDEX($C:$C,))), \"\", 'PWS Records (System Entry)'!$D$4)","v":""},{"$f":"IF(AND(ISBLANK(INDEX($G:$G,)), ISBLANK(INDEX($C:$C,))), \"\", 'PWS Records (System Entry)'!$D$3)","v":""},null,null,null,null,null,null,null,null,null,null,null,null,null,null,null,null,null,null,""]
[{"$f":"IF(AND(ISBLANK(INDEX($G:$G,)), ISBLANK(INDEX($C:$C,))), \"\", 'PWS Records (System Entry)'!$D$4)","v":""},{"$f":"IF(AND(ISBLANK(INDEX($G:$G,)), ISBLANK(INDEX($C:$C,))), \"\", 'PWS Records (System Entry)'!$D$3)","v":""},null,null,null,null,null,null,null,null,null,null,null,null,null,null,null,null,null,null,""]
[{"$f":"IF(AND(ISBLANK(INDEX($G:$G,)), ISBLANK(INDEX($C:$C,))), \"\", 'PWS Records (System Entry)'!$D$4)","v":""},{"$f":"IF(AND(ISBLANK(INDEX($G:$G,)), ISBLANK(INDEX($C:$C,))), \"\", 'PWS Records (System Entry)'!$D$3)","v":""},null,null,null,null,null,null,null,null,null,null,null,null,null,null,null,null,null,null,""]
[{"$f":"IF(AND(ISBLANK(INDEX($G:$G,)), ISBLANK(INDEX($C:$C,))), \"\", 'PWS Records (System Entry)'!$D$4)","v":""},{"$f":"IF(AND(ISBLANK(INDEX($G:$G,)), ISBLANK(INDEX($C:$C,))), \"\", 'PWS Records (System Entry)'!$D$3)","v":""},null,null,null,null,null,null,null,null,null,null,null,null,null,null,null,null,null,null,""]
[{"$f":"IF(AND(ISBLANK(INDEX($G:$G,)), ISBLANK(INDEX($C:$C,))), \"\", 'PWS Records (System Entry)'!$D$4)","v":""},{"$f":"IF(AND(ISBLANK(INDEX($G:$G,)), ISBLANK(INDEX($C:$C,))), \"\", 'PWS Records (System Entry)'!$D$3)","v":""},null,null,null,null,null,null,null,null,null,null,null,null,null,null,null,null,null,null,""]
[{"$f":"IF(AND(ISBLANK(INDEX($G:$G,)), ISBLANK(INDEX($C:$C,))), \"\", 'PWS Records (System Entry)'!$D$4)","v":""},{"$f":"IF(AND(ISBLANK(INDEX($G:$G,)), ISBLANK(INDEX($C:$C,))), \"\", 'PWS Records (System Entry)'!$D$3)","v":""},null,null,null,null,null,null,null,null,null,null,null,null,null,null,null,null,null,null,""]
[{"$f":"IF(AND(ISBLANK(INDEX($G:$G,)), ISBLANK(INDEX($C:$C,))), \"\", 'PWS Records (System Entry)'!$D$4)","v":""},{"$f":"IF(AND(ISBLANK(INDEX($G:$G,)), ISBLANK(INDEX($C:$C,))), \"\", 'PWS Records (System Entry)'!$D$3)","v":""},null,null,null,null,null,null,null,null,null,null,null,null,null,null,null,null,null,null,""]
[{"$f":"IF(AND(ISBLANK(INDEX($G:$G,)), ISBLANK(INDEX($C:$C,))), \"\", 'PWS Records (System Entry)'!$D$4)","v":""},{"$f":"IF(AND(ISBLANK(INDEX($G:$G,)), ISBLANK(INDEX($C:$C,))), \"\", 'PWS Records (System Entry)'!$D$3)","v":""},null,null,null,null,null,null,null,null,null,null,null,null,null,null,null,null,null,null,""]
[{"$f":"IF(AND(ISBLANK(INDEX($G:$G,)), ISBLANK(INDEX($C:$C,))), \"\", 'PWS Records (System Entry)'!$D$4)","v":""},{"$f":"IF(AND(ISBLANK(INDEX($G:$G,)), ISBLANK(INDEX($C:$C,))), \"\", 'PWS Records (System Entry)'!$D$3)","v":""},null,null,null,null,null,null,null,null,null,null,null,null,null,null,null,null,null,null,""]
[{"$f":"IF(AND(ISBLANK(INDEX($G:$G,)), ISBLANK(INDEX($C:$C,))), \"\", 'PWS Records (System Entry)'!$D$4)","v":""},{"$f":"IF(AND(ISBLANK(INDEX($G:$G,)), ISBLANK(INDEX($C:$C,))), \"\", 'PWS Records (System Entry)'!$D$3)","v":""},null,null,null,null,null,null,null,null,null,null,null,null,null,null,null,null,null,null,""]
[{"$f":"IF(AND(ISBLANK(INDEX($G:$G,)), ISBLANK(INDEX($C:$C,))), \"\", 'PWS Records (System Entry)'!$D$4)","v":""},{"$f":"IF(AND(ISBLANK(INDEX($G:$G,)), ISBLANK(INDEX($C:$C,))), \"\", 'PWS Records (System Entry)'!$D$3)","v":""},null,null,null,null,null,null,null,null,null,null,null,null,null,null,null,null,null,null,""]
[{"$f":"IF(AND(ISBLANK(INDEX($G:$G,)), ISBLANK(INDEX($C:$C,))), \"\", 'PWS Records (System Entry)'!$D$4)","v":""},{"$f":"IF(AND(ISBLANK(INDEX($G:$G,)), ISBLANK(INDEX($C:$C,))), \"\", 'PWS Records (System Entry)'!$D$3)","v":""},null,null,null,null,null,null,null,null,null,null,null,null,null,null,null,null,null,null,""]
[{"$f":"IF(AND(ISBLANK(INDEX($G:$G,)), ISBLANK(INDEX($C:$C,))), \"\", 'PWS Records (System Entry)'!$D$4)","v":""},{"$f":"IF(AND(ISBLANK(INDEX($G:$G,)), ISBLANK(INDEX($C:$C,))), \"\", 'PWS Records (System Entry)'!$D$3)","v":""},null,null,null,null,null,null,null,null,null,null,null,null,null,null,null,null,null,null,""]
[{"$f":"IF(AND(ISBLANK(INDEX($G:$G,)), ISBLANK(INDEX($C:$C,))), \"\", 'PWS Records (System Entry)'!$D$4)","v":""},{"$f":"IF(AND(ISBLANK(INDEX($G:$G,)), ISBLANK(INDEX($C:$C,))), \"\", 'PWS Records (System Entry)'!$D$3)","v":""},null,null,null,null,null,null,null,null,null,null,null,null,null,null,null,null,null,null,""]
[{"$f":"IF(AND(ISBLANK(INDEX($G:$G,)), ISBLANK(INDEX($C:$C,))), \"\", 'PWS Records (System Entry)'!$D$4)","v":""},{"$f":"IF(AND(ISBLANK(INDEX($G:$G,)), ISBLANK(INDEX($C:$C,))), \"\", 'PWS Records (System Entry)'!$D$3)","v":""},null,null,null,null,null,null,null,null,null,null,null,null,null,null,null,null,null,null,""]
[{"$f":"IF(AND(ISBLANK(INDEX($G:$G,)), ISBLANK(INDEX($C:$C,))), \"\", 'PWS Records (System Entry)'!$D$4)","v":""},{"$f":"IF(AND(ISBLANK(INDEX($G:$G,)), ISBLANK(INDEX($C:$C,))), \"\", 'PWS Records (System Entry)'!$D$3)","v":""},null,null,null,null,null,null,null,null,null,null,null,null,null,null,null,null,null,null,""]
[{"$f":"IF(AND(ISBLANK(INDEX($G:$G,)), ISBLANK(INDEX($C:$C,))), \"\", 'PWS Records (System Entry)'!$D$4)","v":""},{"$f":"IF(AND(ISBLANK(INDEX($G:$G,)), ISBLANK(INDEX($C:$C,))), \"\", 'PWS Records (System Entry)'!$D$3)","v":""},null,null,null,null,null,null,null,null,null,null,null,null,null,null,null,null,null,null,""]
[{"$f":"IF(AND(ISBLANK(INDEX($G:$G,)), ISBLANK(INDEX($C:$C,))), \"\", 'PWS Records (System Entry)'!$D$4)","v":""},{"$f":"IF(AND(ISBLANK(INDEX($G:$G,)), ISBLANK(INDEX($C:$C,))), \"\", 'PWS Records (System Entry)'!$D$3)","v":""},null,null,null,null,null,null,null,null,null,null,null,null,null,null,null,null,null,null,""]
[{"$f":"IF(AND(ISBLANK(INDEX($G:$G,)), ISBLANK(INDEX($C:$C,))), \"\", 'PWS Records (System Entry)'!$D$4)","v":""},{"$f":"IF(AND(ISBLANK(INDEX($G:$G,)), ISBLANK(INDEX($C:$C,))), \"\", 'PWS Records (System Entry)'!$D$3)","v":""},null,null,null,null,null,null,null,null,null,null,null,null,null,null,null,null,null,null,""]
[{"$f":"IF(AND(ISBLANK(INDEX($G:$G,)), ISBLANK(INDEX($C:$C,))), \"\", 'PWS Records (System Entry)'!$D$4)","v":""},{"$f":"IF(AND(ISBLANK(INDEX($G:$G,)), ISBLANK(INDEX($C:$C,))), \"\", 'PWS Records (System Entry)'!$D$3)","v":""},null,null,null,null,null,null,null,null,null,null,null,null,null,null,null,null,null,null,""]
[{"$f":"IF(AND(ISBLANK(INDEX($G:$G,)), ISBLANK(INDEX($C:$C,))), \"\", 'PWS Records (System Entry)'!$D$4)","v":""},{"$f":"IF(AND(ISBLANK(INDEX($G:$G,)), ISBLANK(INDEX($C:$C,))), \"\", 'PWS Records (System Entry)'!$D$3)","v":""},null,null,null,null,null,null,null,null,null,null,null,null,null,null,null,null,null,null,""]
[{"$f":"IF(AND(ISBLANK(INDEX($G:$G,)), ISBLANK(INDEX($C:$C,))), \"\", 'PWS Records (System Entry)'!$D$4)","v":""},{"$f":"IF(AND(ISBLANK(INDEX($G:$G,)), ISBLANK(INDEX($C:$C,))), \"\", 'PWS Records (System Entry)'!$D$3)","v":""},null,null,null,null,null,null,null,null,null,null,null,null,null,null,null,null,null,null,""]
[{"$f":"IF(AND(ISBLANK(INDEX($G:$G,)), ISBLANK(INDEX($C:$C,))), \"\", 'PWS Records (System Entry)'!$D$4)","v":""},{"$f":"IF(AND(ISBLANK(INDEX($G:$G,)), ISBLANK(INDEX($C:$C,))), \"\", 'PWS Records (System Entry)'!$D$3)","v":""},null,null,null,null,null,null,null,null,null,null,null,null,null,null,null,null,null,null,""]
[{"$f":"IF(AND(ISBLANK(INDEX($G:$G,)), ISBLANK(INDEX($C:$C,))), \"\", 'PWS Records (System Entry)'!$D$4)","v":""},{"$f":"IF(AND(ISBLANK(INDEX($G:$G,)), ISBLANK(INDEX($C:$C,))), \"\", 'PWS Records (System Entry)'!$D$3)","v":""},null,null,null,null,null,null,null,null,null,null,null,null,null,null,null,null,null,null,""]
[{"$f":"IF(AND(ISBLANK(INDEX($G:$G,)), ISBLANK(INDEX($C:$C,))), \"\", 'PWS Records (System Entry)'!$D$4)","v":""},{"$f":"IF(AND(ISBLANK(INDEX($G:$G,)), ISBLANK(INDEX($C:$C,))), \"\", 'PWS Records (System Entry)'!$D$3)","v":""},null,null,null,null,null,null,null,null,null,null,null,null,null,null,null,null,null,null,""]
[{"$f":"IF(AND(ISBLANK(INDEX($G:$G,)), ISBLANK(INDEX($C:$C,))), \"\", 'PWS Records (System Entry)'!$D$4)","v":""},{"$f":"IF(AND(ISBLANK(INDEX($G:$G,)), ISBLANK(INDEX($C:$C,))), \"\", 'PWS Records (System Entry)'!$D$3)","v":""},null,null,null,null,null,null,null,null,null,null,null,null,null,null,null,null,null,null,""]
[{"$f":"IF(AND(ISBLANK(INDEX($G:$G,)), ISBLANK(INDEX($C:$C,))), \"\", 'PWS Records (System Entry)'!$D$4)","v":""},{"$f":"IF(AND(ISBLANK(INDEX($G:$G,)), ISBLANK(INDEX($C:$C,))), \"\", 'PWS Records (System Entry)'!$D$3)","v":""},null,null,null,null,null,null,null,null,null,null,null,null,null,null,null,null,null,null,""]
[{"$f":"IF(AND(ISBLANK(INDEX($G:$G,)), ISBLANK(INDEX($C:$C,))), \"\", 'PWS Records (System Entry)'!$D$4)","v":""},{"$f":"IF(AND(ISBLANK(INDEX($G:$G,)), ISBLANK(INDEX($C:$C,))), \"\", 'PWS Records (System Entry)'!$D$3)","v":""},null,null,null,null,null,null,null,null,null,null,null,null,null,null,null,null,null,null,""]
[{"$f":"IF(AND(ISBLANK(INDEX($G:$G,)), ISBLANK(INDEX($C:$C,))), \"\", 'PWS Records (System Entry)'!$D$4)","v":""},{"$f":"IF(AND(ISBLANK(INDEX($G:$G,)), ISBLANK(INDEX($C:$C,))), \"\", 'PWS Records (System Entry)'!$D$3)","v":""},null,null,null,null,null,null,null,null,null,null,null,null,null,null,null,null,null,null,""]
[{"$f":"IF(AND(ISBLANK(INDEX($G:$G,)), ISBLANK(INDEX($C:$C,))), \"\", 'PWS Records (System Entry)'!$D$4)","v":""},{"$f":"IF(AND(ISBLANK(INDEX($G:$G,)), ISBLANK(INDEX($C:$C,))), \"\", 'PWS Records (System Entry)'!$D$3)","v":""},null,null,null,null,null,null,null,null,null,null,null,null,null,null,null,null,null,null,""]
[{"$f":"IF(AND(ISBLANK(INDEX($G:$G,)), ISBLANK(INDEX($C:$C,))), \"\", 'PWS Records (System Entry)'!$D$4)","v":""},{"$f":"IF(AND(ISBLANK(INDEX($G:$G,)), ISBLANK(INDEX($C:$C,))), \"\", 'PWS Records (System Entry)'!$D$3)","v":""},null,null,null,null,null,null,null,null,null,null,null,null,null,null,null,null,null,null,""]
[{"$f":"IF(AND(ISBLANK(INDEX($G:$G,)), ISBLANK(INDEX($C:$C,))), \"\", 'PWS Records (System Entry)'!$D$4)","v":""},{"$f":"IF(AND(ISBLANK(INDEX($G:$G,)), ISBLANK(INDEX($C:$C,))), \"\", 'PWS Records (System Entry)'!$D$3)","v":""},null,null,null,null,null,null,null,null,null,null,null,null,null,null,null,null,null,null,""]
[{"$f":"IF(AND(ISBLANK(INDEX($G:$G,)), ISBLANK(INDEX($C:$C,))), \"\", 'PWS Records (System Entry)'!$D$4)","v":""},{"$f":"IF(AND(ISBLANK(INDEX($G:$G,)), ISBLANK(INDEX($C:$C,))), \"\", 'PWS Records (System Entry)'!$D$3)","v":""},null,null,null,null,null,null,null,null,null,null,null,null,null,null,null,null,null,null,""]
[{"$f":"IF(AND(ISBLANK(INDEX($G:$G,)), ISBLANK(INDEX($C:$C,))), \"\", 'PWS Records (System Entry)'!$D$4)","v":""},{"$f":"IF(AND(ISBLANK(INDEX($G:$G,)), ISBLANK(INDEX($C:$C,))), \"\", 'PWS Records (System Entry)'!$D$3)","v":""},null,null,null,null,null,null,null,null,null,null,null,null,null,null,null,null,null,null,""]
[{"$f":"IF(AND(ISBLANK(INDEX($G:$G,)), ISBLANK(INDEX($C:$C,))), \"\", 'PWS Records (System Entry)'!$D$4)","v":""},{"$f":"IF(AND(ISBLANK(INDEX($G:$G,)), ISBLANK(INDEX($C:$C,))), \"\", 'PWS Records (System Entry)'!$D$3)","v":""},null,null,null,null,null,null,null,null,null,null,null,null,null,null,null,null,null,null,""]
[{"$f":"IF(AND(ISBLANK(INDEX($G:$G,)), ISBLANK(INDEX($C:$C,))), \"\", 'PWS Records (System Entry)'!$D$4)","v":""},{"$f":"IF(AND(ISBLANK(INDEX($G:$G,)), ISBLANK(INDEX($C:$C,))), \"\", 'PWS Records (System Entry)'!$D$3)","v":""},null,null,null,null,null,null,null,null,null,null,null,null,null,null,null,null,null,null,""]
[{"$f":"IF(AND(ISBLANK(INDEX($G:$G,)), ISBLANK(INDEX($C:$C,))), \"\", 'PWS Records (System Entry)'!$D$4)","v":""},{"$f":"IF(AND(ISBLANK(INDEX($G:$G,)), ISBLANK(INDEX($C:$C,))), \"\", 'PWS Records (System Entry)'!$D$3)","v":""},null,null,null,null,null,null,null,null,null,null,null,null,null,null,null,null,null,null,""]
[{"$f":"IF(AND(ISBLANK(INDEX($G:$G,)), ISBLANK(INDEX($C:$C,))), \"\", 'PWS Records (System Entry)'!$D$4)","v":""},{"$f":"IF(AND(ISBLANK(INDEX($G:$G,)), ISBLANK(INDEX($C:$C,))), \"\", 'PWS Records (System Entry)'!$D$3)","v":""},null,null,null,null,null,null,null,null,null,null,null,null,null,null,null,null,null,null,""]
[{"$f":"IF(AND(ISBLANK(INDEX($G:$G,)), ISBLANK(INDEX($C:$C,))), \"\", 'PWS Records (System Entry)'!$D$4)","v":""},{"$f":"IF(AND(ISBLANK(INDEX($G:$G,)), ISBLANK(INDEX($C:$C,))), \"\", 'PWS Records (System Entry)'!$D$3)","v":""},null,null,null,null,null,null,null,null,null,null,null,null,null,null,null,null,null,null,""]
[{"$f":"IF(AND(ISBLANK(INDEX($G:$G,)), ISBLANK(INDEX($C:$C,))), \"\", 'PWS Records (System Entry)'!$D$4)","v":""},{"$f":"IF(AND(ISBLANK(INDEX($G:$G,)), ISBLANK(INDEX($C:$C,))), \"\", 'PWS Records (System Entry)'!$D$3)","v":""},null,null,null,null,null,null,null,null,null,null,null,null,null,null,null,null,null,null,""]
[{"$f":"IF(AND(ISBLANK(INDEX($G:$G,)), ISBLANK(INDEX($C:$C,))), \"\", 'PWS Records (System Entry)'!$D$4)","v":""},{"$f":"IF(AND(ISBLANK(INDEX($G:$G,)), ISBLANK(INDEX($C:$C,))), \"\", 'PWS Records (System Entry)'!$D$3)","v":""},null,null,null,null,null,null,null,null,null,null,null,null,null,null,null,null,null,null,""]
[{"$f":"IF(AND(ISBLANK(INDEX($G:$G,)), ISBLANK(INDEX($C:$C,))), \"\", 'PWS Records (System Entry)'!$D$4)","v":""},{"$f":"IF(AND(ISBLANK(INDEX($G:$G,)), ISBLANK(INDEX($C:$C,))), \"\", 'PWS Records (System Entry)'!$D$3)","v":""},null,null,null,null,null,null,null,null,null,null,null,null,null,null,null,null,null,null,""]
[{"$f":"IF(AND(ISBLANK(INDEX($G:$G,)), ISBLANK(INDEX($C:$C,))), \"\", 'PWS Records (System Entry)'!$D$4)","v":""},{"$f":"IF(AND(ISBLANK(INDEX($G:$G,)), ISBLANK(INDEX($C:$C,))), \"\", 'PWS Records (System Entry)'!$D$3)","v":""},null,null,null,null,null,null,null,null,null,null,null,null,null,null,null,null,null,null,""]
[{"$f":"IF(AND(ISBLANK(INDEX($G:$G,)), ISBLANK(INDEX($C:$C,))), \"\", 'PWS Records (System Entry)'!$D$4)","v":""},{"$f":"IF(AND(ISBLANK(INDEX($G:$G,)), ISBLANK(INDEX($C:$C,))), \"\", 'PWS Records (System Entry)'!$D$3)","v":""},null,null,null,null,null,null,null,null,null,null,null,null,null,null,null,null,null,null,""]
[{"$f":"IF(AND(ISBLANK(INDEX($G:$G,)), ISBLANK(INDEX($C:$C,))), \"\", 'PWS Records (System Entry)'!$D$4)","v":""},{"$f":"IF(AND(ISBLANK(INDEX($G:$G,)), ISBLANK(INDEX($C:$C,))), \"\", 'PWS Records (System Entry)'!$D$3)","v":""},null,null,null,null,null,null,null,null,null,null,null,null,null,null,null,null,null,null,""]
[{"$f":"IF(AND(ISBLANK(INDEX($G:$G,)), ISBLANK(INDEX($C:$C,))), \"\", 'PWS Records (System Entry)'!$D$4)","v":""},{"$f":"IF(AND(ISBLANK(INDEX($G:$G,)), ISBLANK(INDEX($C:$C,))), \"\", 'PWS Records (System Entry)'!$D$3)","v":""},null,null,null,null,null,null,null,null,null,null,null,null,null,null,null,null,null,null,""]
[{"$f":"IF(AND(ISBLANK(INDEX($G:$G,)), ISBLANK(INDEX($C:$C,))), \"\", 'PWS Records (System Entry)'!$D$4)","v":""},{"$f":"IF(AND(ISBLANK(INDEX($G:$G,)), ISBLANK(INDEX($C:$C,))), \"\", 'PWS Records (System Entry)'!$D$3)","v":""},null,null,null,null,null,null,null,null,null,null,null,null,null,null,null,null,null,null,""]
[{"$f":"IF(AND(ISBLANK(INDEX($G:$G,)), ISBLANK(INDEX($C:$C,))), \"\", 'PWS Records (System Entry)'!$D$4)","v":""},{"$f":"IF(AND(ISBLANK(INDEX($G:$G,)), ISBLANK(INDEX($C:$C,))), \"\", 'PWS Records (System Entry)'!$D$3)","v":""},null,null,null,null,null,null,null,null,null,null,null,null,null,null,null,null,null,null,""]
[{"$f":"IF(AND(ISBLANK(INDEX($G:$G,)), ISBLANK(INDEX($C:$C,))), \"\", 'PWS Records (System Entry)'!$D$4)","v":""},{"$f":"IF(AND(ISBLANK(INDEX($G:$G,)), ISBLANK(INDEX($C:$C,))), \"\", 'PWS Records (System Entry)'!$D$3)","v":""},null,null,null,null,null,null,null,null,null,null,null,null,null,null,null,null,null,null,""]
[{"$f":"IF(AND(ISBLANK(INDEX($G:$G,)), ISBLANK(INDEX($C:$C,))), \"\", 'PWS Records (System Entry)'!$D$4)","v":""},{"$f":"IF(AND(ISBLANK(INDEX($G:$G,)), ISBLANK(INDEX($C:$C,))), \"\", 'PWS Records (System Entry)'!$D$3)","v":""},null,null,null,null,null,null,null,null,null,null,null,null,null,null,null,null,null,null,""]
[{"$f":"IF(AND(ISBLANK(INDEX($G:$G,)), ISBLANK(INDEX($C:$C,))), \"\", 'PWS Records (System Entry)'!$D$4)","v":""},{"$f":"IF(AND(ISBLANK(INDEX($G:$G,)), ISBLANK(INDEX($C:$C,))), \"\", 'PWS Records (System Entry)'!$D$3)","v":""},null,null,null,null,null,null,null,null,null,null,null,null,null,null,null,null,null,null,""]
[{"$f":"IF(AND(ISBLANK(INDEX($G:$G,)), ISBLANK(INDEX($C:$C,))), \"\", 'PWS Records (System Entry)'!$D$4)","v":""},{"$f":"IF(AND(ISBLANK(INDEX($G:$G,)), ISBLANK(INDEX($C:$C,))), \"\", 'PWS Records (System Entry)'!$D$3)","v":""},null,null,null,null,null,null,null,null,null,null,null,null,null,null,null,null,null,null,""]
[{"$f":"IF(AND(ISBLANK(INDEX($G:$G,)), ISBLANK(INDEX($C:$C,))), \"\", 'PWS Records (System Entry)'!$D$4)","v":""},{"$f":"IF(AND(ISBLANK(INDEX($G:$G,)), ISBLANK(INDEX($C:$C,))), \"\", 'PWS Records (System Entry)'!$D$3)","v":""},null,null,null,null,null,null,null,null,null,null,null,null,null,null,null,null,null,null,""]
[{"$f":"IF(AND(ISBLANK(INDEX($G:$G,)), ISBLANK(INDEX($C:$C,))), \"\", 'PWS Records (System Entry)'!$D$4)","v":""},{"$f":"IF(AND(ISBLANK(INDEX($G:$G,)), ISBLANK(INDEX($C:$C,))), \"\", 'PWS Records (System Entry)'!$D$3)","v":""},null,null,null,null,null,null,null,null,null,null,null,null,null,null,null,null,null,null,""]
[{"$f":"IF(AND(ISBLANK(INDEX($G:$G,)), ISBLANK(INDEX($C:$C,))), \"\", 'PWS Records (System Entry)'!$D$4)","v":""},{"$f":"IF(AND(ISBLANK(INDEX($G:$G,)), ISBLANK(INDEX($C:$C,))), \"\", 'PWS Records (System Entry)'!$D$3)","v":""},null,null,null,null,null,null,null,null,null,null,null,null,null,null,null,null,null,null,""]
[{"$f":"IF(AND(ISBLANK(INDEX($G:$G,)), ISBLANK(INDEX($C:$C,))), \"\", 'PWS Records (System Entry)'!$D$4)","v":""},{"$f":"IF(AND(ISBLANK(INDEX($G:$G,)), ISBLANK(INDEX($C:$C,))), \"\", 'PWS Records (System Entry)'!$D$3)","v":""},null,null,null,null,null,null,null,null,null,null,null,null,null,null,null,null,null,null,""]
[{"$f":"IF(AND(ISBLANK(INDEX($G:$G,)), ISBLANK(INDEX($C:$C,))), \"\", 'PWS Records (System Entry)'!$D$4)","v":""},{"$f":"IF(AND(ISBLANK(INDEX($G:$G,)), ISBLANK(INDEX($C:$C,))), \"\", 'PWS Records (System Entry)'!$D$3)","v":""},null,null,null,null,null,null,null,null,null,null,null,null,null,null,null,null,null,null,""]
[{"$f":"IF(AND(ISBLANK(INDEX($G:$G,)), ISBLANK(INDEX($C:$C,))), \"\", 'PWS Records (System Entry)'!$D$4)","v":""},{"$f":"IF(AND(ISBLANK(INDEX($G:$G,)), ISBLANK(INDEX($C:$C,))), \"\", 'PWS Records (System Entry)'!$D$3)","v":""},null,null,null,null,null,null,null,null,null,null,null,null,null,null,null,null,null,null,""]
[{"$f":"IF(AND(ISBLANK(INDEX($G:$G,)), ISBLANK(INDEX($C:$C,))), \"\", 'PWS Records (System Entry)'!$D$4)","v":""},{"$f":"IF(AND(ISBLANK(INDEX($G:$G,)), ISBLANK(INDEX($C:$C,))), \"\", 'PWS Records (System Entry)'!$D$3)","v":""},null,null,null,null,null,null,null,null,null,null,null,null,null,null,null,null,null,null,""]
[{"$f":"IF(AND(ISBLANK(INDEX($G:$G,)), ISBLANK(INDEX($C:$C,))), \"\", 'PWS Records (System Entry)'!$D$4)","v":""},{"$f":"IF(AND(ISBLANK(INDEX($G:$G,)), ISBLANK(INDEX($C:$C,))), \"\", 'PWS Records (System Entry)'!$D$3)","v":""},null,null,null,null,null,null,null,null,null,null,null,null,null,null,null,null,null,null,""]
[{"$f":"IF(AND(ISBLANK(INDEX($G:$G,)), ISBLANK(INDEX($C:$C,))), \"\", 'PWS Records (System Entry)'!$D$4)","v":""},{"$f":"IF(AND(ISBLANK(INDEX($G:$G,)), ISBLANK(INDEX($C:$C,))), \"\", 'PWS Records (System Entry)'!$D$3)","v":""},null,null,null,null,null,null,null,null,null,null,null,null,null,null,null,null,null,null,""]
[{"$f":"IF(AND(ISBLANK(INDEX($G:$G,)), ISBLANK(INDEX($C:$C,))), \"\", 'PWS Records (System Entry)'!$D$4)","v":""},{"$f":"IF(AND(ISBLANK(INDEX($G:$G,)), ISBLANK(INDEX($C:$C,))), \"\", 'PWS Records (System Entry)'!$D$3)","v":""},null,null,null,null,null,null,null,null,null,null,null,null,null,null,null,null,null,null,""]
[{"$f":"IF(AND(ISBLANK(INDEX($G:$G,)), ISBLANK(INDEX($C:$C,))), \"\", 'PWS Records (System Entry)'!$D$4)","v":""},{"$f":"IF(AND(ISBLANK(INDEX($G:$G,)), ISBLANK(INDEX($C:$C,))), \"\", 'PWS Records (System Entry)'!$D$3)","v":""},null,null,null,null,null,null,null,null,null,null,null,null,null,null,null,null,null,null,""]
[{"$f":"IF(AND(ISBLANK(INDEX($G:$G,)), ISBLANK(INDEX($C:$C,))), \"\", 'PWS Records (System Entry)'!$D$4)","v":""},{"$f":"IF(AND(ISBLANK(INDEX($G:$G,)), ISBLANK(INDEX($C:$C,))), \"\", 'PWS Records (System Entry)'!$D$3)","v":""},null,null,null,null,null,null,null,null,null,null,null,null,null,null,null,null,null,null,""]
[{"$f":"IF(AND(ISBLANK(INDEX($G:$G,)), ISBLANK(INDEX($C:$C,))), \"\", 'PWS Records (System Entry)'!$D$4)","v":""},{"$f":"IF(AND(ISBLANK(INDEX($G:$G,)), ISBLANK(INDEX($C:$C,))), \"\", 'PWS Records (System Entry)'!$D$3)","v":""},null,null,null,null,null,null,null,null,null,null,null,null,null,null,null,null,null,null,""]
[{"$f":"IF(AND(ISBLANK(INDEX($G:$G,)), ISBLANK(INDEX($C:$C,))), \"\", 'PWS Records (System Entry)'!$D$4)","v":""},{"$f":"IF(AND(ISBLANK(INDEX($G:$G,)), ISBLANK(INDEX($C:$C,))), \"\", 'PWS Records (System Entry)'!$D$3)","v":""},null,null,null,null,null,null,null,null,null,null,null,null,null,null,null,null,null,null,""]
[{"$f":"IF(AND(ISBLANK(INDEX($G:$G,)), ISBLANK(INDEX($C:$C,))), \"\", 'PWS Records (System Entry)'!$D$4)","v":""},{"$f":"IF(AND(ISBLANK(INDEX($G:$G,)), ISBLANK(INDEX($C:$C,))), \"\", 'PWS Records (System Entry)'!$D$3)","v":""},null,null,null,null,null,null,null,null,null,null,null,null,null,null,null,null,null,null,""]
[{"$f":"IF(AND(ISBLANK(INDEX($G:$G,)), ISBLANK(INDEX($C:$C,))), \"\", 'PWS Records (System Entry)'!$D$4)","v":""},{"$f":"IF(AND(ISBLANK(INDEX($G:$G,)), ISBLANK(INDEX($C:$C,))), \"\", 'PWS Records (System Entry)'!$D$3)","v":""},null,null,null,null,null,null,null,null,null,null,null,null,null,null,null,null,null,null,""]
[{"$f":"IF(AND(ISBLANK(INDEX($G:$G,)), ISBLANK(INDEX($C:$C,))), \"\", 'PWS Records (System Entry)'!$D$4)","v":""},{"$f":"IF(AND(ISBLANK(INDEX($G:$G,)), ISBLANK(INDEX($C:$C,))), \"\", 'PWS Records (System Entry)'!$D$3)","v":""},null,null,null,null,null,null,null,null,null,null,null,null,null,null,null,null,null,null,""]
[{"$f":"IF(AND(ISBLANK(INDEX($G:$G,)), ISBLANK(INDEX($C:$C,))), \"\", 'PWS Records (System Entry)'!$D$4)","v":""},{"$f":"IF(AND(ISBLANK(INDEX($G:$G,)), ISBLANK(INDEX($C:$C,))), \"\", 'PWS Records (System Entry)'!$D$3)","v":""},null,null,null,null,null,null,null,null,null,null,null,null,null,null,null,null,null,null,""]
[{"$f":"IF(AND(ISBLANK(INDEX($G:$G,)), ISBLANK(INDEX($C:$C,))), \"\", 'PWS Records (System Entry)'!$D$4)","v":""},{"$f":"IF(AND(ISBLANK(INDEX($G:$G,)), ISBLANK(INDEX($C:$C,))), \"\", 'PWS Records (System Entry)'!$D$3)","v":""},null,null,null,null,null,null,null,null,null,null,null,null,null,null,null,null,null,null,""]
[{"$f":"IF(AND(ISBLANK(INDEX($G:$G,)), ISBLANK(INDEX($C:$C,))), \"\", 'PWS Records (System Entry)'!$D$4)","v":""},{"$f":"IF(AND(ISBLANK(INDEX($G:$G,)), ISBLANK(INDEX($C:$C,))), \"\", 'PWS Records (System Entry)'!$D$3)","v":""},null,null,null,null,null,null,null,null,null,null,null,null,null,null,null,null,null,null,""]
[{"$f":"IF(AND(ISBLANK(INDEX($G:$G,)), ISBLANK(INDEX($C:$C,))), \"\", 'PWS Records (System Entry)'!$D$4)","v":""},{"$f":"IF(AND(ISBLANK(INDEX($G:$G,)), ISBLANK(INDEX($C:$C,))), \"\", 'PWS Records (System Entry)'!$D$3)","v":""},null,null,null,null,null,null,null,null,null,null,null,null,null,null,null,null,null,null,""]
[{"$f":"IF(AND(ISBLANK(INDEX($G:$G,)), ISBLANK(INDEX($C:$C,))), \"\", 'PWS Records (System Entry)'!$D$4)","v":""},{"$f":"IF(AND(ISBLANK(INDEX($G:$G,)), ISBLANK(INDEX($C:$C,))), \"\", 'PWS Records (System Entry)'!$D$3)","v":""},null,null,null,null,null,null,null,null,null,null,null,null,null,null,null,null,null,null,""]
[{"$f":"IF(AND(ISBLANK(INDEX($G:$G,)), ISBLANK(INDEX($C:$C,))), \"\", 'PWS Records (System Entry)'!$D$4)","v":""},{"$f":"IF(AND(ISBLANK(INDEX($G:$G,)), ISBLANK(INDEX($C:$C,))), \"\", 'PWS Records (System Entry)'!$D$3)","v":""},null,null,null,null,null,null,null,null,null,null,null,null,null,null,null,null,null,null,{"$f":"IF(AND(INDEX($K:$K,)=\"\", INDEX($L:$L,)=\"\", INDEX($M:$M,)=\"\", INDEX($Q:$Q,)=\"\", INDEX($R:$R,)=\"\"), \"\", IF(OR(INDEX($K:$K,)=\"Lead\",INDEX($Q:$Q,)=\"Lead\"),\"Lead\",IF(OR(AND(OR(INDEX($M:$M,)=\"Yes\", INDEX($M:$M,)=\"Don't Know\", INDEX($M:$M,)=\"\"), INDEX($Q:$Q,)=\"Galvanized Iron/Steel\"), AND(INDEX($K:$K,)=\"Unknown\", INDEX($M:$M,)=\"No\", INDEX($Q:$Q,)=\"Galvanized Iron/Steel\")), \"Galvanized Requiring Replacement\", IF(OR(AND(OR(INDEX($K:$K,)=\"Galvanized Iron/Steel\", INDEX($K:$K,)=\"Non-Lead - Copper\", INDEX($K:$K,)=\"Non-Lead - Plastic\", INDEX($K:$K,)=\"Non-Lead - Other\", INDEX($K:$K,)=\"Non-Lead - Material Unknown\", INDEX($K:$K,)=\"No System Owned Portion\"), OR(INDEX($Q:$Q,)=\"Galvanized Iron/Steel\", INDEX($Q:$Q,)=\"Non-Lead - Copper\", INDEX($Q:$Q,)=\"Non-Lead - Plastic\", INDEX($Q:$Q,)=\"Non-Lead - Other\", INDEX($Q:$Q,)=\"Non-Lead - Predictive Model\", INDEX($Q:$Q,)=\"No Customer Owned Portion\")), AND(OR( INDEX($K:$K,)=\"Galvanized Iron/Steel\", INDEX($K:$K,)=\"Non-Lead - Copper\", INDEX($K:$K,)=\"Non-Lead - Plastic\", INDEX($K:$K,)=\"Non-Lead - Other\", INDEX($K:$K,)=\"Non-Lead - Material Unknown\", INDEX($K:$K,)=\"No System Owned Portion\"), INDEX($M:$M,)=\"No\", INDEX($Q:$Q,)=\"Non-Lead - Material Unknown\")), \"Non-Lead\", \"Lead Status Unknown\"))))","v":""}]
[{"$f":"IF(AND(ISBLANK(INDEX($G:$G,)), ISBLANK(INDEX($C:$C,))), \"\", 'PWS Records (System Entry)'!$D$4)","v":""},{"$f":"IF(AND(ISBLANK(INDEX($G:$G,)), ISBLANK(INDEX($C:$C,))), \"\", 'PWS Records (System Entry)'!$D$3)","v":""},null,null,null,null,null,null,null,null,null,null,null,null,null,null,null,null,null,null,""]
[{"$f":"IF(AND(ISBLANK(INDEX($G:$G,)), ISBLANK(INDEX($C:$C,))), \"\", 'PWS Records (System Entry)'!$D$4)","v":""},{"$f":"IF(AND(ISBLANK(INDEX($G:$G,)), ISBLANK(INDEX($C:$C,))), \"\", 'PWS Records (System Entry)'!$D$3)","v":""},null,null,null,null,null,null,null,null,null,null,null,null,null,null,null,null,null,null,""]
[{"$f":"IF(AND(ISBLANK(INDEX($G:$G,)), ISBLANK(INDEX($C:$C,))), \"\", 'PWS Records (System Entry)'!$D$4)","v":""},{"$f":"IF(AND(ISBLANK(INDEX($G:$G,)), ISBLANK(INDEX($C:$C,))), \"\", 'PWS Records (System Entry)'!$D$3)","v":""},null,null,null,null,null,null,null,null,null,null,null,null,null,null,null,null,null,null,""]
[{"$f":"IF(AND(ISBLANK(INDEX($G:$G,)), ISBLANK(INDEX($C:$C,))), \"\", 'PWS Records (System Entry)'!$D$4)","v":""},{"$f":"IF(AND(ISBLANK(INDEX($G:$G,)), ISBLANK(INDEX($C:$C,))), \"\", 'PWS Records (System Entry)'!$D$3)","v":""},null,null,null,null,null,null,null,null,null,null,null,null,null,null,null,null,null,null,""]
[{"$f":"IF(AND(ISBLANK(INDEX($G:$G,)), ISBLANK(INDEX($C:$C,))), \"\", 'PWS Records (System Entry)'!$D$4)","v":""},{"$f":"IF(AND(ISBLANK(INDEX($G:$G,)), ISBLANK(INDEX($C:$C,))), \"\", 'PWS Records (System Entry)'!$D$3)","v":""},null,null,null,null,null,null,null,null,null,null,null,null,null,null,null,null,null,null,""]
[{"$f":"IF(AND(ISBLANK(INDEX($G:$G,)), ISBLANK(INDEX($C:$C,))), \"\", 'PWS Records (System Entry)'!$D$4)","v":""},{"$f":"IF(AND(ISBLANK(INDEX($G:$G,)), ISBLANK(INDEX($C:$C,))), \"\", 'PWS Records (System Entry)'!$D$3)","v":""},null,null,null,null,null,null,null,null,null,null,null,null,null,null,null,null,null,null,""]
[{"$f":"IF(AND(ISBLANK(INDEX($G:$G,)), ISBLANK(INDEX($C:$C,))), \"\", 'PWS Records (System Entry)'!$D$4)","v":""},{"$f":"IF(AND(ISBLANK(INDEX($G:$G,)), ISBLANK(INDEX($C:$C,))), \"\", 'PWS Records (System Entry)'!$D$3)","v":""},null,null,null,null,null,null,null,null,null,null,null,null,null,null,null,null,null,null,""]
[{"$f":"IF(AND(ISBLANK(INDEX($G:$G,)), ISBLANK(INDEX($C:$C,))), \"\", 'PWS Records (System Entry)'!$D$4)","v":""},{"$f":"IF(AND(ISBLANK(INDEX($G:$G,)), ISBLANK(INDEX($C:$C,))), \"\", 'PWS Records (System Entry)'!$D$3)","v":""},null,null,null,null,null,null,null,null,null,null,null,null,null,null,null,null,null,null,""]
[{"$f":"IF(AND(ISBLANK(INDEX($G:$G,)), ISBLANK(INDEX($C:$C,))), \"\", 'PWS Records (System Entry)'!$D$4)","v":""},{"$f":"IF(AND(ISBLANK(INDEX($G:$G,)), ISBLANK(INDEX($C:$C,))), \"\", 'PWS Records (System Entry)'!$D$3)","v":""},null,null,null,null,null,null,null,null,null,null,null,null,null,null,null,null,null,null,""]
[{"$f":"IF(AND(ISBLANK(INDEX($G:$G,)), ISBLANK(INDEX($C:$C,))), \"\", 'PWS Records (System Entry)'!$D$4)","v":""},{"$f":"IF(AND(ISBLANK(INDEX($G:$G,)), ISBLANK(INDEX($C:$C,))), \"\", 'PWS Records (System Entry)'!$D$3)","v":""},null,null,null,null,null,null,null,null,null,null,null,null,null,null,null,null,null,null,""]
[{"$f":"IF(AND(ISBLANK(INDEX($G:$G,)), ISBLANK(INDEX($C:$C,))), \"\", 'PWS Records (System Entry)'!$D$4)","v":""},{"$f":"IF(AND(ISBLANK(INDEX($G:$G,)), ISBLANK(INDEX($C:$C,))), \"\", 'PWS Records (System Entry)'!$D$3)","v":""},null,null,null,null,null,null,null,null,null,null,null,null,null,null,null,null,null,null,""]
[{"$f":"IF(AND(ISBLANK(INDEX($G:$G,)), ISBLANK(INDEX($C:$C,))), \"\", 'PWS Records (System Entry)'!$D$4)","v":""},{"$f":"IF(AND(ISBLANK(INDEX($G:$G,)), ISBLANK(INDEX($C:$C,))), \"\", 'PWS Records (System Entry)'!$D$3)","v":""},null,null,null,null,null,null,null,null,null,null,null,null,null,null,null,null,null,null,""]
[{"$f":"IF(AND(ISBLANK(INDEX($G:$G,)), ISBLANK(INDEX($C:$C,))), \"\", 'PWS Records (System Entry)'!$D$4)","v":""},{"$f":"IF(AND(ISBLANK(INDEX($G:$G,)), ISBLANK(INDEX($C:$C,))), \"\", 'PWS Records (System Entry)'!$D$3)","v":""},null,null,null,null,null,null,null,null,null,null,null,null,null,null,null,null,null,null,""]
[{"$f":"IF(AND(ISBLANK(INDEX($G:$G,)), ISBLANK(INDEX($C:$C,))), \"\", 'PWS Records (System Entry)'!$D$4)","v":""},{"$f":"IF(AND(ISBLANK(INDEX($G:$G,)), ISBLANK(INDEX($C:$C,))), \"\", 'PWS Records (System Entry)'!$D$3)","v":""},null,null,null,null,null,null,null,null,null,null,null,null,null,null,null,null,null,null,""]
[{"$f":"IF(AND(ISBLANK(INDEX($G:$G,)), ISBLANK(INDEX($C:$C,))), \"\", 'PWS Records (System Entry)'!$D$4)","v":""},{"$f":"IF(AND(ISBLANK(INDEX($G:$G,)), ISBLANK(INDEX($C:$C,))), \"\", 'PWS Records (System Entry)'!$D$3)","v":""},null,null,null,null,null,null,null,null,null,null,null,null,null,null,null,null,null,null,""]
[{"$f":"IF(AND(ISBLANK(INDEX($G:$G,)), ISBLANK(INDEX($C:$C,))), \"\", 'PWS Records (System Entry)'!$D$4)","v":""},{"$f":"IF(AND(ISBLANK(INDEX($G:$G,)), ISBLANK(INDEX($C:$C,))), \"\", 'PWS Records (System Entry)'!$D$3)","v":""},null,null,null,null,null,null,null,null,null,null,null,null,null,null,null,null,null,null,""]
[{"$f":"IF(AND(ISBLANK(INDEX($G:$G,)), ISBLANK(INDEX($C:$C,))), \"\", 'PWS Records (System Entry)'!$D$4)","v":""},{"$f":"IF(AND(ISBLANK(INDEX($G:$G,)), ISBLANK(INDEX($C:$C,))), \"\", 'PWS Records (System Entry)'!$D$3)","v":""},null,null,null,null,null,null,null,null,null,null,null,null,null,null,null,null,null,null,""]
[{"$f":"IF(AND(ISBLANK(INDEX($G:$G,)), ISBLANK(INDEX($C:$C,))), \"\", 'PWS Records (System Entry)'!$D$4)","v":""},{"$f":"IF(AND(ISBLANK(INDEX($G:$G,)), ISBLANK(INDEX($C:$C,))), \"\", 'PWS Records (System Entry)'!$D$3)","v":""},null,null,null,null,null,null,null,null,null,null,null,null,null,null,null,null,null,null,""]
[{"$f":"IF(AND(ISBLANK(INDEX($G:$G,)), ISBLANK(INDEX($C:$C,))), \"\", 'PWS Records (System Entry)'!$D$4)","v":""},{"$f":"IF(AND(ISBLANK(INDEX($G:$G,)), ISBLANK(INDEX($C:$C,))), \"\", 'PWS Records (System Entry)'!$D$3)","v":""},null,null,null,null,null,null,null,null,null,null,null,null,null,null,null,null,null,null,""]
[{"$f":"IF(AND(ISBLANK(INDEX($G:$G,)), ISBLANK(INDEX($C:$C,))), \"\", 'PWS Records (System Entry)'!$D$4)","v":""},{"$f":"IF(AND(ISBLANK(INDEX($G:$G,)), ISBLANK(INDEX($C:$C,))), \"\", 'PWS Records (System Entry)'!$D$3)","v":""},null,null,null,null,null,null,null,null,null,null,null,null,null,null,null,null,null,null,""]
[{"$f":"IF(AND(ISBLANK(INDEX($G:$G,)), ISBLANK(INDEX($C:$C,))), \"\", 'PWS Records (System Entry)'!$D$4)","v":""},{"$f":"IF(AND(ISBLANK(INDEX($G:$G,)), ISBLANK(INDEX($C:$C,))), \"\", 'PWS Records (System Entry)'!$D$3)","v":""},null,null,null,null,null,null,null,null,null,null,null,null,null,null,null,null,null,null,""]
[{"$f":"IF(AND(ISBLANK(INDEX($G:$G,)), ISBLANK(INDEX($C:$C,))), \"\", 'PWS Records (System Entry)'!$D$4)","v":""},{"$f":"IF(AND(ISBLANK(INDEX($G:$G,)), ISBLANK(INDEX($C:$C,))), \"\", 'PWS Records (System Entry)'!$D$3)","v":""},null,null,null,null,null,null,null,null,null,null,null,null,null,null,null,null,null,null,""]
[{"$f":"IF(AND(ISBLANK(INDEX($G:$G,)), ISBLANK(INDEX($C:$C,))), \"\", 'PWS Records (System Entry)'!$D$4)","v":""},{"$f":"IF(AND(ISBLANK(INDEX($G:$G,)), ISBLANK(INDEX($C:$C,))), \"\", 'PWS Records (System Entry)'!$D$3)","v":""},null,null,null,null,null,null,null,null,null,null,null,null,null,null,null,null,null,null,""]
[{"$f":"IF(AND(ISBLANK(INDEX($G:$G,)), ISBLANK(INDEX($C:$C,))), \"\", 'PWS Records (System Entry)'!$D$4)","v":""},{"$f":"IF(AND(ISBLANK(INDEX($G:$G,)), ISBLANK(INDEX($C:$C,))), \"\", 'PWS Records (System Entry)'!$D$3)","v":""},null,null,null,null,null,null,null,null,null,null,null,null,null,null,null,null,null,null,""]
[{"$f":"IF(AND(ISBLANK(INDEX($G:$G,)), ISBLANK(INDEX($C:$C,))), \"\", 'PWS Records (System Entry)'!$D$4)","v":""},{"$f":"IF(AND(ISBLANK(INDEX($G:$G,)), ISBLANK(INDEX($C:$C,))), \"\", 'PWS Records (System Entry)'!$D$3)","v":""},null,null,null,null,null,null,null,null,null,null,null,null,null,null,null,null,null,null,""]
[{"$f":"IF(AND(ISBLANK(INDEX($G:$G,)), ISBLANK(INDEX($C:$C,))), \"\", 'PWS Records (System Entry)'!$D$4)","v":""},{"$f":"IF(AND(ISBLANK(INDEX($G:$G,)), ISBLANK(INDEX($C:$C,))), \"\", 'PWS Records (System Entry)'!$D$3)","v":""},null,null,null,null,null,null,null,null,null,null,null,null,null,null,null,null,null,null,""]
[{"$f":"IF(AND(ISBLANK(INDEX($G:$G,)), ISBLANK(INDEX($C:$C,))), \"\", 'PWS Records (System Entry)'!$D$4)","v":""},{"$f":"IF(AND(ISBLANK(INDEX($G:$G,)), ISBLANK(INDEX($C:$C,))), \"\", 'PWS Records (System Entry)'!$D$3)","v":""},null,null,null,null,null,null,null,null,null,null,null,null,null,null,null,null,null,null,""]
[{"$f":"IF(AND(ISBLANK(INDEX($G:$G,)), ISBLANK(INDEX($C:$C,))), \"\", 'PWS Records (System Entry)'!$D$4)","v":""},{"$f":"IF(AND(ISBLANK(INDEX($G:$G,)), ISBLANK(INDEX($C:$C,))), \"\", 'PWS Records (System Entry)'!$D$3)","v":""},null,null,null,null,null,null,null,null,null,null,null,null,null,null,null,null,null,null,""]
[{"$f":"IF(AND(ISBLANK(INDEX($G:$G,)), ISBLANK(INDEX($C:$C,))), \"\", 'PWS Records (System Entry)'!$D$4)","v":""},{"$f":"IF(AND(ISBLANK(INDEX($G:$G,)), ISBLANK(INDEX($C:$C,))), \"\", 'PWS Records (System Entry)'!$D$3)","v":""},null,null,null,null,null,null,null,null,null,null,null,null,null,null,null,null,null,null,""]
[{"$f":"IF(AND(ISBLANK(INDEX($G:$G,)), ISBLANK(INDEX($C:$C,))), \"\", 'PWS Records (System Entry)'!$D$4)","v":""},{"$f":"IF(AND(ISBLANK(INDEX($G:$G,)), ISBLANK(INDEX($C:$C,))), \"\", 'PWS Records (System Entry)'!$D$3)","v":""},null,null,null,null,null,null,null,null,null,null,null,null,null,null,null,null,null,null,""]
[{"$f":"IF(AND(ISBLANK(INDEX($G:$G,)), ISBLANK(INDEX($C:$C,))), \"\", 'PWS Records (System Entry)'!$D$4)","v":""},{"$f":"IF(AND(ISBLANK(INDEX($G:$G,)), ISBLANK(INDEX($C:$C,))), \"\", 'PWS Records (System Entry)'!$D$3)","v":""},null,null,null,null,null,null,null,null,null,null,null,null,null,null,null,null,null,null,""]
[{"$f":"IF(AND(ISBLANK(INDEX($G:$G,)), ISBLANK(INDEX($C:$C,))), \"\", 'PWS Records (System Entry)'!$D$4)","v":""},{"$f":"IF(AND(ISBLANK(INDEX($G:$G,)), ISBLANK(INDEX($C:$C,))), \"\", 'PWS Records (System Entry)'!$D$3)","v":""},null,null,null,null,null,null,null,null,null,null,null,null,null,null,null,null,null,null,""]
[{"$f":"IF(AND(ISBLANK(INDEX($G:$G,)), ISBLANK(INDEX($C:$C,))), \"\", 'PWS Records (System Entry)'!$D$4)","v":""},{"$f":"IF(AND(ISBLANK(INDEX($G:$G,)), ISBLANK(INDEX($C:$C,))), \"\", 'PWS Records (System Entry)'!$D$3)","v":""},null,null,null,null,null,null,null,null,null,null,null,null,null,null,null,null,null,null,""]
[{"$f":"IF(AND(ISBLANK(INDEX($G:$G,)), ISBLANK(INDEX($C:$C,))), \"\", 'PWS Records (System Entry)'!$D$4)","v":""},{"$f":"IF(AND(ISBLANK(INDEX($G:$G,)), ISBLANK(INDEX($C:$C,))), \"\", 'PWS Records (System Entry)'!$D$3)","v":""},null,null,null,null,null,null,null,null,null,null,null,null,null,null,null,null,null,null,""]
[{"$f":"IF(AND(ISBLANK(INDEX($G:$G,)), ISBLANK(INDEX($C:$C,))), \"\", 'PWS Records (System Entry)'!$D$4)","v":""},{"$f":"IF(AND(ISBLANK(INDEX($G:$G,)), ISBLANK(INDEX($C:$C,))), \"\", 'PWS Records (System Entry)'!$D$3)","v":""},null,null,null,null,null,null,null,null,null,null,null,null,null,null,null,null,null,null,""]
[{"$f":"IF(AND(ISBLANK(INDEX($G:$G,)), ISBLANK(INDEX($C:$C,))), \"\", 'PWS Records (System Entry)'!$D$4)","v":""},{"$f":"IF(AND(ISBLANK(INDEX($G:$G,)), ISBLANK(INDEX($C:$C,))), \"\", 'PWS Records (System Entry)'!$D$3)","v":""},null,null,null,null,null,null,null,null,null,null,null,null,null,null,null,null,null,null,""]
[{"$f":"IF(AND(ISBLANK(INDEX($G:$G,)), ISBLANK(INDEX($C:$C,))), \"\", 'PWS Records (System Entry)'!$D$4)","v":""},{"$f":"IF(AND(ISBLANK(INDEX($G:$G,)), ISBLANK(INDEX($C:$C,))), \"\", 'PWS Records (System Entry)'!$D$3)","v":""},null,null,null,null,null,null,null,null,null,null,null,null,null,null,null,null,null,null,""]
[{"$f":"IF(AND(ISBLANK(INDEX($G:$G,)), ISBLANK(INDEX($C:$C,))), \"\", 'PWS Records (System Entry)'!$D$4)","v":""},{"$f":"IF(AND(ISBLANK(INDEX($G:$G,)), ISBLANK(INDEX($C:$C,))), \"\", 'PWS Records (System Entry)'!$D$3)","v":""},null,null,null,null,null,null,null,null,null,null,null,null,null,null,null,null,null,null,""]
[{"$f":"IF(AND(ISBLANK(INDEX($G:$G,)), ISBLANK(INDEX($C:$C,))), \"\", 'PWS Records (System Entry)'!$D$4)","v":""},{"$f":"IF(AND(ISBLANK(INDEX($G:$G,)), ISBLANK(INDEX($C:$C,))), \"\", 'PWS Records (System Entry)'!$D$3)","v":""},null,null,null,null,null,null,null,null,null,null,null,null,null,null,null,null,null,null,""]
[{"$f":"IF(AND(ISBLANK(INDEX($G:$G,)), ISBLANK(INDEX($C:$C,))), \"\", 'PWS Records (System Entry)'!$D$4)","v":""},{"$f":"IF(AND(ISBLANK(INDEX($G:$G,)), ISBLANK(INDEX($C:$C,))), \"\", 'PWS Records (System Entry)'!$D$3)","v":""},null,null,null,null,null,null,null,null,null,null,null,null,null,null,null,null,null,null,""]
[{"$f":"IF(AND(ISBLANK(INDEX($G:$G,)), ISBLANK(INDEX($C:$C,))), \"\", 'PWS Records (System Entry)'!$D$4)","v":""},{"$f":"IF(AND(ISBLANK(INDEX($G:$G,)), ISBLANK(INDEX($C:$C,))), \"\", 'PWS Records (System Entry)'!$D$3)","v":""},null,null,null,null,null,null,null,null,null,null,null,null,null,null,null,null,null,null,""]
[{"$f":"IF(AND(ISBLANK(INDEX($G:$G,)), ISBLANK(INDEX($C:$C,))), \"\", 'PWS Records (System Entry)'!$D$4)","v":""},{"$f":"IF(AND(ISBLANK(INDEX($G:$G,)), ISBLANK(INDEX($C:$C,))), \"\", 'PWS Records (System Entry)'!$D$3)","v":""},null,null,null,null,null,null,null,null,null,null,null,null,null,null,null,null,null,null,""]
[{"$f":"IF(AND(ISBLANK(INDEX($G:$G,)), ISBLANK(INDEX($C:$C,))), \"\", 'PWS Records (System Entry)'!$D$4)","v":""},{"$f":"IF(AND(ISBLANK(INDEX($G:$G,)), ISBLANK(INDEX($C:$C,))), \"\", 'PWS Records (System Entry)'!$D$3)","v":""},null,null,null,null,null,null,null,null,null,null,null,null,null,null,null,null,null,null,""]
[{"$f":"IF(AND(ISBLANK(INDEX($G:$G,)), ISBLANK(INDEX($C:$C,))), \"\", 'PWS Records (System Entry)'!$D$4)","v":""},{"$f":"IF(AND(ISBLANK(INDEX($G:$G,)), ISBLANK(INDEX($C:$C,))), \"\", 'PWS Records (System Entry)'!$D$3)","v":""},null,null,null,null,null,null,null,null,null,null,null,null,null,null,null,null,null,null,""]
[{"$f":"IF(AND(ISBLANK(INDEX($G:$G,)), ISBLANK(INDEX($C:$C,))), \"\", 'PWS Records (System Entry)'!$D$4)","v":""},{"$f":"IF(AND(ISBLANK(INDEX($G:$G,)), ISBLANK(INDEX($C:$C,))), \"\", 'PWS Records (System Entry)'!$D$3)","v":""},null,null,null,null,null,null,null,null,null,null,null,null,null,null,null,null,null,null,""]
[{"$f":"IF(AND(ISBLANK(INDEX($G:$G,)), ISBLANK(INDEX($C:$C,))), \"\", 'PWS Records (System Entry)'!$D$4)","v":""},{"$f":"IF(AND(ISBLANK(INDEX($G:$G,)), ISBLANK(INDEX($C:$C,))), \"\", 'PWS Records (System Entry)'!$D$3)","v":""},null,null,null,null,null,null,null,null,null,null,null,null,null,null,null,null,null,null,""]
[{"$f":"IF(AND(ISBLANK(INDEX($G:$G,)), ISBLANK(INDEX($C:$C,))), \"\", 'PWS Records (System Entry)'!$D$4)","v":""},{"$f":"IF(AND(ISBLANK(INDEX($G:$G,)), ISBLANK(INDEX($C:$C,))), \"\", 'PWS Records (System Entry)'!$D$3)","v":""},null,null,null,null,null,null,null,null,null,null,null,null,null,null,null,null,null,null,""]
[{"$f":"IF(AND(ISBLANK(INDEX($G:$G,)), ISBLANK(INDEX($C:$C,))), \"\", 'PWS Records (System Entry)'!$D$4)","v":""},{"$f":"IF(AND(ISBLANK(INDEX($G:$G,)), ISBLANK(INDEX($C:$C,))), \"\", 'PWS Records (System Entry)'!$D$3)","v":""},null,null,null,null,null,null,null,null,null,null,null,null,null,null,null,null,null,null,""]
[{"$f":"IF(AND(ISBLANK(INDEX($G:$G,)), ISBLANK(INDEX($C:$C,))), \"\", 'PWS Records (System Entry)'!$D$4)","v":""},{"$f":"IF(AND(ISBLANK(INDEX($G:$G,)), ISBLANK(INDEX($C:$C,))), \"\", 'PWS Records (System Entry)'!$D$3)","v":""},null,null,null,null,null,null,null,null,null,null,null,null,null,null,null,null,null,null,""]
[{"$f":"IF(AND(ISBLANK(INDEX($G:$G,)), ISBLANK(INDEX($C:$C,))), \"\", 'PWS Records (System Entry)'!$D$4)","v":""},{"$f":"IF(AND(ISBLANK(INDEX($G:$G,)), ISBLANK(INDEX($C:$C,))), \"\", 'PWS Records (System Entry)'!$D$3)","v":""},null,null,null,null,null,null,null,null,null,null,null,null,null,null,null,null,null,null,""]
[{"$f":"IF(AND(ISBLANK(INDEX($G:$G,)), ISBLANK(INDEX($C:$C,))), \"\", 'PWS Records (System Entry)'!$D$4)","v":""},{"$f":"IF(AND(ISBLANK(INDEX($G:$G,)), ISBLANK(INDEX($C:$C,))), \"\", 'PWS Records (System Entry)'!$D$3)","v":""},null,null,null,null,null,null,null,null,null,null,null,null,null,null,null,null,null,null,{"$f":"IF(AND(INDEX($K:$K,)=\"\", INDEX($L:$L,)=\"\", INDEX($M:$M,)=\"\", INDEX($Q:$Q,)=\"\", INDEX($R:$R,)=\"\"), \"\", IF(OR(INDEX($K:$K,)=\"Lead\",INDEX($Q:$Q,)=\"Lead\"),\"Lead\",IF(OR(AND(OR(INDEX($M:$M,)=\"Yes\", INDEX($M:$M,)=\"Don't Know\", INDEX($M:$M,)=\"\"), INDEX($Q:$Q,)=\"Galvanized Iron/Steel\"), AND(INDEX($K:$K,)=\"Unknown\", INDEX($M:$M,)=\"No\", INDEX($Q:$Q,)=\"Galvanized Iron/Steel\")), \"Galvanized Requiring Replacement\", IF(OR(AND(OR(INDEX($K:$K,)=\"Galvanized Iron/Steel\", INDEX($K:$K,)=\"Non-Lead - Copper\", INDEX($K:$K,)=\"Non-Lead - Plastic\", INDEX($K:$K,)=\"Non-Lead - Other\", INDEX($K:$K,)=\"Non-Lead - Material Unknown\", INDEX($K:$K,)=\"No System Owned Portion\"), OR(INDEX($Q:$Q,)=\"Galvanized Iron/Steel\", INDEX($Q:$Q,)=\"Non-Lead - Copper\", INDEX($Q:$Q,)=\"Non-Lead - Plastic\", INDEX($Q:$Q,)=\"Non-Lead - Other\", INDEX($Q:$Q,)=\"Non-Lead - Predictive Model\", INDEX($Q:$Q,)=\"No Customer Owned Portion\")), AND(OR( INDEX($K:$K,)=\"Galvanized Iron/Steel\", INDEX($K:$K,)=\"Non-Lead - Copper\", INDEX($K:$K,)=\"Non-Lead - Plastic\", INDEX($K:$K,)=\"Non-Lead - Other\", INDEX($K:$K,)=\"Non-Lead - Material Unknown\", INDEX($K:$K,)=\"No System Owned Portion\"), INDEX($M:$M,)=\"No\", INDEX($Q:$Q,)=\"Non-Lead - Material Unknown\")), \"Non-Lead\", \"Lead Status Unknown\"))))","v":""}]
[{"$f":"IF(AND(ISBLANK(INDEX($G:$G,)), ISBLANK(INDEX($C:$C,))), \"\", 'PWS Records (System Entry)'!$D$4)","v":""},{"$f":"IF(AND(ISBLANK(INDEX($G:$G,)), ISBLANK(INDEX($C:$C,))), \"\", 'PWS Records (System Entry)'!$D$3)","v":""},null,null,null,null,null,null,null,null,null,null,null,null,null,null,null,null,null,null,""]
[{"$f":"IF(AND(ISBLANK(INDEX($G:$G,)), ISBLANK(INDEX($C:$C,))), \"\", 'PWS Records (System Entry)'!$D$4)","v":""},{"$f":"IF(AND(ISBLANK(INDEX($G:$G,)), ISBLANK(INDEX($C:$C,))), \"\", 'PWS Records (System Entry)'!$D$3)","v":""},null,null,null,null,null,null,null,null,null,null,null,null,null,null,null,null,null,null,""]
[{"$f":"IF(AND(ISBLANK(INDEX($G:$G,)), ISBLANK(INDEX($C:$C,))), \"\", 'PWS Records (System Entry)'!$D$4)","v":""},{"$f":"IF(AND(ISBLANK(INDEX($G:$G,)), ISBLANK(INDEX($C:$C,))), \"\", 'PWS Records (System Entry)'!$D$3)","v":""},null,null,null,null,null,null,null,null,null,null,null,null,null,null,null,null,null,null,""]
[{"$f":"IF(AND(ISBLANK(INDEX($G:$G,)), ISBLANK(INDEX($C:$C,))), \"\", 'PWS Records (System Entry)'!$D$4)","v":""},{"$f":"IF(AND(ISBLANK(INDEX($G:$G,)), ISBLANK(INDEX($C:$C,))), \"\", 'PWS Records (System Entry)'!$D$3)","v":""},null,null,null,null,null,null,null,null,null,null,null,null,null,null,null,null,null,null,""]
[{"$f":"IF(AND(ISBLANK(INDEX($G:$G,)), ISBLANK(INDEX($C:$C,))), \"\", 'PWS Records (System Entry)'!$D$4)","v":""},{"$f":"IF(AND(ISBLANK(INDEX($G:$G,)), ISBLANK(INDEX($C:$C,))), \"\", 'PWS Records (System Entry)'!$D$3)","v":""},null,null,null,null,null,null,null,null,null,null,null,null,null,null,null,null,null,null,""]
[{"$f":"IF(AND(ISBLANK(INDEX($G:$G,)), ISBLANK(INDEX($C:$C,))), \"\", 'PWS Records (System Entry)'!$D$4)","v":""},{"$f":"IF(AND(ISBLANK(INDEX($G:$G,)), ISBLANK(INDEX($C:$C,))), \"\", 'PWS Records (System Entry)'!$D$3)","v":""},null,null,null,null,null,null,null,null,null,null,null,null,null,null,null,null,null,null,""]
[{"$f":"IF(AND(ISBLANK(INDEX($G:$G,)), ISBLANK(INDEX($C:$C,))), \"\", 'PWS Records (System Entry)'!$D$4)","v":""},{"$f":"IF(AND(ISBLANK(INDEX($G:$G,)), ISBLANK(INDEX($C:$C,))), \"\", 'PWS Records (System Entry)'!$D$3)","v":""},null,null,null,null,null,null,null,null,null,null,null,null,null,null,null,null,null,null,""]
[{"$f":"IF(AND(ISBLANK(INDEX($G:$G,)), ISBLANK(INDEX($C:$C,))), \"\", 'PWS Records (System Entry)'!$D$4)","v":""},{"$f":"IF(AND(ISBLANK(INDEX($G:$G,)), ISBLANK(INDEX($C:$C,))), \"\", 'PWS Records (System Entry)'!$D$3)","v":""},null,null,null,null,null,null,null,null,null,null,null,null,null,null,null,null,null,null,""]
[{"$f":"IF(AND(ISBLANK(INDEX($G:$G,)), ISBLANK(INDEX($C:$C,))), \"\", 'PWS Records (System Entry)'!$D$4)","v":""},{"$f":"IF(AND(ISBLANK(INDEX($G:$G,)), ISBLANK(INDEX($C:$C,))), \"\", 'PWS Records (System Entry)'!$D$3)","v":""},null,null,null,null,null,null,null,null,null,null,null,null,null,null,null,null,null,null,""]
[{"$f":"IF(AND(ISBLANK(INDEX($G:$G,)), ISBLANK(INDEX($C:$C,))), \"\", 'PWS Records (System Entry)'!$D$4)","v":""},{"$f":"IF(AND(ISBLANK(INDEX($G:$G,)), ISBLANK(INDEX($C:$C,))), \"\", 'PWS Records (System Entry)'!$D$3)","v":""},null,null,null,null,null,null,null,null,null,null,null,null,null,null,null,null,null,null,""]
[{"$f":"IF(AND(ISBLANK(INDEX($G:$G,)), ISBLANK(INDEX($C:$C,))), \"\", 'PWS Records (System Entry)'!$D$4)","v":""},{"$f":"IF(AND(ISBLANK(INDEX($G:$G,)), ISBLANK(INDEX($C:$C,))), \"\", 'PWS Records (System Entry)'!$D$3)","v":""},null,null,null,null,null,null,null,null,null,null,null,null,null,null,null,null,null,null,""]
[{"$f":"IF(AND(ISBLANK(INDEX($G:$G,)), ISBLANK(INDEX($C:$C,))), \"\", 'PWS Records (System Entry)'!$D$4)","v":""},{"$f":"IF(AND(ISBLANK(INDEX($G:$G,)), ISBLANK(INDEX($C:$C,))), \"\", 'PWS Records (System Entry)'!$D$3)","v":""},null,null,null,null,null,null,null,null,null,null,null,null,null,null,null,null,null,null,""]
[{"$f":"IF(AND(ISBLANK(INDEX($G:$G,)), ISBLANK(INDEX($C:$C,))), \"\", 'PWS Records (System Entry)'!$D$4)","v":""},{"$f":"IF(AND(ISBLANK(INDEX($G:$G,)), ISBLANK(INDEX($C:$C,))), \"\", 'PWS Records (System Entry)'!$D$3)","v":""},null,null,null,null,null,null,null,null,null,null,null,null,null,null,null,null,null,null,""]
[{"$f":"IF(AND(ISBLANK(INDEX($G:$G,)), ISBLANK(INDEX($C:$C,))), \"\", 'PWS Records (System Entry)'!$D$4)","v":""},{"$f":"IF(AND(ISBLANK(INDEX($G:$G,)), ISBLANK(INDEX($C:$C,))), \"\", 'PWS Records (System Entry)'!$D$3)","v":""},null,null,null,null,null,null,null,null,null,null,null,null,null,null,null,null,null,null,""]
[{"$f":"IF(AND(ISBLANK(INDEX($G:$G,)), ISBLANK(INDEX($C:$C,))), \"\", 'PWS Records (System Entry)'!$D$4)","v":""},{"$f":"IF(AND(ISBLANK(INDEX($G:$G,)), ISBLANK(INDEX($C:$C,))), \"\", 'PWS Records (System Entry)'!$D$3)","v":""},null,null,null,null,null,null,null,null,null,null,null,null,null,null,null,null,null,null,""]
[{"$f":"IF(AND(ISBLANK(INDEX($G:$G,)), ISBLANK(INDEX($C:$C,))), \"\", 'PWS Records (System Entry)'!$D$4)","v":""},{"$f":"IF(AND(ISBLANK(INDEX($G:$G,)), ISBLANK(INDEX($C:$C,))), \"\", 'PWS Records (System Entry)'!$D$3)","v":""},null,null,null,null,null,null,null,null,null,null,null,null,null,null,null,null,null,null,""]
[{"$f":"IF(AND(ISBLANK(INDEX($G:$G,)), ISBLANK(INDEX($C:$C,))), \"\", 'PWS Records (System Entry)'!$D$4)","v":""},{"$f":"IF(AND(ISBLANK(INDEX($G:$G,)), ISBLANK(INDEX($C:$C,))), \"\", 'PWS Records (System Entry)'!$D$3)","v":""},null,null,null,null,null,null,null,null,null,null,null,null,null,null,null,null,null,null,""]
[{"$f":"IF(AND(ISBLANK(INDEX($G:$G,)), ISBLANK(INDEX($C:$C,))), \"\", 'PWS Records (System Entry)'!$D$4)","v":""},{"$f":"IF(AND(ISBLANK(INDEX($G:$G,)), ISBLANK(INDEX($C:$C,))), \"\", 'PWS Records (System Entry)'!$D$3)","v":""},null,null,null,null,null,null,null,null,null,null,null,null,null,null,null,null,null,null,""]
[{"$f":"IF(AND(ISBLANK(INDEX($G:$G,)), ISBLANK(INDEX($C:$C,))), \"\", 'PWS Records (System Entry)'!$D$4)","v":""},{"$f":"IF(AND(ISBLANK(INDEX($G:$G,)), ISBLANK(INDEX($C:$C,))), \"\", 'PWS Records (System Entry)'!$D$3)","v":""},null,null,null,null,null,null,null,null,null,null,null,null,null,null,null,null,null,null,""]
[{"$f":"IF(AND(ISBLANK(INDEX($G:$G,)), ISBLANK(INDEX($C:$C,))), \"\", 'PWS Records (System Entry)'!$D$4)","v":""},{"$f":"IF(AND(ISBLANK(INDEX($G:$G,)), ISBLANK(INDEX($C:$C,))), \"\", 'PWS Records (System Entry)'!$D$3)","v":""},null,null,null,null,null,null,null,null,null,null,null,null,null,null,null,null,null,null,""]
[{"$f":"IF(AND(ISBLANK(INDEX($G:$G,)), ISBLANK(INDEX($C:$C,))), \"\", 'PWS Records (System Entry)'!$D$4)","v":""},{"$f":"IF(AND(ISBLANK(INDEX($G:$G,)), ISBLANK(INDEX($C:$C,))), \"\", 'PWS Records (System Entry)'!$D$3)","v":""},null,null,null,null,null,null,null,null,null,null,null,null,null,null,null,null,null,null,""]
[{"$f":"IF(AND(ISBLANK(INDEX($G:$G,)), ISBLANK(INDEX($C:$C,))), \"\", 'PWS Records (System Entry)'!$D$4)","v":""},{"$f":"IF(AND(ISBLANK(INDEX($G:$G,)), ISBLANK(INDEX($C:$C,))), \"\", 'PWS Records (System Entry)'!$D$3)","v":""},null,null,null,null,null,null,null,null,null,null,null,null,null,null,null,null,null,null,""]
[{"$f":"IF(AND(ISBLANK(INDEX($G:$G,)), ISBLANK(INDEX($C:$C,))), \"\", 'PWS Records (System Entry)'!$D$4)","v":""},{"$f":"IF(AND(ISBLANK(INDEX($G:$G,)), ISBLANK(INDEX($C:$C,))), \"\", 'PWS Records (System Entry)'!$D$3)","v":""},null,null,null,null,null,null,null,null,null,null,null,null,null,null,null,null,null,null,""]
[{"$f":"IF(AND(ISBLANK(INDEX($G:$G,)), ISBLANK(INDEX($C:$C,))), \"\", 'PWS Records (System Entry)'!$D$4)","v":""},{"$f":"IF(AND(ISBLANK(INDEX($G:$G,)), ISBLANK(INDEX($C:$C,))), \"\", 'PWS Records (System Entry)'!$D$3)","v":""},null,null,null,null,null,null,null,null,null,null,null,null,null,null,null,null,null,null,""]
[{"$f":"IF(AND(ISBLANK(INDEX($G:$G,)), ISBLANK(INDEX($C:$C,))), \"\", 'PWS Records (System Entry)'!$D$4)","v":""},{"$f":"IF(AND(ISBLANK(INDEX($G:$G,)), ISBLANK(INDEX($C:$C,))), \"\", 'PWS Records (System Entry)'!$D$3)","v":""},null,null,null,null,null,null,null,null,null,null,null,null,null,null,null,null,null,null,""]
[{"$f":"IF(AND(ISBLANK(INDEX($G:$G,)), ISBLANK(INDEX($C:$C,))), \"\", 'PWS Records (System Entry)'!$D$4)","v":""},{"$f":"IF(AND(ISBLANK(INDEX($G:$G,)), ISBLANK(INDEX($C:$C,))), \"\", 'PWS Records (System Entry)'!$D$3)","v":""},null,null,null,null,null,null,null,null,null,null,null,null,null,null,null,null,null,null,""]
[{"$f":"IF(AND(ISBLANK(INDEX($G:$G,)), ISBLANK(INDEX($C:$C,))), \"\", 'PWS Records (System Entry)'!$D$4)","v":""},{"$f":"IF(AND(ISBLANK(INDEX($G:$G,)), ISBLANK(INDEX($C:$C,))), \"\", 'PWS Records (System Entry)'!$D$3)","v":""},null,null,null,null,null,null,null,null,null,null,null,null,null,null,null,null,null,null,""]
[{"$f":"IF(AND(ISBLANK(INDEX($G:$G,)), ISBLANK(INDEX($C:$C,))), \"\", 'PWS Records (System Entry)'!$D$4)","v":""},{"$f":"IF(AND(ISBLANK(INDEX($G:$G,)), ISBLANK(INDEX($C:$C,))), \"\", 'PWS Records (System Entry)'!$D$3)","v":""},null,null,null,null,null,null,null,null,null,null,null,null,null,null,null,null,null,null,""]
[{"$f":"IF(AND(ISBLANK(INDEX($G:$G,)), ISBLANK(INDEX($C:$C,))), \"\", 'PWS Records (System Entry)'!$D$4)","v":""},{"$f":"IF(AND(ISBLANK(INDEX($G:$G,)), ISBLANK(INDEX($C:$C,))), \"\", 'PWS Records (System Entry)'!$D$3)","v":""},null,null,null,null,null,null,null,null,null,null,null,null,null,null,null,null,null,null,""]
[{"$f":"IF(AND(ISBLANK(INDEX($G:$G,)), ISBLANK(INDEX($C:$C,))), \"\", 'PWS Records (System Entry)'!$D$4)","v":""},{"$f":"IF(AND(ISBLANK(INDEX($G:$G,)), ISBLANK(INDEX($C:$C,))), \"\", 'PWS Records (System Entry)'!$D$3)","v":""},null,null,null,null,null,null,null,null,null,null,null,null,null,null,null,null,null,null,""]
[{"$f":"IF(AND(ISBLANK(INDEX($G:$G,)), ISBLANK(INDEX($C:$C,))), \"\", 'PWS Records (System Entry)'!$D$4)","v":""},{"$f":"IF(AND(ISBLANK(INDEX($G:$G,)), ISBLANK(INDEX($C:$C,))), \"\", 'PWS Records (System Entry)'!$D$3)","v":""},null,null,null,null,null,null,null,null,null,null,null,null,null,null,null,null,null,null,""]
[{"$f":"IF(AND(ISBLANK(INDEX($G:$G,)), ISBLANK(INDEX($C:$C,))), \"\", 'PWS Records (System Entry)'!$D$4)","v":""},{"$f":"IF(AND(ISBLANK(INDEX($G:$G,)), ISBLANK(INDEX($C:$C,))), \"\", 'PWS Records (System Entry)'!$D$3)","v":""},null,null,null,null,null,null,null,null,null,null,null,null,null,null,null,null,null,null,""]
[{"$f":"IF(AND(ISBLANK(INDEX($G:$G,)), ISBLANK(INDEX($C:$C,))), \"\", 'PWS Records (System Entry)'!$D$4)","v":""},{"$f":"IF(AND(ISBLANK(INDEX($G:$G,)), ISBLANK(INDEX($C:$C,))), \"\", 'PWS Records (System Entry)'!$D$3)","v":""},null,null,null,null,null,null,null,null,null,null,null,null,null,null,null,null,null,null,""]
[{"$f":"IF(AND(ISBLANK(INDEX($G:$G,)), ISBLANK(INDEX($C:$C,))), \"\", 'PWS Records (System Entry)'!$D$4)","v":""},{"$f":"IF(AND(ISBLANK(INDEX($G:$G,)), ISBLANK(INDEX($C:$C,))), \"\", 'PWS Records (System Entry)'!$D$3)","v":""},null,null,null,null,null,null,null,null,null,null,null,null,null,null,null,null,null,null,{"$f":"IF(AND(INDEX($K:$K,)=\"\", INDEX($L:$L,)=\"\", INDEX($M:$M,)=\"\", INDEX($Q:$Q,)=\"\", INDEX($R:$R,)=\"\"), \"\", IF(OR(INDEX($K:$K,)=\"Lead\",INDEX($Q:$Q,)=\"Lead\"),\"Lead\",IF(OR(AND(OR(INDEX($M:$M,)=\"Yes\", INDEX($M:$M,)=\"Don't Know\", INDEX($M:$M,)=\"\"), INDEX($Q:$Q,)=\"Galvanized Iron/Steel\"), AND(INDEX($K:$K,)=\"Unknown\", INDEX($M:$M,)=\"No\", INDEX($Q:$Q,)=\"Galvanized Iron/Steel\")), \"Galvanized Requiring Replacement\", IF(OR(AND(OR(INDEX($K:$K,)=\"Galvanized Iron/Steel\", INDEX($K:$K,)=\"Non-Lead - Copper\", INDEX($K:$K,)=\"Non-Lead - Plastic\", INDEX($K:$K,)=\"Non-Lead - Other\", INDEX($K:$K,)=\"Non-Lead - Material Unknown\", INDEX($K:$K,)=\"No System Owned Portion\"), OR(INDEX($Q:$Q,)=\"Galvanized Iron/Steel\", INDEX($Q:$Q,)=\"Non-Lead - Copper\", INDEX($Q:$Q,)=\"Non-Lead - Plastic\", INDEX($Q:$Q,)=\"Non-Lead - Other\", INDEX($Q:$Q,)=\"Non-Lead - Predictive Model\", INDEX($Q:$Q,)=\"No Customer Owned Portion\")), AND(OR( INDEX($K:$K,)=\"Galvanized Iron/Steel\", INDEX($K:$K,)=\"Non-Lead - Copper\", INDEX($K:$K,)=\"Non-Lead - Plastic\", INDEX($K:$K,)=\"Non-Lead - Other\", INDEX($K:$K,)=\"Non-Lead - Material Unknown\", INDEX($K:$K,)=\"No System Owned Portion\"), INDEX($M:$M,)=\"No\", INDEX($Q:$Q,)=\"Non-Lead - Material Unknown\")), \"Non-Lead\", \"Lead Status Unknown\"))))","v":""}]
[{"$f":"IF(AND(ISBLANK(INDEX($G:$G,)), ISBLANK(INDEX($C:$C,))), \"\", 'PWS Records (System Entry)'!$D$4)","v":""},{"$f":"IF(AND(ISBLANK(INDEX($G:$G,)), ISBLANK(INDEX($C:$C,))), \"\", 'PWS Records (System Entry)'!$D$3)","v":""},null,null,null,null,null,null,null,null,null,null,null,null,null,null,null,null,null,null,""]
[{"$f":"IF(AND(ISBLANK(INDEX($G:$G,)), ISBLANK(INDEX($C:$C,))), \"\", 'PWS Records (System Entry)'!$D$4)","v":""},{"$f":"IF(AND(ISBLANK(INDEX($G:$G,)), ISBLANK(INDEX($C:$C,))), \"\", 'PWS Records (System Entry)'!$D$3)","v":""},null,null,null,null,null,null,null,null,null,null,null,null,null,null,null,null,null,null,""]
[{"$f":"IF(AND(ISBLANK(INDEX($G:$G,)), ISBLANK(INDEX($C:$C,))), \"\", 'PWS Records (System Entry)'!$D$4)","v":""},{"$f":"IF(AND(ISBLANK(INDEX($G:$G,)), ISBLANK(INDEX($C:$C,))), \"\", 'PWS Records (System Entry)'!$D$3)","v":""},null,null,null,null,null,null,null,null,null,null,null,null,null,null,null,null,null,null,""]
[{"$f":"IF(AND(ISBLANK(INDEX($G:$G,)), ISBLANK(INDEX($C:$C,))), \"\", 'PWS Records (System Entry)'!$D$4)","v":""},{"$f":"IF(AND(ISBLANK(INDEX($G:$G,)), ISBLANK(INDEX($C:$C,))), \"\", 'PWS Records (System Entry)'!$D$3)","v":""},null,null,null,null,null,null,null,null,null,null,null,null,null,null,null,null,null,null,""]
[{"$f":"IF(AND(ISBLANK(INDEX($G:$G,)), ISBLANK(INDEX($C:$C,))), \"\", 'PWS Records (System Entry)'!$D$4)","v":""},{"$f":"IF(AND(ISBLANK(INDEX($G:$G,)), ISBLANK(INDEX($C:$C,))), \"\", 'PWS Records (System Entry)'!$D$3)","v":""},null,null,null,null,null,null,null,null,null,null,null,null,null,null,null,null,null,null,""]
[{"$f":"IF(AND(ISBLANK(INDEX($G:$G,)), ISBLANK(INDEX($C:$C,))), \"\", 'PWS Records (System Entry)'!$D$4)","v":""},{"$f":"IF(AND(ISBLANK(INDEX($G:$G,)), ISBLANK(INDEX($C:$C,))), \"\", 'PWS Records (System Entry)'!$D$3)","v":""},null,null,null,null,null,null,null,null,null,null,null,null,null,null,null,null,null,null,""]
[{"$f":"IF(AND(ISBLANK(INDEX($G:$G,)), ISBLANK(INDEX($C:$C,))), \"\", 'PWS Records (System Entry)'!$D$4)","v":""},{"$f":"IF(AND(ISBLANK(INDEX($G:$G,)), ISBLANK(INDEX($C:$C,))), \"\", 'PWS Records (System Entry)'!$D$3)","v":""},null,null,null,null,null,null,null,null,null,null,null,null,null,null,null,null,null,null,""]
[{"$f":"IF(AND(ISBLANK(INDEX($G:$G,)), ISBLANK(INDEX($C:$C,))), \"\", 'PWS Records (System Entry)'!$D$4)","v":""},{"$f":"IF(AND(ISBLANK(INDEX($G:$G,)), ISBLANK(INDEX($C:$C,))), \"\", 'PWS Records (System Entry)'!$D$3)","v":""},null,null,null,null,null,null,null,null,null,null,null,null,null,null,null,null,null,null,""]
[{"$f":"IF(AND(ISBLANK(INDEX($G:$G,)), ISBLANK(INDEX($C:$C,))), \"\", 'PWS Records (System Entry)'!$D$4)","v":""},{"$f":"IF(AND(ISBLANK(INDEX($G:$G,)), ISBLANK(INDEX($C:$C,))), \"\", 'PWS Records (System Entry)'!$D$3)","v":""},null,null,null,null,null,null,null,null,null,null,null,null,null,null,null,null,null,null,""]
[{"$f":"IF(AND(ISBLANK(INDEX($G:$G,)), ISBLANK(INDEX($C:$C,))), \"\", 'PWS Records (System Entry)'!$D$4)","v":""},{"$f":"IF(AND(ISBLANK(INDEX($G:$G,)), ISBLANK(INDEX($C:$C,))), \"\", 'PWS Records (System Entry)'!$D$3)","v":""},null,null,null,null,null,null,null,null,null,null,null,null,null,null,null,null,null,null,""]
[{"$f":"IF(AND(ISBLANK(INDEX($G:$G,)), ISBLANK(INDEX($C:$C,))), \"\", 'PWS Records (System Entry)'!$D$4)","v":""},{"$f":"IF(AND(ISBLANK(INDEX($G:$G,)), ISBLANK(INDEX($C:$C,))), \"\", 'PWS Records (System Entry)'!$D$3)","v":""},null,null,null,null,null,null,null,null,null,null,null,null,null,null,null,null,null,null,""]
[{"$f":"IF(AND(ISBLANK(INDEX($G:$G,)), ISBLANK(INDEX($C:$C,))), \"\", 'PWS Records (System Entry)'!$D$4)","v":""},{"$f":"IF(AND(ISBLANK(INDEX($G:$G,)), ISBLANK(INDEX($C:$C,))), \"\", 'PWS Records (System Entry)'!$D$3)","v":""},null,null,null,null,null,null,null,null,null,null,null,null,null,null,null,null,null,null,""]
[{"$f":"IF(AND(ISBLANK(INDEX($G:$G,)), ISBLANK(INDEX($C:$C,))), \"\", 'PWS Records (System Entry)'!$D$4)","v":""},{"$f":"IF(AND(ISBLANK(INDEX($G:$G,)), ISBLANK(INDEX($C:$C,))), \"\", 'PWS Records (System Entry)'!$D$3)","v":""},null,null,null,null,null,null,null,null,null,null,null,null,null,null,null,null,null,null,""]
[{"$f":"IF(AND(ISBLANK(INDEX($G:$G,)), ISBLANK(INDEX($C:$C,))), \"\", 'PWS Records (System Entry)'!$D$4)","v":""},{"$f":"IF(AND(ISBLANK(INDEX($G:$G,)), ISBLANK(INDEX($C:$C,))), \"\", 'PWS Records (System Entry)'!$D$3)","v":""},null,null,null,null,null,null,null,null,null,null,null,null,null,null,null,null,null,null,""]
[{"$f":"IF(AND(ISBLANK(INDEX($G:$G,)), ISBLANK(INDEX($C:$C,))), \"\", 'PWS Records (System Entry)'!$D$4)","v":""},{"$f":"IF(AND(ISBLANK(INDEX($G:$G,)), ISBLANK(INDEX($C:$C,))), \"\", 'PWS Records (System Entry)'!$D$3)","v":""},null,null,null,null,null,null,null,null,null,null,null,null,null,null,null,null,null,null,""]
[{"$f":"IF(AND(ISBLANK(INDEX($G:$G,)), ISBLANK(INDEX($C:$C,))), \"\", 'PWS Records (System Entry)'!$D$4)","v":""},{"$f":"IF(AND(ISBLANK(INDEX($G:$G,)), ISBLANK(INDEX($C:$C,))), \"\", 'PWS Records (System Entry)'!$D$3)","v":""},null,null,null,null,null,null,null,null,null,null,null,null,null,null,null,null,null,null,""]
[{"$f":"IF(AND(ISBLANK(INDEX($G:$G,)), ISBLANK(INDEX($C:$C,))), \"\", 'PWS Records (System Entry)'!$D$4)","v":""},{"$f":"IF(AND(ISBLANK(INDEX($G:$G,)), ISBLANK(INDEX($C:$C,))), \"\", 'PWS Records (System Entry)'!$D$3)","v":""},null,null,null,null,null,null,null,null,null,null,null,null,null,null,null,null,null,null,""]
[{"$f":"IF(AND(ISBLANK(INDEX($G:$G,)), ISBLANK(INDEX($C:$C,))), \"\", 'PWS Records (System Entry)'!$D$4)","v":""},{"$f":"IF(AND(ISBLANK(INDEX($G:$G,)), ISBLANK(INDEX($C:$C,))), \"\", 'PWS Records (System Entry)'!$D$3)","v":""},null,null,null,null,null,null,null,null,null,null,null,null,null,null,null,null,null,null,""]
[{"$f":"IF(AND(ISBLANK(INDEX($G:$G,)), ISBLANK(INDEX($C:$C,))), \"\", 'PWS Records (System Entry)'!$D$4)","v":""},{"$f":"IF(AND(ISBLANK(INDEX($G:$G,)), ISBLANK(INDEX($C:$C,))), \"\", 'PWS Records (System Entry)'!$D$3)","v":""},null,null,null,null,null,null,null,null,null,null,null,null,null,null,null,null,null,null,""]
[{"$f":"IF(AND(ISBLANK(INDEX($G:$G,)), ISBLANK(INDEX($C:$C,))), \"\", 'PWS Records (System Entry)'!$D$4)","v":""},{"$f":"IF(AND(ISBLANK(INDEX($G:$G,)), ISBLANK(INDEX($C:$C,))), \"\", 'PWS Records (System Entry)'!$D$3)","v":""},null,null,null,null,null,null,null,null,null,null,null,null,null,null,null,null,null,null,""]
[{"$f":"IF(AND(ISBLANK(INDEX($G:$G,)), ISBLANK(INDEX($C:$C,))), \"\", 'PWS Records (System Entry)'!$D$4)","v":""},{"$f":"IF(AND(ISBLANK(INDEX($G:$G,)), ISBLANK(INDEX($C:$C,))), \"\", 'PWS Records (System Entry)'!$D$3)","v":""},null,null,null,null,null,null,null,null,null,null,null,null,null,null,null,null,null,null,""]
[{"$f":"IF(AND(ISBLANK(INDEX($G:$G,)), ISBLANK(INDEX($C:$C,))), \"\", 'PWS Records (System Entry)'!$D$4)","v":""},{"$f":"IF(AND(ISBLANK(INDEX($G:$G,)), ISBLANK(INDEX($C:$C,))), \"\", 'PWS Records (System Entry)'!$D$3)","v":""},null,null,null,null,null,null,null,null,null,null,null,null,null,null,null,null,null,null,""]
[{"$f":"IF(AND(ISBLANK(INDEX($G:$G,)), ISBLANK(INDEX($C:$C,))), \"\", 'PWS Records (System Entry)'!$D$4)","v":""},{"$f":"IF(AND(ISBLANK(INDEX($G:$G,)), ISBLANK(INDEX($C:$C,))), \"\", 'PWS Records (System Entry)'!$D$3)","v":""},null,null,null,null,null,null,null,null,null,null,null,null,null,null,null,null,null,null,""]
[{"$f":"IF(AND(ISBLANK(INDEX($G:$G,)), ISBLANK(INDEX($C:$C,))), \"\", 'PWS Records (System Entry)'!$D$4)","v":""},{"$f":"IF(AND(ISBLANK(INDEX($G:$G,)), ISBLANK(INDEX($C:$C,))), \"\", 'PWS Records (System Entry)'!$D$3)","v":""},null,null,null,null,null,null,null,null,null,null,null,null,null,null,null,null,null,null,""]
[{"$f":"IF(AND(ISBLANK(INDEX($G:$G,)), ISBLANK(INDEX($C:$C,))), \"\", 'PWS Records (System Entry)'!$D$4)","v":""},{"$f":"IF(AND(ISBLANK(INDEX($G:$G,)), ISBLANK(INDEX($C:$C,))), \"\", 'PWS Records (System Entry)'!$D$3)","v":""},null,null,null,null,null,null,null,null,null,null,null,null,null,null,null,null,null,null,""]
[{"$f":"IF(AND(ISBLANK(INDEX($G:$G,)), ISBLANK(INDEX($C:$C,))), \"\", 'PWS Records (System Entry)'!$D$4)","v":""},{"$f":"IF(AND(ISBLANK(INDEX($G:$G,)), ISBLANK(INDEX($C:$C,))), \"\", 'PWS Records (System Entry)'!$D$3)","v":""},null,null,null,null,null,null,null,null,null,null,null,null,null,null,null,null,null,null,""]
[{"$f":"IF(AND(ISBLANK(INDEX($G:$G,)), ISBLANK(INDEX($C:$C,))), \"\", 'PWS Records (System Entry)'!$D$4)","v":""},{"$f":"IF(AND(ISBLANK(INDEX($G:$G,)), ISBLANK(INDEX($C:$C,))), \"\", 'PWS Records (System Entry)'!$D$3)","v":""},null,null,null,null,null,null,null,null,null,null,null,null,null,null,null,null,null,null,""]
[{"$f":"IF(AND(ISBLANK(INDEX($G:$G,)), ISBLANK(INDEX($C:$C,))), \"\", 'PWS Records (System Entry)'!$D$4)","v":""},{"$f":"IF(AND(ISBLANK(INDEX($G:$G,)), ISBLANK(INDEX($C:$C,))), \"\", 'PWS Records (System Entry)'!$D$3)","v":""},null,null,null,null,null,null,null,null,null,null,null,null,null,null,null,null,null,null,""]
[{"$f":"IF(AND(ISBLANK(INDEX($G:$G,)), ISBLANK(INDEX($C:$C,))), \"\", 'PWS Records (System Entry)'!$D$4)","v":""},{"$f":"IF(AND(ISBLANK(INDEX($G:$G,)), ISBLANK(INDEX($C:$C,))), \"\", 'PWS Records (System Entry)'!$D$3)","v":""},null,null,null,null,null,null,null,null,null,null,null,null,null,null,null,null,null,null,""]
[{"$f":"IF(AND(ISBLANK(INDEX($G:$G,)), ISBLANK(INDEX($C:$C,))), \"\", 'PWS Records (System Entry)'!$D$4)","v":""},{"$f":"IF(AND(ISBLANK(INDEX($G:$G,)), ISBLANK(INDEX($C:$C,))), \"\", 'PWS Records (System Entry)'!$D$3)","v":""},null,null,null,null,null,null,null,null,null,null,null,null,null,null,null,null,null,null,""]
[{"$f":"IF(AND(ISBLANK(INDEX($G:$G,)), ISBLANK(INDEX($C:$C,))), \"\", 'PWS Records (System Entry)'!$D$4)","v":""},{"$f":"IF(AND(ISBLANK(INDEX($G:$G,)), ISBLANK(INDEX($C:$C,))), \"\", 'PWS Records (System Entry)'!$D$3)","v":""},null,null,null,null,null,null,null,null,null,null,null,null,null,null,null,null,null,null,""]
[{"$f":"IF(AND(ISBLANK(INDEX($G:$G,)), ISBLANK(INDEX($C:$C,))), \"\", 'PWS Records (System Entry)'!$D$4)","v":""},{"$f":"IF(AND(ISBLANK(INDEX($G:$G,)), ISBLANK(INDEX($C:$C,))), \"\", 'PWS Records (System Entry)'!$D$3)","v":""},null,null,null,null,null,null,null,null,null,null,null,null,null,null,null,null,null,null,""]
[{"$f":"IF(AND(ISBLANK(INDEX($G:$G,)), ISBLANK(INDEX($C:$C,))), \"\", 'PWS Records (System Entry)'!$D$4)","v":""},{"$f":"IF(AND(ISBLANK(INDEX($G:$G,)), ISBLANK(INDEX($C:$C,))), \"\", 'PWS Records (System Entry)'!$D$3)","v":""},null,null,null,null,null,null,null,null,null,null,null,null,null,null,null,null,null,null,""]
[{"$f":"IF(AND(ISBLANK(INDEX($G:$G,)), ISBLANK(INDEX($C:$C,))), \"\", 'PWS Records (System Entry)'!$D$4)","v":""},{"$f":"IF(AND(ISBLANK(INDEX($G:$G,)), ISBLANK(INDEX($C:$C,))), \"\", 'PWS Records (System Entry)'!$D$3)","v":""},null,null,null,null,null,null,null,null,null,null,null,null,null,null,null,null,null,null,""]
[{"$f":"IF(AND(ISBLANK(INDEX($G:$G,)), ISBLANK(INDEX($C:$C,))), \"\", 'PWS Records (System Entry)'!$D$4)","v":""},{"$f":"IF(AND(ISBLANK(INDEX($G:$G,)), ISBLANK(INDEX($C:$C,))), \"\", 'PWS Records (System Entry)'!$D$3)","v":""},null,null,null,null,null,null,null,null,null,null,null,null,null,null,null,null,null,null,""]
[{"$f":"IF(AND(ISBLANK(INDEX($G:$G,)), ISBLANK(INDEX($C:$C,))), \"\", 'PWS Records (System Entry)'!$D$4)","v":""},{"$f":"IF(AND(ISBLANK(INDEX($G:$G,)), ISBLANK(INDEX($C:$C,))), \"\", 'PWS Records (System Entry)'!$D$3)","v":""},null,null,null,null,null,null,null,null,null,null,null,null,null,null,null,null,null,null,""]
[{"$f":"IF(AND(ISBLANK(INDEX($G:$G,)), ISBLANK(INDEX($C:$C,))), \"\", 'PWS Records (System Entry)'!$D$4)","v":""},{"$f":"IF(AND(ISBLANK(INDEX($G:$G,)), ISBLANK(INDEX($C:$C,))), \"\", 'PWS Records (System Entry)'!$D$3)","v":""},null,null,null,null,null,null,null,null,null,null,null,null,null,null,null,null,null,null,""]
[{"$f":"IF(AND(ISBLANK(INDEX($G:$G,)), ISBLANK(INDEX($C:$C,))), \"\", 'PWS Records (System Entry)'!$D$4)","v":""},{"$f":"IF(AND(ISBLANK(INDEX($G:$G,)), ISBLANK(INDEX($C:$C,))), \"\", 'PWS Records (System Entry)'!$D$3)","v":""},null,null,null,null,null,null,null,null,null,null,null,null,null,null,null,null,null,null,""]
[{"$f":"IF(AND(ISBLANK(INDEX($G:$G,)), ISBLANK(INDEX($C:$C,))), \"\", 'PWS Records (System Entry)'!$D$4)","v":""},{"$f":"IF(AND(ISBLANK(INDEX($G:$G,)), ISBLANK(INDEX($C:$C,))), \"\", 'PWS Records (System Entry)'!$D$3)","v":""},null,null,null,null,null,null,null,null,null,null,null,null,null,null,null,null,null,null,""]
[{"$f":"IF(AND(ISBLANK(INDEX($G:$G,)), ISBLANK(INDEX($C:$C,))), \"\", 'PWS Records (System Entry)'!$D$4)","v":""},{"$f":"IF(AND(ISBLANK(INDEX($G:$G,)), ISBLANK(INDEX($C:$C,))), \"\", 'PWS Records (System Entry)'!$D$3)","v":""},null,null,null,null,null,null,null,null,null,null,null,null,null,null,null,null,null,null,""]
[{"$f":"IF(AND(ISBLANK(INDEX($G:$G,)), ISBLANK(INDEX($C:$C,))), \"\", 'PWS Records (System Entry)'!$D$4)","v":""},{"$f":"IF(AND(ISBLANK(INDEX($G:$G,)), ISBLANK(INDEX($C:$C,))), \"\", 'PWS Records (System Entry)'!$D$3)","v":""},null,null,null,null,null,null,null,null,null,null,null,null,null,null,null,null,null,null,""]
[{"$f":"IF(AND(ISBLANK(INDEX($G:$G,)), ISBLANK(INDEX($C:$C,))), \"\", 'PWS Records (System Entry)'!$D$4)","v":""},{"$f":"IF(AND(ISBLANK(INDEX($G:$G,)), ISBLANK(INDEX($C:$C,))), \"\", 'PWS Records (System Entry)'!$D$3)","v":""},null,null,null,null,null,null,null,null,null,null,null,null,null,null,null,null,null,null,""]
[{"$f":"IF(AND(ISBLANK(INDEX($G:$G,)), ISBLANK(INDEX($C:$C,))), \"\", 'PWS Records (System Entry)'!$D$4)","v":""},{"$f":"IF(AND(ISBLANK(INDEX($G:$G,)), ISBLANK(INDEX($C:$C,))), \"\", 'PWS Records (System Entry)'!$D$3)","v":""},null,null,null,null,null,null,null,null,null,null,null,null,null,null,null,null,null,null,""]
[{"$f":"IF(AND(ISBLANK(INDEX($G:$G,)), ISBLANK(INDEX($C:$C,))), \"\", 'PWS Records (System Entry)'!$D$4)","v":""},{"$f":"IF(AND(ISBLANK(INDEX($G:$G,)), ISBLANK(INDEX($C:$C,))), \"\", 'PWS Records (System Entry)'!$D$3)","v":""},null,null,null,null,null,null,null,null,null,null,null,null,null,null,null,null,null,null,""]
[{"$f":"IF(AND(ISBLANK(INDEX($G:$G,)), ISBLANK(INDEX($C:$C,))), \"\", 'PWS Records (System Entry)'!$D$4)","v":""},{"$f":"IF(AND(ISBLANK(INDEX($G:$G,)), ISBLANK(INDEX($C:$C,))), \"\", 'PWS Records (System Entry)'!$D$3)","v":""},null,null,null,null,null,null,null,null,null,null,null,null,null,null,null,null,null,null,""]
[{"$f":"IF(AND(ISBLANK(INDEX($G:$G,)), ISBLANK(INDEX($C:$C,))), \"\", 'PWS Records (System Entry)'!$D$4)","v":""},{"$f":"IF(AND(ISBLANK(INDEX($G:$G,)), ISBLANK(INDEX($C:$C,))), \"\", 'PWS Records (System Entry)'!$D$3)","v":""},null,null,null,null,null,null,null,null,null,null,null,null,null,null,null,null,null,null,""]
[{"$f":"IF(AND(ISBLANK(INDEX($G:$G,)), ISBLANK(INDEX($C:$C,))), \"\", 'PWS Records (System Entry)'!$D$4)","v":""},{"$f":"IF(AND(ISBLANK(INDEX($G:$G,)), ISBLANK(INDEX($C:$C,))), \"\", 'PWS Records (System Entry)'!$D$3)","v":""},null,null,null,null,null,null,null,null,null,null,null,null,null,null,null,null,null,null,""]
[{"$f":"IF(AND(ISBLANK(INDEX($G:$G,)), ISBLANK(INDEX($C:$C,))), \"\", 'PWS Records (System Entry)'!$D$4)","v":""},{"$f":"IF(AND(ISBLANK(INDEX($G:$G,)), ISBLANK(INDEX($C:$C,))), \"\", 'PWS Records (System Entry)'!$D$3)","v":""},null,null,null,null,null,null,null,null,null,null,null,null,null,null,null,null,null,null,""]
[{"$f":"IF(AND(ISBLANK(INDEX($G:$G,)), ISBLANK(INDEX($C:$C,))), \"\", 'PWS Records (System Entry)'!$D$4)","v":""},{"$f":"IF(AND(ISBLANK(INDEX($G:$G,)), ISBLANK(INDEX($C:$C,))), \"\", 'PWS Records (System Entry)'!$D$3)","v":""},null,null,null,null,null,null,null,null,null,null,null,null,null,null,null,null,null,null,""]
[{"$f":"IF(AND(ISBLANK(INDEX($G:$G,)), ISBLANK(INDEX($C:$C,))), \"\", 'PWS Records (System Entry)'!$D$4)","v":""},{"$f":"IF(AND(ISBLANK(INDEX($G:$G,)), ISBLANK(INDEX($C:$C,))), \"\", 'PWS Records (System Entry)'!$D$3)","v":""},null,null,null,null,null,null,null,null,null,null,null,null,null,null,null,null,null,null,""]
[{"$f":"IF(AND(ISBLANK(INDEX($G:$G,)), ISBLANK(INDEX($C:$C,))), \"\", 'PWS Records (System Entry)'!$D$4)","v":""},{"$f":"IF(AND(ISBLANK(INDEX($G:$G,)), ISBLANK(INDEX($C:$C,))), \"\", 'PWS Records (System Entry)'!$D$3)","v":""},null,null,null,null,null,null,null,null,null,null,null,null,null,null,null,null,null,null,""]
[{"$f":"IF(AND(ISBLANK(INDEX($G:$G,)), ISBLANK(INDEX($C:$C,))), \"\", 'PWS Records (System Entry)'!$D$4)","v":""},{"$f":"IF(AND(ISBLANK(INDEX($G:$G,)), ISBLANK(INDEX($C:$C,))), \"\", 'PWS Records (System Entry)'!$D$3)","v":""},null,null,null,null,null,null,null,null,null,null,null,null,null,null,null,null,null,null,""]
[{"$f":"IF(AND(ISBLANK(INDEX($G:$G,)), ISBLANK(INDEX($C:$C,))), \"\", 'PWS Records (System Entry)'!$D$4)","v":""},{"$f":"IF(AND(ISBLANK(INDEX($G:$G,)), ISBLANK(INDEX($C:$C,))), \"\", 'PWS Records (System Entry)'!$D$3)","v":""},null,null,null,null,null,null,null,null,null,null,null,null,null,null,null,null,null,null,""]
[{"$f":"IF(AND(ISBLANK(INDEX($G:$G,)), ISBLANK(INDEX($C:$C,))), \"\", 'PWS Records (System Entry)'!$D$4)","v":""},{"$f":"IF(AND(ISBLANK(INDEX($G:$G,)), ISBLANK(INDEX($C:$C,))), \"\", 'PWS Records (System Entry)'!$D$3)","v":""},null,null,null,null,null,null,null,null,null,null,null,null,null,null,null,null,null,null,""]
[{"$f":"IF(AND(ISBLANK(INDEX($G:$G,)), ISBLANK(INDEX($C:$C,))), \"\", 'PWS Records (System Entry)'!$D$4)","v":""},{"$f":"IF(AND(ISBLANK(INDEX($G:$G,)), ISBLANK(INDEX($C:$C,))), \"\", 'PWS Records (System Entry)'!$D$3)","v":""},null,null,null,null,null,null,null,null,null,null,null,null,null,null,null,null,null,null,""]
[{"$f":"IF(AND(ISBLANK(INDEX($G:$G,)), ISBLANK(INDEX($C:$C,))), \"\", 'PWS Records (System Entry)'!$D$4)","v":""},{"$f":"IF(AND(ISBLANK(INDEX($G:$G,)), ISBLANK(INDEX($C:$C,))), \"\", 'PWS Records (System Entry)'!$D$3)","v":""},null,null,null,null,null,null,null,null,null,null,null,null,null,null,null,null,null,null,""]
[{"$f":"IF(AND(ISBLANK(INDEX($G:$G,)), ISBLANK(INDEX($C:$C,))), \"\", 'PWS Records (System Entry)'!$D$4)","v":""},{"$f":"IF(AND(ISBLANK(INDEX($G:$G,)), ISBLANK(INDEX($C:$C,))), \"\", 'PWS Records (System Entry)'!$D$3)","v":""},null,null,null,null,null,null,null,null,null,null,null,null,null,null,null,null,null,null,""]
[{"$f":"IF(AND(ISBLANK(INDEX($G:$G,)), ISBLANK(INDEX($C:$C,))), \"\", 'PWS Records (System Entry)'!$D$4)","v":""},{"$f":"IF(AND(ISBLANK(INDEX($G:$G,)), ISBLANK(INDEX($C:$C,))), \"\", 'PWS Records (System Entry)'!$D$3)","v":""},null,null,null,null,null,null,null,null,null,null,null,null,null,null,null,null,null,null,""]
[{"$f":"IF(AND(ISBLANK(INDEX($G:$G,)), ISBLANK(INDEX($C:$C,))), \"\", 'PWS Records (System Entry)'!$D$4)","v":""},{"$f":"IF(AND(ISBLANK(INDEX($G:$G,)), ISBLANK(INDEX($C:$C,))), \"\", 'PWS Records (System Entry)'!$D$3)","v":""},null,null,null,null,null,null,null,null,null,null,null,null,null,null,null,null,null,null,""]
[{"$f":"IF(AND(ISBLANK(INDEX($G:$G,)), ISBLANK(INDEX($C:$C,))), \"\", 'PWS Records (System Entry)'!$D$4)","v":""},{"$f":"IF(AND(ISBLANK(INDEX($G:$G,)), ISBLANK(INDEX($C:$C,))), \"\", 'PWS Records (System Entry)'!$D$3)","v":""},null,null,null,null,null,null,null,null,null,null,null,null,null,null,null,null,null,null,""]
[{"$f":"IF(AND(ISBLANK(INDEX($G:$G,)), ISBLANK(INDEX($C:$C,))), \"\", 'PWS Records (System Entry)'!$D$4)","v":""},{"$f":"IF(AND(ISBLANK(INDEX($G:$G,)), ISBLANK(INDEX($C:$C,))), \"\", 'PWS Records (System Entry)'!$D$3)","v":""},null,null,null,null,null,null,null,null,null,null,null,null,null,null,null,null,null,null,""]
[{"$f":"IF(AND(ISBLANK(INDEX($G:$G,)), ISBLANK(INDEX($C:$C,))), \"\", 'PWS Records (System Entry)'!$D$4)","v":""},{"$f":"IF(AND(ISBLANK(INDEX($G:$G,)), ISBLANK(INDEX($C:$C,))), \"\", 'PWS Records (System Entry)'!$D$3)","v":""},null,null,null,null,null,null,null,null,null,null,null,null,null,null,null,null,null,null,""]
[{"$f":"IF(AND(ISBLANK(INDEX($G:$G,)), ISBLANK(INDEX($C:$C,))), \"\", 'PWS Records (System Entry)'!$D$4)","v":""},{"$f":"IF(AND(ISBLANK(INDEX($G:$G,)), ISBLANK(INDEX($C:$C,))), \"\", 'PWS Records (System Entry)'!$D$3)","v":""},null,null,null,null,null,null,null,null,null,null,null,null,null,null,null,null,null,null,""]
[{"$f":"IF(AND(ISBLANK(INDEX($G:$G,)), ISBLANK(INDEX($C:$C,))), \"\", 'PWS Records (System Entry)'!$D$4)","v":""},{"$f":"IF(AND(ISBLANK(INDEX($G:$G,)), ISBLANK(INDEX($C:$C,))), \"\", 'PWS Records (System Entry)'!$D$3)","v":""},null,null,null,null,null,null,null,null,null,null,null,null,null,null,null,null,null,null,""]
[{"$f":"IF(AND(ISBLANK(INDEX($G:$G,)), ISBLANK(INDEX($C:$C,))), \"\", 'PWS Records (System Entry)'!$D$4)","v":""},{"$f":"IF(AND(ISBLANK(INDEX($G:$G,)), ISBLANK(INDEX($C:$C,))), \"\", 'PWS Records (System Entry)'!$D$3)","v":""},null,null,null,null,null,null,null,null,null,null,null,null,null,null,null,null,null,null,""]
[{"$f":"IF(AND(ISBLANK(INDEX($G:$G,)), ISBLANK(INDEX($C:$C,))), \"\", 'PWS Records (System Entry)'!$D$4)","v":""},{"$f":"IF(AND(ISBLANK(INDEX($G:$G,)), ISBLANK(INDEX($C:$C,))), \"\", 'PWS Records (System Entry)'!$D$3)","v":""},null,null,null,null,null,null,null,null,null,null,null,null,null,null,null,null,null,null,""]
[{"$f":"IF(AND(ISBLANK(INDEX($G:$G,)), ISBLANK(INDEX($C:$C,))), \"\", 'PWS Records (System Entry)'!$D$4)","v":""},{"$f":"IF(AND(ISBLANK(INDEX($G:$G,)), ISBLANK(INDEX($C:$C,))), \"\", 'PWS Records (System Entry)'!$D$3)","v":""},null,null,null,null,null,null,null,null,null,null,null,null,null,null,null,null,null,null,""]
[{"$f":"IF(AND(ISBLANK(INDEX($G:$G,)), ISBLANK(INDEX($C:$C,))), \"\", 'PWS Records (System Entry)'!$D$4)","v":""},{"$f":"IF(AND(ISBLANK(INDEX($G:$G,)), ISBLANK(INDEX($C:$C,))), \"\", 'PWS Records (System Entry)'!$D$3)","v":""},null,null,null,null,null,null,null,null,null,null,null,null,null,null,null,null,null,null,""]
[{"$f":"IF(AND(ISBLANK(INDEX($G:$G,)), ISBLANK(INDEX($C:$C,))), \"\", 'PWS Records (System Entry)'!$D$4)","v":""},{"$f":"IF(AND(ISBLANK(INDEX($G:$G,)), ISBLANK(INDEX($C:$C,))), \"\", 'PWS Records (System Entry)'!$D$3)","v":""},null,null,null,null,null,null,null,null,null,null,null,null,null,null,null,null,null,null,{"$f":"IF(AND(INDEX($K:$K,)=\"\", INDEX($L:$L,)=\"\", INDEX($M:$M,)=\"\", INDEX($Q:$Q,)=\"\", INDEX($R:$R,)=\"\"), \"\", IF(OR(INDEX($K:$K,)=\"Lead\",INDEX($Q:$Q,)=\"Lead\"),\"Lead\",IF(OR(AND(OR(INDEX($M:$M,)=\"Yes\", INDEX($M:$M,)=\"Don't Know\", INDEX($M:$M,)=\"\"), INDEX($Q:$Q,)=\"Galvanized Iron/Steel\"), AND(INDEX($K:$K,)=\"Unknown\", INDEX($M:$M,)=\"No\", INDEX($Q:$Q,)=\"Galvanized Iron/Steel\")), \"Galvanized Requiring Replacement\", IF(OR(AND(OR(INDEX($K:$K,)=\"Galvanized Iron/Steel\", INDEX($K:$K,)=\"Non-Lead - Copper\", INDEX($K:$K,)=\"Non-Lead - Plastic\", INDEX($K:$K,)=\"Non-Lead - Other\", INDEX($K:$K,)=\"Non-Lead - Material Unknown\", INDEX($K:$K,)=\"No System Owned Portion\"), OR(INDEX($Q:$Q,)=\"Galvanized Iron/Steel\", INDEX($Q:$Q,)=\"Non-Lead - Copper\", INDEX($Q:$Q,)=\"Non-Lead - Plastic\", INDEX($Q:$Q,)=\"Non-Lead - Other\", INDEX($Q:$Q,)=\"Non-Lead - Predictive Model\", INDEX($Q:$Q,)=\"No Customer Owned Portion\")), AND(OR( INDEX($K:$K,)=\"Galvanized Iron/Steel\", INDEX($K:$K,)=\"Non-Lead - Copper\", INDEX($K:$K,)=\"Non-Lead - Plastic\", INDEX($K:$K,)=\"Non-Lead - Other\", INDEX($K:$K,)=\"Non-Lead - Material Unknown\", INDEX($K:$K,)=\"No System Owned Portion\"), INDEX($M:$M,)=\"No\", INDEX($Q:$Q,)=\"Non-Lead - Material Unknown\")), \"Non-Lead\", \"Lead Status Unknown\"))))","v":""}]
[{"$f":"IF(AND(ISBLANK(INDEX($G:$G,)), ISBLANK(INDEX($C:$C,))), \"\", 'PWS Records (System Entry)'!$D$4)","v":""},{"$f":"IF(AND(ISBLANK(INDEX($G:$G,)), ISBLANK(INDEX($C:$C,))), \"\", 'PWS Records (System Entry)'!$D$3)","v":""},null,null,null,null,null,null,null,null,null,null,null,null,null,null,null,null,null,null,""]
[{"$f":"IF(AND(ISBLANK(INDEX($G:$G,)), ISBLANK(INDEX($C:$C,))), \"\", 'PWS Records (System Entry)'!$D$4)","v":""},{"$f":"IF(AND(ISBLANK(INDEX($G:$G,)), ISBLANK(INDEX($C:$C,))), \"\", 'PWS Records (System Entry)'!$D$3)","v":""},null,null,null,null,null,null,null,null,null,null,null,null,null,null,null,null,null,null,""]
[{"$f":"IF(AND(ISBLANK(INDEX($G:$G,)), ISBLANK(INDEX($C:$C,))), \"\", 'PWS Records (System Entry)'!$D$4)","v":""},{"$f":"IF(AND(ISBLANK(INDEX($G:$G,)), ISBLANK(INDEX($C:$C,))), \"\", 'PWS Records (System Entry)'!$D$3)","v":""},null,null,null,null,null,null,null,null,null,null,null,null,null,null,null,null,null,null,""]
[{"$f":"IF(AND(ISBLANK(INDEX($G:$G,)), ISBLANK(INDEX($C:$C,))), \"\", 'PWS Records (System Entry)'!$D$4)","v":""},{"$f":"IF(AND(ISBLANK(INDEX($G:$G,)), ISBLANK(INDEX($C:$C,))), \"\", 'PWS Records (System Entry)'!$D$3)","v":""},null,null,null,null,null,null,null,null,null,null,null,null,null,null,null,null,null,null,""]
[{"$f":"IF(AND(ISBLANK(INDEX($G:$G,)), ISBLANK(INDEX($C:$C,))), \"\", 'PWS Records (System Entry)'!$D$4)","v":""},{"$f":"IF(AND(ISBLANK(INDEX($G:$G,)), ISBLANK(INDEX($C:$C,))), \"\", 'PWS Records (System Entry)'!$D$3)","v":""},null,null,null,null,null,null,null,null,null,null,null,null,null,null,null,null,null,null,""]
[{"$f":"IF(AND(ISBLANK(INDEX($G:$G,)), ISBLANK(INDEX($C:$C,))), \"\", 'PWS Records (System Entry)'!$D$4)","v":""},{"$f":"IF(AND(ISBLANK(INDEX($G:$G,)), ISBLANK(INDEX($C:$C,))), \"\", 'PWS Records (System Entry)'!$D$3)","v":""},null,null,null,null,null,null,null,null,null,null,null,null,null,null,null,null,null,null,""]
[{"$f":"IF(AND(ISBLANK(INDEX($G:$G,)), ISBLANK(INDEX($C:$C,))), \"\", 'PWS Records (System Entry)'!$D$4)","v":""},{"$f":"IF(AND(ISBLANK(INDEX($G:$G,)), ISBLANK(INDEX($C:$C,))), \"\", 'PWS Records (System Entry)'!$D$3)","v":""},null,null,null,null,null,null,null,null,null,null,null,null,null,null,null,null,null,null,""]
[{"$f":"IF(AND(ISBLANK(INDEX($G:$G,)), ISBLANK(INDEX($C:$C,))), \"\", 'PWS Records (System Entry)'!$D$4)","v":""},{"$f":"IF(AND(ISBLANK(INDEX($G:$G,)), ISBLANK(INDEX($C:$C,))), \"\", 'PWS Records (System Entry)'!$D$3)","v":""},null,null,null,null,null,null,null,null,null,null,null,null,null,null,null,null,null,null,""]
[{"$f":"IF(AND(ISBLANK(INDEX($G:$G,)), ISBLANK(INDEX($C:$C,))), \"\", 'PWS Records (System Entry)'!$D$4)","v":""},{"$f":"IF(AND(ISBLANK(INDEX($G:$G,)), ISBLANK(INDEX($C:$C,))), \"\", 'PWS Records (System Entry)'!$D$3)","v":""},null,null,null,null,null,null,null,null,null,null,null,null,null,null,null,null,null,null,""]
[{"$f":"IF(AND(ISBLANK(INDEX($G:$G,)), ISBLANK(INDEX($C:$C,))), \"\", 'PWS Records (System Entry)'!$D$4)","v":""},{"$f":"IF(AND(ISBLANK(INDEX($G:$G,)), ISBLANK(INDEX($C:$C,))), \"\", 'PWS Records (System Entry)'!$D$3)","v":""},null,null,null,null,null,null,null,null,null,null,null,null,null,null,null,null,null,null,""]
[{"$f":"IF(AND(ISBLANK(INDEX($G:$G,)), ISBLANK(INDEX($C:$C,))), \"\", 'PWS Records (System Entry)'!$D$4)","v":""},{"$f":"IF(AND(ISBLANK(INDEX($G:$G,)), ISBLANK(INDEX($C:$C,))), \"\", 'PWS Records (System Entry)'!$D$3)","v":""},null,null,null,null,null,null,null,null,null,null,null,null,null,null,null,null,null,null,""]
[{"$f":"IF(AND(ISBLANK(INDEX($G:$G,)), ISBLANK(INDEX($C:$C,))), \"\", 'PWS Records (System Entry)'!$D$4)","v":""},{"$f":"IF(AND(ISBLANK(INDEX($G:$G,)), ISBLANK(INDEX($C:$C,))), \"\", 'PWS Records (System Entry)'!$D$3)","v":""},null,null,null,null,null,null,null,null,null,null,null,null,null,null,null,null,null,null,""]
[{"$f":"IF(AND(ISBLANK(INDEX($G:$G,)), ISBLANK(INDEX($C:$C,))), \"\", 'PWS Records (System Entry)'!$D$4)","v":""},{"$f":"IF(AND(ISBLANK(INDEX($G:$G,)), ISBLANK(INDEX($C:$C,))), \"\", 'PWS Records (System Entry)'!$D$3)","v":""},null,null,null,null,null,null,null,null,null,null,null,null,null,null,null,null,null,null,""]
[{"$f":"IF(AND(ISBLANK(INDEX($G:$G,)), ISBLANK(INDEX($C:$C,))), \"\", 'PWS Records (System Entry)'!$D$4)","v":""},{"$f":"IF(AND(ISBLANK(INDEX($G:$G,)), ISBLANK(INDEX($C:$C,))), \"\", 'PWS Records (System Entry)'!$D$3)","v":""},null,null,null,null,null,null,null,null,null,null,null,null,null,null,null,null,null,null,""]
[{"$f":"IF(AND(ISBLANK(INDEX($G:$G,)), ISBLANK(INDEX($C:$C,))), \"\", 'PWS Records (System Entry)'!$D$4)","v":""},{"$f":"IF(AND(ISBLANK(INDEX($G:$G,)), ISBLANK(INDEX($C:$C,))), \"\", 'PWS Records (System Entry)'!$D$3)","v":""},null,null,null,null,null,null,null,null,null,null,null,null,null,null,null,null,null,null,""]
[{"$f":"IF(AND(ISBLANK(INDEX($G:$G,)), ISBLANK(INDEX($C:$C,))), \"\", 'PWS Records (System Entry)'!$D$4)","v":""},{"$f":"IF(AND(ISBLANK(INDEX($G:$G,)), ISBLANK(INDEX($C:$C,))), \"\", 'PWS Records (System Entry)'!$D$3)","v":""},null,null,null,null,null,null,null,null,null,null,null,null,null,null,null,null,null,null,""]
[{"$f":"IF(AND(ISBLANK(INDEX($G:$G,)), ISBLANK(INDEX($C:$C,))), \"\", 'PWS Records (System Entry)'!$D$4)","v":""},{"$f":"IF(AND(ISBLANK(INDEX($G:$G,)), ISBLANK(INDEX($C:$C,))), \"\", 'PWS Records (System Entry)'!$D$3)","v":""},null,null,null,null,null,null,null,null,null,null,null,null,null,null,null,null,null,null,{"$f":"IF(AND(INDEX($K:$K,)=\"\", INDEX($L:$L,)=\"\", INDEX($M:$M,)=\"\", INDEX($Q:$Q,)=\"\", INDEX($R:$R,)=\"\"), \"\", IF(OR(INDEX($K:$K,)=\"Lead\",INDEX($Q:$Q,)=\"Lead\"),\"Lead\",IF(OR(AND(OR(INDEX($M:$M,)=\"Yes\", INDEX($M:$M,)=\"Don't Know\", INDEX($M:$M,)=\"\"), INDEX($Q:$Q,)=\"Galvanized Iron/Steel\"), AND(INDEX($K:$K,)=\"Unknown\", INDEX($M:$M,)=\"No\", INDEX($Q:$Q,)=\"Galvanized Iron/Steel\")), \"Galvanized Requiring Replacement\", IF(OR(AND(OR(INDEX($K:$K,)=\"Galvanized Iron/Steel\", INDEX($K:$K,)=\"Non-Lead - Copper\", INDEX($K:$K,)=\"Non-Lead - Plastic\", INDEX($K:$K,)=\"Non-Lead - Other\", INDEX($K:$K,)=\"Non-Lead - Material Unknown\", INDEX($K:$K,)=\"No System Owned Portion\"), OR(INDEX($Q:$Q,)=\"Galvanized Iron/Steel\", INDEX($Q:$Q,)=\"Non-Lead - Copper\", INDEX($Q:$Q,)=\"Non-Lead - Plastic\", INDEX($Q:$Q,)=\"Non-Lead - Other\", INDEX($Q:$Q,)=\"Non-Lead - Predictive Model\", INDEX($Q:$Q,)=\"No Customer Owned Portion\")), AND(OR( INDEX($K:$K,)=\"Galvanized Iron/Steel\", INDEX($K:$K,)=\"Non-Lead - Copper\", INDEX($K:$K,)=\"Non-Lead - Plastic\", INDEX($K:$K,)=\"Non-Lead - Other\", INDEX($K:$K,)=\"Non-Lead - Material Unknown\", INDEX($K:$K,)=\"No System Owned Portion\"), INDEX($M:$M,)=\"No\", INDEX($Q:$Q,)=\"Non-Lead - Material Unknown\")), \"Non-Lead\", \"Lead Status Unknown\"))))","v":""}]
[{"$f":"IF(AND(ISBLANK(INDEX($G:$G,)), ISBLANK(INDEX($C:$C,))), \"\", 'PWS Records (System Entry)'!$D$4)","v":""},{"$f":"IF(AND(ISBLANK(INDEX($G:$G,)), ISBLANK(INDEX($C:$C,))), \"\", 'PWS Records (System Entry)'!$D$3)","v":""},null,null,null,null,null,null,null,null,null,null,null,null,null,null,null,null,null,null,""]
[{"$f":"IF(AND(ISBLANK(INDEX($G:$G,)), ISBLANK(INDEX($C:$C,))), \"\", 'PWS Records (System Entry)'!$D$4)","v":""},{"$f":"IF(AND(ISBLANK(INDEX($G:$G,)), ISBLANK(INDEX($C:$C,))), \"\", 'PWS Records (System Entry)'!$D$3)","v":""},null,null,null,null,null,null,null,null,null,null,null,null,null,null,null,null,null,null,""]
[{"$f":"IF(AND(ISBLANK(INDEX($G:$G,)), ISBLANK(INDEX($C:$C,))), \"\", 'PWS Records (System Entry)'!$D$4)","v":""},{"$f":"IF(AND(ISBLANK(INDEX($G:$G,)), ISBLANK(INDEX($C:$C,))), \"\", 'PWS Records (System Entry)'!$D$3)","v":""},null,null,null,null,null,null,null,null,null,null,null,null,null,null,null,null,null,null,""]
[{"$f":"IF(AND(ISBLANK(INDEX($G:$G,)), ISBLANK(INDEX($C:$C,))), \"\", 'PWS Records (System Entry)'!$D$4)","v":""},{"$f":"IF(AND(ISBLANK(INDEX($G:$G,)), ISBLANK(INDEX($C:$C,))), \"\", 'PWS Records (System Entry)'!$D$3)","v":""},null,null,null,null,null,null,null,null,null,null,null,null,null,null,null,null,null,null,""]
[{"$f":"IF(AND(ISBLANK(INDEX($G:$G,)), ISBLANK(INDEX($C:$C,))), \"\", 'PWS Records (System Entry)'!$D$4)","v":""},{"$f":"IF(AND(ISBLANK(INDEX($G:$G,)), ISBLANK(INDEX($C:$C,))), \"\", 'PWS Records (System Entry)'!$D$3)","v":""},null,null,null,null,null,null,null,null,null,null,null,null,null,null,null,null,null,null,""]
[{"$f":"IF(AND(ISBLANK(INDEX($G:$G,)), ISBLANK(INDEX($C:$C,))), \"\", 'PWS Records (System Entry)'!$D$4)","v":""},{"$f":"IF(AND(ISBLANK(INDEX($G:$G,)), ISBLANK(INDEX($C:$C,))), \"\", 'PWS Records (System Entry)'!$D$3)","v":""},null,null,null,null,null,null,null,null,null,null,null,null,null,null,null,null,null,null,""]
[{"$f":"IF(AND(ISBLANK(INDEX($G:$G,)), ISBLANK(INDEX($C:$C,))), \"\", 'PWS Records (System Entry)'!$D$4)","v":""},{"$f":"IF(AND(ISBLANK(INDEX($G:$G,)), ISBLANK(INDEX($C:$C,))), \"\", 'PWS Records (System Entry)'!$D$3)","v":""},null,null,null,null,null,null,null,null,null,null,null,null,null,null,null,null,null,null,""]
[{"$f":"IF(AND(ISBLANK(INDEX($G:$G,)), ISBLANK(INDEX($C:$C,))), \"\", 'PWS Records (System Entry)'!$D$4)","v":""},{"$f":"IF(AND(ISBLANK(INDEX($G:$G,)), ISBLANK(INDEX($C:$C,))), \"\", 'PWS Records (System Entry)'!$D$3)","v":""},null,null,null,null,null,null,null,null,null,null,null,null,null,null,null,null,null,null,""]
[{"$f":"IF(AND(ISBLANK(INDEX($G:$G,)), ISBLANK(INDEX($C:$C,))), \"\", 'PWS Records (System Entry)'!$D$4)","v":""},{"$f":"IF(AND(ISBLANK(INDEX($G:$G,)), ISBLANK(INDEX($C:$C,))), \"\", 'PWS Records (System Entry)'!$D$3)","v":""},null,null,null,null,null,null,null,null,null,null,null,null,null,null,null,null,null,null,""]
[{"$f":"IF(AND(ISBLANK(INDEX($G:$G,)), ISBLANK(INDEX($C:$C,))), \"\", 'PWS Records (System Entry)'!$D$4)","v":""},{"$f":"IF(AND(ISBLANK(INDEX($G:$G,)), ISBLANK(INDEX($C:$C,))), \"\", 'PWS Records (System Entry)'!$D$3)","v":""},null,null,null,null,null,null,null,null,null,null,null,null,null,null,null,null,null,null,""]
[{"$f":"IF(AND(ISBLANK(INDEX($G:$G,)), ISBLANK(INDEX($C:$C,))), \"\", 'PWS Records (System Entry)'!$D$4)","v":""},{"$f":"IF(AND(ISBLANK(INDEX($G:$G,)), ISBLANK(INDEX($C:$C,))), \"\", 'PWS Records (System Entry)'!$D$3)","v":""},null,null,null,null,null,null,null,null,null,null,null,null,null,null,null,null,null,null,""]
[{"$f":"IF(AND(ISBLANK(INDEX($G:$G,)), ISBLANK(INDEX($C:$C,))), \"\", 'PWS Records (System Entry)'!$D$4)","v":""},{"$f":"IF(AND(ISBLANK(INDEX($G:$G,)), ISBLANK(INDEX($C:$C,))), \"\", 'PWS Records (System Entry)'!$D$3)","v":""},null,null,null,null,null,null,null,null,null,null,null,null,null,null,null,null,null,null,""]
[{"$f":"IF(AND(ISBLANK(INDEX($G:$G,)), ISBLANK(INDEX($C:$C,))), \"\", 'PWS Records (System Entry)'!$D$4)","v":""},{"$f":"IF(AND(ISBLANK(INDEX($G:$G,)), ISBLANK(INDEX($C:$C,))), \"\", 'PWS Records (System Entry)'!$D$3)","v":""},null,null,null,null,null,null,null,null,null,null,null,null,null,null,null,null,null,null,""]
[{"$f":"IF(AND(ISBLANK(INDEX($G:$G,)), ISBLANK(INDEX($C:$C,))), \"\", 'PWS Records (System Entry)'!$D$4)","v":""},{"$f":"IF(AND(ISBLANK(INDEX($G:$G,)), ISBLANK(INDEX($C:$C,))), \"\", 'PWS Records (System Entry)'!$D$3)","v":""},null,null,null,null,null,null,null,null,null,null,null,null,null,null,null,null,null,null,""]
[{"$f":"IF(AND(ISBLANK(INDEX($G:$G,)), ISBLANK(INDEX($C:$C,))), \"\", 'PWS Records (System Entry)'!$D$4)","v":""},{"$f":"IF(AND(ISBLANK(INDEX($G:$G,)), ISBLANK(INDEX($C:$C,))), \"\", 'PWS Records (System Entry)'!$D$3)","v":""},null,null,null,null,null,null,null,null,null,null,null,null,null,null,null,null,null,null,""]
[{"$f":"IF(AND(ISBLANK(INDEX($G:$G,)), ISBLANK(INDEX($C:$C,))), \"\", 'PWS Records (System Entry)'!$D$4)","v":""},{"$f":"IF(AND(ISBLANK(INDEX($G:$G,)), ISBLANK(INDEX($C:$C,))), \"\", 'PWS Records (System Entry)'!$D$3)","v":""},null,null,null,null,null,null,null,null,null,null,null,null,null,null,null,null,null,null,""]
[{"$f":"IF(AND(ISBLANK(INDEX($G:$G,)), ISBLANK(INDEX($C:$C,))), \"\", 'PWS Records (System Entry)'!$D$4)","v":""},{"$f":"IF(AND(ISBLANK(INDEX($G:$G,)), ISBLANK(INDEX($C:$C,))), \"\", 'PWS Records (System Entry)'!$D$3)","v":""},null,null,null,null,null,null,null,null,null,null,null,null,null,null,null,null,null,null,""]
[{"$f":"IF(AND(ISBLANK(INDEX($G:$G,)), ISBLANK(INDEX($C:$C,))), \"\", 'PWS Records (System Entry)'!$D$4)","v":""},{"$f":"IF(AND(ISBLANK(INDEX($G:$G,)), ISBLANK(INDEX($C:$C,))), \"\", 'PWS Records (System Entry)'!$D$3)","v":""},null,null,null,null,null,null,null,null,null,null,null,null,null,null,null,null,null,null,""]
[{"$f":"IF(AND(ISBLANK(INDEX($G:$G,)), ISBLANK(INDEX($C:$C,))), \"\", 'PWS Records (System Entry)'!$D$4)","v":""},{"$f":"IF(AND(ISBLANK(INDEX($G:$G,)), ISBLANK(INDEX($C:$C,))), \"\", 'PWS Records (System Entry)'!$D$3)","v":""},null,null,null,null,null,null,null,null,null,null,null,null,null,null,null,null,null,null,""]
[{"$f":"IF(AND(ISBLANK(INDEX($G:$G,)), ISBLANK(INDEX($C:$C,))), \"\", 'PWS Records (System Entry)'!$D$4)","v":""},{"$f":"IF(AND(ISBLANK(INDEX($G:$G,)), ISBLANK(INDEX($C:$C,))), \"\", 'PWS Records (System Entry)'!$D$3)","v":""},null,null,null,null,null,null,null,null,null,null,null,null,null,null,null,null,null,null,""]
[{"$f":"IF(AND(ISBLANK(INDEX($G:$G,)), ISBLANK(INDEX($C:$C,))), \"\", 'PWS Records (System Entry)'!$D$4)","v":""},{"$f":"IF(AND(ISBLANK(INDEX($G:$G,)), ISBLANK(INDEX($C:$C,))), \"\", 'PWS Records (System Entry)'!$D$3)","v":""},null,null,null,null,null,null,null,null,null,null,null,null,null,null,null,null,null,null,""]
[{"$f":"IF(AND(ISBLANK(INDEX($G:$G,)), ISBLANK(INDEX($C:$C,))), \"\", 'PWS Records (System Entry)'!$D$4)","v":""},{"$f":"IF(AND(ISBLANK(INDEX($G:$G,)), ISBLANK(INDEX($C:$C,))), \"\", 'PWS Records (System Entry)'!$D$3)","v":""},null,null,null,null,null,null,null,null,null,null,null,null,null,null,null,null,null,null,""]
[{"$f":"IF(AND(ISBLANK(INDEX($G:$G,)), ISBLANK(INDEX($C:$C,))), \"\", 'PWS Records (System Entry)'!$D$4)","v":""},{"$f":"IF(AND(ISBLANK(INDEX($G:$G,)), ISBLANK(INDEX($C:$C,))), \"\", 'PWS Records (System Entry)'!$D$3)","v":""},null,null,null,null,null,null,null,null,null,null,null,null,null,null,null,null,null,null,""]
[{"$f":"IF(AND(ISBLANK(INDEX($G:$G,)), ISBLANK(INDEX($C:$C,))), \"\", 'PWS Records (System Entry)'!$D$4)","v":""},{"$f":"IF(AND(ISBLANK(INDEX($G:$G,)), ISBLANK(INDEX($C:$C,))), \"\", 'PWS Records (System Entry)'!$D$3)","v":""},null,null,null,null,null,null,null,null,null,null,null,null,null,null,null,null,null,null,""]
[{"$f":"IF(AND(ISBLANK(INDEX($G:$G,)), ISBLANK(INDEX($C:$C,))), \"\", 'PWS Records (System Entry)'!$D$4)","v":""},{"$f":"IF(AND(ISBLANK(INDEX($G:$G,)), ISBLANK(INDEX($C:$C,))), \"\", 'PWS Records (System Entry)'!$D$3)","v":""},null,null,null,null,null,null,null,null,null,null,null,null,null,null,null,null,null,null,""]
[{"$f":"IF(AND(ISBLANK(INDEX($G:$G,)), ISBLANK(INDEX($C:$C,))), \"\", 'PWS Records (System Entry)'!$D$4)","v":""},{"$f":"IF(AND(ISBLANK(INDEX($G:$G,)), ISBLANK(INDEX($C:$C,))), \"\", 'PWS Records (System Entry)'!$D$3)","v":""},null,null,null,null,null,null,null,null,null,null,null,null,null,null,null,null,null,null,""]
[{"$f":"IF(AND(ISBLANK(INDEX($G:$G,)), ISBLANK(INDEX($C:$C,))), \"\", 'PWS Records (System Entry)'!$D$4)","v":""},{"$f":"IF(AND(ISBLANK(INDEX($G:$G,)), ISBLANK(INDEX($C:$C,))), \"\", 'PWS Records (System Entry)'!$D$3)","v":""},null,null,null,null,null,null,null,null,null,null,null,null,null,null,null,null,null,null,""]
[{"$f":"IF(AND(ISBLANK(INDEX($G:$G,)), ISBLANK(INDEX($C:$C,))), \"\", 'PWS Records (System Entry)'!$D$4)","v":""},{"$f":"IF(AND(ISBLANK(INDEX($G:$G,)), ISBLANK(INDEX($C:$C,))), \"\", 'PWS Records (System Entry)'!$D$3)","v":""},null,null,null,null,null,null,null,null,null,null,null,null,null,null,null,null,null,null,""]
[{"$f":"IF(AND(ISBLANK(INDEX($G:$G,)), ISBLANK(INDEX($C:$C,))), \"\", 'PWS Records (System Entry)'!$D$4)","v":""},{"$f":"IF(AND(ISBLANK(INDEX($G:$G,)), ISBLANK(INDEX($C:$C,))), \"\", 'PWS Records (System Entry)'!$D$3)","v":""},null,null,null,null,null,null,null,null,null,null,null,null,null,null,null,null,null,null,""]
[{"$f":"IF(AND(ISBLANK(INDEX($G:$G,)), ISBLANK(INDEX($C:$C,))), \"\", 'PWS Records (System Entry)'!$D$4)","v":""},{"$f":"IF(AND(ISBLANK(INDEX($G:$G,)), ISBLANK(INDEX($C:$C,))), \"\", 'PWS Records (System Entry)'!$D$3)","v":""},null,null,null,null,null,null,null,null,null,null,null,null,null,null,null,null,null,null,""]
[{"$f":"IF(AND(ISBLANK(INDEX($G:$G,)), ISBLANK(INDEX($C:$C,))), \"\", 'PWS Records (System Entry)'!$D$4)","v":""},{"$f":"IF(AND(ISBLANK(INDEX($G:$G,)), ISBLANK(INDEX($C:$C,))), \"\", 'PWS Records (System Entry)'!$D$3)","v":""},null,null,null,null,null,null,null,null,null,null,null,null,null,null,null,null,null,null,""]
[{"$f":"IF(AND(ISBLANK(INDEX($G:$G,)), ISBLANK(INDEX($C:$C,))), \"\", 'PWS Records (System Entry)'!$D$4)","v":""},{"$f":"IF(AND(ISBLANK(INDEX($G:$G,)), ISBLANK(INDEX($C:$C,))), \"\", 'PWS Records (System Entry)'!$D$3)","v":""},null,null,null,null,null,null,null,null,null,null,null,null,null,null,null,null,null,null,""]
[{"$f":"IF(AND(ISBLANK(INDEX($G:$G,)), ISBLANK(INDEX($C:$C,))), \"\", 'PWS Records (System Entry)'!$D$4)","v":""},{"$f":"IF(AND(ISBLANK(INDEX($G:$G,)), ISBLANK(INDEX($C:$C,))), \"\", 'PWS Records (System Entry)'!$D$3)","v":""},null,null,null,null,null,null,null,null,null,null,null,null,null,null,null,null,null,null,""]
[{"$f":"IF(AND(ISBLANK(INDEX($G:$G,)), ISBLANK(INDEX($C:$C,))), \"\", 'PWS Records (System Entry)'!$D$4)","v":""},{"$f":"IF(AND(ISBLANK(INDEX($G:$G,)), ISBLANK(INDEX($C:$C,))), \"\", 'PWS Records (System Entry)'!$D$3)","v":""},null,null,null,null,null,null,null,null,null,null,null,null,null,null,null,null,null,null,""]
[{"$f":"IF(AND(ISBLANK(INDEX($G:$G,)), ISBLANK(INDEX($C:$C,))), \"\", 'PWS Records (System Entry)'!$D$4)","v":""},{"$f":"IF(AND(ISBLANK(INDEX($G:$G,)), ISBLANK(INDEX($C:$C,))), \"\", 'PWS Records (System Entry)'!$D$3)","v":""},null,null,null,null,null,null,null,null,null,null,null,null,null,null,null,null,null,null,""]
[{"$f":"IF(AND(ISBLANK(INDEX($G:$G,)), ISBLANK(INDEX($C:$C,))), \"\", 'PWS Records (System Entry)'!$D$4)","v":""},{"$f":"IF(AND(ISBLANK(INDEX($G:$G,)), ISBLANK(INDEX($C:$C,))), \"\", 'PWS Records (System Entry)'!$D$3)","v":""},null,null,null,null,null,null,null,null,null,null,null,null,null,null,null,null,null,null,""]
[{"$f":"IF(AND(ISBLANK(INDEX($G:$G,)), ISBLANK(INDEX($C:$C,))), \"\", 'PWS Records (System Entry)'!$D$4)","v":""},{"$f":"IF(AND(ISBLANK(INDEX($G:$G,)), ISBLANK(INDEX($C:$C,))), \"\", 'PWS Records (System Entry)'!$D$3)","v":""},null,null,null,null,null,null,null,null,null,null,null,null,null,null,null,null,null,null,""]
[{"$f":"IF(AND(ISBLANK(INDEX($G:$G,)), ISBLANK(INDEX($C:$C,))), \"\", 'PWS Records (System Entry)'!$D$4)","v":""},{"$f":"IF(AND(ISBLANK(INDEX($G:$G,)), ISBLANK(INDEX($C:$C,))), \"\", 'PWS Records (System Entry)'!$D$3)","v":""},null,null,null,null,null,null,null,null,null,null,null,null,null,null,null,null,null,null,""]
[{"$f":"IF(AND(ISBLANK(INDEX($G:$G,)), ISBLANK(INDEX($C:$C,))), \"\", 'PWS Records (System Entry)'!$D$4)","v":""},{"$f":"IF(AND(ISBLANK(INDEX($G:$G,)), ISBLANK(INDEX($C:$C,))), \"\", 'PWS Records (System Entry)'!$D$3)","v":""},null,null,null,null,null,null,null,null,null,null,null,null,null,null,null,null,null,null,""]
[{"$f":"IF(AND(ISBLANK(INDEX($G:$G,)), ISBLANK(INDEX($C:$C,))), \"\", 'PWS Records (System Entry)'!$D$4)","v":""},{"$f":"IF(AND(ISBLANK(INDEX($G:$G,)), ISBLANK(INDEX($C:$C,))), \"\", 'PWS Records (System Entry)'!$D$3)","v":""},null,null,null,null,null,null,null,null,null,null,null,null,null,null,null,null,null,null,""]
[{"$f":"IF(AND(ISBLANK(INDEX($G:$G,)), ISBLANK(INDEX($C:$C,))), \"\", 'PWS Records (System Entry)'!$D$4)","v":""},{"$f":"IF(AND(ISBLANK(INDEX($G:$G,)), ISBLANK(INDEX($C:$C,))), \"\", 'PWS Records (System Entry)'!$D$3)","v":""},null,null,null,null,null,null,null,null,null,null,null,null,null,null,null,null,null,null,""]
[{"$f":"IF(AND(ISBLANK(INDEX($G:$G,)), ISBLANK(INDEX($C:$C,))), \"\", 'PWS Records (System Entry)'!$D$4)","v":""},{"$f":"IF(AND(ISBLANK(INDEX($G:$G,)), ISBLANK(INDEX($C:$C,))), \"\", 'PWS Records (System Entry)'!$D$3)","v":""},null,null,null,null,null,null,null,null,null,null,null,null,null,null,null,null,null,null,""]
[{"$f":"IF(AND(ISBLANK(INDEX($G:$G,)), ISBLANK(INDEX($C:$C,))), \"\", 'PWS Records (System Entry)'!$D$4)","v":""},{"$f":"IF(AND(ISBLANK(INDEX($G:$G,)), ISBLANK(INDEX($C:$C,))), \"\", 'PWS Records (System Entry)'!$D$3)","v":""},null,null,null,null,null,null,null,null,null,null,null,null,null,null,null,null,null,null,""]
[{"$f":"IF(AND(ISBLANK(INDEX($G:$G,)), ISBLANK(INDEX($C:$C,))), \"\", 'PWS Records (System Entry)'!$D$4)","v":""},{"$f":"IF(AND(ISBLANK(INDEX($G:$G,)), ISBLANK(INDEX($C:$C,))), \"\", 'PWS Records (System Entry)'!$D$3)","v":""},null,null,null,null,null,null,null,null,null,null,null,null,null,null,null,null,null,null,""]
[{"$f":"IF(AND(ISBLANK(INDEX($G:$G,)), ISBLANK(INDEX($C:$C,))), \"\", 'PWS Records (System Entry)'!$D$4)","v":""},{"$f":"IF(AND(ISBLANK(INDEX($G:$G,)), ISBLANK(INDEX($C:$C,))), \"\", 'PWS Records (System Entry)'!$D$3)","v":""},null,null,null,null,null,null,null,null,null,null,null,null,null,null,null,null,null,null,""]
[{"$f":"IF(AND(ISBLANK(INDEX($G:$G,)), ISBLANK(INDEX($C:$C,))), \"\", 'PWS Records (System Entry)'!$D$4)","v":""},{"$f":"IF(AND(ISBLANK(INDEX($G:$G,)), ISBLANK(INDEX($C:$C,))), \"\", 'PWS Records (System Entry)'!$D$3)","v":""},null,null,null,null,null,null,null,null,null,null,null,null,null,null,null,null,null,null,""]
[{"$f":"IF(AND(ISBLANK(INDEX($G:$G,)), ISBLANK(INDEX($C:$C,))), \"\", 'PWS Records (System Entry)'!$D$4)","v":""},{"$f":"IF(AND(ISBLANK(INDEX($G:$G,)), ISBLANK(INDEX($C:$C,))), \"\", 'PWS Records (System Entry)'!$D$3)","v":""},null,null,null,null,null,null,null,null,null,null,null,null,null,null,null,null,null,null,""]
[{"$f":"IF(AND(ISBLANK(INDEX($G:$G,)), ISBLANK(INDEX($C:$C,))), \"\", 'PWS Records (System Entry)'!$D$4)","v":""},{"$f":"IF(AND(ISBLANK(INDEX($G:$G,)), ISBLANK(INDEX($C:$C,))), \"\", 'PWS Records (System Entry)'!$D$3)","v":""},null,null,null,null,null,null,null,null,null,null,null,null,null,null,null,null,null,null,""]
[{"$f":"IF(AND(ISBLANK(INDEX($G:$G,)), ISBLANK(INDEX($C:$C,))), \"\", 'PWS Records (System Entry)'!$D$4)","v":""},{"$f":"IF(AND(ISBLANK(INDEX($G:$G,)), ISBLANK(INDEX($C:$C,))), \"\", 'PWS Records (System Entry)'!$D$3)","v":""},null,null,null,null,null,null,null,null,null,null,null,null,null,null,null,null,null,null,""]
[{"$f":"IF(AND(ISBLANK(INDEX($G:$G,)), ISBLANK(INDEX($C:$C,))), \"\", 'PWS Records (System Entry)'!$D$4)","v":""},{"$f":"IF(AND(ISBLANK(INDEX($G:$G,)), ISBLANK(INDEX($C:$C,))), \"\", 'PWS Records (System Entry)'!$D$3)","v":""},null,null,null,null,null,null,null,null,null,null,null,null,null,null,null,null,null,null,""]
[{"$f":"IF(AND(ISBLANK(INDEX($G:$G,)), ISBLANK(INDEX($C:$C,))), \"\", 'PWS Records (System Entry)'!$D$4)","v":""},{"$f":"IF(AND(ISBLANK(INDEX($G:$G,)), ISBLANK(INDEX($C:$C,))), \"\", 'PWS Records (System Entry)'!$D$3)","v":""},null,null,null,null,null,null,null,null,null,null,null,null,null,null,null,null,null,null,""]
[{"$f":"IF(AND(ISBLANK(INDEX($G:$G,)), ISBLANK(INDEX($C:$C,))), \"\", 'PWS Records (System Entry)'!$D$4)","v":""},{"$f":"IF(AND(ISBLANK(INDEX($G:$G,)), ISBLANK(INDEX($C:$C,))), \"\", 'PWS Records (System Entry)'!$D$3)","v":""},null,null,null,null,null,null,null,null,null,null,null,null,null,null,null,null,null,null,""]
[{"$f":"IF(AND(ISBLANK(INDEX($G:$G,)), ISBLANK(INDEX($C:$C,))), \"\", 'PWS Records (System Entry)'!$D$4)","v":""},{"$f":"IF(AND(ISBLANK(INDEX($G:$G,)), ISBLANK(INDEX($C:$C,))), \"\", 'PWS Records (System Entry)'!$D$3)","v":""},null,null,null,null,null,null,null,null,null,null,null,null,null,null,null,null,null,null,""]
[{"$f":"IF(AND(ISBLANK(INDEX($G:$G,)), ISBLANK(INDEX($C:$C,))), \"\", 'PWS Records (System Entry)'!$D$4)","v":""},{"$f":"IF(AND(ISBLANK(INDEX($G:$G,)), ISBLANK(INDEX($C:$C,))), \"\", 'PWS Records (System Entry)'!$D$3)","v":""},null,null,null,null,null,null,null,null,null,null,null,null,null,null,null,null,null,null,""]
[{"$f":"IF(AND(ISBLANK(INDEX($G:$G,)), ISBLANK(INDEX($C:$C,))), \"\", 'PWS Records (System Entry)'!$D$4)","v":""},{"$f":"IF(AND(ISBLANK(INDEX($G:$G,)), ISBLANK(INDEX($C:$C,))), \"\", 'PWS Records (System Entry)'!$D$3)","v":""},null,null,null,null,null,null,null,null,null,null,null,null,null,null,null,null,null,null,""]
[{"$f":"IF(AND(ISBLANK(INDEX($G:$G,)), ISBLANK(INDEX($C:$C,))), \"\", 'PWS Records (System Entry)'!$D$4)","v":""},{"$f":"IF(AND(ISBLANK(INDEX($G:$G,)), ISBLANK(INDEX($C:$C,))), \"\", 'PWS Records (System Entry)'!$D$3)","v":""},null,null,null,null,null,null,null,null,null,null,null,null,null,null,null,null,null,null,""]
[{"$f":"IF(AND(ISBLANK(INDEX($G:$G,)), ISBLANK(INDEX($C:$C,))), \"\", 'PWS Records (System Entry)'!$D$4)","v":""},{"$f":"IF(AND(ISBLANK(INDEX($G:$G,)), ISBLANK(INDEX($C:$C,))), \"\", 'PWS Records (System Entry)'!$D$3)","v":""},null,null,null,null,null,null,null,null,null,null,null,null,null,null,null,null,null,null,""]
[{"$f":"IF(AND(ISBLANK(INDEX($G:$G,)), ISBLANK(INDEX($C:$C,))), \"\", 'PWS Records (System Entry)'!$D$4)","v":""},{"$f":"IF(AND(ISBLANK(INDEX($G:$G,)), ISBLANK(INDEX($C:$C,))), \"\", 'PWS Records (System Entry)'!$D$3)","v":""},null,null,null,null,null,null,null,null,null,null,null,null,null,null,null,null,null,null,""]
[{"$f":"IF(AND(ISBLANK(INDEX($G:$G,)), ISBLANK(INDEX($C:$C,))), \"\", 'PWS Records (System Entry)'!$D$4)","v":""},{"$f":"IF(AND(ISBLANK(INDEX($G:$G,)), ISBLANK(INDEX($C:$C,))), \"\", 'PWS Records (System Entry)'!$D$3)","v":""},null,null,null,null,null,null,null,null,null,null,null,null,null,null,null,null,null,null,""]
[{"$f":"IF(AND(ISBLANK(INDEX($G:$G,)), ISBLANK(INDEX($C:$C,))), \"\", 'PWS Records (System Entry)'!$D$4)","v":""},{"$f":"IF(AND(ISBLANK(INDEX($G:$G,)), ISBLANK(INDEX($C:$C,))), \"\", 'PWS Records (System Entry)'!$D$3)","v":""},null,null,null,null,null,null,null,null,null,null,null,null,null,null,null,null,null,null,""]
[{"$f":"IF(AND(ISBLANK(INDEX($G:$G,)), ISBLANK(INDEX($C:$C,))), \"\", 'PWS Records (System Entry)'!$D$4)","v":""},{"$f":"IF(AND(ISBLANK(INDEX($G:$G,)), ISBLANK(INDEX($C:$C,))), \"\", 'PWS Records (System Entry)'!$D$3)","v":""},null,null,null,null,null,null,null,null,null,null,null,null,null,null,null,null,null,null,""]
[{"$f":"IF(AND(ISBLANK(INDEX($G:$G,)), ISBLANK(INDEX($C:$C,))), \"\", 'PWS Records (System Entry)'!$D$4)","v":""},{"$f":"IF(AND(ISBLANK(INDEX($G:$G,)), ISBLANK(INDEX($C:$C,))), \"\", 'PWS Records (System Entry)'!$D$3)","v":""},null,null,null,null,null,null,null,null,null,null,null,null,null,null,null,null,null,null,""]
[{"$f":"IF(AND(ISBLANK(INDEX($G:$G,)), ISBLANK(INDEX($C:$C,))), \"\", 'PWS Records (System Entry)'!$D$4)","v":""},{"$f":"IF(AND(ISBLANK(INDEX($G:$G,)), ISBLANK(INDEX($C:$C,))), \"\", 'PWS Records (System Entry)'!$D$3)","v":""},null,null,null,null,null,null,null,null,null,null,null,null,null,null,null,null,null,null,""]
[{"$f":"IF(AND(ISBLANK(INDEX($G:$G,)), ISBLANK(INDEX($C:$C,))), \"\", 'PWS Records (System Entry)'!$D$4)","v":""},{"$f":"IF(AND(ISBLANK(INDEX($G:$G,)), ISBLANK(INDEX($C:$C,))), \"\", 'PWS Records (System Entry)'!$D$3)","v":""},null,null,null,null,null,null,null,null,null,null,null,null,null,null,null,null,null,null,""]
[{"$f":"IF(AND(ISBLANK(INDEX($G:$G,)), ISBLANK(INDEX($C:$C,))), \"\", 'PWS Records (System Entry)'!$D$4)","v":""},{"$f":"IF(AND(ISBLANK(INDEX($G:$G,)), ISBLANK(INDEX($C:$C,))), \"\", 'PWS Records (System Entry)'!$D$3)","v":""},null,null,null,null,null,null,null,null,null,null,null,null,null,null,null,null,null,null,""]
[{"$f":"IF(AND(ISBLANK(INDEX($G:$G,)), ISBLANK(INDEX($C:$C,))), \"\", 'PWS Records (System Entry)'!$D$4)","v":""},{"$f":"IF(AND(ISBLANK(INDEX($G:$G,)), ISBLANK(INDEX($C:$C,))), \"\", 'PWS Records (System Entry)'!$D$3)","v":""},null,null,null,null,null,null,null,null,null,null,null,null,null,null,null,null,null,null,""]
[{"$f":"IF(AND(ISBLANK(INDEX($G:$G,)), ISBLANK(INDEX($C:$C,))), \"\", 'PWS Records (System Entry)'!$D$4)","v":""},{"$f":"IF(AND(ISBLANK(INDEX($G:$G,)), ISBLANK(INDEX($C:$C,))), \"\", 'PWS Records (System Entry)'!$D$3)","v":""},null,null,null,null,null,null,null,null,null,null,null,null,null,null,null,null,null,null,""]
[{"$f":"IF(AND(ISBLANK(INDEX($G:$G,)), ISBLANK(INDEX($C:$C,))), \"\", 'PWS Records (System Entry)'!$D$4)","v":""},{"$f":"IF(AND(ISBLANK(INDEX($G:$G,)), ISBLANK(INDEX($C:$C,))), \"\", 'PWS Records (System Entry)'!$D$3)","v":""},null,null,null,null,null,null,null,null,null,null,null,null,null,null,null,null,null,null,""]
[{"$f":"IF(AND(ISBLANK(INDEX($G:$G,)), ISBLANK(INDEX($C:$C,))), \"\", 'PWS Records (System Entry)'!$D$4)","v":""},{"$f":"IF(AND(ISBLANK(INDEX($G:$G,)), ISBLANK(INDEX($C:$C,))), \"\", 'PWS Records (System Entry)'!$D$3)","v":""},null,null,null,null,null,null,null,null,null,null,null,null,null,null,null,null,null,null,""]
[{"$f":"IF(AND(ISBLANK(INDEX($G:$G,)), ISBLANK(INDEX($C:$C,))), \"\", 'PWS Records (System Entry)'!$D$4)","v":""},{"$f":"IF(AND(ISBLANK(INDEX($G:$G,)), ISBLANK(INDEX($C:$C,))), \"\", 'PWS Records (System Entry)'!$D$3)","v":""},null,null,null,null,null,null,null,null,null,null,null,null,null,null,null,null,null,null,""]
[{"$f":"IF(AND(ISBLANK(INDEX($G:$G,)), ISBLANK(INDEX($C:$C,))), \"\", 'PWS Records (System Entry)'!$D$4)","v":""},{"$f":"IF(AND(ISBLANK(INDEX($G:$G,)), ISBLANK(INDEX($C:$C,))), \"\", 'PWS Records (System Entry)'!$D$3)","v":""},null,null,null,null,null,null,null,null,null,null,null,null,null,null,null,null,null,null,""]
[{"$f":"IF(AND(ISBLANK(INDEX($G:$G,)), ISBLANK(INDEX($C:$C,))), \"\", 'PWS Records (System Entry)'!$D$4)","v":""},{"$f":"IF(AND(ISBLANK(INDEX($G:$G,)), ISBLANK(INDEX($C:$C,))), \"\", 'PWS Records (System Entry)'!$D$3)","v":""},null,null,null,null,null,null,null,null,null,null,null,null,null,null,null,null,null,null,""]
[{"$f":"IF(AND(ISBLANK(INDEX($G:$G,)), ISBLANK(INDEX($C:$C,))), \"\", 'PWS Records (System Entry)'!$D$4)","v":""},{"$f":"IF(AND(ISBLANK(INDEX($G:$G,)), ISBLANK(INDEX($C:$C,))), \"\", 'PWS Records (System Entry)'!$D$3)","v":""},null,null,null,null,null,null,null,null,null,null,null,null,null,null,null,null,null,null,""]
[{"$f":"IF(AND(ISBLANK(INDEX($G:$G,)), ISBLANK(INDEX($C:$C,))), \"\", 'PWS Records (System Entry)'!$D$4)","v":""},{"$f":"IF(AND(ISBLANK(INDEX($G:$G,)), ISBLANK(INDEX($C:$C,))), \"\", 'PWS Records (System Entry)'!$D$3)","v":""},null,null,null,null,null,null,null,null,null,null,null,null,null,null,null,null,null,null,""]
[{"$f":"IF(AND(ISBLANK(INDEX($G:$G,)), ISBLANK(INDEX($C:$C,))), \"\", 'PWS Records (System Entry)'!$D$4)","v":""},{"$f":"IF(AND(ISBLANK(INDEX($G:$G,)), ISBLANK(INDEX($C:$C,))), \"\", 'PWS Records (System Entry)'!$D$3)","v":""},null,null,null,null,null,null,null,null,null,null,null,null,null,null,null,null,null,null,""]
[{"$f":"IF(AND(ISBLANK(INDEX($G:$G,)), ISBLANK(INDEX($C:$C,))), \"\", 'PWS Records (System Entry)'!$D$4)","v":""},{"$f":"IF(AND(ISBLANK(INDEX($G:$G,)), ISBLANK(INDEX($C:$C,))), \"\", 'PWS Records (System Entry)'!$D$3)","v":""},null,null,null,null,null,null,null,null,null,null,null,null,null,null,null,null,null,null,""]
[{"$f":"IF(AND(ISBLANK(INDEX($G:$G,)), ISBLANK(INDEX($C:$C,))), \"\", 'PWS Records (System Entry)'!$D$4)","v":""},{"$f":"IF(AND(ISBLANK(INDEX($G:$G,)), ISBLANK(INDEX($C:$C,))), \"\", 'PWS Records (System Entry)'!$D$3)","v":""},null,null,null,null,null,null,null,null,null,null,null,null,null,null,null,null,null,null,""]
[{"$f":"IF(AND(ISBLANK(INDEX($G:$G,)), ISBLANK(INDEX($C:$C,))), \"\", 'PWS Records (System Entry)'!$D$4)","v":""},{"$f":"IF(AND(ISBLANK(INDEX($G:$G,)), ISBLANK(INDEX($C:$C,))), \"\", 'PWS Records (System Entry)'!$D$3)","v":""},null,null,null,null,null,null,null,null,null,null,null,null,null,null,null,null,null,null,""]
[{"$f":"IF(AND(ISBLANK(INDEX($G:$G,)), ISBLANK(INDEX($C:$C,))), \"\", 'PWS Records (System Entry)'!$D$4)","v":""},{"$f":"IF(AND(ISBLANK(INDEX($G:$G,)), ISBLANK(INDEX($C:$C,))), \"\", 'PWS Records (System Entry)'!$D$3)","v":""},null,null,null,null,null,null,null,null,null,null,null,null,null,null,null,null,null,null,""]
[{"$f":"IF(AND(ISBLANK(INDEX($G:$G,)), ISBLANK(INDEX($C:$C,))), \"\", 'PWS Records (System Entry)'!$D$4)","v":""},{"$f":"IF(AND(ISBLANK(INDEX($G:$G,)), ISBLANK(INDEX($C:$C,))), \"\", 'PWS Records (System Entry)'!$D$3)","v":""},null,null,null,null,null,null,null,null,null,null,null,null,null,null,null,null,null,null,""]
[{"$f":"IF(AND(ISBLANK(INDEX($G:$G,)), ISBLANK(INDEX($C:$C,))), \"\", 'PWS Records (System Entry)'!$D$4)","v":""},{"$f":"IF(AND(ISBLANK(INDEX($G:$G,)), ISBLANK(INDEX($C:$C,))), \"\", 'PWS Records (System Entry)'!$D$3)","v":""},null,null,null,null,null,null,null,null,null,null,null,null,null,null,null,null,null,null,""]
[{"$f":"IF(AND(ISBLANK(INDEX($G:$G,)), ISBLANK(INDEX($C:$C,))), \"\", 'PWS Records (System Entry)'!$D$4)","v":""},{"$f":"IF(AND(ISBLANK(INDEX($G:$G,)), ISBLANK(INDEX($C:$C,))), \"\", 'PWS Records (System Entry)'!$D$3)","v":""},null,null,null,null,null,null,null,null,null,null,null,null,null,null,null,null,null,null,""]
[{"$f":"IF(AND(ISBLANK(INDEX($G:$G,)), ISBLANK(INDEX($C:$C,))), \"\", 'PWS Records (System Entry)'!$D$4)","v":""},{"$f":"IF(AND(ISBLANK(INDEX($G:$G,)), ISBLANK(INDEX($C:$C,))), \"\", 'PWS Records (System Entry)'!$D$3)","v":""},null,null,null,null,null,null,null,null,null,null,null,null,null,null,null,null,null,null,""]
[{"$f":"IF(AND(ISBLANK(INDEX($G:$G,)), ISBLANK(INDEX($C:$C,))), \"\", 'PWS Records (System Entry)'!$D$4)","v":""},{"$f":"IF(AND(ISBLANK(INDEX($G:$G,)), ISBLANK(INDEX($C:$C,))), \"\", 'PWS Records (System Entry)'!$D$3)","v":""},null,null,null,null,null,null,null,null,null,null,null,null,null,null,null,null,null,null,""]
[{"$f":"IF(AND(ISBLANK(INDEX($G:$G,)), ISBLANK(INDEX($C:$C,))), \"\", 'PWS Records (System Entry)'!$D$4)","v":""},{"$f":"IF(AND(ISBLANK(INDEX($G:$G,)), ISBLANK(INDEX($C:$C,))), \"\", 'PWS Records (System Entry)'!$D$3)","v":""},null,null,null,null,null,null,null,null,null,null,null,null,null,null,null,null,null,null,{"$f":"IF(AND(INDEX($K:$K,)=\"\", INDEX($L:$L,)=\"\", INDEX($M:$M,)=\"\", INDEX($Q:$Q,)=\"\", INDEX($R:$R,)=\"\"), \"\", IF(OR(INDEX($K:$K,)=\"Lead\",INDEX($Q:$Q,)=\"Lead\"),\"Lead\",IF(OR(AND(OR(INDEX($M:$M,)=\"Yes\", INDEX($M:$M,)=\"Don't Know\", INDEX($M:$M,)=\"\"), INDEX($Q:$Q,)=\"Galvanized Iron/Steel\"), AND(INDEX($K:$K,)=\"Unknown\", INDEX($M:$M,)=\"No\", INDEX($Q:$Q,)=\"Galvanized Iron/Steel\")), \"Galvanized Requiring Replacement\", IF(OR(AND(OR(INDEX($K:$K,)=\"Galvanized Iron/Steel\", INDEX($K:$K,)=\"Non-Lead - Copper\", INDEX($K:$K,)=\"Non-Lead - Plastic\", INDEX($K:$K,)=\"Non-Lead - Other\", INDEX($K:$K,)=\"Non-Lead - Material Unknown\", INDEX($K:$K,)=\"No System Owned Portion\"), OR(INDEX($Q:$Q,)=\"Galvanized Iron/Steel\", INDEX($Q:$Q,)=\"Non-Lead - Copper\", INDEX($Q:$Q,)=\"Non-Lead - Plastic\", INDEX($Q:$Q,)=\"Non-Lead - Other\", INDEX($Q:$Q,)=\"Non-Lead - Predictive Model\", INDEX($Q:$Q,)=\"No Customer Owned Portion\")), AND(OR( INDEX($K:$K,)=\"Galvanized Iron/Steel\", INDEX($K:$K,)=\"Non-Lead - Copper\", INDEX($K:$K,)=\"Non-Lead - Plastic\", INDEX($K:$K,)=\"Non-Lead - Other\", INDEX($K:$K,)=\"Non-Lead - Material Unknown\", INDEX($K:$K,)=\"No System Owned Portion\"), INDEX($M:$M,)=\"No\", INDEX($Q:$Q,)=\"Non-Lead - Material Unknown\")), \"Non-Lead\", \"Lead Status Unknown\"))))","v":""}]
[{"$f":"IF(AND(ISBLANK(INDEX($G:$G,)), ISBLANK(INDEX($C:$C,))), \"\", 'PWS Records (System Entry)'!$D$4)","v":""},{"$f":"IF(AND(ISBLANK(INDEX($G:$G,)), ISBLANK(INDEX($C:$C,))), \"\", 'PWS Records (System Entry)'!$D$3)","v":""},null,null,null,null,null,null,null,null,null,null,null,null,null,null,null,null,null,null,""]
[{"$f":"IF(AND(ISBLANK(INDEX($G:$G,)), ISBLANK(INDEX($C:$C,))), \"\", 'PWS Records (System Entry)'!$D$4)","v":""},{"$f":"IF(AND(ISBLANK(INDEX($G:$G,)), ISBLANK(INDEX($C:$C,))), \"\", 'PWS Records (System Entry)'!$D$3)","v":""},null,null,null,null,null,null,null,null,null,null,null,null,null,null,null,null,null,null,""]
[{"$f":"IF(AND(ISBLANK(INDEX($G:$G,)), ISBLANK(INDEX($C:$C,))), \"\", 'PWS Records (System Entry)'!$D$4)","v":""},{"$f":"IF(AND(ISBLANK(INDEX($G:$G,)), ISBLANK(INDEX($C:$C,))), \"\", 'PWS Records (System Entry)'!$D$3)","v":""},null,null,null,null,null,null,null,null,null,null,null,null,null,null,null,null,null,null,""]
[{"$f":"IF(AND(ISBLANK(INDEX($G:$G,)), ISBLANK(INDEX($C:$C,))), \"\", 'PWS Records (System Entry)'!$D$4)","v":""},{"$f":"IF(AND(ISBLANK(INDEX($G:$G,)), ISBLANK(INDEX($C:$C,))), \"\", 'PWS Records (System Entry)'!$D$3)","v":""},null,null,null,null,null,null,null,null,null,null,null,null,null,null,null,null,null,null,""]
[{"$f":"IF(AND(ISBLANK(INDEX($G:$G,)), ISBLANK(INDEX($C:$C,))), \"\", 'PWS Records (System Entry)'!$D$4)","v":""},{"$f":"IF(AND(ISBLANK(INDEX($G:$G,)), ISBLANK(INDEX($C:$C,))), \"\", 'PWS Records (System Entry)'!$D$3)","v":""},null,null,null,null,null,null,null,null,null,null,null,null,null,null,null,null,null,null,""]
[{"$f":"IF(AND(ISBLANK(INDEX($G:$G,)), ISBLANK(INDEX($C:$C,))), \"\", 'PWS Records (System Entry)'!$D$4)","v":""},{"$f":"IF(AND(ISBLANK(INDEX($G:$G,)), ISBLANK(INDEX($C:$C,))), \"\", 'PWS Records (System Entry)'!$D$3)","v":""},null,null,null,null,null,null,null,null,null,null,null,null,null,null,null,null,null,null,""]
[{"$f":"IF(AND(ISBLANK(INDEX($G:$G,)), ISBLANK(INDEX($C:$C,))), \"\", 'PWS Records (System Entry)'!$D$4)","v":""},{"$f":"IF(AND(ISBLANK(INDEX($G:$G,)), ISBLANK(INDEX($C:$C,))), \"\", 'PWS Records (System Entry)'!$D$3)","v":""},null,null,null,null,null,null,null,null,null,null,null,null,null,null,null,null,null,null,""]
[{"$f":"IF(AND(ISBLANK(INDEX($G:$G,)), ISBLANK(INDEX($C:$C,))), \"\", 'PWS Records (System Entry)'!$D$4)","v":""},{"$f":"IF(AND(ISBLANK(INDEX($G:$G,)), ISBLANK(INDEX($C:$C,))), \"\", 'PWS Records (System Entry)'!$D$3)","v":""},null,null,null,null,null,null,null,null,null,null,null,null,null,null,null,null,null,null,""]
[{"$f":"IF(AND(ISBLANK(INDEX($G:$G,)), ISBLANK(INDEX($C:$C,))), \"\", 'PWS Records (System Entry)'!$D$4)","v":""},{"$f":"IF(AND(ISBLANK(INDEX($G:$G,)), ISBLANK(INDEX($C:$C,))), \"\", 'PWS Records (System Entry)'!$D$3)","v":""},null,null,null,null,null,null,null,null,null,null,null,null,null,null,null,null,null,null,""]
[{"$f":"IF(AND(ISBLANK(INDEX($G:$G,)), ISBLANK(INDEX($C:$C,))), \"\", 'PWS Records (System Entry)'!$D$4)","v":""},{"$f":"IF(AND(ISBLANK(INDEX($G:$G,)), ISBLANK(INDEX($C:$C,))), \"\", 'PWS Records (System Entry)'!$D$3)","v":""},null,null,null,null,null,null,null,null,null,null,null,null,null,null,null,null,null,null,""]
[{"$f":"IF(AND(ISBLANK(INDEX($G:$G,)), ISBLANK(INDEX($C:$C,))), \"\", 'PWS Records (System Entry)'!$D$4)","v":""},{"$f":"IF(AND(ISBLANK(INDEX($G:$G,)), ISBLANK(INDEX($C:$C,))), \"\", 'PWS Records (System Entry)'!$D$3)","v":""},null,null,null,null,null,null,null,null,null,null,null,null,null,null,null,null,null,null,""]
[{"$f":"IF(AND(ISBLANK(INDEX($G:$G,)), ISBLANK(INDEX($C:$C,))), \"\", 'PWS Records (System Entry)'!$D$4)","v":""},{"$f":"IF(AND(ISBLANK(INDEX($G:$G,)), ISBLANK(INDEX($C:$C,))), \"\", 'PWS Records (System Entry)'!$D$3)","v":""},null,null,null,null,null,null,null,null,null,null,null,null,null,null,null,null,null,null,""]
[{"$f":"IF(AND(ISBLANK(INDEX($G:$G,)), ISBLANK(INDEX($C:$C,))), \"\", 'PWS Records (System Entry)'!$D$4)","v":""},{"$f":"IF(AND(ISBLANK(INDEX($G:$G,)), ISBLANK(INDEX($C:$C,))), \"\", 'PWS Records (System Entry)'!$D$3)","v":""},null,null,null,null,null,null,null,null,null,null,null,null,null,null,null,null,null,null,""]
[{"$f":"IF(AND(ISBLANK(INDEX($G:$G,)), ISBLANK(INDEX($C:$C,))), \"\", 'PWS Records (System Entry)'!$D$4)","v":""},{"$f":"IF(AND(ISBLANK(INDEX($G:$G,)), ISBLANK(INDEX($C:$C,))), \"\", 'PWS Records (System Entry)'!$D$3)","v":""},null,null,null,null,null,null,null,null,null,null,null,null,null,null,null,null,null,null,""]
[{"$f":"IF(AND(ISBLANK(INDEX($G:$G,)), ISBLANK(INDEX($C:$C,))), \"\", 'PWS Records (System Entry)'!$D$4)","v":""},{"$f":"IF(AND(ISBLANK(INDEX($G:$G,)), ISBLANK(INDEX($C:$C,))), \"\", 'PWS Records (System Entry)'!$D$3)","v":""},null,null,null,null,null,null,null,null,null,null,null,null,null,null,null,null,null,null,""]
[{"$f":"IF(AND(ISBLANK(INDEX($G:$G,)), ISBLANK(INDEX($C:$C,))), \"\", 'PWS Records (System Entry)'!$D$4)","v":""},{"$f":"IF(AND(ISBLANK(INDEX($G:$G,)), ISBLANK(INDEX($C:$C,))), \"\", 'PWS Records (System Entry)'!$D$3)","v":""},null,null,null,null,null,null,null,null,null,null,null,null,null,null,null,null,null,null,""]
[{"$f":"IF(AND(ISBLANK(INDEX($G:$G,)), ISBLANK(INDEX($C:$C,))), \"\", 'PWS Records (System Entry)'!$D$4)","v":""},{"$f":"IF(AND(ISBLANK(INDEX($G:$G,)), ISBLANK(INDEX($C:$C,))), \"\", 'PWS Records (System Entry)'!$D$3)","v":""},null,null,null,null,null,null,null,null,null,null,null,null,null,null,null,null,null,null,""]
[{"$f":"IF(AND(ISBLANK(INDEX($G:$G,)), ISBLANK(INDEX($C:$C,))), \"\", 'PWS Records (System Entry)'!$D$4)","v":""},{"$f":"IF(AND(ISBLANK(INDEX($G:$G,)), ISBLANK(INDEX($C:$C,))), \"\", 'PWS Records (System Entry)'!$D$3)","v":""},null,null,null,null,null,null,null,null,null,null,null,null,null,null,null,null,null,null,""]
[{"$f":"IF(AND(ISBLANK(INDEX($G:$G,)), ISBLANK(INDEX($C:$C,))), \"\", 'PWS Records (System Entry)'!$D$4)","v":""},{"$f":"IF(AND(ISBLANK(INDEX($G:$G,)), ISBLANK(INDEX($C:$C,))), \"\", 'PWS Records (System Entry)'!$D$3)","v":""},null,null,null,null,null,null,null,null,null,null,null,null,null,null,null,null,null,null,""]
[{"$f":"IF(AND(ISBLANK(INDEX($G:$G,)), ISBLANK(INDEX($C:$C,))), \"\", 'PWS Records (System Entry)'!$D$4)","v":""},{"$f":"IF(AND(ISBLANK(INDEX($G:$G,)), ISBLANK(INDEX($C:$C,))), \"\", 'PWS Records (System Entry)'!$D$3)","v":""},null,null,null,null,null,null,null,null,null,null,null,null,null,null,null,null,null,null,""]
[{"$f":"IF(AND(ISBLANK(INDEX($G:$G,)), ISBLANK(INDEX($C:$C,))), \"\", 'PWS Records (System Entry)'!$D$4)","v":""},{"$f":"IF(AND(ISBLANK(INDEX($G:$G,)), ISBLANK(INDEX($C:$C,))), \"\", 'PWS Records (System Entry)'!$D$3)","v":""},null,null,null,null,null,null,null,null,null,null,null,null,null,null,null,null,null,null,""]
[{"$f":"IF(AND(ISBLANK(INDEX($G:$G,)), ISBLANK(INDEX($C:$C,))), \"\", 'PWS Records (System Entry)'!$D$4)","v":""},{"$f":"IF(AND(ISBLANK(INDEX($G:$G,)), ISBLANK(INDEX($C:$C,))), \"\", 'PWS Records (System Entry)'!$D$3)","v":""},null,null,null,null,null,null,null,null,null,null,null,null,null,null,null,null,null,null,""]
[{"$f":"IF(AND(ISBLANK(INDEX($G:$G,)), ISBLANK(INDEX($C:$C,))), \"\", 'PWS Records (System Entry)'!$D$4)","v":""},{"$f":"IF(AND(ISBLANK(INDEX($G:$G,)), ISBLANK(INDEX($C:$C,))), \"\", 'PWS Records (System Entry)'!$D$3)","v":""},null,null,null,null,null,null,null,null,null,null,null,null,null,null,null,null,null,null,""]
[{"$f":"IF(AND(ISBLANK(INDEX($G:$G,)), ISBLANK(INDEX($C:$C,))), \"\", 'PWS Records (System Entry)'!$D$4)","v":""},{"$f":"IF(AND(ISBLANK(INDEX($G:$G,)), ISBLANK(INDEX($C:$C,))), \"\", 'PWS Records (System Entry)'!$D$3)","v":""},null,null,null,null,null,null,null,null,null,null,null,null,null,null,null,null,null,null,""]
[{"$f":"IF(AND(ISBLANK(INDEX($G:$G,)), ISBLANK(INDEX($C:$C,))), \"\", 'PWS Records (System Entry)'!$D$4)","v":""},{"$f":"IF(AND(ISBLANK(INDEX($G:$G,)), ISBLANK(INDEX($C:$C,))), \"\", 'PWS Records (System Entry)'!$D$3)","v":""},null,null,null,null,null,null,null,null,null,null,null,null,null,null,null,null,null,null,""]
[{"$f":"IF(AND(ISBLANK(INDEX($G:$G,)), ISBLANK(INDEX($C:$C,))), \"\", 'PWS Records (System Entry)'!$D$4)","v":""},{"$f":"IF(AND(ISBLANK(INDEX($G:$G,)), ISBLANK(INDEX($C:$C,))), \"\", 'PWS Records (System Entry)'!$D$3)","v":""},null,null,null,null,null,null,null,null,null,null,null,null,null,null,null,null,null,null,""]
[{"$f":"IF(AND(ISBLANK(INDEX($G:$G,)), ISBLANK(INDEX($C:$C,))), \"\", 'PWS Records (System Entry)'!$D$4)","v":""},{"$f":"IF(AND(ISBLANK(INDEX($G:$G,)), ISBLANK(INDEX($C:$C,))), \"\", 'PWS Records (System Entry)'!$D$3)","v":""},null,null,null,null,null,null,null,null,null,null,null,null,null,null,null,null,null,null,""]
[{"$f":"IF(AND(ISBLANK(INDEX($G:$G,)), ISBLANK(INDEX($C:$C,))), \"\", 'PWS Records (System Entry)'!$D$4)","v":""},{"$f":"IF(AND(ISBLANK(INDEX($G:$G,)), ISBLANK(INDEX($C:$C,))), \"\", 'PWS Records (System Entry)'!$D$3)","v":""},null,null,null,null,null,null,null,null,null,null,null,null,null,null,null,null,null,null,""]
[{"$f":"IF(AND(ISBLANK(INDEX($G:$G,)), ISBLANK(INDEX($C:$C,))), \"\", 'PWS Records (System Entry)'!$D$4)","v":""},{"$f":"IF(AND(ISBLANK(INDEX($G:$G,)), ISBLANK(INDEX($C:$C,))), \"\", 'PWS Records (System Entry)'!$D$3)","v":""},null,null,null,null,null,null,null,null,null,null,null,null,null,null,null,null,null,null,""]
[{"$f":"IF(AND(ISBLANK(INDEX($G:$G,)), ISBLANK(INDEX($C:$C,))), \"\", 'PWS Records (System Entry)'!$D$4)","v":""},{"$f":"IF(AND(ISBLANK(INDEX($G:$G,)), ISBLANK(INDEX($C:$C,))), \"\", 'PWS Records (System Entry)'!$D$3)","v":""},null,null,null,null,null,null,null,null,null,null,null,null,null,null,null,null,null,null,""]
[{"$f":"IF(AND(ISBLANK(INDEX($G:$G,)), ISBLANK(INDEX($C:$C,))), \"\", 'PWS Records (System Entry)'!$D$4)","v":""},{"$f":"IF(AND(ISBLANK(INDEX($G:$G,)), ISBLANK(INDEX($C:$C,))), \"\", 'PWS Records (System Entry)'!$D$3)","v":""},null,null,null,null,null,null,null,null,null,null,null,null,null,null,null,null,null,null,""]
[{"$f":"IF(AND(ISBLANK(INDEX($G:$G,)), ISBLANK(INDEX($C:$C,))), \"\", 'PWS Records (System Entry)'!$D$4)","v":""},{"$f":"IF(AND(ISBLANK(INDEX($G:$G,)), ISBLANK(INDEX($C:$C,))), \"\", 'PWS Records (System Entry)'!$D$3)","v":""},null,null,null,null,null,null,null,null,null,null,null,null,null,null,null,null,null,null,""]
[{"$f":"IF(AND(ISBLANK(INDEX($G:$G,)), ISBLANK(INDEX($C:$C,))), \"\", 'PWS Records (System Entry)'!$D$4)","v":""},{"$f":"IF(AND(ISBLANK(INDEX($G:$G,)), ISBLANK(INDEX($C:$C,))), \"\", 'PWS Records (System Entry)'!$D$3)","v":""},null,null,null,null,null,null,null,null,null,null,null,null,null,null,null,null,null,null,""]
[{"$f":"IF(AND(ISBLANK(INDEX($G:$G,)), ISBLANK(INDEX($C:$C,))), \"\", 'PWS Records (System Entry)'!$D$4)","v":""},{"$f":"IF(AND(ISBLANK(INDEX($G:$G,)), ISBLANK(INDEX($C:$C,))), \"\", 'PWS Records (System Entry)'!$D$3)","v":""},null,null,null,null,null,null,null,null,null,null,null,null,null,null,null,null,null,null,""]
[{"$f":"IF(AND(ISBLANK(INDEX($G:$G,)), ISBLANK(INDEX($C:$C,))), \"\", 'PWS Records (System Entry)'!$D$4)","v":""},{"$f":"IF(AND(ISBLANK(INDEX($G:$G,)), ISBLANK(INDEX($C:$C,))), \"\", 'PWS Records (System Entry)'!$D$3)","v":""},null,null,null,null,null,null,null,null,null,null,null,null,null,null,null,null,null,null,""]
[{"$f":"IF(AND(ISBLANK(INDEX($G:$G,)), ISBLANK(INDEX($C:$C,))), \"\", 'PWS Records (System Entry)'!$D$4)","v":""},{"$f":"IF(AND(ISBLANK(INDEX($G:$G,)), ISBLANK(INDEX($C:$C,))), \"\", 'PWS Records (System Entry)'!$D$3)","v":""},null,null,null,null,null,null,null,null,null,null,null,null,null,null,null,null,null,null,""]
[{"$f":"IF(AND(ISBLANK(INDEX($G:$G,)), ISBLANK(INDEX($C:$C,))), \"\", 'PWS Records (System Entry)'!$D$4)","v":""},{"$f":"IF(AND(ISBLANK(INDEX($G:$G,)), ISBLANK(INDEX($C:$C,))), \"\", 'PWS Records (System Entry)'!$D$3)","v":""},null,null,null,null,null,null,null,null,null,null,null,null,null,null,null,null,null,null,""]
[{"$f":"IF(AND(ISBLANK(INDEX($G:$G,)), ISBLANK(INDEX($C:$C,))), \"\", 'PWS Records (System Entry)'!$D$4)","v":""},{"$f":"IF(AND(ISBLANK(INDEX($G:$G,)), ISBLANK(INDEX($C:$C,))), \"\", 'PWS Records (System Entry)'!$D$3)","v":""},null,null,null,null,null,null,null,null,null,null,null,null,null,null,null,null,null,null,""]
[{"$f":"IF(AND(ISBLANK(INDEX($G:$G,)), ISBLANK(INDEX($C:$C,))), \"\", 'PWS Records (System Entry)'!$D$4)","v":""},{"$f":"IF(AND(ISBLANK(INDEX($G:$G,)), ISBLANK(INDEX($C:$C,))), \"\", 'PWS Records (System Entry)'!$D$3)","v":""},null,null,null,null,null,null,null,null,null,null,null,null,null,null,null,null,null,null,""]
[{"$f":"IF(AND(ISBLANK(INDEX($G:$G,)), ISBLANK(INDEX($C:$C,))), \"\", 'PWS Records (System Entry)'!$D$4)","v":""},{"$f":"IF(AND(ISBLANK(INDEX($G:$G,)), ISBLANK(INDEX($C:$C,))), \"\", 'PWS Records (System Entry)'!$D$3)","v":""},null,null,null,null,null,null,null,null,null,null,null,null,null,null,null,null,null,null,""]
[{"$f":"IF(AND(ISBLANK(INDEX($G:$G,)), ISBLANK(INDEX($C:$C,))), \"\", 'PWS Records (System Entry)'!$D$4)","v":""},{"$f":"IF(AND(ISBLANK(INDEX($G:$G,)), ISBLANK(INDEX($C:$C,))), \"\", 'PWS Records (System Entry)'!$D$3)","v":""},null,null,null,null,null,null,null,null,null,null,null,null,null,null,null,null,null,null,""]
[{"$f":"IF(AND(ISBLANK(INDEX($G:$G,)), ISBLANK(INDEX($C:$C,))), \"\", 'PWS Records (System Entry)'!$D$4)","v":""},{"$f":"IF(AND(ISBLANK(INDEX($G:$G,)), ISBLANK(INDEX($C:$C,))), \"\", 'PWS Records (System Entry)'!$D$3)","v":""},null,null,null,null,null,null,null,null,null,null,null,null,null,null,null,null,null,null,""]
[{"$f":"IF(AND(ISBLANK(INDEX($G:$G,)), ISBLANK(INDEX($C:$C,))), \"\", 'PWS Records (System Entry)'!$D$4)","v":""},{"$f":"IF(AND(ISBLANK(INDEX($G:$G,)), ISBLANK(INDEX($C:$C,))), \"\", 'PWS Records (System Entry)'!$D$3)","v":""},null,null,null,null,null,null,null,null,null,null,null,null,null,null,null,null,null,null,""]
[{"$f":"IF(AND(ISBLANK(INDEX($G:$G,)), ISBLANK(INDEX($C:$C,))), \"\", 'PWS Records (System Entry)'!$D$4)","v":""},{"$f":"IF(AND(ISBLANK(INDEX($G:$G,)), ISBLANK(INDEX($C:$C,))), \"\", 'PWS Records (System Entry)'!$D$3)","v":""},null,null,null,null,null,null,null,null,null,null,null,null,null,null,null,null,null,null,""]
[{"$f":"IF(AND(ISBLANK(INDEX($G:$G,)), ISBLANK(INDEX($C:$C,))), \"\", 'PWS Records (System Entry)'!$D$4)","v":""},{"$f":"IF(AND(ISBLANK(INDEX($G:$G,)), ISBLANK(INDEX($C:$C,))), \"\", 'PWS Records (System Entry)'!$D$3)","v":""},null,null,null,null,null,null,null,null,null,null,null,null,null,null,null,null,null,null,""]
[{"$f":"IF(AND(ISBLANK(INDEX($G:$G,)), ISBLANK(INDEX($C:$C,))), \"\", 'PWS Records (System Entry)'!$D$4)","v":""},{"$f":"IF(AND(ISBLANK(INDEX($G:$G,)), ISBLANK(INDEX($C:$C,))), \"\", 'PWS Records (System Entry)'!$D$3)","v":""},null,null,null,null,null,null,null,null,null,null,null,null,null,null,null,null,null,null,""]
[{"$f":"IF(AND(ISBLANK(INDEX($G:$G,)), ISBLANK(INDEX($C:$C,))), \"\", 'PWS Records (System Entry)'!$D$4)","v":""},{"$f":"IF(AND(ISBLANK(INDEX($G:$G,)), ISBLANK(INDEX($C:$C,))), \"\", 'PWS Records (System Entry)'!$D$3)","v":""},null,null,null,null,null,null,null,null,null,null,null,null,null,null,null,null,null,null,""]
[{"$f":"IF(AND(ISBLANK(INDEX($G:$G,)), ISBLANK(INDEX($C:$C,))), \"\", 'PWS Records (System Entry)'!$D$4)","v":""},{"$f":"IF(AND(ISBLANK(INDEX($G:$G,)), ISBLANK(INDEX($C:$C,))), \"\", 'PWS Records (System Entry)'!$D$3)","v":""},null,null,null,null,null,null,null,null,null,null,null,null,null,null,null,null,null,null,""]
[{"$f":"IF(AND(ISBLANK(INDEX($G:$G,)), ISBLANK(INDEX($C:$C,))), \"\", 'PWS Records (System Entry)'!$D$4)","v":""},{"$f":"IF(AND(ISBLANK(INDEX($G:$G,)), ISBLANK(INDEX($C:$C,))), \"\", 'PWS Records (System Entry)'!$D$3)","v":""},null,null,null,null,null,null,null,null,null,null,null,null,null,null,null,null,null,null,""]
[{"$f":"IF(AND(ISBLANK(INDEX($G:$G,)), ISBLANK(INDEX($C:$C,))), \"\", 'PWS Records (System Entry)'!$D$4)","v":""},{"$f":"IF(AND(ISBLANK(INDEX($G:$G,)), ISBLANK(INDEX($C:$C,))), \"\", 'PWS Records (System Entry)'!$D$3)","v":""},null,null,null,null,null,null,null,null,null,null,null,null,null,null,null,null,null,null,""]
[{"$f":"IF(AND(ISBLANK(INDEX($G:$G,)), ISBLANK(INDEX($C:$C,))), \"\", 'PWS Records (System Entry)'!$D$4)","v":""},{"$f":"IF(AND(ISBLANK(INDEX($G:$G,)), ISBLANK(INDEX($C:$C,))), \"\", 'PWS Records (System Entry)'!$D$3)","v":""},null,null,null,null,null,null,null,null,null,null,null,null,null,null,null,null,null,null,""]
[{"$f":"IF(AND(ISBLANK(INDEX($G:$G,)), ISBLANK(INDEX($C:$C,))), \"\", 'PWS Records (System Entry)'!$D$4)","v":""},{"$f":"IF(AND(ISBLANK(INDEX($G:$G,)), ISBLANK(INDEX($C:$C,))), \"\", 'PWS Records (System Entry)'!$D$3)","v":""},null,null,null,null,null,null,null,null,null,null,null,null,null,null,null,null,null,null,""]
[{"$f":"IF(AND(ISBLANK(INDEX($G:$G,)), ISBLANK(INDEX($C:$C,))), \"\", 'PWS Records (System Entry)'!$D$4)","v":""},{"$f":"IF(AND(ISBLANK(INDEX($G:$G,)), ISBLANK(INDEX($C:$C,))), \"\", 'PWS Records (System Entry)'!$D$3)","v":""},null,null,null,null,null,null,null,null,null,null,null,null,null,null,null,null,null,null,""]
[{"$f":"IF(AND(ISBLANK(INDEX($G:$G,)), ISBLANK(INDEX($C:$C,))), \"\", 'PWS Records (System Entry)'!$D$4)","v":""},{"$f":"IF(AND(ISBLANK(INDEX($G:$G,)), ISBLANK(INDEX($C:$C,))), \"\", 'PWS Records (System Entry)'!$D$3)","v":""},null,null,null,null,null,null,null,null,null,null,null,null,null,null,null,null,null,null,""]
[{"$f":"IF(AND(ISBLANK(INDEX($G:$G,)), ISBLANK(INDEX($C:$C,))), \"\", 'PWS Records (System Entry)'!$D$4)","v":""},{"$f":"IF(AND(ISBLANK(INDEX($G:$G,)), ISBLANK(INDEX($C:$C,))), \"\", 'PWS Records (System Entry)'!$D$3)","v":""},null,null,null,null,null,null,null,null,null,null,null,null,null,null,null,null,null,null,""]
[{"$f":"IF(AND(ISBLANK(INDEX($G:$G,)), ISBLANK(INDEX($C:$C,))), \"\", 'PWS Records (System Entry)'!$D$4)","v":""},{"$f":"IF(AND(ISBLANK(INDEX($G:$G,)), ISBLANK(INDEX($C:$C,))), \"\", 'PWS Records (System Entry)'!$D$3)","v":""},null,null,null,null,null,null,null,null,null,null,null,null,null,null,null,null,null,null,""]
[{"$f":"IF(AND(ISBLANK(INDEX($G:$G,)), ISBLANK(INDEX($C:$C,))), \"\", 'PWS Records (System Entry)'!$D$4)","v":""},{"$f":"IF(AND(ISBLANK(INDEX($G:$G,)), ISBLANK(INDEX($C:$C,))), \"\", 'PWS Records (System Entry)'!$D$3)","v":""},null,null,null,null,null,null,null,null,null,null,null,null,null,null,null,null,null,null,""]
[{"$f":"IF(AND(ISBLANK(INDEX($G:$G,)), ISBLANK(INDEX($C:$C,))), \"\", 'PWS Records (System Entry)'!$D$4)","v":""},{"$f":"IF(AND(ISBLANK(INDEX($G:$G,)), ISBLANK(INDEX($C:$C,))), \"\", 'PWS Records (System Entry)'!$D$3)","v":""},null,null,null,null,null,null,null,null,null,null,null,null,null,null,null,null,null,null,""]
[{"$f":"IF(AND(ISBLANK(INDEX($G:$G,)), ISBLANK(INDEX($C:$C,))), \"\", 'PWS Records (System Entry)'!$D$4)","v":""},{"$f":"IF(AND(ISBLANK(INDEX($G:$G,)), ISBLANK(INDEX($C:$C,))), \"\", 'PWS Records (System Entry)'!$D$3)","v":""},null,null,null,null,null,null,null,null,null,null,null,null,null,null,null,null,null,null,""]
[{"$f":"IF(AND(ISBLANK(INDEX($G:$G,)), ISBLANK(INDEX($C:$C,))), \"\", 'PWS Records (System Entry)'!$D$4)","v":""},{"$f":"IF(AND(ISBLANK(INDEX($G:$G,)), ISBLANK(INDEX($C:$C,))), \"\", 'PWS Records (System Entry)'!$D$3)","v":""},null,null,null,null,null,null,null,null,null,null,null,null,null,null,null,null,null,null,""]
[{"$f":"IF(AND(ISBLANK(INDEX($G:$G,)), ISBLANK(INDEX($C:$C,))), \"\", 'PWS Records (System Entry)'!$D$4)","v":""},{"$f":"IF(AND(ISBLANK(INDEX($G:$G,)), ISBLANK(INDEX($C:$C,))), \"\", 'PWS Records (System Entry)'!$D$3)","v":""},null,null,null,null,null,null,null,null,null,null,null,null,null,null,null,null,null,null,""]
[{"$f":"IF(AND(ISBLANK(INDEX($G:$G,)), ISBLANK(INDEX($C:$C,))), \"\", 'PWS Records (System Entry)'!$D$4)","v":""},{"$f":"IF(AND(ISBLANK(INDEX($G:$G,)), ISBLANK(INDEX($C:$C,))), \"\", 'PWS Records (System Entry)'!$D$3)","v":""},null,null,null,null,null,null,null,null,null,null,null,null,null,null,null,null,null,null,""]
[{"$f":"IF(AND(ISBLANK(INDEX($G:$G,)), ISBLANK(INDEX($C:$C,))), \"\", 'PWS Records (System Entry)'!$D$4)","v":""},{"$f":"IF(AND(ISBLANK(INDEX($G:$G,)), ISBLANK(INDEX($C:$C,))), \"\", 'PWS Records (System Entry)'!$D$3)","v":""},null,null,null,null,null,null,null,null,null,null,null,null,null,null,null,null,null,null,""]
[{"$f":"IF(AND(ISBLANK(INDEX($G:$G,)), ISBLANK(INDEX($C:$C,))), \"\", 'PWS Records (System Entry)'!$D$4)","v":""},{"$f":"IF(AND(ISBLANK(INDEX($G:$G,)), ISBLANK(INDEX($C:$C,))), \"\", 'PWS Records (System Entry)'!$D$3)","v":""},null,null,null,null,null,null,null,null,null,null,null,null,null,null,null,null,null,null,""]
[{"$f":"IF(AND(ISBLANK(INDEX($G:$G,)), ISBLANK(INDEX($C:$C,))), \"\", 'PWS Records (System Entry)'!$D$4)","v":""},{"$f":"IF(AND(ISBLANK(INDEX($G:$G,)), ISBLANK(INDEX($C:$C,))), \"\", 'PWS Records (System Entry)'!$D$3)","v":""},null,null,null,null,null,null,null,null,null,null,null,null,null,null,null,null,null,null,""]
[{"$f":"IF(AND(ISBLANK(INDEX($G:$G,)), ISBLANK(INDEX($C:$C,))), \"\", 'PWS Records (System Entry)'!$D$4)","v":""},{"$f":"IF(AND(ISBLANK(INDEX($G:$G,)), ISBLANK(INDEX($C:$C,))), \"\", 'PWS Records (System Entry)'!$D$3)","v":""},null,null,null,null,null,null,null,null,null,null,null,null,null,null,null,null,null,null,""]
[{"$f":"IF(AND(ISBLANK(INDEX($G:$G,)), ISBLANK(INDEX($C:$C,))), \"\", 'PWS Records (System Entry)'!$D$4)","v":""},{"$f":"IF(AND(ISBLANK(INDEX($G:$G,)), ISBLANK(INDEX($C:$C,))), \"\", 'PWS Records (System Entry)'!$D$3)","v":""},null,null,null,null,null,null,null,null,null,null,null,null,null,null,null,null,null,null,""]
[{"$f":"IF(AND(ISBLANK(INDEX($G:$G,)), ISBLANK(INDEX($C:$C,))), \"\", 'PWS Records (System Entry)'!$D$4)","v":""},{"$f":"IF(AND(ISBLANK(INDEX($G:$G,)), ISBLANK(INDEX($C:$C,))), \"\", 'PWS Records (System Entry)'!$D$3)","v":""},null,null,null,null,null,null,null,null,null,null,null,null,null,null,null,null,null,null,""]
[{"$f":"IF(AND(ISBLANK(INDEX($G:$G,)), ISBLANK(INDEX($C:$C,))), \"\", 'PWS Records (System Entry)'!$D$4)","v":""},{"$f":"IF(AND(ISBLANK(INDEX($G:$G,)), ISBLANK(INDEX($C:$C,))), \"\", 'PWS Records (System Entry)'!$D$3)","v":""},null,null,null,null,null,null,null,null,null,null,null,null,null,null,null,null,null,null,""]
[{"$f":"IF(AND(ISBLANK(INDEX($G:$G,)), ISBLANK(INDEX($C:$C,))), \"\", 'PWS Records (System Entry)'!$D$4)","v":""},{"$f":"IF(AND(ISBLANK(INDEX($G:$G,)), ISBLANK(INDEX($C:$C,))), \"\", 'PWS Records (System Entry)'!$D$3)","v":""},null,null,null,null,null,null,null,null,null,null,null,null,null,null,null,null,null,null,""]
[{"$f":"IF(AND(ISBLANK(INDEX($G:$G,)), ISBLANK(INDEX($C:$C,))), \"\", 'PWS Records (System Entry)'!$D$4)","v":""},{"$f":"IF(AND(ISBLANK(INDEX($G:$G,)), ISBLANK(INDEX($C:$C,))), \"\", 'PWS Records (System Entry)'!$D$3)","v":""},null,null,null,null,null,null,null,null,null,null,null,null,null,null,null,null,null,null,""]
[{"$f":"IF(AND(ISBLANK(INDEX($G:$G,)), ISBLANK(INDEX($C:$C,))), \"\", 'PWS Records (System Entry)'!$D$4)","v":""},{"$f":"IF(AND(ISBLANK(INDEX($G:$G,)), ISBLANK(INDEX($C:$C,))), \"\", 'PWS Records (System Entry)'!$D$3)","v":""},null,null,null,null,null,null,null,null,null,null,null,null,null,null,null,null,null,null,""]
[{"$f":"IF(AND(ISBLANK(INDEX($G:$G,)), ISBLANK(INDEX($C:$C,))), \"\", 'PWS Records (System Entry)'!$D$4)","v":""},{"$f":"IF(AND(ISBLANK(INDEX($G:$G,)), ISBLANK(INDEX($C:$C,))), \"\", 'PWS Records (System Entry)'!$D$3)","v":""},null,null,null,null,null,null,null,null,null,null,null,null,null,null,null,null,null,null,""]
[{"$f":"IF(AND(ISBLANK(INDEX($G:$G,)), ISBLANK(INDEX($C:$C,))), \"\", 'PWS Records (System Entry)'!$D$4)","v":""},{"$f":"IF(AND(ISBLANK(INDEX($G:$G,)), ISBLANK(INDEX($C:$C,))), \"\", 'PWS Records (System Entry)'!$D$3)","v":""},null,null,null,null,null,null,null,null,null,null,null,null,null,null,null,null,null,null,""]
[{"$f":"IF(AND(ISBLANK(INDEX($G:$G,)), ISBLANK(INDEX($C:$C,))), \"\", 'PWS Records (System Entry)'!$D$4)","v":""},{"$f":"IF(AND(ISBLANK(INDEX($G:$G,)), ISBLANK(INDEX($C:$C,))), \"\", 'PWS Records (System Entry)'!$D$3)","v":""},null,null,null,null,null,null,null,null,null,null,null,null,null,null,null,null,null,null,""]
[{"$f":"IF(AND(ISBLANK(INDEX($G:$G,)), ISBLANK(INDEX($C:$C,))), \"\", 'PWS Records (System Entry)'!$D$4)","v":""},{"$f":"IF(AND(ISBLANK(INDEX($G:$G,)), ISBLANK(INDEX($C:$C,))), \"\", 'PWS Records (System Entry)'!$D$3)","v":""},null,null,null,null,null,null,null,null,null,null,null,null,null,null,null,null,null,null,""]
[{"$f":"IF(AND(ISBLANK(INDEX($G:$G,)), ISBLANK(INDEX($C:$C,))), \"\", 'PWS Records (System Entry)'!$D$4)","v":""},{"$f":"IF(AND(ISBLANK(INDEX($G:$G,)), ISBLANK(INDEX($C:$C,))), \"\", 'PWS Records (System Entry)'!$D$3)","v":""},null,null,null,null,null,null,null,null,null,null,null,null,null,null,null,null,null,null,""]
[{"$f":"IF(AND(ISBLANK(INDEX($G:$G,)), ISBLANK(INDEX($C:$C,))), \"\", 'PWS Records (System Entry)'!$D$4)","v":""},{"$f":"IF(AND(ISBLANK(INDEX($G:$G,)), ISBLANK(INDEX($C:$C,))), \"\", 'PWS Records (System Entry)'!$D$3)","v":""},null,null,null,null,null,null,null,null,null,null,null,null,null,null,null,null,null,null,""]
[{"$f":"IF(AND(ISBLANK(INDEX($G:$G,)), ISBLANK(INDEX($C:$C,))), \"\", 'PWS Records (System Entry)'!$D$4)","v":""},{"$f":"IF(AND(ISBLANK(INDEX($G:$G,)), ISBLANK(INDEX($C:$C,))), \"\", 'PWS Records (System Entry)'!$D$3)","v":""},null,null,null,null,null,null,null,null,null,null,null,null,null,null,null,null,null,null,""]
[{"$f":"IF(AND(ISBLANK(INDEX($G:$G,)), ISBLANK(INDEX($C:$C,))), \"\", 'PWS Records (System Entry)'!$D$4)","v":""},{"$f":"IF(AND(ISBLANK(INDEX($G:$G,)), ISBLANK(INDEX($C:$C,))), \"\", 'PWS Records (System Entry)'!$D$3)","v":""},null,null,null,null,null,null,null,null,null,null,null,null,null,null,null,null,null,null,""]
[{"$f":"IF(AND(ISBLANK(INDEX($G:$G,)), ISBLANK(INDEX($C:$C,))), \"\", 'PWS Records (System Entry)'!$D$4)","v":""},{"$f":"IF(AND(ISBLANK(INDEX($G:$G,)), ISBLANK(INDEX($C:$C,))), \"\", 'PWS Records (System Entry)'!$D$3)","v":""},null,null,null,null,null,null,null,null,null,null,null,null,null,null,null,null,null,null,""]
[{"$f":"IF(AND(ISBLANK(INDEX($G:$G,)), ISBLANK(INDEX($C:$C,))), \"\", 'PWS Records (System Entry)'!$D$4)","v":""},{"$f":"IF(AND(ISBLANK(INDEX($G:$G,)), ISBLANK(INDEX($C:$C,))), \"\", 'PWS Records (System Entry)'!$D$3)","v":""},null,null,null,null,null,null,null,null,null,null,null,null,null,null,null,null,null,null,""]
[{"$f":"IF(AND(ISBLANK(INDEX($G:$G,)), ISBLANK(INDEX($C:$C,))), \"\", 'PWS Records (System Entry)'!$D$4)","v":""},{"$f":"IF(AND(ISBLANK(INDEX($G:$G,)), ISBLANK(INDEX($C:$C,))), \"\", 'PWS Records (System Entry)'!$D$3)","v":""},null,null,null,null,null,null,null,null,null,null,null,null,null,null,null,null,null,null,""]
[{"$f":"IF(AND(ISBLANK(INDEX($G:$G,)), ISBLANK(INDEX($C:$C,))), \"\", 'PWS Records (System Entry)'!$D$4)","v":""},{"$f":"IF(AND(ISBLANK(INDEX($G:$G,)), ISBLANK(INDEX($C:$C,))), \"\", 'PWS Records (System Entry)'!$D$3)","v":""},null,null,null,null,null,null,null,null,null,null,null,null,null,null,null,null,null,null,""]
[{"$f":"IF(AND(ISBLANK(INDEX($G:$G,)), ISBLANK(INDEX($C:$C,))), \"\", 'PWS Records (System Entry)'!$D$4)","v":""},{"$f":"IF(AND(ISBLANK(INDEX($G:$G,)), ISBLANK(INDEX($C:$C,))), \"\", 'PWS Records (System Entry)'!$D$3)","v":""},null,null,null,null,null,null,null,null,null,null,null,null,null,null,null,null,null,null,{"$f":"IF(AND(INDEX($K:$K,)=\"\", INDEX($L:$L,)=\"\", INDEX($M:$M,)=\"\", INDEX($Q:$Q,)=\"\", INDEX($R:$R,)=\"\"), \"\", IF(OR(INDEX($K:$K,)=\"Lead\",INDEX($Q:$Q,)=\"Lead\"),\"Lead\",IF(OR(AND(OR(INDEX($M:$M,)=\"Yes\", INDEX($M:$M,)=\"Don't Know\", INDEX($M:$M,)=\"\"), INDEX($Q:$Q,)=\"Galvanized Iron/Steel\"), AND(INDEX($K:$K,)=\"Unknown\", INDEX($M:$M,)=\"No\", INDEX($Q:$Q,)=\"Galvanized Iron/Steel\")), \"Galvanized Requiring Replacement\", IF(OR(AND(OR(INDEX($K:$K,)=\"Galvanized Iron/Steel\", INDEX($K:$K,)=\"Non-Lead - Copper\", INDEX($K:$K,)=\"Non-Lead - Plastic\", INDEX($K:$K,)=\"Non-Lead - Other\", INDEX($K:$K,)=\"Non-Lead - Material Unknown\", INDEX($K:$K,)=\"No System Owned Portion\"), OR(INDEX($Q:$Q,)=\"Galvanized Iron/Steel\", INDEX($Q:$Q,)=\"Non-Lead - Copper\", INDEX($Q:$Q,)=\"Non-Lead - Plastic\", INDEX($Q:$Q,)=\"Non-Lead - Other\", INDEX($Q:$Q,)=\"Non-Lead - Predictive Model\", INDEX($Q:$Q,)=\"No Customer Owned Portion\")), AND(OR( INDEX($K:$K,)=\"Galvanized Iron/Steel\", INDEX($K:$K,)=\"Non-Lead - Copper\", INDEX($K:$K,)=\"Non-Lead - Plastic\", INDEX($K:$K,)=\"Non-Lead - Other\", INDEX($K:$K,)=\"Non-Lead - Material Unknown\", INDEX($K:$K,)=\"No System Owned Portion\"), INDEX($M:$M,)=\"No\", INDEX($Q:$Q,)=\"Non-Lead - Material Unknown\")), \"Non-Lead\", \"Lead Status Unknown\"))))","v":""}]
[{"$f":"IF(AND(ISBLANK(INDEX($G:$G,)), ISBLANK(INDEX($C:$C,))), \"\", 'PWS Records (System Entry)'!$D$4)","v":""},{"$f":"IF(AND(ISBLANK(INDEX($G:$G,)), ISBLANK(INDEX($C:$C,))), \"\", 'PWS Records (System Entry)'!$D$3)","v":""},null,null,null,null,null,null,null,null,null,null,null,null,null,null,null,null,null,null,""]
[{"$f":"IF(AND(ISBLANK(INDEX($G:$G,)), ISBLANK(INDEX($C:$C,))), \"\", 'PWS Records (System Entry)'!$D$4)","v":""},{"$f":"IF(AND(ISBLANK(INDEX($G:$G,)), ISBLANK(INDEX($C:$C,))), \"\", 'PWS Records (System Entry)'!$D$3)","v":""},null,null,null,null,null,null,null,null,null,null,null,null,null,null,null,null,null,null,""]
[{"$f":"IF(AND(ISBLANK(INDEX($G:$G,)), ISBLANK(INDEX($C:$C,))), \"\", 'PWS Records (System Entry)'!$D$4)","v":""},{"$f":"IF(AND(ISBLANK(INDEX($G:$G,)), ISBLANK(INDEX($C:$C,))), \"\", 'PWS Records (System Entry)'!$D$3)","v":""},null,null,null,null,null,null,null,null,null,null,null,null,null,null,null,null,null,null,""]
[{"$f":"IF(AND(ISBLANK(INDEX($G:$G,)), ISBLANK(INDEX($C:$C,))), \"\", 'PWS Records (System Entry)'!$D$4)","v":""},{"$f":"IF(AND(ISBLANK(INDEX($G:$G,)), ISBLANK(INDEX($C:$C,))), \"\", 'PWS Records (System Entry)'!$D$3)","v":""},null,null,null,null,null,null,null,null,null,null,null,null,null,null,null,null,null,null,""]
[{"$f":"IF(AND(ISBLANK(INDEX($G:$G,)), ISBLANK(INDEX($C:$C,))), \"\", 'PWS Records (System Entry)'!$D$4)","v":""},{"$f":"IF(AND(ISBLANK(INDEX($G:$G,)), ISBLANK(INDEX($C:$C,))), \"\", 'PWS Records (System Entry)'!$D$3)","v":""},null,null,null,null,null,null,null,null,null,null,null,null,null,null,null,null,null,null,""]
[{"$f":"IF(AND(ISBLANK(INDEX($G:$G,)), ISBLANK(INDEX($C:$C,))), \"\", 'PWS Records (System Entry)'!$D$4)","v":""},{"$f":"IF(AND(ISBLANK(INDEX($G:$G,)), ISBLANK(INDEX($C:$C,))), \"\", 'PWS Records (System Entry)'!$D$3)","v":""},null,null,null,null,null,null,null,null,null,null,null,null,null,null,null,null,null,null,""]
[{"$f":"IF(AND(ISBLANK(INDEX($G:$G,)), ISBLANK(INDEX($C:$C,))), \"\", 'PWS Records (System Entry)'!$D$4)","v":""},{"$f":"IF(AND(ISBLANK(INDEX($G:$G,)), ISBLANK(INDEX($C:$C,))), \"\", 'PWS Records (System Entry)'!$D$3)","v":""},null,null,null,null,null,null,null,null,null,null,null,null,null,null,null,null,null,null,""]
[{"$f":"IF(AND(ISBLANK(INDEX($G:$G,)), ISBLANK(INDEX($C:$C,))), \"\", 'PWS Records (System Entry)'!$D$4)","v":""},{"$f":"IF(AND(ISBLANK(INDEX($G:$G,)), ISBLANK(INDEX($C:$C,))), \"\", 'PWS Records (System Entry)'!$D$3)","v":""},null,null,null,null,null,null,null,null,null,null,null,null,null,null,null,null,null,null,""]
[{"$f":"IF(AND(ISBLANK(INDEX($G:$G,)), ISBLANK(INDEX($C:$C,))), \"\", 'PWS Records (System Entry)'!$D$4)","v":""},{"$f":"IF(AND(ISBLANK(INDEX($G:$G,)), ISBLANK(INDEX($C:$C,))), \"\", 'PWS Records (System Entry)'!$D$3)","v":""},null,null,null,null,null,null,null,null,null,null,null,null,null,null,null,null,null,null,""]
[{"$f":"IF(AND(ISBLANK(INDEX($G:$G,)), ISBLANK(INDEX($C:$C,))), \"\", 'PWS Records (System Entry)'!$D$4)","v":""},{"$f":"IF(AND(ISBLANK(INDEX($G:$G,)), ISBLANK(INDEX($C:$C,))), \"\", 'PWS Records (System Entry)'!$D$3)","v":""},null,null,null,null,null,null,null,null,null,null,null,null,null,null,null,null,null,null,""]
[{"$f":"IF(AND(ISBLANK(INDEX($G:$G,)), ISBLANK(INDEX($C:$C,))), \"\", 'PWS Records (System Entry)'!$D$4)","v":""},{"$f":"IF(AND(ISBLANK(INDEX($G:$G,)), ISBLANK(INDEX($C:$C,))), \"\", 'PWS Records (System Entry)'!$D$3)","v":""},null,null,null,null,null,null,null,null,null,null,null,null,null,null,null,null,null,null,""]
[{"$f":"IF(AND(ISBLANK(INDEX($G:$G,)), ISBLANK(INDEX($C:$C,))), \"\", 'PWS Records (System Entry)'!$D$4)","v":""},{"$f":"IF(AND(ISBLANK(INDEX($G:$G,)), ISBLANK(INDEX($C:$C,))), \"\", 'PWS Records (System Entry)'!$D$3)","v":""},null,null,null,null,null,null,null,null,null,null,null,null,null,null,null,null,null,null,""]
[{"$f":"IF(AND(ISBLANK(INDEX($G:$G,)), ISBLANK(INDEX($C:$C,))), \"\", 'PWS Records (System Entry)'!$D$4)","v":""},{"$f":"IF(AND(ISBLANK(INDEX($G:$G,)), ISBLANK(INDEX($C:$C,))), \"\", 'PWS Records (System Entry)'!$D$3)","v":""},null,null,null,null,null,null,null,null,null,null,null,null,null,null,null,null,null,null,""]
[{"$f":"IF(AND(ISBLANK(INDEX($G:$G,)), ISBLANK(INDEX($C:$C,))), \"\", 'PWS Records (System Entry)'!$D$4)","v":""},{"$f":"IF(AND(ISBLANK(INDEX($G:$G,)), ISBLANK(INDEX($C:$C,))), \"\", 'PWS Records (System Entry)'!$D$3)","v":""},null,null,null,null,null,null,null,null,null,null,null,null,null,null,null,null,null,null,""]
[{"$f":"IF(AND(ISBLANK(INDEX($G:$G,)), ISBLANK(INDEX($C:$C,))), \"\", 'PWS Records (System Entry)'!$D$4)","v":""},{"$f":"IF(AND(ISBLANK(INDEX($G:$G,)), ISBLANK(INDEX($C:$C,))), \"\", 'PWS Records (System Entry)'!$D$3)","v":""},null,null,null,null,null,null,null,null,null,null,null,null,null,null,null,null,null,null,""]
[{"$f":"IF(AND(ISBLANK(INDEX($G:$G,)), ISBLANK(INDEX($C:$C,))), \"\", 'PWS Records (System Entry)'!$D$4)","v":""},{"$f":"IF(AND(ISBLANK(INDEX($G:$G,)), ISBLANK(INDEX($C:$C,))), \"\", 'PWS Records (System Entry)'!$D$3)","v":""},null,null,null,null,null,null,null,null,null,null,null,null,null,null,null,null,null,null,""]
[{"$f":"IF(AND(ISBLANK(INDEX($G:$G,)), ISBLANK(INDEX($C:$C,))), \"\", 'PWS Records (System Entry)'!$D$4)","v":""},{"$f":"IF(AND(ISBLANK(INDEX($G:$G,)), ISBLANK(INDEX($C:$C,))), \"\", 'PWS Records (System Entry)'!$D$3)","v":""},null,null,null,null,null,null,null,null,null,null,null,null,null,null,null,null,null,null,""]
[{"$f":"IF(AND(ISBLANK(INDEX($G:$G,)), ISBLANK(INDEX($C:$C,))), \"\", 'PWS Records (System Entry)'!$D$4)","v":""},{"$f":"IF(AND(ISBLANK(INDEX($G:$G,)), ISBLANK(INDEX($C:$C,))), \"\", 'PWS Records (System Entry)'!$D$3)","v":""},null,null,null,null,null,null,null,null,null,null,null,null,null,null,null,null,null,null,""]
[{"$f":"IF(AND(ISBLANK(INDEX($G:$G,)), ISBLANK(INDEX($C:$C,))), \"\", 'PWS Records (System Entry)'!$D$4)","v":""},{"$f":"IF(AND(ISBLANK(INDEX($G:$G,)), ISBLANK(INDEX($C:$C,))), \"\", 'PWS Records (System Entry)'!$D$3)","v":""},null,null,null,null,null,null,null,null,null,null,null,null,null,null,null,null,null,null,""]
[{"$f":"IF(AND(ISBLANK(INDEX($G:$G,)), ISBLANK(INDEX($C:$C,))), \"\", 'PWS Records (System Entry)'!$D$4)","v":""},{"$f":"IF(AND(ISBLANK(INDEX($G:$G,)), ISBLANK(INDEX($C:$C,))), \"\", 'PWS Records (System Entry)'!$D$3)","v":""},null,null,null,null,null,null,null,null,null,null,null,null,null,null,null,null,null,null,""]
[{"$f":"IF(AND(ISBLANK(INDEX($G:$G,)), ISBLANK(INDEX($C:$C,))), \"\", 'PWS Records (System Entry)'!$D$4)","v":""},{"$f":"IF(AND(ISBLANK(INDEX($G:$G,)), ISBLANK(INDEX($C:$C,))), \"\", 'PWS Records (System Entry)'!$D$3)","v":""},null,null,null,null,null,null,null,null,null,null,null,null,null,null,null,null,null,null,""]
[{"$f":"IF(AND(ISBLANK(INDEX($G:$G,)), ISBLANK(INDEX($C:$C,))), \"\", 'PWS Records (System Entry)'!$D$4)","v":""},{"$f":"IF(AND(ISBLANK(INDEX($G:$G,)), ISBLANK(INDEX($C:$C,))), \"\", 'PWS Records (System Entry)'!$D$3)","v":""},null,null,null,null,null,null,null,null,null,null,null,null,null,null,null,null,null,null,""]
[{"$f":"IF(AND(ISBLANK(INDEX($G:$G,)), ISBLANK(INDEX($C:$C,))), \"\", 'PWS Records (System Entry)'!$D$4)","v":""},{"$f":"IF(AND(ISBLANK(INDEX($G:$G,)), ISBLANK(INDEX($C:$C,))), \"\", 'PWS Records (System Entry)'!$D$3)","v":""},null,null,null,null,null,null,null,null,null,null,null,null,null,null,null,null,null,null,""]
[{"$f":"IF(AND(ISBLANK(INDEX($G:$G,)), ISBLANK(INDEX($C:$C,))), \"\", 'PWS Records (System Entry)'!$D$4)","v":""},{"$f":"IF(AND(ISBLANK(INDEX($G:$G,)), ISBLANK(INDEX($C:$C,))), \"\", 'PWS Records (System Entry)'!$D$3)","v":""},null,null,null,null,null,null,null,null,null,null,null,null,null,null,null,null,null,null,""]
[{"$f":"IF(AND(ISBLANK(INDEX($G:$G,)), ISBLANK(INDEX($C:$C,))), \"\", 'PWS Records (System Entry)'!$D$4)","v":""},{"$f":"IF(AND(ISBLANK(INDEX($G:$G,)), ISBLANK(INDEX($C:$C,))), \"\", 'PWS Records (System Entry)'!$D$3)","v":""},null,null,null,null,null,null,null,null,null,null,null,null,null,null,null,null,null,null,""]
[{"$f":"IF(AND(ISBLANK(INDEX($G:$G,)), ISBLANK(INDEX($C:$C,))), \"\", 'PWS Records (System Entry)'!$D$4)","v":""},{"$f":"IF(AND(ISBLANK(INDEX($G:$G,)), ISBLANK(INDEX($C:$C,))), \"\", 'PWS Records (System Entry)'!$D$3)","v":""},null,null,null,null,null,null,null,null,null,null,null,null,null,null,null,null,null,null,""]
[{"$f":"IF(AND(ISBLANK(INDEX($G:$G,)), ISBLANK(INDEX($C:$C,))), \"\", 'PWS Records (System Entry)'!$D$4)","v":""},{"$f":"IF(AND(ISBLANK(INDEX($G:$G,)), ISBLANK(INDEX($C:$C,))), \"\", 'PWS Records (System Entry)'!$D$3)","v":""},null,null,null,null,null,null,null,null,null,null,null,null,null,null,null,null,null,null,""]
[{"$f":"IF(AND(ISBLANK(INDEX($G:$G,)), ISBLANK(INDEX($C:$C,))), \"\", 'PWS Records (System Entry)'!$D$4)","v":""},{"$f":"IF(AND(ISBLANK(INDEX($G:$G,)), ISBLANK(INDEX($C:$C,))), \"\", 'PWS Records (System Entry)'!$D$3)","v":""},null,null,null,null,null,null,null,null,null,null,null,null,null,null,null,null,null,null,""]
[{"$f":"IF(AND(ISBLANK(INDEX($G:$G,)), ISBLANK(INDEX($C:$C,))), \"\", 'PWS Records (System Entry)'!$D$4)","v":""},{"$f":"IF(AND(ISBLANK(INDEX($G:$G,)), ISBLANK(INDEX($C:$C,))), \"\", 'PWS Records (System Entry)'!$D$3)","v":""},null,null,null,null,null,null,null,null,null,null,null,null,null,null,null,null,null,null,""]
[{"$f":"IF(AND(ISBLANK(INDEX($G:$G,)), ISBLANK(INDEX($C:$C,))), \"\", 'PWS Records (System Entry)'!$D$4)","v":""},{"$f":"IF(AND(ISBLANK(INDEX($G:$G,)), ISBLANK(INDEX($C:$C,))), \"\", 'PWS Records (System Entry)'!$D$3)","v":""},null,null,null,null,null,null,null,null,null,null,null,null,null,null,null,null,null,null,""]
[{"$f":"IF(AND(ISBLANK(INDEX($G:$G,)), ISBLANK(INDEX($C:$C,))), \"\", 'PWS Records (System Entry)'!$D$4)","v":""},{"$f":"IF(AND(ISBLANK(INDEX($G:$G,)), ISBLANK(INDEX($C:$C,))), \"\", 'PWS Records (System Entry)'!$D$3)","v":""},null,null,null,null,null,null,null,null,null,null,null,null,null,null,null,null,null,null,""]
[{"$f":"IF(AND(ISBLANK(INDEX($G:$G,)), ISBLANK(INDEX($C:$C,))), \"\", 'PWS Records (System Entry)'!$D$4)","v":""},{"$f":"IF(AND(ISBLANK(INDEX($G:$G,)), ISBLANK(INDEX($C:$C,))), \"\", 'PWS Records (System Entry)'!$D$3)","v":""},null,null,null,null,null,null,null,null,null,null,null,null,null,null,null,null,null,null,""]
[{"$f":"IF(AND(ISBLANK(INDEX($G:$G,)), ISBLANK(INDEX($C:$C,))), \"\", 'PWS Records (System Entry)'!$D$4)","v":""},{"$f":"IF(AND(ISBLANK(INDEX($G:$G,)), ISBLANK(INDEX($C:$C,))), \"\", 'PWS Records (System Entry)'!$D$3)","v":""},null,null,null,null,null,null,null,null,null,null,null,null,null,null,null,null,null,null,""]
[{"$f":"IF(AND(ISBLANK(INDEX($G:$G,)), ISBLANK(INDEX($C:$C,))), \"\", 'PWS Records (System Entry)'!$D$4)","v":""},{"$f":"IF(AND(ISBLANK(INDEX($G:$G,)), ISBLANK(INDEX($C:$C,))), \"\", 'PWS Records (System Entry)'!$D$3)","v":""},null,null,null,null,null,null,null,null,null,null,null,null,null,null,null,null,null,null,""]
[{"$f":"IF(AND(ISBLANK(INDEX($G:$G,)), ISBLANK(INDEX($C:$C,))), \"\", 'PWS Records (System Entry)'!$D$4)","v":""},{"$f":"IF(AND(ISBLANK(INDEX($G:$G,)), ISBLANK(INDEX($C:$C,))), \"\", 'PWS Records (System Entry)'!$D$3)","v":""},null,null,null,null,null,null,null,null,null,null,null,null,null,null,null,null,null,null,""]
[{"$f":"IF(AND(ISBLANK(INDEX($G:$G,)), ISBLANK(INDEX($C:$C,))), \"\", 'PWS Records (System Entry)'!$D$4)","v":""},{"$f":"IF(AND(ISBLANK(INDEX($G:$G,)), ISBLANK(INDEX($C:$C,))), \"\", 'PWS Records (System Entry)'!$D$3)","v":""},null,null,null,null,null,null,null,null,null,null,null,null,null,null,null,null,null,null,""]
[{"$f":"IF(AND(ISBLANK(INDEX($G:$G,)), ISBLANK(INDEX($C:$C,))), \"\", 'PWS Records (System Entry)'!$D$4)","v":""},{"$f":"IF(AND(ISBLANK(INDEX($G:$G,)), ISBLANK(INDEX($C:$C,))), \"\", 'PWS Records (System Entry)'!$D$3)","v":""},null,null,null,null,null,null,null,null,null,null,null,null,null,null,null,null,null,null,""]
[{"$f":"IF(AND(ISBLANK(INDEX($G:$G,)), ISBLANK(INDEX($C:$C,))), \"\", 'PWS Records (System Entry)'!$D$4)","v":""},{"$f":"IF(AND(ISBLANK(INDEX($G:$G,)), ISBLANK(INDEX($C:$C,))), \"\", 'PWS Records (System Entry)'!$D$3)","v":""},null,null,null,null,null,null,null,null,null,null,null,null,null,null,null,null,null,null,""]
[{"$f":"IF(AND(ISBLANK(INDEX($G:$G,)), ISBLANK(INDEX($C:$C,))), \"\", 'PWS Records (System Entry)'!$D$4)","v":""},{"$f":"IF(AND(ISBLANK(INDEX($G:$G,)), ISBLANK(INDEX($C:$C,))), \"\", 'PWS Records (System Entry)'!$D$3)","v":""},null,null,null,null,null,null,null,null,null,null,null,null,null,null,null,null,null,null,""]
[{"$f":"IF(AND(ISBLANK(INDEX($G:$G,)), ISBLANK(INDEX($C:$C,))), \"\", 'PWS Records (System Entry)'!$D$4)","v":""},{"$f":"IF(AND(ISBLANK(INDEX($G:$G,)), ISBLANK(INDEX($C:$C,))), \"\", 'PWS Records (System Entry)'!$D$3)","v":""},null,null,null,null,null,null,null,null,null,null,null,null,null,null,null,null,null,null,""]
[{"$f":"IF(AND(ISBLANK(INDEX($G:$G,)), ISBLANK(INDEX($C:$C,))), \"\", 'PWS Records (System Entry)'!$D$4)","v":""},{"$f":"IF(AND(ISBLANK(INDEX($G:$G,)), ISBLANK(INDEX($C:$C,))), \"\", 'PWS Records (System Entry)'!$D$3)","v":""},null,null,null,null,null,null,null,null,null,null,null,null,null,null,null,null,null,null,""]
[{"$f":"IF(AND(ISBLANK(INDEX($G:$G,)), ISBLANK(INDEX($C:$C,))), \"\", 'PWS Records (System Entry)'!$D$4)","v":""},{"$f":"IF(AND(ISBLANK(INDEX($G:$G,)), ISBLANK(INDEX($C:$C,))), \"\", 'PWS Records (System Entry)'!$D$3)","v":""},null,null,null,null,null,null,null,null,null,null,null,null,null,null,null,null,null,null,""]
[{"$f":"IF(AND(ISBLANK(INDEX($G:$G,)), ISBLANK(INDEX($C:$C,))), \"\", 'PWS Records (System Entry)'!$D$4)","v":""},{"$f":"IF(AND(ISBLANK(INDEX($G:$G,)), ISBLANK(INDEX($C:$C,))), \"\", 'PWS Records (System Entry)'!$D$3)","v":""},null,null,null,null,null,null,null,null,null,null,null,null,null,null,null,null,null,null,""]
[{"$f":"IF(AND(ISBLANK(INDEX($G:$G,)), ISBLANK(INDEX($C:$C,))), \"\", 'PWS Records (System Entry)'!$D$4)","v":""},{"$f":"IF(AND(ISBLANK(INDEX($G:$G,)), ISBLANK(INDEX($C:$C,))), \"\", 'PWS Records (System Entry)'!$D$3)","v":""},null,null,null,null,null,null,null,null,null,null,null,null,null,null,null,null,null,null,""]
[{"$f":"IF(AND(ISBLANK(INDEX($G:$G,)), ISBLANK(INDEX($C:$C,))), \"\", 'PWS Records (System Entry)'!$D$4)","v":""},{"$f":"IF(AND(ISBLANK(INDEX($G:$G,)), ISBLANK(INDEX($C:$C,))), \"\", 'PWS Records (System Entry)'!$D$3)","v":""},null,null,null,null,null,null,null,null,null,null,null,null,null,null,null,null,null,null,""]
[{"$f":"IF(AND(ISBLANK(INDEX($G:$G,)), ISBLANK(INDEX($C:$C,))), \"\", 'PWS Records (System Entry)'!$D$4)","v":""},{"$f":"IF(AND(ISBLANK(INDEX($G:$G,)), ISBLANK(INDEX($C:$C,))), \"\", 'PWS Records (System Entry)'!$D$3)","v":""},null,null,null,null,null,null,null,null,null,null,null,null,null,null,null,null,null,null,""]
[{"$f":"IF(AND(ISBLANK(INDEX($G:$G,)), ISBLANK(INDEX($C:$C,))), \"\", 'PWS Records (System Entry)'!$D$4)","v":""},{"$f":"IF(AND(ISBLANK(INDEX($G:$G,)), ISBLANK(INDEX($C:$C,))), \"\", 'PWS Records (System Entry)'!$D$3)","v":""},null,null,null,null,null,null,null,null,null,null,null,null,null,null,null,null,null,null,""]
[{"$f":"IF(AND(ISBLANK(INDEX($G:$G,)), ISBLANK(INDEX($C:$C,))), \"\", 'PWS Records (System Entry)'!$D$4)","v":""},{"$f":"IF(AND(ISBLANK(INDEX($G:$G,)), ISBLANK(INDEX($C:$C,))), \"\", 'PWS Records (System Entry)'!$D$3)","v":""},null,null,null,null,null,null,null,null,null,null,null,null,null,null,null,null,null,null,""]
[{"$f":"IF(AND(ISBLANK(INDEX($G:$G,)), ISBLANK(INDEX($C:$C,))), \"\", 'PWS Records (System Entry)'!$D$4)","v":""},{"$f":"IF(AND(ISBLANK(INDEX($G:$G,)), ISBLANK(INDEX($C:$C,))), \"\", 'PWS Records (System Entry)'!$D$3)","v":""},null,null,null,null,null,null,null,null,null,null,null,null,null,null,null,null,null,null,""]
[{"$f":"IF(AND(ISBLANK(INDEX($G:$G,)), ISBLANK(INDEX($C:$C,))), \"\", 'PWS Records (System Entry)'!$D$4)","v":""},{"$f":"IF(AND(ISBLANK(INDEX($G:$G,)), ISBLANK(INDEX($C:$C,))), \"\", 'PWS Records (System Entry)'!$D$3)","v":""},null,null,null,null,null,null,null,null,null,null,null,null,null,null,null,null,null,null,""]
[{"$f":"IF(AND(ISBLANK(INDEX($G:$G,)), ISBLANK(INDEX($C:$C,))), \"\", 'PWS Records (System Entry)'!$D$4)","v":""},{"$f":"IF(AND(ISBLANK(INDEX($G:$G,)), ISBLANK(INDEX($C:$C,))), \"\", 'PWS Records (System Entry)'!$D$3)","v":""},null,null,null,null,null,null,null,null,null,null,null,null,null,null,null,null,null,null,""]
[{"$f":"IF(AND(ISBLANK(INDEX($G:$G,)), ISBLANK(INDEX($C:$C,))), \"\", 'PWS Records (System Entry)'!$D$4)","v":""},{"$f":"IF(AND(ISBLANK(INDEX($G:$G,)), ISBLANK(INDEX($C:$C,))), \"\", 'PWS Records (System Entry)'!$D$3)","v":""},null,null,null,null,null,null,null,null,null,null,null,null,null,null,null,null,null,null,""]
[{"$f":"IF(AND(ISBLANK(INDEX($G:$G,)), ISBLANK(INDEX($C:$C,))), \"\", 'PWS Records (System Entry)'!$D$4)","v":""},{"$f":"IF(AND(ISBLANK(INDEX($G:$G,)), ISBLANK(INDEX($C:$C,))), \"\", 'PWS Records (System Entry)'!$D$3)","v":""},null,null,null,null,null,null,null,null,null,null,null,null,null,null,null,null,null,null,""]
[{"$f":"IF(AND(ISBLANK(INDEX($G:$G,)), ISBLANK(INDEX($C:$C,))), \"\", 'PWS Records (System Entry)'!$D$4)","v":""},{"$f":"IF(AND(ISBLANK(INDEX($G:$G,)), ISBLANK(INDEX($C:$C,))), \"\", 'PWS Records (System Entry)'!$D$3)","v":""},null,null,null,null,null,null,null,null,null,null,null,null,null,null,null,null,null,null,""]
[{"$f":"IF(AND(ISBLANK(INDEX($G:$G,)), ISBLANK(INDEX($C:$C,))), \"\", 'PWS Records (System Entry)'!$D$4)","v":""},{"$f":"IF(AND(ISBLANK(INDEX($G:$G,)), ISBLANK(INDEX($C:$C,))), \"\", 'PWS Records (System Entry)'!$D$3)","v":""},null,null,null,null,null,null,null,null,null,null,null,null,null,null,null,null,null,null,""]
[{"$f":"IF(AND(ISBLANK(INDEX($G:$G,)), ISBLANK(INDEX($C:$C,))), \"\", 'PWS Records (System Entry)'!$D$4)","v":""},{"$f":"IF(AND(ISBLANK(INDEX($G:$G,)), ISBLANK(INDEX($C:$C,))), \"\", 'PWS Records (System Entry)'!$D$3)","v":""},null,null,null,null,null,null,null,null,null,null,null,null,null,null,null,null,null,null,""]
[{"$f":"IF(AND(ISBLANK(INDEX($G:$G,)), ISBLANK(INDEX($C:$C,))), \"\", 'PWS Records (System Entry)'!$D$4)","v":""},{"$f":"IF(AND(ISBLANK(INDEX($G:$G,)), ISBLANK(INDEX($C:$C,))), \"\", 'PWS Records (System Entry)'!$D$3)","v":""},null,null,null,null,null,null,null,null,null,null,null,null,null,null,null,null,null,null,""]
[{"$f":"IF(AND(ISBLANK(INDEX($G:$G,)), ISBLANK(INDEX($C:$C,))), \"\", 'PWS Records (System Entry)'!$D$4)","v":""},{"$f":"IF(AND(ISBLANK(INDEX($G:$G,)), ISBLANK(INDEX($C:$C,))), \"\", 'PWS Records (System Entry)'!$D$3)","v":""},null,null,null,null,null,null,null,null,null,null,null,null,null,null,null,null,null,null,""]
[{"$f":"IF(AND(ISBLANK(INDEX($G:$G,)), ISBLANK(INDEX($C:$C,))), \"\", 'PWS Records (System Entry)'!$D$4)","v":""},{"$f":"IF(AND(ISBLANK(INDEX($G:$G,)), ISBLANK(INDEX($C:$C,))), \"\", 'PWS Records (System Entry)'!$D$3)","v":""},null,null,null,null,null,null,null,null,null,null,null,null,null,null,null,null,null,null,""]
[{"$f":"IF(AND(ISBLANK(INDEX($G:$G,)), ISBLANK(INDEX($C:$C,))), \"\", 'PWS Records (System Entry)'!$D$4)","v":""},{"$f":"IF(AND(ISBLANK(INDEX($G:$G,)), ISBLANK(INDEX($C:$C,))), \"\", 'PWS Records (System Entry)'!$D$3)","v":""},null,null,null,null,null,null,null,null,null,null,null,null,null,null,null,null,null,null,""]
[{"$f":"IF(AND(ISBLANK(INDEX($G:$G,)), ISBLANK(INDEX($C:$C,))), \"\", 'PWS Records (System Entry)'!$D$4)","v":""},{"$f":"IF(AND(ISBLANK(INDEX($G:$G,)), ISBLANK(INDEX($C:$C,))), \"\", 'PWS Records (System Entry)'!$D$3)","v":""},null,null,null,null,null,null,null,null,null,null,null,null,null,null,null,null,null,null,""]
[{"$f":"IF(AND(ISBLANK(INDEX($G:$G,)), ISBLANK(INDEX($C:$C,))), \"\", 'PWS Records (System Entry)'!$D$4)","v":""},{"$f":"IF(AND(ISBLANK(INDEX($G:$G,)), ISBLANK(INDEX($C:$C,))), \"\", 'PWS Records (System Entry)'!$D$3)","v":""},null,null,null,null,null,null,null,null,null,null,null,null,null,null,null,null,null,null,""]
[{"$f":"IF(AND(ISBLANK(INDEX($G:$G,)), ISBLANK(INDEX($C:$C,))), \"\", 'PWS Records (System Entry)'!$D$4)","v":""},{"$f":"IF(AND(ISBLANK(INDEX($G:$G,)), ISBLANK(INDEX($C:$C,))), \"\", 'PWS Records (System Entry)'!$D$3)","v":""},null,null,null,null,null,null,null,null,null,null,null,null,null,null,null,null,null,null,""]
[{"$f":"IF(AND(ISBLANK(INDEX($G:$G,)), ISBLANK(INDEX($C:$C,))), \"\", 'PWS Records (System Entry)'!$D$4)","v":""},{"$f":"IF(AND(ISBLANK(INDEX($G:$G,)), ISBLANK(INDEX($C:$C,))), \"\", 'PWS Records (System Entry)'!$D$3)","v":""},null,null,null,null,null,null,null,null,null,null,null,null,null,null,null,null,null,null,""]
[{"$f":"IF(AND(ISBLANK(INDEX($G:$G,)), ISBLANK(INDEX($C:$C,))), \"\", 'PWS Records (System Entry)'!$D$4)","v":""},{"$f":"IF(AND(ISBLANK(INDEX($G:$G,)), ISBLANK(INDEX($C:$C,))), \"\", 'PWS Records (System Entry)'!$D$3)","v":""},null,null,null,null,null,null,null,null,null,null,null,null,null,null,null,null,null,null,""]
[{"$f":"IF(AND(ISBLANK(INDEX($G:$G,)), ISBLANK(INDEX($C:$C,))), \"\", 'PWS Records (System Entry)'!$D$4)","v":""},{"$f":"IF(AND(ISBLANK(INDEX($G:$G,)), ISBLANK(INDEX($C:$C,))), \"\", 'PWS Records (System Entry)'!$D$3)","v":""},null,null,null,null,null,null,null,null,null,null,null,null,null,null,null,null,null,null,""]
[{"$f":"IF(AND(ISBLANK(INDEX($G:$G,)), ISBLANK(INDEX($C:$C,))), \"\", 'PWS Records (System Entry)'!$D$4)","v":""},{"$f":"IF(AND(ISBLANK(INDEX($G:$G,)), ISBLANK(INDEX($C:$C,))), \"\", 'PWS Records (System Entry)'!$D$3)","v":""},null,null,null,null,null,null,null,null,null,null,null,null,null,null,null,null,null,null,""]
[{"$f":"IF(AND(ISBLANK(INDEX($G:$G,)), ISBLANK(INDEX($C:$C,))), \"\", 'PWS Records (System Entry)'!$D$4)","v":""},{"$f":"IF(AND(ISBLANK(INDEX($G:$G,)), ISBLANK(INDEX($C:$C,))), \"\", 'PWS Records (System Entry)'!$D$3)","v":""},null,null,null,null,null,null,null,null,null,null,null,null,null,null,null,null,null,null,""]
[{"$f":"IF(AND(ISBLANK(INDEX($G:$G,)), ISBLANK(INDEX($C:$C,))), \"\", 'PWS Records (System Entry)'!$D$4)","v":""},{"$f":"IF(AND(ISBLANK(INDEX($G:$G,)), ISBLANK(INDEX($C:$C,))), \"\", 'PWS Records (System Entry)'!$D$3)","v":""},null,null,null,null,null,null,null,null,null,null,null,null,null,null,null,null,null,null,{"$f":"IF(AND(INDEX($K:$K,)=\"\", INDEX($L:$L,)=\"\", INDEX($M:$M,)=\"\", INDEX($Q:$Q,)=\"\", INDEX($R:$R,)=\"\"), \"\", IF(OR(INDEX($K:$K,)=\"Lead\",INDEX($Q:$Q,)=\"Lead\"),\"Lead\",IF(OR(AND(OR(INDEX($M:$M,)=\"Yes\", INDEX($M:$M,)=\"Don't Know\", INDEX($M:$M,)=\"\"), INDEX($Q:$Q,)=\"Galvanized Iron/Steel\"), AND(INDEX($K:$K,)=\"Unknown\", INDEX($M:$M,)=\"No\", INDEX($Q:$Q,)=\"Galvanized Iron/Steel\")), \"Galvanized Requiring Replacement\", IF(OR(AND(OR(INDEX($K:$K,)=\"Galvanized Iron/Steel\", INDEX($K:$K,)=\"Non-Lead - Copper\", INDEX($K:$K,)=\"Non-Lead - Plastic\", INDEX($K:$K,)=\"Non-Lead - Other\", INDEX($K:$K,)=\"Non-Lead - Material Unknown\", INDEX($K:$K,)=\"No System Owned Portion\"), OR(INDEX($Q:$Q,)=\"Galvanized Iron/Steel\", INDEX($Q:$Q,)=\"Non-Lead - Copper\", INDEX($Q:$Q,)=\"Non-Lead - Plastic\", INDEX($Q:$Q,)=\"Non-Lead - Other\", INDEX($Q:$Q,)=\"Non-Lead - Predictive Model\", INDEX($Q:$Q,)=\"No Customer Owned Portion\")), AND(OR( INDEX($K:$K,)=\"Galvanized Iron/Steel\", INDEX($K:$K,)=\"Non-Lead - Copper\", INDEX($K:$K,)=\"Non-Lead - Plastic\", INDEX($K:$K,)=\"Non-Lead - Other\", INDEX($K:$K,)=\"Non-Lead - Material Unknown\", INDEX($K:$K,)=\"No System Owned Portion\"), INDEX($M:$M,)=\"No\", INDEX($Q:$Q,)=\"Non-Lead - Material Unknown\")), \"Non-Lead\", \"Lead Status Unknown\"))))","v":""}]
[{"$f":"IF(AND(ISBLANK(INDEX($G:$G,)), ISBLANK(INDEX($C:$C,))), \"\", 'PWS Records (System Entry)'!$D$4)","v":""},{"$f":"IF(AND(ISBLANK(INDEX($G:$G,)), ISBLANK(INDEX($C:$C,))), \"\", 'PWS Records (System Entry)'!$D$3)","v":""},null,null,null,null,null,null,null,null,null,null,null,null,null,null,null,null,null,null,""]
[{"$f":"IF(AND(ISBLANK(INDEX($G:$G,)), ISBLANK(INDEX($C:$C,))), \"\", 'PWS Records (System Entry)'!$D$4)","v":""},{"$f":"IF(AND(ISBLANK(INDEX($G:$G,)), ISBLANK(INDEX($C:$C,))), \"\", 'PWS Records (System Entry)'!$D$3)","v":""},null,null,null,null,null,null,null,null,null,null,null,null,null,null,null,null,null,null,""]
[{"$f":"IF(AND(ISBLANK(INDEX($G:$G,)), ISBLANK(INDEX($C:$C,))), \"\", 'PWS Records (System Entry)'!$D$4)","v":""},{"$f":"IF(AND(ISBLANK(INDEX($G:$G,)), ISBLANK(INDEX($C:$C,))), \"\", 'PWS Records (System Entry)'!$D$3)","v":""},null,null,null,null,null,null,null,null,null,null,null,null,null,null,null,null,null,null,""]
[{"$f":"IF(AND(ISBLANK(INDEX($G:$G,)), ISBLANK(INDEX($C:$C,))), \"\", 'PWS Records (System Entry)'!$D$4)","v":""},{"$f":"IF(AND(ISBLANK(INDEX($G:$G,)), ISBLANK(INDEX($C:$C,))), \"\", 'PWS Records (System Entry)'!$D$3)","v":""},null,null,null,null,null,null,null,null,null,null,null,null,null,null,null,null,null,null,""]
[{"$f":"IF(AND(ISBLANK(INDEX($G:$G,)), ISBLANK(INDEX($C:$C,))), \"\", 'PWS Records (System Entry)'!$D$4)","v":""},{"$f":"IF(AND(ISBLANK(INDEX($G:$G,)), ISBLANK(INDEX($C:$C,))), \"\", 'PWS Records (System Entry)'!$D$3)","v":""},null,null,null,null,null,null,null,null,null,null,null,null,null,null,null,null,null,null,""]
[{"$f":"IF(AND(ISBLANK(INDEX($G:$G,)), ISBLANK(INDEX($C:$C,))), \"\", 'PWS Records (System Entry)'!$D$4)","v":""},{"$f":"IF(AND(ISBLANK(INDEX($G:$G,)), ISBLANK(INDEX($C:$C,))), \"\", 'PWS Records (System Entry)'!$D$3)","v":""},null,null,null,null,null,null,null,null,null,null,null,null,null,null,null,null,null,null,""]
[{"$f":"IF(AND(ISBLANK(INDEX($G:$G,)), ISBLANK(INDEX($C:$C,))), \"\", 'PWS Records (System Entry)'!$D$4)","v":""},{"$f":"IF(AND(ISBLANK(INDEX($G:$G,)), ISBLANK(INDEX($C:$C,))), \"\", 'PWS Records (System Entry)'!$D$3)","v":""},null,null,null,null,null,null,null,null,null,null,null,null,null,null,null,null,null,null,""]
[{"$f":"IF(AND(ISBLANK(INDEX($G:$G,)), ISBLANK(INDEX($C:$C,))), \"\", 'PWS Records (System Entry)'!$D$4)","v":""},{"$f":"IF(AND(ISBLANK(INDEX($G:$G,)), ISBLANK(INDEX($C:$C,))), \"\", 'PWS Records (System Entry)'!$D$3)","v":""},null,null,null,null,null,null,null,null,null,null,null,null,null,null,null,null,null,null,""]
[{"$f":"IF(AND(ISBLANK(INDEX($G:$G,)), ISBLANK(INDEX($C:$C,))), \"\", 'PWS Records (System Entry)'!$D$4)","v":""},{"$f":"IF(AND(ISBLANK(INDEX($G:$G,)), ISBLANK(INDEX($C:$C,))), \"\", 'PWS Records (System Entry)'!$D$3)","v":""},null,null,null,null,null,null,null,null,null,null,null,null,null,null,null,null,null,null,""]
[{"$f":"IF(AND(ISBLANK(INDEX($G:$G,)), ISBLANK(INDEX($C:$C,))), \"\", 'PWS Records (System Entry)'!$D$4)","v":""},{"$f":"IF(AND(ISBLANK(INDEX($G:$G,)), ISBLANK(INDEX($C:$C,))), \"\", 'PWS Records (System Entry)'!$D$3)","v":""},null,null,null,null,null,null,null,null,null,null,null,null,null,null,null,null,null,null,""]
[{"$f":"IF(AND(ISBLANK(INDEX($G:$G,)), ISBLANK(INDEX($C:$C,))), \"\", 'PWS Records (System Entry)'!$D$4)","v":""},{"$f":"IF(AND(ISBLANK(INDEX($G:$G,)), ISBLANK(INDEX($C:$C,))), \"\", 'PWS Records (System Entry)'!$D$3)","v":""},null,null,null,null,null,null,null,null,null,null,null,null,null,null,null,null,null,null,""]
[{"$f":"IF(AND(ISBLANK(INDEX($G:$G,)), ISBLANK(INDEX($C:$C,))), \"\", 'PWS Records (System Entry)'!$D$4)","v":""},{"$f":"IF(AND(ISBLANK(INDEX($G:$G,)), ISBLANK(INDEX($C:$C,))), \"\", 'PWS Records (System Entry)'!$D$3)","v":""},null,null,null,null,null,null,null,null,null,null,null,null,null,null,null,null,null,null,""]
[{"$f":"IF(AND(ISBLANK(INDEX($G:$G,)), ISBLANK(INDEX($C:$C,))), \"\", 'PWS Records (System Entry)'!$D$4)","v":""},{"$f":"IF(AND(ISBLANK(INDEX($G:$G,)), ISBLANK(INDEX($C:$C,))), \"\", 'PWS Records (System Entry)'!$D$3)","v":""},null,null,null,null,null,null,null,null,null,null,null,null,null,null,null,null,null,null,""]
[{"$f":"IF(AND(ISBLANK(INDEX($G:$G,)), ISBLANK(INDEX($C:$C,))), \"\", 'PWS Records (System Entry)'!$D$4)","v":""},{"$f":"IF(AND(ISBLANK(INDEX($G:$G,)), ISBLANK(INDEX($C:$C,))), \"\", 'PWS Records (System Entry)'!$D$3)","v":""},null,null,null,null,null,null,null,null,null,null,null,null,null,null,null,null,null,null,""]
[{"$f":"IF(AND(ISBLANK(INDEX($G:$G,)), ISBLANK(INDEX($C:$C,))), \"\", 'PWS Records (System Entry)'!$D$4)","v":""},{"$f":"IF(AND(ISBLANK(INDEX($G:$G,)), ISBLANK(INDEX($C:$C,))), \"\", 'PWS Records (System Entry)'!$D$3)","v":""},null,null,null,null,null,null,null,null,null,null,null,null,null,null,null,null,null,null,""]
[{"$f":"IF(AND(ISBLANK(INDEX($G:$G,)), ISBLANK(INDEX($C:$C,))), \"\", 'PWS Records (System Entry)'!$D$4)","v":""},{"$f":"IF(AND(ISBLANK(INDEX($G:$G,)), ISBLANK(INDEX($C:$C,))), \"\", 'PWS Records (System Entry)'!$D$3)","v":""},null,null,null,null,null,null,null,null,null,null,null,null,null,null,null,null,null,null,""]
[{"$f":"IF(AND(ISBLANK(INDEX($G:$G,)), ISBLANK(INDEX($C:$C,))), \"\", 'PWS Records (System Entry)'!$D$4)","v":""},{"$f":"IF(AND(ISBLANK(INDEX($G:$G,)), ISBLANK(INDEX($C:$C,))), \"\", 'PWS Records (System Entry)'!$D$3)","v":""},null,null,null,null,null,null,null,null,null,null,null,null,null,null,null,null,null,null,""]
[{"$f":"IF(AND(ISBLANK(INDEX($G:$G,)), ISBLANK(INDEX($C:$C,))), \"\", 'PWS Records (System Entry)'!$D$4)","v":""},{"$f":"IF(AND(ISBLANK(INDEX($G:$G,)), ISBLANK(INDEX($C:$C,))), \"\", 'PWS Records (System Entry)'!$D$3)","v":""},null,null,null,null,null,null,null,null,null,null,null,null,null,null,null,null,null,null,""]
[{"$f":"IF(AND(ISBLANK(INDEX($G:$G,)), ISBLANK(INDEX($C:$C,))), \"\", 'PWS Records (System Entry)'!$D$4)","v":""},{"$f":"IF(AND(ISBLANK(INDEX($G:$G,)), ISBLANK(INDEX($C:$C,))), \"\", 'PWS Records (System Entry)'!$D$3)","v":""},null,null,null,null,null,null,null,null,null,null,null,null,null,null,null,null,null,null,""]
[{"$f":"IF(AND(ISBLANK(INDEX($G:$G,)), ISBLANK(INDEX($C:$C,))), \"\", 'PWS Records (System Entry)'!$D$4)","v":""},{"$f":"IF(AND(ISBLANK(INDEX($G:$G,)), ISBLANK(INDEX($C:$C,))), \"\", 'PWS Records (System Entry)'!$D$3)","v":""},null,null,null,null,null,null,null,null,null,null,null,null,null,null,null,null,null,null,""]
[{"$f":"IF(AND(ISBLANK(INDEX($G:$G,)), ISBLANK(INDEX($C:$C,))), \"\", 'PWS Records (System Entry)'!$D$4)","v":""},{"$f":"IF(AND(ISBLANK(INDEX($G:$G,)), ISBLANK(INDEX($C:$C,))), \"\", 'PWS Records (System Entry)'!$D$3)","v":""},null,null,null,null,null,null,null,null,null,null,null,null,null,null,null,null,null,null,""]
[{"$f":"IF(AND(ISBLANK(INDEX($G:$G,)), ISBLANK(INDEX($C:$C,))), \"\", 'PWS Records (System Entry)'!$D$4)","v":""},{"$f":"IF(AND(ISBLANK(INDEX($G:$G,)), ISBLANK(INDEX($C:$C,))), \"\", 'PWS Records (System Entry)'!$D$3)","v":""},null,null,null,null,null,null,null,null,null,null,null,null,null,null,null,null,null,null,""]
[{"$f":"IF(AND(ISBLANK(INDEX($G:$G,)), ISBLANK(INDEX($C:$C,))), \"\", 'PWS Records (System Entry)'!$D$4)","v":""},{"$f":"IF(AND(ISBLANK(INDEX($G:$G,)), ISBLANK(INDEX($C:$C,))), \"\", 'PWS Records (System Entry)'!$D$3)","v":""},null,null,null,null,null,null,null,null,null,null,null,null,null,null,null,null,null,null,""]
[{"$f":"IF(AND(ISBLANK(INDEX($G:$G,)), ISBLANK(INDEX($C:$C,))), \"\", 'PWS Records (System Entry)'!$D$4)","v":""},{"$f":"IF(AND(ISBLANK(INDEX($G:$G,)), ISBLANK(INDEX($C:$C,))), \"\", 'PWS Records (System Entry)'!$D$3)","v":""},null,null,null,null,null,null,null,null,null,null,null,null,null,null,null,null,null,null,""]
[{"$f":"IF(AND(ISBLANK(INDEX($G:$G,)), ISBLANK(INDEX($C:$C,))), \"\", 'PWS Records (System Entry)'!$D$4)","v":""},{"$f":"IF(AND(ISBLANK(INDEX($G:$G,)), ISBLANK(INDEX($C:$C,))), \"\", 'PWS Records (System Entry)'!$D$3)","v":""},null,null,null,null,null,null,null,null,null,null,null,null,null,null,null,null,null,null,""]
[{"$f":"IF(AND(ISBLANK(INDEX($G:$G,)), ISBLANK(INDEX($C:$C,))), \"\", 'PWS Records (System Entry)'!$D$4)","v":""},{"$f":"IF(AND(ISBLANK(INDEX($G:$G,)), ISBLANK(INDEX($C:$C,))), \"\", 'PWS Records (System Entry)'!$D$3)","v":""},null,null,null,null,null,null,null,null,null,null,null,null,null,null,null,null,null,null,""]
[{"$f":"IF(AND(ISBLANK(INDEX($G:$G,)), ISBLANK(INDEX($C:$C,))), \"\", 'PWS Records (System Entry)'!$D$4)","v":""},{"$f":"IF(AND(ISBLANK(INDEX($G:$G,)), ISBLANK(INDEX($C:$C,))), \"\", 'PWS Records (System Entry)'!$D$3)","v":""},null,null,null,null,null,null,null,null,null,null,null,null,null,null,null,null,null,null,""]
[{"$f":"IF(AND(ISBLANK(INDEX($G:$G,)), ISBLANK(INDEX($C:$C,))), \"\", 'PWS Records (System Entry)'!$D$4)","v":""},{"$f":"IF(AND(ISBLANK(INDEX($G:$G,)), ISBLANK(INDEX($C:$C,))), \"\", 'PWS Records (System Entry)'!$D$3)","v":""},null,null,null,null,null,null,null,null,null,null,null,null,null,null,null,null,null,null,""]
[{"$f":"IF(AND(ISBLANK(INDEX($G:$G,)), ISBLANK(INDEX($C:$C,))), \"\", 'PWS Records (System Entry)'!$D$4)","v":""},{"$f":"IF(AND(ISBLANK(INDEX($G:$G,)), ISBLANK(INDEX($C:$C,))), \"\", 'PWS Records (System Entry)'!$D$3)","v":""},null,null,null,null,null,null,null,null,null,null,null,null,null,null,null,null,null,null,""]
[{"$f":"IF(AND(ISBLANK(INDEX($G:$G,)), ISBLANK(INDEX($C:$C,))), \"\", 'PWS Records (System Entry)'!$D$4)","v":""},{"$f":"IF(AND(ISBLANK(INDEX($G:$G,)), ISBLANK(INDEX($C:$C,))), \"\", 'PWS Records (System Entry)'!$D$3)","v":""},null,null,null,null,null,null,null,null,null,null,null,null,null,null,null,null,null,null,""]
[{"$f":"IF(AND(ISBLANK(INDEX($G:$G,)), ISBLANK(INDEX($C:$C,))), \"\", 'PWS Records (System Entry)'!$D$4)","v":""},{"$f":"IF(AND(ISBLANK(INDEX($G:$G,)), ISBLANK(INDEX($C:$C,))), \"\", 'PWS Records (System Entry)'!$D$3)","v":""},null,null,null,null,null,null,null,null,null,null,null,null,null,null,null,null,null,null,""]
[{"$f":"IF(AND(ISBLANK(INDEX($G:$G,)), ISBLANK(INDEX($C:$C,))), \"\", 'PWS Records (System Entry)'!$D$4)","v":""},{"$f":"IF(AND(ISBLANK(INDEX($G:$G,)), ISBLANK(INDEX($C:$C,))), \"\", 'PWS Records (System Entry)'!$D$3)","v":""},null,null,null,null,null,null,null,null,null,null,null,null,null,null,null,null,null,null,""]
[{"$f":"IF(AND(ISBLANK(INDEX($G:$G,)), ISBLANK(INDEX($C:$C,))), \"\", 'PWS Records (System Entry)'!$D$4)","v":""},{"$f":"IF(AND(ISBLANK(INDEX($G:$G,)), ISBLANK(INDEX($C:$C,))), \"\", 'PWS Records (System Entry)'!$D$3)","v":""},null,null,null,null,null,null,null,null,null,null,null,null,null,null,null,null,null,null,""]
[{"$f":"IF(AND(ISBLANK(INDEX($G:$G,)), ISBLANK(INDEX($C:$C,))), \"\", 'PWS Records (System Entry)'!$D$4)","v":""},{"$f":"IF(AND(ISBLANK(INDEX($G:$G,)), ISBLANK(INDEX($C:$C,))), \"\", 'PWS Records (System Entry)'!$D$3)","v":""},null,null,null,null,null,null,null,null,null,null,null,null,null,null,null,null,null,null,""]
[{"$f":"IF(AND(ISBLANK(INDEX($G:$G,)), ISBLANK(INDEX($C:$C,))), \"\", 'PWS Records (System Entry)'!$D$4)","v":""},{"$f":"IF(AND(ISBLANK(INDEX($G:$G,)), ISBLANK(INDEX($C:$C,))), \"\", 'PWS Records (System Entry)'!$D$3)","v":""},null,null,null,null,null,null,null,null,null,null,null,null,null,null,null,null,null,null,""]
[{"$f":"IF(AND(ISBLANK(INDEX($G:$G,)), ISBLANK(INDEX($C:$C,))), \"\", 'PWS Records (System Entry)'!$D$4)","v":""},{"$f":"IF(AND(ISBLANK(INDEX($G:$G,)), ISBLANK(INDEX($C:$C,))), \"\", 'PWS Records (System Entry)'!$D$3)","v":""},null,null,null,null,null,null,null,null,null,null,null,null,null,null,null,null,null,null,""]
[{"$f":"IF(AND(ISBLANK(INDEX($G:$G,)), ISBLANK(INDEX($C:$C,))), \"\", 'PWS Records (System Entry)'!$D$4)","v":""},{"$f":"IF(AND(ISBLANK(INDEX($G:$G,)), ISBLANK(INDEX($C:$C,))), \"\", 'PWS Records (System Entry)'!$D$3)","v":""},null,null,null,null,null,null,null,null,null,null,null,null,null,null,null,null,null,null,""]
[{"$f":"IF(AND(ISBLANK(INDEX($G:$G,)), ISBLANK(INDEX($C:$C,))), \"\", 'PWS Records (System Entry)'!$D$4)","v":""},{"$f":"IF(AND(ISBLANK(INDEX($G:$G,)), ISBLANK(INDEX($C:$C,))), \"\", 'PWS Records (System Entry)'!$D$3)","v":""},null,null,null,null,null,null,null,null,null,null,null,null,null,null,null,null,null,null,""]
[{"$f":"IF(AND(ISBLANK(INDEX($G:$G,)), ISBLANK(INDEX($C:$C,))), \"\", 'PWS Records (System Entry)'!$D$4)","v":""},{"$f":"IF(AND(ISBLANK(INDEX($G:$G,)), ISBLANK(INDEX($C:$C,))), \"\", 'PWS Records (System Entry)'!$D$3)","v":""},null,null,null,null,null,null,null,null,null,null,null,null,null,null,null,null,null,null,""]
[{"$f":"IF(AND(ISBLANK(INDEX($G:$G,)), ISBLANK(INDEX($C:$C,))), \"\", 'PWS Records (System Entry)'!$D$4)","v":""},{"$f":"IF(AND(ISBLANK(INDEX($G:$G,)), ISBLANK(INDEX($C:$C,))), \"\", 'PWS Records (System Entry)'!$D$3)","v":""},null,null,null,null,null,null,null,null,null,null,null,null,null,null,null,null,null,null,""]
[{"$f":"IF(AND(ISBLANK(INDEX($G:$G,)), ISBLANK(INDEX($C:$C,))), \"\", 'PWS Records (System Entry)'!$D$4)","v":""},{"$f":"IF(AND(ISBLANK(INDEX($G:$G,)), ISBLANK(INDEX($C:$C,))), \"\", 'PWS Records (System Entry)'!$D$3)","v":""},null,null,null,null,null,null,null,null,null,null,null,null,null,null,null,null,null,null,""]
[{"$f":"IF(AND(ISBLANK(INDEX($G:$G,)), ISBLANK(INDEX($C:$C,))), \"\", 'PWS Records (System Entry)'!$D$4)","v":""},{"$f":"IF(AND(ISBLANK(INDEX($G:$G,)), ISBLANK(INDEX($C:$C,))), \"\", 'PWS Records (System Entry)'!$D$3)","v":""},null,null,null,null,null,null,null,null,null,null,null,null,null,null,null,null,null,null,""]
[{"$f":"IF(AND(ISBLANK(INDEX($G:$G,)), ISBLANK(INDEX($C:$C,))), \"\", 'PWS Records (System Entry)'!$D$4)","v":""},{"$f":"IF(AND(ISBLANK(INDEX($G:$G,)), ISBLANK(INDEX($C:$C,))), \"\", 'PWS Records (System Entry)'!$D$3)","v":""},null,null,null,null,null,null,null,null,null,null,null,null,null,null,null,null,null,null,""]
[{"$f":"IF(AND(ISBLANK(INDEX($G:$G,)), ISBLANK(INDEX($C:$C,))), \"\", 'PWS Records (System Entry)'!$D$4)","v":""},{"$f":"IF(AND(ISBLANK(INDEX($G:$G,)), ISBLANK(INDEX($C:$C,))), \"\", 'PWS Records (System Entry)'!$D$3)","v":""},null,null,null,null,null,null,null,null,null,null,null,null,null,null,null,null,null,null,""]
[{"$f":"IF(AND(ISBLANK(INDEX($G:$G,)), ISBLANK(INDEX($C:$C,))), \"\", 'PWS Records (System Entry)'!$D$4)","v":""},{"$f":"IF(AND(ISBLANK(INDEX($G:$G,)), ISBLANK(INDEX($C:$C,))), \"\", 'PWS Records (System Entry)'!$D$3)","v":""},null,null,null,null,null,null,null,null,null,null,null,null,null,null,null,null,null,null,""]
[{"$f":"IF(AND(ISBLANK(INDEX($G:$G,)), ISBLANK(INDEX($C:$C,))), \"\", 'PWS Records (System Entry)'!$D$4)","v":""},{"$f":"IF(AND(ISBLANK(INDEX($G:$G,)), ISBLANK(INDEX($C:$C,))), \"\", 'PWS Records (System Entry)'!$D$3)","v":""},null,null,null,null,null,null,null,null,null,null,null,null,null,null,null,null,null,null,""]
[{"$f":"IF(AND(ISBLANK(INDEX($G:$G,)), ISBLANK(INDEX($C:$C,))), \"\", 'PWS Records (System Entry)'!$D$4)","v":""},{"$f":"IF(AND(ISBLANK(INDEX($G:$G,)), ISBLANK(INDEX($C:$C,))), \"\", 'PWS Records (System Entry)'!$D$3)","v":""},null,null,null,null,null,null,null,null,null,null,null,null,null,null,null,null,null,null,""]
[{"$f":"IF(AND(ISBLANK(INDEX($G:$G,)), ISBLANK(INDEX($C:$C,))), \"\", 'PWS Records (System Entry)'!$D$4)","v":""},{"$f":"IF(AND(ISBLANK(INDEX($G:$G,)), ISBLANK(INDEX($C:$C,))), \"\", 'PWS Records (System Entry)'!$D$3)","v":""},null,null,null,null,null,null,null,null,null,null,null,null,null,null,null,null,null,null,""]
[{"$f":"IF(AND(ISBLANK(INDEX($G:$G,)), ISBLANK(INDEX($C:$C,))), \"\", 'PWS Records (System Entry)'!$D$4)","v":""},{"$f":"IF(AND(ISBLANK(INDEX($G:$G,)), ISBLANK(INDEX($C:$C,))), \"\", 'PWS Records (System Entry)'!$D$3)","v":""},null,null,null,null,null,null,null,null,null,null,null,null,null,null,null,null,null,null,""]
[{"$f":"IF(AND(ISBLANK(INDEX($G:$G,)), ISBLANK(INDEX($C:$C,))), \"\", 'PWS Records (System Entry)'!$D$4)","v":""},{"$f":"IF(AND(ISBLANK(INDEX($G:$G,)), ISBLANK(INDEX($C:$C,))), \"\", 'PWS Records (System Entry)'!$D$3)","v":""},null,null,null,null,null,null,null,null,null,null,null,null,null,null,null,null,null,null,""]
[{"$f":"IF(AND(ISBLANK(INDEX($G:$G,)), ISBLANK(INDEX($C:$C,))), \"\", 'PWS Records (System Entry)'!$D$4)","v":""},{"$f":"IF(AND(ISBLANK(INDEX($G:$G,)), ISBLANK(INDEX($C:$C,))), \"\", 'PWS Records (System Entry)'!$D$3)","v":""},null,null,null,null,null,null,null,null,null,null,null,null,null,null,null,null,null,null,""]
[{"$f":"IF(AND(ISBLANK(INDEX($G:$G,)), ISBLANK(INDEX($C:$C,))), \"\", 'PWS Records (System Entry)'!$D$4)","v":""},{"$f":"IF(AND(ISBLANK(INDEX($G:$G,)), ISBLANK(INDEX($C:$C,))), \"\", 'PWS Records (System Entry)'!$D$3)","v":""},null,null,null,null,null,null,null,null,null,null,null,null,null,null,null,null,null,null,""]
[{"$f":"IF(AND(ISBLANK(INDEX($G:$G,)), ISBLANK(INDEX($C:$C,))), \"\", 'PWS Records (System Entry)'!$D$4)","v":""},{"$f":"IF(AND(ISBLANK(INDEX($G:$G,)), ISBLANK(INDEX($C:$C,))), \"\", 'PWS Records (System Entry)'!$D$3)","v":""},null,null,null,null,null,null,null,null,null,null,null,null,null,null,null,null,null,null,""]
[{"$f":"IF(AND(ISBLANK(INDEX($G:$G,)), ISBLANK(INDEX($C:$C,))), \"\", 'PWS Records (System Entry)'!$D$4)","v":""},{"$f":"IF(AND(ISBLANK(INDEX($G:$G,)), ISBLANK(INDEX($C:$C,))), \"\", 'PWS Records (System Entry)'!$D$3)","v":""},null,null,null,null,null,null,null,null,null,null,null,null,null,null,null,null,null,null,""]
[{"$f":"IF(AND(ISBLANK(INDEX($G:$G,)), ISBLANK(INDEX($C:$C,))), \"\", 'PWS Records (System Entry)'!$D$4)","v":""},{"$f":"IF(AND(ISBLANK(INDEX($G:$G,)), ISBLANK(INDEX($C:$C,))), \"\", 'PWS Records (System Entry)'!$D$3)","v":""},null,null,null,null,null,null,null,null,null,null,null,null,null,null,null,null,null,null,""]
[{"$f":"IF(AND(ISBLANK(INDEX($G:$G,)), ISBLANK(INDEX($C:$C,))), \"\", 'PWS Records (System Entry)'!$D$4)","v":""},{"$f":"IF(AND(ISBLANK(INDEX($G:$G,)), ISBLANK(INDEX($C:$C,))), \"\", 'PWS Records (System Entry)'!$D$3)","v":""},null,null,null,null,null,null,null,null,null,null,null,null,null,null,null,null,null,null,""]
[{"$f":"IF(AND(ISBLANK(INDEX($G:$G,)), ISBLANK(INDEX($C:$C,))), \"\", 'PWS Records (System Entry)'!$D$4)","v":""},{"$f":"IF(AND(ISBLANK(INDEX($G:$G,)), ISBLANK(INDEX($C:$C,))), \"\", 'PWS Records (System Entry)'!$D$3)","v":""},null,null,null,null,null,null,null,null,null,null,null,null,null,null,null,null,null,null,""]
[{"$f":"IF(AND(ISBLANK(INDEX($G:$G,)), ISBLANK(INDEX($C:$C,))), \"\", 'PWS Records (System Entry)'!$D$4)","v":""},{"$f":"IF(AND(ISBLANK(INDEX($G:$G,)), ISBLANK(INDEX($C:$C,))), \"\", 'PWS Records (System Entry)'!$D$3)","v":""},null,null,null,null,null,null,null,null,null,null,null,null,null,null,null,null,null,null,""]
[{"$f":"IF(AND(ISBLANK(INDEX($G:$G,)), ISBLANK(INDEX($C:$C,))), \"\", 'PWS Records (System Entry)'!$D$4)","v":""},{"$f":"IF(AND(ISBLANK(INDEX($G:$G,)), ISBLANK(INDEX($C:$C,))), \"\", 'PWS Records (System Entry)'!$D$3)","v":""},null,null,null,null,null,null,null,null,null,null,null,null,null,null,null,null,null,null,""]
[{"$f":"IF(AND(ISBLANK(INDEX($G:$G,)), ISBLANK(INDEX($C:$C,))), \"\", 'PWS Records (System Entry)'!$D$4)","v":""},{"$f":"IF(AND(ISBLANK(INDEX($G:$G,)), ISBLANK(INDEX($C:$C,))), \"\", 'PWS Records (System Entry)'!$D$3)","v":""},null,null,null,null,null,null,null,null,null,null,null,null,null,null,null,null,null,null,""]
[{"$f":"IF(AND(ISBLANK(INDEX($G:$G,)), ISBLANK(INDEX($C:$C,))), \"\", 'PWS Records (System Entry)'!$D$4)","v":""},{"$f":"IF(AND(ISBLANK(INDEX($G:$G,)), ISBLANK(INDEX($C:$C,))), \"\", 'PWS Records (System Entry)'!$D$3)","v":""},null,null,null,null,null,null,null,null,null,null,null,null,null,null,null,null,null,null,""]
[{"$f":"IF(AND(ISBLANK(INDEX($G:$G,)), ISBLANK(INDEX($C:$C,))), \"\", 'PWS Records (System Entry)'!$D$4)","v":""},{"$f":"IF(AND(ISBLANK(INDEX($G:$G,)), ISBLANK(INDEX($C:$C,))), \"\", 'PWS Records (System Entry)'!$D$3)","v":""},null,null,null,null,null,null,null,null,null,null,null,null,null,null,null,null,null,null,""]
[{"$f":"IF(AND(ISBLANK(INDEX($G:$G,)), ISBLANK(INDEX($C:$C,))), \"\", 'PWS Records (System Entry)'!$D$4)","v":""},{"$f":"IF(AND(ISBLANK(INDEX($G:$G,)), ISBLANK(INDEX($C:$C,))), \"\", 'PWS Records (System Entry)'!$D$3)","v":""},null,null,null,null,null,null,null,null,null,null,null,null,null,null,null,null,null,null,""]
[{"$f":"IF(AND(ISBLANK(INDEX($G:$G,)), ISBLANK(INDEX($C:$C,))), \"\", 'PWS Records (System Entry)'!$D$4)","v":""},{"$f":"IF(AND(ISBLANK(INDEX($G:$G,)), ISBLANK(INDEX($C:$C,))), \"\", 'PWS Records (System Entry)'!$D$3)","v":""},null,null,null,null,null,null,null,null,null,null,null,null,null,null,null,null,null,null,""]
[{"$f":"IF(AND(ISBLANK(INDEX($G:$G,)), ISBLANK(INDEX($C:$C,))), \"\", 'PWS Records (System Entry)'!$D$4)","v":""},{"$f":"IF(AND(ISBLANK(INDEX($G:$G,)), ISBLANK(INDEX($C:$C,))), \"\", 'PWS Records (System Entry)'!$D$3)","v":""},null,null,null,null,null,null,null,null,null,null,null,null,null,null,null,null,null,null,""]
[{"$f":"IF(AND(ISBLANK(INDEX($G:$G,)), ISBLANK(INDEX($C:$C,))), \"\", 'PWS Records (System Entry)'!$D$4)","v":""},{"$f":"IF(AND(ISBLANK(INDEX($G:$G,)), ISBLANK(INDEX($C:$C,))), \"\", 'PWS Records (System Entry)'!$D$3)","v":""},null,null,null,null,null,null,null,null,null,null,null,null,null,null,null,null,null,null,""]
[{"$f":"IF(AND(ISBLANK(INDEX($G:$G,)), ISBLANK(INDEX($C:$C,))), \"\", 'PWS Records (System Entry)'!$D$4)","v":""},{"$f":"IF(AND(ISBLANK(INDEX($G:$G,)), ISBLANK(INDEX($C:$C,))), \"\", 'PWS Records (System Entry)'!$D$3)","v":""},null,null,null,null,null,null,null,null,null,null,null,null,null,null,null,null,null,null,""]
[{"$f":"IF(AND(ISBLANK(INDEX($G:$G,)), ISBLANK(INDEX($C:$C,))), \"\", 'PWS Records (System Entry)'!$D$4)","v":""},{"$f":"IF(AND(ISBLANK(INDEX($G:$G,)), ISBLANK(INDEX($C:$C,))), \"\", 'PWS Records (System Entry)'!$D$3)","v":""},null,null,null,null,null,null,null,null,null,null,null,null,null,null,null,null,null,null,""]
[{"$f":"IF(AND(ISBLANK(INDEX($G:$G,)), ISBLANK(INDEX($C:$C,))), \"\", 'PWS Records (System Entry)'!$D$4)","v":""},{"$f":"IF(AND(ISBLANK(INDEX($G:$G,)), ISBLANK(INDEX($C:$C,))), \"\", 'PWS Records (System Entry)'!$D$3)","v":""},null,null,null,null,null,null,null,null,null,null,null,null,null,null,null,null,null,null,""]
[{"$f":"IF(AND(ISBLANK(INDEX($G:$G,)), ISBLANK(INDEX($C:$C,))), \"\", 'PWS Records (System Entry)'!$D$4)","v":""},{"$f":"IF(AND(ISBLANK(INDEX($G:$G,)), ISBLANK(INDEX($C:$C,))), \"\", 'PWS Records (System Entry)'!$D$3)","v":""},null,null,null,null,null,null,null,null,null,null,null,null,null,null,null,null,null,null,""]
[{"$f":"IF(AND(ISBLANK(INDEX($G:$G,)), ISBLANK(INDEX($C:$C,))), \"\", 'PWS Records (System Entry)'!$D$4)","v":""},{"$f":"IF(AND(ISBLANK(INDEX($G:$G,)), ISBLANK(INDEX($C:$C,))), \"\", 'PWS Records (System Entry)'!$D$3)","v":""},null,null,null,null,null,null,null,null,null,null,null,null,null,null,null,null,null,null,""]
[{"$f":"IF(AND(ISBLANK(INDEX($G:$G,)), ISBLANK(INDEX($C:$C,))), \"\", 'PWS Records (System Entry)'!$D$4)","v":""},{"$f":"IF(AND(ISBLANK(INDEX($G:$G,)), ISBLANK(INDEX($C:$C,))), \"\", 'PWS Records (System Entry)'!$D$3)","v":""},null,null,null,null,null,null,null,null,null,null,null,null,null,null,null,null,null,null,""]
[{"$f":"IF(AND(ISBLANK(INDEX($G:$G,)), ISBLANK(INDEX($C:$C,))), \"\", 'PWS Records (System Entry)'!$D$4)","v":""},{"$f":"IF(AND(ISBLANK(INDEX($G:$G,)), ISBLANK(INDEX($C:$C,))), \"\", 'PWS Records (System Entry)'!$D$3)","v":""},null,null,null,null,null,null,null,null,null,null,null,null,null,null,null,null,null,null,""]
[{"$f":"IF(AND(ISBLANK(INDEX($G:$G,)), ISBLANK(INDEX($C:$C,))), \"\", 'PWS Records (System Entry)'!$D$4)","v":""},{"$f":"IF(AND(ISBLANK(INDEX($G:$G,)), ISBLANK(INDEX($C:$C,))), \"\", 'PWS Records (System Entry)'!$D$3)","v":""},null,null,null,null,null,null,null,null,null,null,null,null,null,null,null,null,null,null,""]
[{"$f":"IF(AND(ISBLANK(INDEX($G:$G,)), ISBLANK(INDEX($C:$C,))), \"\", 'PWS Records (System Entry)'!$D$4)","v":""},{"$f":"IF(AND(ISBLANK(INDEX($G:$G,)), ISBLANK(INDEX($C:$C,))), \"\", 'PWS Records (System Entry)'!$D$3)","v":""},null,null,null,null,null,null,null,null,null,null,null,null,null,null,null,null,null,null,""]
[{"$f":"IF(AND(ISBLANK(INDEX($G:$G,)), ISBLANK(INDEX($C:$C,))), \"\", 'PWS Records (System Entry)'!$D$4)","v":""},{"$f":"IF(AND(ISBLANK(INDEX($G:$G,)), ISBLANK(INDEX($C:$C,))), \"\", 'PWS Records (System Entry)'!$D$3)","v":""},null,null,null,null,null,null,null,null,null,null,null,null,null,null,null,null,null,null,""]
[{"$f":"IF(AND(ISBLANK(INDEX($G:$G,)), ISBLANK(INDEX($C:$C,))), \"\", 'PWS Records (System Entry)'!$D$4)","v":""},{"$f":"IF(AND(ISBLANK(INDEX($G:$G,)), ISBLANK(INDEX($C:$C,))), \"\", 'PWS Records (System Entry)'!$D$3)","v":""},null,null,null,null,null,null,null,null,null,null,null,null,null,null,null,null,null,null,""]
[{"$f":"IF(AND(ISBLANK(INDEX($G:$G,)), ISBLANK(INDEX($C:$C,))), \"\", 'PWS Records (System Entry)'!$D$4)","v":""},{"$f":"IF(AND(ISBLANK(INDEX($G:$G,)), ISBLANK(INDEX($C:$C,))), \"\", 'PWS Records (System Entry)'!$D$3)","v":""},null,null,null,null,null,null,null,null,null,null,null,null,null,null,null,null,null,null,""]
[{"$f":"IF(AND(ISBLANK(INDEX($G:$G,)), ISBLANK(INDEX($C:$C,))), \"\", 'PWS Records (System Entry)'!$D$4)","v":""},{"$f":"IF(AND(ISBLANK(INDEX($G:$G,)), ISBLANK(INDEX($C:$C,))), \"\", 'PWS Records (System Entry)'!$D$3)","v":""},null,null,null,null,null,null,null,null,null,null,null,null,null,null,null,null,null,null,""]
[{"$f":"IF(AND(ISBLANK(INDEX($G:$G,)), ISBLANK(INDEX($C:$C,))), \"\", 'PWS Records (System Entry)'!$D$4)","v":""},{"$f":"IF(AND(ISBLANK(INDEX($G:$G,)), ISBLANK(INDEX($C:$C,))), \"\", 'PWS Records (System Entry)'!$D$3)","v":""},null,null,null,null,null,null,null,null,null,null,null,null,null,null,null,null,null,null,""]
[{"$f":"IF(AND(ISBLANK(INDEX($G:$G,)), ISBLANK(INDEX($C:$C,))), \"\", 'PWS Records (System Entry)'!$D$4)","v":""},{"$f":"IF(AND(ISBLANK(INDEX($G:$G,)), ISBLANK(INDEX($C:$C,))), \"\", 'PWS Records (System Entry)'!$D$3)","v":""},null,null,null,null,null,null,null,null,null,null,null,null,null,null,null,null,null,null,""]
[{"$f":"IF(AND(ISBLANK(INDEX($G:$G,)), ISBLANK(INDEX($C:$C,))), \"\", 'PWS Records (System Entry)'!$D$4)","v":""},{"$f":"IF(AND(ISBLANK(INDEX($G:$G,)), ISBLANK(INDEX($C:$C,))), \"\", 'PWS Records (System Entry)'!$D$3)","v":""},null,null,null,null,null,null,null,null,null,null,null,null,null,null,null,null,null,null,""]
[{"$f":"IF(AND(ISBLANK(INDEX($G:$G,)), ISBLANK(INDEX($C:$C,))), \"\", 'PWS Records (System Entry)'!$D$4)","v":""},{"$f":"IF(AND(ISBLANK(INDEX($G:$G,)), ISBLANK(INDEX($C:$C,))), \"\", 'PWS Records (System Entry)'!$D$3)","v":""},null,null,null,null,null,null,null,null,null,null,null,null,null,null,null,null,null,null,""]
[{"$f":"IF(AND(ISBLANK(INDEX($G:$G,)), ISBLANK(INDEX($C:$C,))), \"\", 'PWS Records (System Entry)'!$D$4)","v":""},{"$f":"IF(AND(ISBLANK(INDEX($G:$G,)), ISBLANK(INDEX($C:$C,))), \"\", 'PWS Records (System Entry)'!$D$3)","v":""},null,null,null,null,null,null,null,null,null,null,null,null,null,null,null,null,null,null,""]
[{"$f":"IF(AND(ISBLANK(INDEX($G:$G,)), ISBLANK(INDEX($C:$C,))), \"\", 'PWS Records (System Entry)'!$D$4)","v":""},{"$f":"IF(AND(ISBLANK(INDEX($G:$G,)), ISBLANK(INDEX($C:$C,))), \"\", 'PWS Records (System Entry)'!$D$3)","v":""},null,null,null,null,null,null,null,null,null,null,null,null,null,null,null,null,null,null,{"$f":"IF(AND(INDEX($K:$K,)=\"\", INDEX($L:$L,)=\"\", INDEX($M:$M,)=\"\", INDEX($Q:$Q,)=\"\", INDEX($R:$R,)=\"\"), \"\", IF(OR(INDEX($K:$K,)=\"Lead\",INDEX($Q:$Q,)=\"Lead\"),\"Lead\",IF(OR(AND(OR(INDEX($M:$M,)=\"Yes\", INDEX($M:$M,)=\"Don't Know\", INDEX($M:$M,)=\"\"), INDEX($Q:$Q,)=\"Galvanized Iron/Steel\"), AND(INDEX($K:$K,)=\"Unknown\", INDEX($M:$M,)=\"No\", INDEX($Q:$Q,)=\"Galvanized Iron/Steel\")), \"Galvanized Requiring Replacement\", IF(OR(AND(OR(INDEX($K:$K,)=\"Galvanized Iron/Steel\", INDEX($K:$K,)=\"Non-Lead - Copper\", INDEX($K:$K,)=\"Non-Lead - Plastic\", INDEX($K:$K,)=\"Non-Lead - Other\", INDEX($K:$K,)=\"Non-Lead - Material Unknown\", INDEX($K:$K,)=\"No System Owned Portion\"), OR(INDEX($Q:$Q,)=\"Galvanized Iron/Steel\", INDEX($Q:$Q,)=\"Non-Lead - Copper\", INDEX($Q:$Q,)=\"Non-Lead - Plastic\", INDEX($Q:$Q,)=\"Non-Lead - Other\", INDEX($Q:$Q,)=\"Non-Lead - Predictive Model\", INDEX($Q:$Q,)=\"No Customer Owned Portion\")), AND(OR( INDEX($K:$K,)=\"Galvanized Iron/Steel\", INDEX($K:$K,)=\"Non-Lead - Copper\", INDEX($K:$K,)=\"Non-Lead - Plastic\", INDEX($K:$K,)=\"Non-Lead - Other\", INDEX($K:$K,)=\"Non-Lead - Material Unknown\", INDEX($K:$K,)=\"No System Owned Portion\"), INDEX($M:$M,)=\"No\", INDEX($Q:$Q,)=\"Non-Lead - Material Unknown\")), \"Non-Lead\", \"Lead Status Unknown\"))))","v":""}]
[{"$f":"IF(AND(ISBLANK(INDEX($G:$G,)), ISBLANK(INDEX($C:$C,))), \"\", 'PWS Records (System Entry)'!$D$4)","v":""},{"$f":"IF(AND(ISBLANK(INDEX($G:$G,)), ISBLANK(INDEX($C:$C,))), \"\", 'PWS Records (System Entry)'!$D$3)","v":""},null,null,null,null,null,null,null,null,null,null,null,null,null,null,null,null,null,null,""]
[{"$f":"IF(AND(ISBLANK(INDEX($G:$G,)), ISBLANK(INDEX($C:$C,))), \"\", 'PWS Records (System Entry)'!$D$4)","v":""},{"$f":"IF(AND(ISBLANK(INDEX($G:$G,)), ISBLANK(INDEX($C:$C,))), \"\", 'PWS Records (System Entry)'!$D$3)","v":""},null,null,null,null,null,null,null,null,null,null,null,null,null,null,null,null,null,null,""]
[{"$f":"IF(AND(ISBLANK(INDEX($G:$G,)), ISBLANK(INDEX($C:$C,))), \"\", 'PWS Records (System Entry)'!$D$4)","v":""},{"$f":"IF(AND(ISBLANK(INDEX($G:$G,)), ISBLANK(INDEX($C:$C,))), \"\", 'PWS Records (System Entry)'!$D$3)","v":""},null,null,null,null,null,null,null,null,null,null,null,null,null,null,null,null,null,null,""]
[{"$f":"IF(AND(ISBLANK(INDEX($G:$G,)), ISBLANK(INDEX($C:$C,))), \"\", 'PWS Records (System Entry)'!$D$4)","v":""},{"$f":"IF(AND(ISBLANK(INDEX($G:$G,)), ISBLANK(INDEX($C:$C,))), \"\", 'PWS Records (System Entry)'!$D$3)","v":""},null,null,null,null,null,null,null,null,null,null,null,null,null,null,null,null,null,null,""]
[{"$f":"IF(AND(ISBLANK(INDEX($G:$G,)), ISBLANK(INDEX($C:$C,))), \"\", 'PWS Records (System Entry)'!$D$4)","v":""},{"$f":"IF(AND(ISBLANK(INDEX($G:$G,)), ISBLANK(INDEX($C:$C,))), \"\", 'PWS Records (System Entry)'!$D$3)","v":""},null,null,null,null,null,null,null,null,null,null,null,null,null,null,null,null,null,null,""]
[{"$f":"IF(AND(ISBLANK(INDEX($G:$G,)), ISBLANK(INDEX($C:$C,))), \"\", 'PWS Records (System Entry)'!$D$4)","v":""},{"$f":"IF(AND(ISBLANK(INDEX($G:$G,)), ISBLANK(INDEX($C:$C,))), \"\", 'PWS Records (System Entry)'!$D$3)","v":""},null,null,null,null,null,null,null,null,null,null,null,null,null,null,null,null,null,null,""]
[{"$f":"IF(AND(ISBLANK(INDEX($G:$G,)), ISBLANK(INDEX($C:$C,))), \"\", 'PWS Records (System Entry)'!$D$4)","v":""},{"$f":"IF(AND(ISBLANK(INDEX($G:$G,)), ISBLANK(INDEX($C:$C,))), \"\", 'PWS Records (System Entry)'!$D$3)","v":""},null,null,null,null,null,null,null,null,null,null,null,null,null,null,null,null,null,null,""]
[{"$f":"IF(AND(ISBLANK(INDEX($G:$G,)), ISBLANK(INDEX($C:$C,))), \"\", 'PWS Records (System Entry)'!$D$4)","v":""},{"$f":"IF(AND(ISBLANK(INDEX($G:$G,)), ISBLANK(INDEX($C:$C,))), \"\", 'PWS Records (System Entry)'!$D$3)","v":""},null,null,null,null,null,null,null,null,null,null,null,null,null,null,null,null,null,null,""]
[{"$f":"IF(AND(ISBLANK(INDEX($G:$G,)), ISBLANK(INDEX($C:$C,))), \"\", 'PWS Records (System Entry)'!$D$4)","v":""},{"$f":"IF(AND(ISBLANK(INDEX($G:$G,)), ISBLANK(INDEX($C:$C,))), \"\", 'PWS Records (System Entry)'!$D$3)","v":""},null,null,null,null,null,null,null,null,null,null,null,null,null,null,null,null,null,null,""]
[{"$f":"IF(AND(ISBLANK(INDEX($G:$G,)), ISBLANK(INDEX($C:$C,))), \"\", 'PWS Records (System Entry)'!$D$4)","v":""},{"$f":"IF(AND(ISBLANK(INDEX($G:$G,)), ISBLANK(INDEX($C:$C,))), \"\", 'PWS Records (System Entry)'!$D$3)","v":""},null,null,null,null,null,null,null,null,null,null,null,null,null,null,null,null,null,null,""]
[{"$f":"IF(AND(ISBLANK(INDEX($G:$G,)), ISBLANK(INDEX($C:$C,))), \"\", 'PWS Records (System Entry)'!$D$4)","v":""},{"$f":"IF(AND(ISBLANK(INDEX($G:$G,)), ISBLANK(INDEX($C:$C,))), \"\", 'PWS Records (System Entry)'!$D$3)","v":""},null,null,null,null,null,null,null,null,null,null,null,null,null,null,null,null,null,null,""]
[{"$f":"IF(AND(ISBLANK(INDEX($G:$G,)), ISBLANK(INDEX($C:$C,))), \"\", 'PWS Records (System Entry)'!$D$4)","v":""},{"$f":"IF(AND(ISBLANK(INDEX($G:$G,)), ISBLANK(INDEX($C:$C,))), \"\", 'PWS Records (System Entry)'!$D$3)","v":""},null,null,null,null,null,null,null,null,null,null,null,null,null,null,null,null,null,null,""]
[{"$f":"IF(AND(ISBLANK(INDEX($G:$G,)), ISBLANK(INDEX($C:$C,))), \"\", 'PWS Records (System Entry)'!$D$4)","v":""},{"$f":"IF(AND(ISBLANK(INDEX($G:$G,)), ISBLANK(INDEX($C:$C,))), \"\", 'PWS Records (System Entry)'!$D$3)","v":""},null,null,null,null,null,null,null,null,null,null,null,null,null,null,null,null,null,null,""]
[{"$f":"IF(AND(ISBLANK(INDEX($G:$G,)), ISBLANK(INDEX($C:$C,))), \"\", 'PWS Records (System Entry)'!$D$4)","v":""},{"$f":"IF(AND(ISBLANK(INDEX($G:$G,)), ISBLANK(INDEX($C:$C,))), \"\", 'PWS Records (System Entry)'!$D$3)","v":""},null,null,null,null,null,null,null,null,null,null,null,null,null,null,null,null,null,null,""]
[{"$f":"IF(AND(ISBLANK(INDEX($G:$G,)), ISBLANK(INDEX($C:$C,))), \"\", 'PWS Records (System Entry)'!$D$4)","v":""},{"$f":"IF(AND(ISBLANK(INDEX($G:$G,)), ISBLANK(INDEX($C:$C,))), \"\", 'PWS Records (System Entry)'!$D$3)","v":""},null,null,null,null,null,null,null,null,null,null,null,null,null,null,null,null,null,null,""]
[{"$f":"IF(AND(ISBLANK(INDEX($G:$G,)), ISBLANK(INDEX($C:$C,))), \"\", 'PWS Records (System Entry)'!$D$4)","v":""},{"$f":"IF(AND(ISBLANK(INDEX($G:$G,)), ISBLANK(INDEX($C:$C,))), \"\", 'PWS Records (System Entry)'!$D$3)","v":""},null,null,null,null,null,null,null,null,null,null,null,null,null,null,null,null,null,null,""]
[{"$f":"IF(AND(ISBLANK(INDEX($G:$G,)), ISBLANK(INDEX($C:$C,))), \"\", 'PWS Records (System Entry)'!$D$4)","v":""},{"$f":"IF(AND(ISBLANK(INDEX($G:$G,)), ISBLANK(INDEX($C:$C,))), \"\", 'PWS Records (System Entry)'!$D$3)","v":""},null,null,null,null,null,null,null,null,null,null,null,null,null,null,null,null,null,null,{"$f":"IF(AND(INDEX($K:$K,)=\"\", INDEX($L:$L,)=\"\", INDEX($M:$M,)=\"\", INDEX($Q:$Q,)=\"\", INDEX($R:$R,)=\"\"), \"\", IF(OR(INDEX($K:$K,)=\"Lead\",INDEX($Q:$Q,)=\"Lead\"),\"Lead\",IF(OR(AND(OR(INDEX($M:$M,)=\"Yes\", INDEX($M:$M,)=\"Don't Know\", INDEX($M:$M,)=\"\"), INDEX($Q:$Q,)=\"Galvanized Iron/Steel\"), AND(INDEX($K:$K,)=\"Unknown\", INDEX($M:$M,)=\"No\", INDEX($Q:$Q,)=\"Galvanized Iron/Steel\")), \"Galvanized Requiring Replacement\", IF(OR(AND(OR(INDEX($K:$K,)=\"Galvanized Iron/Steel\", INDEX($K:$K,)=\"Non-Lead - Copper\", INDEX($K:$K,)=\"Non-Lead - Plastic\", INDEX($K:$K,)=\"Non-Lead - Other\", INDEX($K:$K,)=\"Non-Lead - Material Unknown\", INDEX($K:$K,)=\"No System Owned Portion\"), OR(INDEX($Q:$Q,)=\"Galvanized Iron/Steel\", INDEX($Q:$Q,)=\"Non-Lead - Copper\", INDEX($Q:$Q,)=\"Non-Lead - Plastic\", INDEX($Q:$Q,)=\"Non-Lead - Other\", INDEX($Q:$Q,)=\"Non-Lead - Predictive Model\", INDEX($Q:$Q,)=\"No Customer Owned Portion\")), AND(OR( INDEX($K:$K,)=\"Galvanized Iron/Steel\", INDEX($K:$K,)=\"Non-Lead - Copper\", INDEX($K:$K,)=\"Non-Lead - Plastic\", INDEX($K:$K,)=\"Non-Lead - Other\", INDEX($K:$K,)=\"Non-Lead - Material Unknown\", INDEX($K:$K,)=\"No System Owned Portion\"), INDEX($M:$M,)=\"No\", INDEX($Q:$Q,)=\"Non-Lead - Material Unknown\")), \"Non-Lead\", \"Lead Status Unknown\"))))","v":""}]
[{"$f":"IF(AND(ISBLANK(INDEX($G:$G,)), ISBLANK(INDEX($C:$C,))), \"\", 'PWS Records (System Entry)'!$D$4)","v":""},{"$f":"IF(AND(ISBLANK(INDEX($G:$G,)), ISBLANK(INDEX($C:$C,))), \"\", 'PWS Records (System Entry)'!$D$3)","v":""},null,null,null,null,null,null,null,null,null,null,null,null,null,null,null,null,null,null,""]
[{"$f":"IF(AND(ISBLANK(INDEX($G:$G,)), ISBLANK(INDEX($C:$C,))), \"\", 'PWS Records (System Entry)'!$D$4)","v":""},{"$f":"IF(AND(ISBLANK(INDEX($G:$G,)), ISBLANK(INDEX($C:$C,))), \"\", 'PWS Records (System Entry)'!$D$3)","v":""},null,null,null,null,null,null,null,null,null,null,null,null,null,null,null,null,null,null,""]
[{"$f":"IF(AND(ISBLANK(INDEX($G:$G,)), ISBLANK(INDEX($C:$C,))), \"\", 'PWS Records (System Entry)'!$D$4)","v":""},{"$f":"IF(AND(ISBLANK(INDEX($G:$G,)), ISBLANK(INDEX($C:$C,))), \"\", 'PWS Records (System Entry)'!$D$3)","v":""},null,null,null,null,null,null,null,null,null,null,null,null,null,null,null,null,null,null,""]
[{"$f":"IF(AND(ISBLANK(INDEX($G:$G,)), ISBLANK(INDEX($C:$C,))), \"\", 'PWS Records (System Entry)'!$D$4)","v":""},{"$f":"IF(AND(ISBLANK(INDEX($G:$G,)), ISBLANK(INDEX($C:$C,))), \"\", 'PWS Records (System Entry)'!$D$3)","v":""},null,null,null,null,null,null,null,null,null,null,null,null,null,null,null,null,null,null,""]
[{"$f":"IF(AND(ISBLANK(INDEX($G:$G,)), ISBLANK(INDEX($C:$C,))), \"\", 'PWS Records (System Entry)'!$D$4)","v":""},{"$f":"IF(AND(ISBLANK(INDEX($G:$G,)), ISBLANK(INDEX($C:$C,))), \"\", 'PWS Records (System Entry)'!$D$3)","v":""},null,null,null,null,null,null,null,null,null,null,null,null,null,null,null,null,null,null,""]
[{"$f":"IF(AND(ISBLANK(INDEX($G:$G,)), ISBLANK(INDEX($C:$C,))), \"\", 'PWS Records (System Entry)'!$D$4)","v":""},{"$f":"IF(AND(ISBLANK(INDEX($G:$G,)), ISBLANK(INDEX($C:$C,))), \"\", 'PWS Records (System Entry)'!$D$3)","v":""},null,null,null,null,null,null,null,null,null,null,null,null,null,null,null,null,null,null,""]
[{"$f":"IF(AND(ISBLANK(INDEX($G:$G,)), ISBLANK(INDEX($C:$C,))), \"\", 'PWS Records (System Entry)'!$D$4)","v":""},{"$f":"IF(AND(ISBLANK(INDEX($G:$G,)), ISBLANK(INDEX($C:$C,))), \"\", 'PWS Records (System Entry)'!$D$3)","v":""},null,null,null,null,null,null,null,null,null,null,null,null,null,null,null,null,null,null,""]
[{"$f":"IF(AND(ISBLANK(INDEX($G:$G,)), ISBLANK(INDEX($C:$C,))), \"\", 'PWS Records (System Entry)'!$D$4)","v":""},{"$f":"IF(AND(ISBLANK(INDEX($G:$G,)), ISBLANK(INDEX($C:$C,))), \"\", 'PWS Records (System Entry)'!$D$3)","v":""},null,null,null,null,null,null,null,null,null,null,null,null,null,null,null,null,null,null,""]
[{"$f":"IF(AND(ISBLANK(INDEX($G:$G,)), ISBLANK(INDEX($C:$C,))), \"\", 'PWS Records (System Entry)'!$D$4)","v":""},{"$f":"IF(AND(ISBLANK(INDEX($G:$G,)), ISBLANK(INDEX($C:$C,))), \"\", 'PWS Records (System Entry)'!$D$3)","v":""},null,null,null,null,null,null,null,null,null,null,null,null,null,null,null,null,null,null,""]
[{"$f":"IF(AND(ISBLANK(INDEX($G:$G,)), ISBLANK(INDEX($C:$C,))), \"\", 'PWS Records (System Entry)'!$D$4)","v":""},{"$f":"IF(AND(ISBLANK(INDEX($G:$G,)), ISBLANK(INDEX($C:$C,))), \"\", 'PWS Records (System Entry)'!$D$3)","v":""},null,null,null,null,null,null,null,null,null,null,null,null,null,null,null,null,null,null,""]
[{"$f":"IF(AND(ISBLANK(INDEX($G:$G,)), ISBLANK(INDEX($C:$C,))), \"\", 'PWS Records (System Entry)'!$D$4)","v":""},{"$f":"IF(AND(ISBLANK(INDEX($G:$G,)), ISBLANK(INDEX($C:$C,))), \"\", 'PWS Records (System Entry)'!$D$3)","v":""},null,null,null,null,null,null,null,null,null,null,null,null,null,null,null,null,null,null,""]
[{"$f":"IF(AND(ISBLANK(INDEX($G:$G,)), ISBLANK(INDEX($C:$C,))), \"\", 'PWS Records (System Entry)'!$D$4)","v":""},{"$f":"IF(AND(ISBLANK(INDEX($G:$G,)), ISBLANK(INDEX($C:$C,))), \"\", 'PWS Records (System Entry)'!$D$3)","v":""},null,null,null,null,null,null,null,null,null,null,null,null,null,null,null,null,null,null,""]
[{"$f":"IF(AND(ISBLANK(INDEX($G:$G,)), ISBLANK(INDEX($C:$C,))), \"\", 'PWS Records (System Entry)'!$D$4)","v":""},{"$f":"IF(AND(ISBLANK(INDEX($G:$G,)), ISBLANK(INDEX($C:$C,))), \"\", 'PWS Records (System Entry)'!$D$3)","v":""},null,null,null,null,null,null,null,null,null,null,null,null,null,null,null,null,null,null,""]
[{"$f":"IF(AND(ISBLANK(INDEX($G:$G,)), ISBLANK(INDEX($C:$C,))), \"\", 'PWS Records (System Entry)'!$D$4)","v":""},{"$f":"IF(AND(ISBLANK(INDEX($G:$G,)), ISBLANK(INDEX($C:$C,))), \"\", 'PWS Records (System Entry)'!$D$3)","v":""},null,null,null,null,null,null,null,null,null,null,null,null,null,null,null,null,null,null,""]
[{"$f":"IF(AND(ISBLANK(INDEX($G:$G,)), ISBLANK(INDEX($C:$C,))), \"\", 'PWS Records (System Entry)'!$D$4)","v":""},{"$f":"IF(AND(ISBLANK(INDEX($G:$G,)), ISBLANK(INDEX($C:$C,))), \"\", 'PWS Records (System Entry)'!$D$3)","v":""},null,null,null,null,null,null,null,null,null,null,null,null,null,null,null,null,null,null,""]
[{"$f":"IF(AND(ISBLANK(INDEX($G:$G,)), ISBLANK(INDEX($C:$C,))), \"\", 'PWS Records (System Entry)'!$D$4)","v":""},{"$f":"IF(AND(ISBLANK(INDEX($G:$G,)), ISBLANK(INDEX($C:$C,))), \"\", 'PWS Records (System Entry)'!$D$3)","v":""},null,null,null,null,null,null,null,null,null,null,null,null,null,null,null,null,null,null,""]
[{"$f":"IF(AND(ISBLANK(INDEX($G:$G,)), ISBLANK(INDEX($C:$C,))), \"\", 'PWS Records (System Entry)'!$D$4)","v":""},{"$f":"IF(AND(ISBLANK(INDEX($G:$G,)), ISBLANK(INDEX($C:$C,))), \"\", 'PWS Records (System Entry)'!$D$3)","v":""},null,null,null,null,null,null,null,null,null,null,null,null,null,null,null,null,null,null,""]
[{"$f":"IF(AND(ISBLANK(INDEX($G:$G,)), ISBLANK(INDEX($C:$C,))), \"\", 'PWS Records (System Entry)'!$D$4)","v":""},{"$f":"IF(AND(ISBLANK(INDEX($G:$G,)), ISBLANK(INDEX($C:$C,))), \"\", 'PWS Records (System Entry)'!$D$3)","v":""},null,null,null,null,null,null,null,null,null,null,null,null,null,null,null,null,null,null,""]
[{"$f":"IF(AND(ISBLANK(INDEX($G:$G,)), ISBLANK(INDEX($C:$C,))), \"\", 'PWS Records (System Entry)'!$D$4)","v":""},{"$f":"IF(AND(ISBLANK(INDEX($G:$G,)), ISBLANK(INDEX($C:$C,))), \"\", 'PWS Records (System Entry)'!$D$3)","v":""},null,null,null,null,null,null,null,null,null,null,null,null,null,null,null,null,null,null,""]
[{"$f":"IF(AND(ISBLANK(INDEX($G:$G,)), ISBLANK(INDEX($C:$C,))), \"\", 'PWS Records (System Entry)'!$D$4)","v":""},{"$f":"IF(AND(ISBLANK(INDEX($G:$G,)), ISBLANK(INDEX($C:$C,))), \"\", 'PWS Records (System Entry)'!$D$3)","v":""},null,null,null,null,null,null,null,null,null,null,null,null,null,null,null,null,null,null,""]
[{"$f":"IF(AND(ISBLANK(INDEX($G:$G,)), ISBLANK(INDEX($C:$C,))), \"\", 'PWS Records (System Entry)'!$D$4)","v":""},{"$f":"IF(AND(ISBLANK(INDEX($G:$G,)), ISBLANK(INDEX($C:$C,))), \"\", 'PWS Records (System Entry)'!$D$3)","v":""},null,null,null,null,null,null,null,null,null,null,null,null,null,null,null,null,null,null,""]
[{"$f":"IF(AND(ISBLANK(INDEX($G:$G,)), ISBLANK(INDEX($C:$C,))), \"\", 'PWS Records (System Entry)'!$D$4)","v":""},{"$f":"IF(AND(ISBLANK(INDEX($G:$G,)), ISBLANK(INDEX($C:$C,))), \"\", 'PWS Records (System Entry)'!$D$3)","v":""},null,null,null,null,null,null,null,null,null,null,null,null,null,null,null,null,null,null,""]
[{"$f":"IF(AND(ISBLANK(INDEX($G:$G,)), ISBLANK(INDEX($C:$C,))), \"\", 'PWS Records (System Entry)'!$D$4)","v":""},{"$f":"IF(AND(ISBLANK(INDEX($G:$G,)), ISBLANK(INDEX($C:$C,))), \"\", 'PWS Records (System Entry)'!$D$3)","v":""},null,null,null,null,null,null,null,null,null,null,null,null,null,null,null,null,null,null,""]
[{"$f":"IF(AND(ISBLANK(INDEX($G:$G,)), ISBLANK(INDEX($C:$C,))), \"\", 'PWS Records (System Entry)'!$D$4)","v":""},{"$f":"IF(AND(ISBLANK(INDEX($G:$G,)), ISBLANK(INDEX($C:$C,))), \"\", 'PWS Records (System Entry)'!$D$3)","v":""},null,null,null,null,null,null,null,null,null,null,null,null,null,null,null,null,null,null,""]
[{"$f":"IF(AND(ISBLANK(INDEX($G:$G,)), ISBLANK(INDEX($C:$C,))), \"\", 'PWS Records (System Entry)'!$D$4)","v":""},{"$f":"IF(AND(ISBLANK(INDEX($G:$G,)), ISBLANK(INDEX($C:$C,))), \"\", 'PWS Records (System Entry)'!$D$3)","v":""},null,null,null,null,null,null,null,null,null,null,null,null,null,null,null,null,null,null,""]
[{"$f":"IF(AND(ISBLANK(INDEX($G:$G,)), ISBLANK(INDEX($C:$C,))), \"\", 'PWS Records (System Entry)'!$D$4)","v":""},{"$f":"IF(AND(ISBLANK(INDEX($G:$G,)), ISBLANK(INDEX($C:$C,))), \"\", 'PWS Records (System Entry)'!$D$3)","v":""},null,null,null,null,null,null,null,null,null,null,null,null,null,null,null,null,null,null,""]
[{"$f":"IF(AND(ISBLANK(INDEX($G:$G,)), ISBLANK(INDEX($C:$C,))), \"\", 'PWS Records (System Entry)'!$D$4)","v":""},{"$f":"IF(AND(ISBLANK(INDEX($G:$G,)), ISBLANK(INDEX($C:$C,))), \"\", 'PWS Records (System Entry)'!$D$3)","v":""},null,null,null,null,null,null,null,null,null,null,null,null,null,null,null,null,null,null,""]
[{"$f":"IF(AND(ISBLANK(INDEX($G:$G,)), ISBLANK(INDEX($C:$C,))), \"\", 'PWS Records (System Entry)'!$D$4)","v":""},{"$f":"IF(AND(ISBLANK(INDEX($G:$G,)), ISBLANK(INDEX($C:$C,))), \"\", 'PWS Records (System Entry)'!$D$3)","v":""},null,null,null,null,null,null,null,null,null,null,null,null,null,null,null,null,null,null,""]
[{"$f":"IF(AND(ISBLANK(INDEX($G:$G,)), ISBLANK(INDEX($C:$C,))), \"\", 'PWS Records (System Entry)'!$D$4)","v":""},{"$f":"IF(AND(ISBLANK(INDEX($G:$G,)), ISBLANK(INDEX($C:$C,))), \"\", 'PWS Records (System Entry)'!$D$3)","v":""},null,null,null,null,null,null,null,null,null,null,null,null,null,null,null,null,null,null,""]
[{"$f":"IF(AND(ISBLANK(INDEX($G:$G,)), ISBLANK(INDEX($C:$C,))), \"\", 'PWS Records (System Entry)'!$D$4)","v":""},{"$f":"IF(AND(ISBLANK(INDEX($G:$G,)), ISBLANK(INDEX($C:$C,))), \"\", 'PWS Records (System Entry)'!$D$3)","v":""},null,null,null,null,null,null,null,null,null,null,null,null,null,null,null,null,null,null,""]
[{"$f":"IF(AND(ISBLANK(INDEX($G:$G,)), ISBLANK(INDEX($C:$C,))), \"\", 'PWS Records (System Entry)'!$D$4)","v":""},{"$f":"IF(AND(ISBLANK(INDEX($G:$G,)), ISBLANK(INDEX($C:$C,))), \"\", 'PWS Records (System Entry)'!$D$3)","v":""},null,null,null,null,null,null,null,null,null,null,null,null,null,null,null,null,null,null,""]
[{"$f":"IF(AND(ISBLANK(INDEX($G:$G,)), ISBLANK(INDEX($C:$C,))), \"\", 'PWS Records (System Entry)'!$D$4)","v":""},{"$f":"IF(AND(ISBLANK(INDEX($G:$G,)), ISBLANK(INDEX($C:$C,))), \"\", 'PWS Records (System Entry)'!$D$3)","v":""},null,null,null,null,null,null,null,null,null,null,null,null,null,null,null,null,null,null,""]
[{"$f":"IF(AND(ISBLANK(INDEX($G:$G,)), ISBLANK(INDEX($C:$C,))), \"\", 'PWS Records (System Entry)'!$D$4)","v":""},{"$f":"IF(AND(ISBLANK(INDEX($G:$G,)), ISBLANK(INDEX($C:$C,))), \"\", 'PWS Records (System Entry)'!$D$3)","v":""},null,null,null,null,null,null,null,null,null,null,null,null,null,null,null,null,null,null,""]
[{"$f":"IF(AND(ISBLANK(INDEX($G:$G,)), ISBLANK(INDEX($C:$C,))), \"\", 'PWS Records (System Entry)'!$D$4)","v":""},{"$f":"IF(AND(ISBLANK(INDEX($G:$G,)), ISBLANK(INDEX($C:$C,))), \"\", 'PWS Records (System Entry)'!$D$3)","v":""},null,null,null,null,null,null,null,null,null,null,null,null,null,null,null,null,null,null,""]
[{"$f":"IF(AND(ISBLANK(INDEX($G:$G,)), ISBLANK(INDEX($C:$C,))), \"\", 'PWS Records (System Entry)'!$D$4)","v":""},{"$f":"IF(AND(ISBLANK(INDEX($G:$G,)), ISBLANK(INDEX($C:$C,))), \"\", 'PWS Records (System Entry)'!$D$3)","v":""},null,null,null,null,null,null,null,null,null,null,null,null,null,null,null,null,null,null,""]
[{"$f":"IF(AND(ISBLANK(INDEX($G:$G,)), ISBLANK(INDEX($C:$C,))), \"\", 'PWS Records (System Entry)'!$D$4)","v":""},{"$f":"IF(AND(ISBLANK(INDEX($G:$G,)), ISBLANK(INDEX($C:$C,))), \"\", 'PWS Records (System Entry)'!$D$3)","v":""},null,null,null,null,null,null,null,null,null,null,null,null,null,null,null,null,null,null,""]
[{"$f":"IF(AND(ISBLANK(INDEX($G:$G,)), ISBLANK(INDEX($C:$C,))), \"\", 'PWS Records (System Entry)'!$D$4)","v":""},{"$f":"IF(AND(ISBLANK(INDEX($G:$G,)), ISBLANK(INDEX($C:$C,))), \"\", 'PWS Records (System Entry)'!$D$3)","v":""},null,null,null,null,null,null,null,null,null,null,null,null,null,null,null,null,null,null,""]
[{"$f":"IF(AND(ISBLANK(INDEX($G:$G,)), ISBLANK(INDEX($C:$C,))), \"\", 'PWS Records (System Entry)'!$D$4)","v":""},{"$f":"IF(AND(ISBLANK(INDEX($G:$G,)), ISBLANK(INDEX($C:$C,))), \"\", 'PWS Records (System Entry)'!$D$3)","v":""},null,null,null,null,null,null,null,null,null,null,null,null,null,null,null,null,null,null,""]
[{"$f":"IF(AND(ISBLANK(INDEX($G:$G,)), ISBLANK(INDEX($C:$C,))), \"\", 'PWS Records (System Entry)'!$D$4)","v":""},{"$f":"IF(AND(ISBLANK(INDEX($G:$G,)), ISBLANK(INDEX($C:$C,))), \"\", 'PWS Records (System Entry)'!$D$3)","v":""},null,null,null,null,null,null,null,null,null,null,null,null,null,null,null,null,null,null,""]
[{"$f":"IF(AND(ISBLANK(INDEX($G:$G,)), ISBLANK(INDEX($C:$C,))), \"\", 'PWS Records (System Entry)'!$D$4)","v":""},{"$f":"IF(AND(ISBLANK(INDEX($G:$G,)), ISBLANK(INDEX($C:$C,))), \"\", 'PWS Records (System Entry)'!$D$3)","v":""},null,null,null,null,null,null,null,null,null,null,null,null,null,null,null,null,null,null,""]
[{"$f":"IF(AND(ISBLANK(INDEX($G:$G,)), ISBLANK(INDEX($C:$C,))), \"\", 'PWS Records (System Entry)'!$D$4)","v":""},{"$f":"IF(AND(ISBLANK(INDEX($G:$G,)), ISBLANK(INDEX($C:$C,))), \"\", 'PWS Records (System Entry)'!$D$3)","v":""},null,null,null,null,null,null,null,null,null,null,null,null,null,null,null,null,null,null,""]
[{"$f":"IF(AND(ISBLANK(INDEX($G:$G,)), ISBLANK(INDEX($C:$C,))), \"\", 'PWS Records (System Entry)'!$D$4)","v":""},{"$f":"IF(AND(ISBLANK(INDEX($G:$G,)), ISBLANK(INDEX($C:$C,))), \"\", 'PWS Records (System Entry)'!$D$3)","v":""},null,null,null,null,null,null,null,null,null,null,null,null,null,null,null,null,null,null,""]
[{"$f":"IF(AND(ISBLANK(INDEX($G:$G,)), ISBLANK(INDEX($C:$C,))), \"\", 'PWS Records (System Entry)'!$D$4)","v":""},{"$f":"IF(AND(ISBLANK(INDEX($G:$G,)), ISBLANK(INDEX($C:$C,))), \"\", 'PWS Records (System Entry)'!$D$3)","v":""},null,null,null,null,null,null,null,null,null,null,null,null,null,null,null,null,null,null,""]
[{"$f":"IF(AND(ISBLANK(INDEX($G:$G,)), ISBLANK(INDEX($C:$C,))), \"\", 'PWS Records (System Entry)'!$D$4)","v":""},{"$f":"IF(AND(ISBLANK(INDEX($G:$G,)), ISBLANK(INDEX($C:$C,))), \"\", 'PWS Records (System Entry)'!$D$3)","v":""},null,null,null,null,null,null,null,null,null,null,null,null,null,null,null,null,null,null,""]
[{"$f":"IF(AND(ISBLANK(INDEX($G:$G,)), ISBLANK(INDEX($C:$C,))), \"\", 'PWS Records (System Entry)'!$D$4)","v":""},{"$f":"IF(AND(ISBLANK(INDEX($G:$G,)), ISBLANK(INDEX($C:$C,))), \"\", 'PWS Records (System Entry)'!$D$3)","v":""},null,null,null,null,null,null,null,null,null,null,null,null,null,null,null,null,null,null,""]
[{"$f":"IF(AND(ISBLANK(INDEX($G:$G,)), ISBLANK(INDEX($C:$C,))), \"\", 'PWS Records (System Entry)'!$D$4)","v":""},{"$f":"IF(AND(ISBLANK(INDEX($G:$G,)), ISBLANK(INDEX($C:$C,))), \"\", 'PWS Records (System Entry)'!$D$3)","v":""},null,null,null,null,null,null,null,null,null,null,null,null,null,null,null,null,null,null,""]
[{"$f":"IF(AND(ISBLANK(INDEX($G:$G,)), ISBLANK(INDEX($C:$C,))), \"\", 'PWS Records (System Entry)'!$D$4)","v":""},{"$f":"IF(AND(ISBLANK(INDEX($G:$G,)), ISBLANK(INDEX($C:$C,))), \"\", 'PWS Records (System Entry)'!$D$3)","v":""},null,null,null,null,null,null,null,null,null,null,null,null,null,null,null,null,null,null,""]
[{"$f":"IF(AND(ISBLANK(INDEX($G:$G,)), ISBLANK(INDEX($C:$C,))), \"\", 'PWS Records (System Entry)'!$D$4)","v":""},{"$f":"IF(AND(ISBLANK(INDEX($G:$G,)), ISBLANK(INDEX($C:$C,))), \"\", 'PWS Records (System Entry)'!$D$3)","v":""},null,null,null,null,null,null,null,null,null,null,null,null,null,null,null,null,null,null,""]
[{"$f":"IF(AND(ISBLANK(INDEX($G:$G,)), ISBLANK(INDEX($C:$C,))), \"\", 'PWS Records (System Entry)'!$D$4)","v":""},{"$f":"IF(AND(ISBLANK(INDEX($G:$G,)), ISBLANK(INDEX($C:$C,))), \"\", 'PWS Records (System Entry)'!$D$3)","v":""},null,null,null,null,null,null,null,null,null,null,null,null,null,null,null,null,null,null,""]
[{"$f":"IF(AND(ISBLANK(INDEX($G:$G,)), ISBLANK(INDEX($C:$C,))), \"\", 'PWS Records (System Entry)'!$D$4)","v":""},{"$f":"IF(AND(ISBLANK(INDEX($G:$G,)), ISBLANK(INDEX($C:$C,))), \"\", 'PWS Records (System Entry)'!$D$3)","v":""},null,null,null,null,null,null,null,null,null,null,null,null,null,null,null,null,null,null,""]
[{"$f":"IF(AND(ISBLANK(INDEX($G:$G,)), ISBLANK(INDEX($C:$C,))), \"\", 'PWS Records (System Entry)'!$D$4)","v":""},{"$f":"IF(AND(ISBLANK(INDEX($G:$G,)), ISBLANK(INDEX($C:$C,))), \"\", 'PWS Records (System Entry)'!$D$3)","v":""},null,null,null,null,null,null,null,null,null,null,null,null,null,null,null,null,null,null,""]
[{"$f":"IF(AND(ISBLANK(INDEX($G:$G,)), ISBLANK(INDEX($C:$C,))), \"\", 'PWS Records (System Entry)'!$D$4)","v":""},{"$f":"IF(AND(ISBLANK(INDEX($G:$G,)), ISBLANK(INDEX($C:$C,))), \"\", 'PWS Records (System Entry)'!$D$3)","v":""},null,null,null,null,null,null,null,null,null,null,null,null,null,null,null,null,null,null,""]
[{"$f":"IF(AND(ISBLANK(INDEX($G:$G,)), ISBLANK(INDEX($C:$C,))), \"\", 'PWS Records (System Entry)'!$D$4)","v":""},{"$f":"IF(AND(ISBLANK(INDEX($G:$G,)), ISBLANK(INDEX($C:$C,))), \"\", 'PWS Records (System Entry)'!$D$3)","v":""},null,null,null,null,null,null,null,null,null,null,null,null,null,null,null,null,null,null,""]
[{"$f":"IF(AND(ISBLANK(INDEX($G:$G,)), ISBLANK(INDEX($C:$C,))), \"\", 'PWS Records (System Entry)'!$D$4)","v":""},{"$f":"IF(AND(ISBLANK(INDEX($G:$G,)), ISBLANK(INDEX($C:$C,))), \"\", 'PWS Records (System Entry)'!$D$3)","v":""},null,null,null,null,null,null,null,null,null,null,null,null,null,null,null,null,null,null,""]
[{"$f":"IF(AND(ISBLANK(INDEX($G:$G,)), ISBLANK(INDEX($C:$C,))), \"\", 'PWS Records (System Entry)'!$D$4)","v":""},{"$f":"IF(AND(ISBLANK(INDEX($G:$G,)), ISBLANK(INDEX($C:$C,))), \"\", 'PWS Records (System Entry)'!$D$3)","v":""},null,null,null,null,null,null,null,null,null,null,null,null,null,null,null,null,null,null,""]
[{"$f":"IF(AND(ISBLANK(INDEX($G:$G,)), ISBLANK(INDEX($C:$C,))), \"\", 'PWS Records (System Entry)'!$D$4)","v":""},{"$f":"IF(AND(ISBLANK(INDEX($G:$G,)), ISBLANK(INDEX($C:$C,))), \"\", 'PWS Records (System Entry)'!$D$3)","v":""},null,null,null,null,null,null,null,null,null,null,null,null,null,null,null,null,null,null,""]
[{"$f":"IF(AND(ISBLANK(INDEX($G:$G,)), ISBLANK(INDEX($C:$C,))), \"\", 'PWS Records (System Entry)'!$D$4)","v":""},{"$f":"IF(AND(ISBLANK(INDEX($G:$G,)), ISBLANK(INDEX($C:$C,))), \"\", 'PWS Records (System Entry)'!$D$3)","v":""},null,null,null,null,null,null,null,null,null,null,null,null,null,null,null,null,null,null,""]
[{"$f":"IF(AND(ISBLANK(INDEX($G:$G,)), ISBLANK(INDEX($C:$C,))), \"\", 'PWS Records (System Entry)'!$D$4)","v":""},{"$f":"IF(AND(ISBLANK(INDEX($G:$G,)), ISBLANK(INDEX($C:$C,))), \"\", 'PWS Records (System Entry)'!$D$3)","v":""},null,null,null,null,null,null,null,null,null,null,null,null,null,null,null,null,null,null,""]
[{"$f":"IF(AND(ISBLANK(INDEX($G:$G,)), ISBLANK(INDEX($C:$C,))), \"\", 'PWS Records (System Entry)'!$D$4)","v":""},{"$f":"IF(AND(ISBLANK(INDEX($G:$G,)), ISBLANK(INDEX($C:$C,))), \"\", 'PWS Records (System Entry)'!$D$3)","v":""},null,null,null,null,null,null,null,null,null,null,null,null,null,null,null,null,null,null,""]
[{"$f":"IF(AND(ISBLANK(INDEX($G:$G,)), ISBLANK(INDEX($C:$C,))), \"\", 'PWS Records (System Entry)'!$D$4)","v":""},{"$f":"IF(AND(ISBLANK(INDEX($G:$G,)), ISBLANK(INDEX($C:$C,))), \"\", 'PWS Records (System Entry)'!$D$3)","v":""},null,null,null,null,null,null,null,null,null,null,null,null,null,null,null,null,null,null,""]
[{"$f":"IF(AND(ISBLANK(INDEX($G:$G,)), ISBLANK(INDEX($C:$C,))), \"\", 'PWS Records (System Entry)'!$D$4)","v":""},{"$f":"IF(AND(ISBLANK(INDEX($G:$G,)), ISBLANK(INDEX($C:$C,))), \"\", 'PWS Records (System Entry)'!$D$3)","v":""},null,null,null,null,null,null,null,null,null,null,null,null,null,null,null,null,null,null,""]
[{"$f":"IF(AND(ISBLANK(INDEX($G:$G,)), ISBLANK(INDEX($C:$C,))), \"\", 'PWS Records (System Entry)'!$D$4)","v":""},{"$f":"IF(AND(ISBLANK(INDEX($G:$G,)), ISBLANK(INDEX($C:$C,))), \"\", 'PWS Records (System Entry)'!$D$3)","v":""},null,null,null,null,null,null,null,null,null,null,null,null,null,null,null,null,null,null,""]
[{"$f":"IF(AND(ISBLANK(INDEX($G:$G,)), ISBLANK(INDEX($C:$C,))), \"\", 'PWS Records (System Entry)'!$D$4)","v":""},{"$f":"IF(AND(ISBLANK(INDEX($G:$G,)), ISBLANK(INDEX($C:$C,))), \"\", 'PWS Records (System Entry)'!$D$3)","v":""},null,null,null,null,null,null,null,null,null,null,null,null,null,null,null,null,null,null,""]
[{"$f":"IF(AND(ISBLANK(INDEX($G:$G,)), ISBLANK(INDEX($C:$C,))), \"\", 'PWS Records (System Entry)'!$D$4)","v":""},{"$f":"IF(AND(ISBLANK(INDEX($G:$G,)), ISBLANK(INDEX($C:$C,))), \"\", 'PWS Records (System Entry)'!$D$3)","v":""},null,null,null,null,null,null,null,null,null,null,null,null,null,null,null,null,null,null,""]
[{"$f":"IF(AND(ISBLANK(INDEX($G:$G,)), ISBLANK(INDEX($C:$C,))), \"\", 'PWS Records (System Entry)'!$D$4)","v":""},{"$f":"IF(AND(ISBLANK(INDEX($G:$G,)), ISBLANK(INDEX($C:$C,))), \"\", 'PWS Records (System Entry)'!$D$3)","v":""},null,null,null,null,null,null,null,null,null,null,null,null,null,null,null,null,null,null,""]
[{"$f":"IF(AND(ISBLANK(INDEX($G:$G,)), ISBLANK(INDEX($C:$C,))), \"\", 'PWS Records (System Entry)'!$D$4)","v":""},{"$f":"IF(AND(ISBLANK(INDEX($G:$G,)), ISBLANK(INDEX($C:$C,))), \"\", 'PWS Records (System Entry)'!$D$3)","v":""},null,null,null,null,null,null,null,null,null,null,null,null,null,null,null,null,null,null,""]
[{"$f":"IF(AND(ISBLANK(INDEX($G:$G,)), ISBLANK(INDEX($C:$C,))), \"\", 'PWS Records (System Entry)'!$D$4)","v":""},{"$f":"IF(AND(ISBLANK(INDEX($G:$G,)), ISBLANK(INDEX($C:$C,))), \"\", 'PWS Records (System Entry)'!$D$3)","v":""},null,null,null,null,null,null,null,null,null,null,null,null,null,null,null,null,null,null,""]
[{"$f":"IF(AND(ISBLANK(INDEX($G:$G,)), ISBLANK(INDEX($C:$C,))), \"\", 'PWS Records (System Entry)'!$D$4)","v":""},{"$f":"IF(AND(ISBLANK(INDEX($G:$G,)), ISBLANK(INDEX($C:$C,))), \"\", 'PWS Records (System Entry)'!$D$3)","v":""},null,null,null,null,null,null,null,null,null,null,null,null,null,null,null,null,null,null,""]
[{"$f":"IF(AND(ISBLANK(INDEX($G:$G,)), ISBLANK(INDEX($C:$C,))), \"\", 'PWS Records (System Entry)'!$D$4)","v":""},{"$f":"IF(AND(ISBLANK(INDEX($G:$G,)), ISBLANK(INDEX($C:$C,))), \"\", 'PWS Records (System Entry)'!$D$3)","v":""},null,null,null,null,null,null,null,null,null,null,null,null,null,null,null,null,null,null,""]
[{"$f":"IF(AND(ISBLANK(INDEX($G:$G,)), ISBLANK(INDEX($C:$C,))), \"\", 'PWS Records (System Entry)'!$D$4)","v":""},{"$f":"IF(AND(ISBLANK(INDEX($G:$G,)), ISBLANK(INDEX($C:$C,))), \"\", 'PWS Records (System Entry)'!$D$3)","v":""},null,null,null,null,null,null,null,null,null,null,null,null,null,null,null,null,null,null,""]
[{"$f":"IF(AND(ISBLANK(INDEX($G:$G,)), ISBLANK(INDEX($C:$C,))), \"\", 'PWS Records (System Entry)'!$D$4)","v":""},{"$f":"IF(AND(ISBLANK(INDEX($G:$G,)), ISBLANK(INDEX($C:$C,))), \"\", 'PWS Records (System Entry)'!$D$3)","v":""},null,null,null,null,null,null,null,null,null,null,null,null,null,null,null,null,null,null,""]
[{"$f":"IF(AND(ISBLANK(INDEX($G:$G,)), ISBLANK(INDEX($C:$C,))), \"\", 'PWS Records (System Entry)'!$D$4)","v":""},{"$f":"IF(AND(ISBLANK(INDEX($G:$G,)), ISBLANK(INDEX($C:$C,))), \"\", 'PWS Records (System Entry)'!$D$3)","v":""},null,null,null,null,null,null,null,null,null,null,null,null,null,null,null,null,null,null,""]
[{"$f":"IF(AND(ISBLANK(INDEX($G:$G,)), ISBLANK(INDEX($C:$C,))), \"\", 'PWS Records (System Entry)'!$D$4)","v":""},{"$f":"IF(AND(ISBLANK(INDEX($G:$G,)), ISBLANK(INDEX($C:$C,))), \"\", 'PWS Records (System Entry)'!$D$3)","v":""},null,null,null,null,null,null,null,null,null,null,null,null,null,null,null,null,null,null,""]
[{"$f":"IF(AND(ISBLANK(INDEX($G:$G,)), ISBLANK(INDEX($C:$C,))), \"\", 'PWS Records (System Entry)'!$D$4)","v":""},{"$f":"IF(AND(ISBLANK(INDEX($G:$G,)), ISBLANK(INDEX($C:$C,))), \"\", 'PWS Records (System Entry)'!$D$3)","v":""},null,null,null,null,null,null,null,null,null,null,null,null,null,null,null,null,null,null,""]
[{"$f":"IF(AND(ISBLANK(INDEX($G:$G,)), ISBLANK(INDEX($C:$C,))), \"\", 'PWS Records (System Entry)'!$D$4)","v":""},{"$f":"IF(AND(ISBLANK(INDEX($G:$G,)), ISBLANK(INDEX($C:$C,))), \"\", 'PWS Records (System Entry)'!$D$3)","v":""},null,null,null,null,null,null,null,null,null,null,null,null,null,null,null,null,null,null,""]
[{"$f":"IF(AND(ISBLANK(INDEX($G:$G,)), ISBLANK(INDEX($C:$C,))), \"\", 'PWS Records (System Entry)'!$D$4)","v":""},{"$f":"IF(AND(ISBLANK(INDEX($G:$G,)), ISBLANK(INDEX($C:$C,))), \"\", 'PWS Records (System Entry)'!$D$3)","v":""},null,null,null,null,null,null,null,null,null,null,null,null,null,null,null,null,null,null,""]
[{"$f":"IF(AND(ISBLANK(INDEX($G:$G,)), ISBLANK(INDEX($C:$C,))), \"\", 'PWS Records (System Entry)'!$D$4)","v":""},{"$f":"IF(AND(ISBLANK(INDEX($G:$G,)), ISBLANK(INDEX($C:$C,))), \"\", 'PWS Records (System Entry)'!$D$3)","v":""},null,null,null,null,null,null,null,null,null,null,null,null,null,null,null,null,null,null,""]
[{"$f":"IF(AND(ISBLANK(INDEX($G:$G,)), ISBLANK(INDEX($C:$C,))), \"\", 'PWS Records (System Entry)'!$D$4)","v":""},{"$f":"IF(AND(ISBLANK(INDEX($G:$G,)), ISBLANK(INDEX($C:$C,))), \"\", 'PWS Records (System Entry)'!$D$3)","v":""},null,null,null,null,null,null,null,null,null,null,null,null,null,null,null,null,null,null,""]
[{"$f":"IF(AND(ISBLANK(INDEX($G:$G,)), ISBLANK(INDEX($C:$C,))), \"\", 'PWS Records (System Entry)'!$D$4)","v":""},{"$f":"IF(AND(ISBLANK(INDEX($G:$G,)), ISBLANK(INDEX($C:$C,))), \"\", 'PWS Records (System Entry)'!$D$3)","v":""},null,null,null,null,null,null,null,null,null,null,null,null,null,null,null,null,null,null,""]
[{"$f":"IF(AND(ISBLANK(INDEX($G:$G,)), ISBLANK(INDEX($C:$C,))), \"\", 'PWS Records (System Entry)'!$D$4)","v":""},{"$f":"IF(AND(ISBLANK(INDEX($G:$G,)), ISBLANK(INDEX($C:$C,))), \"\", 'PWS Records (System Entry)'!$D$3)","v":""},null,null,null,null,null,null,null,null,null,null,null,null,null,null,null,null,null,null,""]
[{"$f":"IF(AND(ISBLANK(INDEX($G:$G,)), ISBLANK(INDEX($C:$C,))), \"\", 'PWS Records (System Entry)'!$D$4)","v":""},{"$f":"IF(AND(ISBLANK(INDEX($G:$G,)), ISBLANK(INDEX($C:$C,))), \"\", 'PWS Records (System Entry)'!$D$3)","v":""},null,null,null,null,null,null,null,null,null,null,null,null,null,null,null,null,null,null,""]
[{"$f":"IF(AND(ISBLANK(INDEX($G:$G,)), ISBLANK(INDEX($C:$C,))), \"\", 'PWS Records (System Entry)'!$D$4)","v":""},{"$f":"IF(AND(ISBLANK(INDEX($G:$G,)), ISBLANK(INDEX($C:$C,))), \"\", 'PWS Records (System Entry)'!$D$3)","v":""},null,null,null,null,null,null,null,null,null,null,null,null,null,null,null,null,null,null,""]
[{"$f":"IF(AND(ISBLANK(INDEX($G:$G,)), ISBLANK(INDEX($C:$C,))), \"\", 'PWS Records (System Entry)'!$D$4)","v":""},{"$f":"IF(AND(ISBLANK(INDEX($G:$G,)), ISBLANK(INDEX($C:$C,))), \"\", 'PWS Records (System Entry)'!$D$3)","v":""},null,null,null,null,null,null,null,null,null,null,null,null,null,null,null,null,null,null,""]
[{"$f":"IF(AND(ISBLANK(INDEX($G:$G,)), ISBLANK(INDEX($C:$C,))), \"\", 'PWS Records (System Entry)'!$D$4)","v":""},{"$f":"IF(AND(ISBLANK(INDEX($G:$G,)), ISBLANK(INDEX($C:$C,))), \"\", 'PWS Records (System Entry)'!$D$3)","v":""},null,null,null,null,null,null,null,null,null,null,null,null,null,null,null,null,null,null,""]
[{"$f":"IF(AND(ISBLANK(INDEX($G:$G,)), ISBLANK(INDEX($C:$C,))), \"\", 'PWS Records (System Entry)'!$D$4)","v":""},{"$f":"IF(AND(ISBLANK(INDEX($G:$G,)), ISBLANK(INDEX($C:$C,))), \"\", 'PWS Records (System Entry)'!$D$3)","v":""},null,null,null,null,null,null,null,null,null,null,null,null,null,null,null,null,null,null,{"$f":"IF(AND(INDEX($K:$K,)=\"\", INDEX($L:$L,)=\"\", INDEX($M:$M,)=\"\", INDEX($Q:$Q,)=\"\", INDEX($R:$R,)=\"\"), \"\", IF(OR(INDEX($K:$K,)=\"Lead\",INDEX($Q:$Q,)=\"Lead\"),\"Lead\",IF(OR(AND(OR(INDEX($M:$M,)=\"Yes\", INDEX($M:$M,)=\"Don't Know\", INDEX($M:$M,)=\"\"), INDEX($Q:$Q,)=\"Galvanized Iron/Steel\"), AND(INDEX($K:$K,)=\"Unknown\", INDEX($M:$M,)=\"No\", INDEX($Q:$Q,)=\"Galvanized Iron/Steel\")), \"Galvanized Requiring Replacement\", IF(OR(AND(OR(INDEX($K:$K,)=\"Galvanized Iron/Steel\", INDEX($K:$K,)=\"Non-Lead - Copper\", INDEX($K:$K,)=\"Non-Lead - Plastic\", INDEX($K:$K,)=\"Non-Lead - Other\", INDEX($K:$K,)=\"Non-Lead - Material Unknown\", INDEX($K:$K,)=\"No System Owned Portion\"), OR(INDEX($Q:$Q,)=\"Galvanized Iron/Steel\", INDEX($Q:$Q,)=\"Non-Lead - Copper\", INDEX($Q:$Q,)=\"Non-Lead - Plastic\", INDEX($Q:$Q,)=\"Non-Lead - Other\", INDEX($Q:$Q,)=\"Non-Lead - Predictive Model\", INDEX($Q:$Q,)=\"No Customer Owned Portion\")), AND(OR( INDEX($K:$K,)=\"Galvanized Iron/Steel\", INDEX($K:$K,)=\"Non-Lead - Copper\", INDEX($K:$K,)=\"Non-Lead - Plastic\", INDEX($K:$K,)=\"Non-Lead - Other\", INDEX($K:$K,)=\"Non-Lead - Material Unknown\", INDEX($K:$K,)=\"No System Owned Portion\"), INDEX($M:$M,)=\"No\", INDEX($Q:$Q,)=\"Non-Lead - Material Unknown\")), \"Non-Lead\", \"Lead Status Unknown\"))))","v":""}]
[{"$f":"IF(AND(ISBLANK(INDEX($G:$G,)), ISBLANK(INDEX($C:$C,))), \"\", 'PWS Records (System Entry)'!$D$4)","v":""},{"$f":"IF(AND(ISBLANK(INDEX($G:$G,)), ISBLANK(INDEX($C:$C,))), \"\", 'PWS Records (System Entry)'!$D$3)","v":""},null,null,null,null,null,null,null,null,null,null,null,null,null,null,null,null,null,null,""]
[{"$f":"IF(AND(ISBLANK(INDEX($G:$G,)), ISBLANK(INDEX($C:$C,))), \"\", 'PWS Records (System Entry)'!$D$4)","v":""},{"$f":"IF(AND(ISBLANK(INDEX($G:$G,)), ISBLANK(INDEX($C:$C,))), \"\", 'PWS Records (System Entry)'!$D$3)","v":""},null,null,null,null,null,null,null,null,null,null,null,null,null,null,null,null,null,null,""]
[{"$f":"IF(AND(ISBLANK(INDEX($G:$G,)), ISBLANK(INDEX($C:$C,))), \"\", 'PWS Records (System Entry)'!$D$4)","v":""},{"$f":"IF(AND(ISBLANK(INDEX($G:$G,)), ISBLANK(INDEX($C:$C,))), \"\", 'PWS Records (System Entry)'!$D$3)","v":""},null,null,null,null,null,null,null,null,null,null,null,null,null,null,null,null,null,null,""]
[{"$f":"IF(AND(ISBLANK(INDEX($G:$G,)), ISBLANK(INDEX($C:$C,))), \"\", 'PWS Records (System Entry)'!$D$4)","v":""},{"$f":"IF(AND(ISBLANK(INDEX($G:$G,)), ISBLANK(INDEX($C:$C,))), \"\", 'PWS Records (System Entry)'!$D$3)","v":""},null,null,null,null,null,null,null,null,null,null,null,null,null,null,null,null,null,null,""]
[{"$f":"IF(AND(ISBLANK(INDEX($G:$G,)), ISBLANK(INDEX($C:$C,))), \"\", 'PWS Records (System Entry)'!$D$4)","v":""},{"$f":"IF(AND(ISBLANK(INDEX($G:$G,)), ISBLANK(INDEX($C:$C,))), \"\", 'PWS Records (System Entry)'!$D$3)","v":""},null,null,null,null,null,null,null,null,null,null,null,null,null,null,null,null,null,null,""]
[{"$f":"IF(AND(ISBLANK(INDEX($G:$G,)), ISBLANK(INDEX($C:$C,))), \"\", 'PWS Records (System Entry)'!$D$4)","v":""},{"$f":"IF(AND(ISBLANK(INDEX($G:$G,)), ISBLANK(INDEX($C:$C,))), \"\", 'PWS Records (System Entry)'!$D$3)","v":""},null,null,null,null,null,null,null,null,null,null,null,null,null,null,null,null,null,null,""]
[{"$f":"IF(AND(ISBLANK(INDEX($G:$G,)), ISBLANK(INDEX($C:$C,))), \"\", 'PWS Records (System Entry)'!$D$4)","v":""},{"$f":"IF(AND(ISBLANK(INDEX($G:$G,)), ISBLANK(INDEX($C:$C,))), \"\", 'PWS Records (System Entry)'!$D$3)","v":""},null,null,null,null,null,null,null,null,null,null,null,null,null,null,null,null,null,null,""]
[{"$f":"IF(AND(ISBLANK(INDEX($G:$G,)), ISBLANK(INDEX($C:$C,))), \"\", 'PWS Records (System Entry)'!$D$4)","v":""},{"$f":"IF(AND(ISBLANK(INDEX($G:$G,)), ISBLANK(INDEX($C:$C,))), \"\", 'PWS Records (System Entry)'!$D$3)","v":""},null,null,null,null,null,null,null,null,null,null,null,null,null,null,null,null,null,null,""]
[{"$f":"IF(AND(ISBLANK(INDEX($G:$G,)), ISBLANK(INDEX($C:$C,))), \"\", 'PWS Records (System Entry)'!$D$4)","v":""},{"$f":"IF(AND(ISBLANK(INDEX($G:$G,)), ISBLANK(INDEX($C:$C,))), \"\", 'PWS Records (System Entry)'!$D$3)","v":""},null,null,null,null,null,null,null,null,null,null,null,null,null,null,null,null,null,null,""]
[{"$f":"IF(AND(ISBLANK(INDEX($G:$G,)), ISBLANK(INDEX($C:$C,))), \"\", 'PWS Records (System Entry)'!$D$4)","v":""},{"$f":"IF(AND(ISBLANK(INDEX($G:$G,)), ISBLANK(INDEX($C:$C,))), \"\", 'PWS Records (System Entry)'!$D$3)","v":""},null,null,null,null,null,null,null,null,null,null,null,null,null,null,null,null,null,null,""]
[{"$f":"IF(AND(ISBLANK(INDEX($G:$G,)), ISBLANK(INDEX($C:$C,))), \"\", 'PWS Records (System Entry)'!$D$4)","v":""},{"$f":"IF(AND(ISBLANK(INDEX($G:$G,)), ISBLANK(INDEX($C:$C,))), \"\", 'PWS Records (System Entry)'!$D$3)","v":""},null,null,null,null,null,null,null,null,null,null,null,null,null,null,null,null,null,null,""]
[{"$f":"IF(AND(ISBLANK(INDEX($G:$G,)), ISBLANK(INDEX($C:$C,))), \"\", 'PWS Records (System Entry)'!$D$4)","v":""},{"$f":"IF(AND(ISBLANK(INDEX($G:$G,)), ISBLANK(INDEX($C:$C,))), \"\", 'PWS Records (System Entry)'!$D$3)","v":""},null,null,null,null,null,null,null,null,null,null,null,null,null,null,null,null,null,null,""]
[{"$f":"IF(AND(ISBLANK(INDEX($G:$G,)), ISBLANK(INDEX($C:$C,))), \"\", 'PWS Records (System Entry)'!$D$4)","v":""},{"$f":"IF(AND(ISBLANK(INDEX($G:$G,)), ISBLANK(INDEX($C:$C,))), \"\", 'PWS Records (System Entry)'!$D$3)","v":""},null,null,null,null,null,null,null,null,null,null,null,null,null,null,null,null,null,null,""]
[{"$f":"IF(AND(ISBLANK(INDEX($G:$G,)), ISBLANK(INDEX($C:$C,))), \"\", 'PWS Records (System Entry)'!$D$4)","v":""},{"$f":"IF(AND(ISBLANK(INDEX($G:$G,)), ISBLANK(INDEX($C:$C,))), \"\", 'PWS Records (System Entry)'!$D$3)","v":""},null,null,null,null,null,null,null,null,null,null,null,null,null,null,null,null,null,null,""]
[{"$f":"IF(AND(ISBLANK(INDEX($G:$G,)), ISBLANK(INDEX($C:$C,))), \"\", 'PWS Records (System Entry)'!$D$4)","v":""},{"$f":"IF(AND(ISBLANK(INDEX($G:$G,)), ISBLANK(INDEX($C:$C,))), \"\", 'PWS Records (System Entry)'!$D$3)","v":""},null,null,null,null,null,null,null,null,null,null,null,null,null,null,null,null,null,null,""]
[{"$f":"IF(AND(ISBLANK(INDEX($G:$G,)), ISBLANK(INDEX($C:$C,))), \"\", 'PWS Records (System Entry)'!$D$4)","v":""},{"$f":"IF(AND(ISBLANK(INDEX($G:$G,)), ISBLANK(INDEX($C:$C,))), \"\", 'PWS Records (System Entry)'!$D$3)","v":""},null,null,null,null,null,null,null,null,null,null,null,null,null,null,null,null,null,null,""]
[{"$f":"IF(AND(ISBLANK(INDEX($G:$G,)), ISBLANK(INDEX($C:$C,))), \"\", 'PWS Records (System Entry)'!$D$4)","v":""},{"$f":"IF(AND(ISBLANK(INDEX($G:$G,)), ISBLANK(INDEX($C:$C,))), \"\", 'PWS Records (System Entry)'!$D$3)","v":""},null,null,null,null,null,null,null,null,null,null,null,null,null,null,null,null,null,null,""]
[{"$f":"IF(AND(ISBLANK(INDEX($G:$G,)), ISBLANK(INDEX($C:$C,))), \"\", 'PWS Records (System Entry)'!$D$4)","v":""},{"$f":"IF(AND(ISBLANK(INDEX($G:$G,)), ISBLANK(INDEX($C:$C,))), \"\", 'PWS Records (System Entry)'!$D$3)","v":""},null,null,null,null,null,null,null,null,null,null,null,null,null,null,null,null,null,null,""]
[{"$f":"IF(AND(ISBLANK(INDEX($G:$G,)), ISBLANK(INDEX($C:$C,))), \"\", 'PWS Records (System Entry)'!$D$4)","v":""},{"$f":"IF(AND(ISBLANK(INDEX($G:$G,)), ISBLANK(INDEX($C:$C,))), \"\", 'PWS Records (System Entry)'!$D$3)","v":""},null,null,null,null,null,null,null,null,null,null,null,null,null,null,null,null,null,null,""]
[{"$f":"IF(AND(ISBLANK(INDEX($G:$G,)), ISBLANK(INDEX($C:$C,))), \"\", 'PWS Records (System Entry)'!$D$4)","v":""},{"$f":"IF(AND(ISBLANK(INDEX($G:$G,)), ISBLANK(INDEX($C:$C,))), \"\", 'PWS Records (System Entry)'!$D$3)","v":""},null,null,null,null,null,null,null,null,null,null,null,null,null,null,null,null,null,null,""]
[{"$f":"IF(AND(ISBLANK(INDEX($G:$G,)), ISBLANK(INDEX($C:$C,))), \"\", 'PWS Records (System Entry)'!$D$4)","v":""},{"$f":"IF(AND(ISBLANK(INDEX($G:$G,)), ISBLANK(INDEX($C:$C,))), \"\", 'PWS Records (System Entry)'!$D$3)","v":""},null,null,null,null,null,null,null,null,null,null,null,null,null,null,null,null,null,null,""]
[{"$f":"IF(AND(ISBLANK(INDEX($G:$G,)), ISBLANK(INDEX($C:$C,))), \"\", 'PWS Records (System Entry)'!$D$4)","v":""},{"$f":"IF(AND(ISBLANK(INDEX($G:$G,)), ISBLANK(INDEX($C:$C,))), \"\", 'PWS Records (System Entry)'!$D$3)","v":""},null,null,null,null,null,null,null,null,null,null,null,null,null,null,null,null,null,null,""]
[{"$f":"IF(AND(ISBLANK(INDEX($G:$G,)), ISBLANK(INDEX($C:$C,))), \"\", 'PWS Records (System Entry)'!$D$4)","v":""},{"$f":"IF(AND(ISBLANK(INDEX($G:$G,)), ISBLANK(INDEX($C:$C,))), \"\", 'PWS Records (System Entry)'!$D$3)","v":""},null,null,null,null,null,null,null,null,null,null,null,null,null,null,null,null,null,null,""]
[{"$f":"IF(AND(ISBLANK(INDEX($G:$G,)), ISBLANK(INDEX($C:$C,))), \"\", 'PWS Records (System Entry)'!$D$4)","v":""},{"$f":"IF(AND(ISBLANK(INDEX($G:$G,)), ISBLANK(INDEX($C:$C,))), \"\", 'PWS Records (System Entry)'!$D$3)","v":""},null,null,null,null,null,null,null,null,null,null,null,null,null,null,null,null,null,null,""]
[{"$f":"IF(AND(ISBLANK(INDEX($G:$G,)), ISBLANK(INDEX($C:$C,))), \"\", 'PWS Records (System Entry)'!$D$4)","v":""},{"$f":"IF(AND(ISBLANK(INDEX($G:$G,)), ISBLANK(INDEX($C:$C,))), \"\", 'PWS Records (System Entry)'!$D$3)","v":""},null,null,null,null,null,null,null,null,null,null,null,null,null,null,null,null,null,null,""]
[{"$f":"IF(AND(ISBLANK(INDEX($G:$G,)), ISBLANK(INDEX($C:$C,))), \"\", 'PWS Records (System Entry)'!$D$4)","v":""},{"$f":"IF(AND(ISBLANK(INDEX($G:$G,)), ISBLANK(INDEX($C:$C,))), \"\", 'PWS Records (System Entry)'!$D$3)","v":""},null,null,null,null,null,null,null,null,null,null,null,null,null,null,null,null,null,null,""]
[{"$f":"IF(AND(ISBLANK(INDEX($G:$G,)), ISBLANK(INDEX($C:$C,))), \"\", 'PWS Records (System Entry)'!$D$4)","v":""},{"$f":"IF(AND(ISBLANK(INDEX($G:$G,)), ISBLANK(INDEX($C:$C,))), \"\", 'PWS Records (System Entry)'!$D$3)","v":""},null,null,null,null,null,null,null,null,null,null,null,null,null,null,null,null,null,null,""]
[{"$f":"IF(AND(ISBLANK(INDEX($G:$G,)), ISBLANK(INDEX($C:$C,))), \"\", 'PWS Records (System Entry)'!$D$4)","v":""},{"$f":"IF(AND(ISBLANK(INDEX($G:$G,)), ISBLANK(INDEX($C:$C,))), \"\", 'PWS Records (System Entry)'!$D$3)","v":""},null,null,null,null,null,null,null,null,null,null,null,null,null,null,null,null,null,null,""]
[{"$f":"IF(AND(ISBLANK(INDEX($G:$G,)), ISBLANK(INDEX($C:$C,))), \"\", 'PWS Records (System Entry)'!$D$4)","v":""},{"$f":"IF(AND(ISBLANK(INDEX($G:$G,)), ISBLANK(INDEX($C:$C,))), \"\", 'PWS Records (System Entry)'!$D$3)","v":""},null,null,null,null,null,null,null,null,null,null,null,null,null,null,null,null,null,null,""]
[{"$f":"IF(AND(ISBLANK(INDEX($G:$G,)), ISBLANK(INDEX($C:$C,))), \"\", 'PWS Records (System Entry)'!$D$4)","v":""},{"$f":"IF(AND(ISBLANK(INDEX($G:$G,)), ISBLANK(INDEX($C:$C,))), \"\", 'PWS Records (System Entry)'!$D$3)","v":""},null,null,null,null,null,null,null,null,null,null,null,null,null,null,null,null,null,null,""]
[{"$f":"IF(AND(ISBLANK(INDEX($G:$G,)), ISBLANK(INDEX($C:$C,))), \"\", 'PWS Records (System Entry)'!$D$4)","v":""},{"$f":"IF(AND(ISBLANK(INDEX($G:$G,)), ISBLANK(INDEX($C:$C,))), \"\", 'PWS Records (System Entry)'!$D$3)","v":""},null,null,null,null,null,null,null,null,null,null,null,null,null,null,null,null,null,null,""]
[{"$f":"IF(AND(ISBLANK(INDEX($G:$G,)), ISBLANK(INDEX($C:$C,))), \"\", 'PWS Records (System Entry)'!$D$4)","v":""},{"$f":"IF(AND(ISBLANK(INDEX($G:$G,)), ISBLANK(INDEX($C:$C,))), \"\", 'PWS Records (System Entry)'!$D$3)","v":""},null,null,null,null,null,null,null,null,null,null,null,null,null,null,null,null,null,null,""]
[{"$f":"IF(AND(ISBLANK(INDEX($G:$G,)), ISBLANK(INDEX($C:$C,))), \"\", 'PWS Records (System Entry)'!$D$4)","v":""},{"$f":"IF(AND(ISBLANK(INDEX($G:$G,)), ISBLANK(INDEX($C:$C,))), \"\", 'PWS Records (System Entry)'!$D$3)","v":""},null,null,null,null,null,null,null,null,null,null,null,null,null,null,null,null,null,null,""]
[{"$f":"IF(AND(ISBLANK(INDEX($G:$G,)), ISBLANK(INDEX($C:$C,))), \"\", 'PWS Records (System Entry)'!$D$4)","v":""},{"$f":"IF(AND(ISBLANK(INDEX($G:$G,)), ISBLANK(INDEX($C:$C,))), \"\", 'PWS Records (System Entry)'!$D$3)","v":""},null,null,null,null,null,null,null,null,null,null,null,null,null,null,null,null,null,null,""]
[{"$f":"IF(AND(ISBLANK(INDEX($G:$G,)), ISBLANK(INDEX($C:$C,))), \"\", 'PWS Records (System Entry)'!$D$4)","v":""},{"$f":"IF(AND(ISBLANK(INDEX($G:$G,)), ISBLANK(INDEX($C:$C,))), \"\", 'PWS Records (System Entry)'!$D$3)","v":""},null,null,null,null,null,null,null,null,null,null,null,null,null,null,null,null,null,null,""]
[{"$f":"IF(AND(ISBLANK(INDEX($G:$G,)), ISBLANK(INDEX($C:$C,))), \"\", 'PWS Records (System Entry)'!$D$4)","v":""},{"$f":"IF(AND(ISBLANK(INDEX($G:$G,)), ISBLANK(INDEX($C:$C,))), \"\", 'PWS Records (System Entry)'!$D$3)","v":""},null,null,null,null,null,null,null,null,null,null,null,null,null,null,null,null,null,null,""]
[{"$f":"IF(AND(ISBLANK(INDEX($G:$G,)), ISBLANK(INDEX($C:$C,))), \"\", 'PWS Records (System Entry)'!$D$4)","v":""},{"$f":"IF(AND(ISBLANK(INDEX($G:$G,)), ISBLANK(INDEX($C:$C,))), \"\", 'PWS Records (System Entry)'!$D$3)","v":""},null,null,null,null,null,null,null,null,null,null,null,null,null,null,null,null,null,null,""]
[{"$f":"IF(AND(ISBLANK(INDEX($G:$G,)), ISBLANK(INDEX($C:$C,))), \"\", 'PWS Records (System Entry)'!$D$4)","v":""},{"$f":"IF(AND(ISBLANK(INDEX($G:$G,)), ISBLANK(INDEX($C:$C,))), \"\", 'PWS Records (System Entry)'!$D$3)","v":""},null,null,null,null,null,null,null,null,null,null,null,null,null,null,null,null,null,null,""]
[{"$f":"IF(AND(ISBLANK(INDEX($G:$G,)), ISBLANK(INDEX($C:$C,))), \"\", 'PWS Records (System Entry)'!$D$4)","v":""},{"$f":"IF(AND(ISBLANK(INDEX($G:$G,)), ISBLANK(INDEX($C:$C,))), \"\", 'PWS Records (System Entry)'!$D$3)","v":""},null,null,null,null,null,null,null,null,null,null,null,null,null,null,null,null,null,null,""]
[{"$f":"IF(AND(ISBLANK(INDEX($G:$G,)), ISBLANK(INDEX($C:$C,))), \"\", 'PWS Records (System Entry)'!$D$4)","v":""},{"$f":"IF(AND(ISBLANK(INDEX($G:$G,)), ISBLANK(INDEX($C:$C,))), \"\", 'PWS Records (System Entry)'!$D$3)","v":""},null,null,null,null,null,null,null,null,null,null,null,null,null,null,null,null,null,null,""]
[{"$f":"IF(AND(ISBLANK(INDEX($G:$G,)), ISBLANK(INDEX($C:$C,))), \"\", 'PWS Records (System Entry)'!$D$4)","v":""},{"$f":"IF(AND(ISBLANK(INDEX($G:$G,)), ISBLANK(INDEX($C:$C,))), \"\", 'PWS Records (System Entry)'!$D$3)","v":""},null,null,null,null,null,null,null,null,null,null,null,null,null,null,null,null,null,null,""]
[{"$f":"IF(AND(ISBLANK(INDEX($G:$G,)), ISBLANK(INDEX($C:$C,))), \"\", 'PWS Records (System Entry)'!$D$4)","v":""},{"$f":"IF(AND(ISBLANK(INDEX($G:$G,)), ISBLANK(INDEX($C:$C,))), \"\", 'PWS Records (System Entry)'!$D$3)","v":""},null,null,null,null,null,null,null,null,null,null,null,null,null,null,null,null,null,null,""]
[{"$f":"IF(AND(ISBLANK(INDEX($G:$G,)), ISBLANK(INDEX($C:$C,))), \"\", 'PWS Records (System Entry)'!$D$4)","v":""},{"$f":"IF(AND(ISBLANK(INDEX($G:$G,)), ISBLANK(INDEX($C:$C,))), \"\", 'PWS Records (System Entry)'!$D$3)","v":""},null,null,null,null,null,null,null,null,null,null,null,null,null,null,null,null,null,null,""]
[{"$f":"IF(AND(ISBLANK(INDEX($G:$G,)), ISBLANK(INDEX($C:$C,))), \"\", 'PWS Records (System Entry)'!$D$4)","v":""},{"$f":"IF(AND(ISBLANK(INDEX($G:$G,)), ISBLANK(INDEX($C:$C,))), \"\", 'PWS Records (System Entry)'!$D$3)","v":""},null,null,null,null,null,null,null,null,null,null,null,null,null,null,null,null,null,null,""]
[{"$f":"IF(AND(ISBLANK(INDEX($G:$G,)), ISBLANK(INDEX($C:$C,))), \"\", 'PWS Records (System Entry)'!$D$4)","v":""},{"$f":"IF(AND(ISBLANK(INDEX($G:$G,)), ISBLANK(INDEX($C:$C,))), \"\", 'PWS Records (System Entry)'!$D$3)","v":""},null,null,null,null,null,null,null,null,null,null,null,null,null,null,null,null,null,null,""]
[{"$f":"IF(AND(ISBLANK(INDEX($G:$G,)), ISBLANK(INDEX($C:$C,))), \"\", 'PWS Records (System Entry)'!$D$4)","v":""},{"$f":"IF(AND(ISBLANK(INDEX($G:$G,)), ISBLANK(INDEX($C:$C,))), \"\", 'PWS Records (System Entry)'!$D$3)","v":""},null,null,null,null,null,null,null,null,null,null,null,null,null,null,null,null,null,null,""]
[{"$f":"IF(AND(ISBLANK(INDEX($G:$G,)), ISBLANK(INDEX($C:$C,))), \"\", 'PWS Records (System Entry)'!$D$4)","v":""},{"$f":"IF(AND(ISBLANK(INDEX($G:$G,)), ISBLANK(INDEX($C:$C,))), \"\", 'PWS Records (System Entry)'!$D$3)","v":""},null,null,null,null,null,null,null,null,null,null,null,null,null,null,null,null,null,null,""]
[{"$f":"IF(AND(ISBLANK(INDEX($G:$G,)), ISBLANK(INDEX($C:$C,))), \"\", 'PWS Records (System Entry)'!$D$4)","v":""},{"$f":"IF(AND(ISBLANK(INDEX($G:$G,)), ISBLANK(INDEX($C:$C,))), \"\", 'PWS Records (System Entry)'!$D$3)","v":""},null,null,null,null,null,null,null,null,null,null,null,null,null,null,null,null,null,null,""]
[{"$f":"IF(AND(ISBLANK(INDEX($G:$G,)), ISBLANK(INDEX($C:$C,))), \"\", 'PWS Records (System Entry)'!$D$4)","v":""},{"$f":"IF(AND(ISBLANK(INDEX($G:$G,)), ISBLANK(INDEX($C:$C,))), \"\", 'PWS Records (System Entry)'!$D$3)","v":""},null,null,null,null,null,null,null,null,null,null,null,null,null,null,null,null,null,null,""]
[{"$f":"IF(AND(ISBLANK(INDEX($G:$G,)), ISBLANK(INDEX($C:$C,))), \"\", 'PWS Records (System Entry)'!$D$4)","v":""},{"$f":"IF(AND(ISBLANK(INDEX($G:$G,)), ISBLANK(INDEX($C:$C,))), \"\", 'PWS Records (System Entry)'!$D$3)","v":""},null,null,null,null,null,null,null,null,null,null,null,null,null,null,null,null,null,null,""]
[{"$f":"IF(AND(ISBLANK(INDEX($G:$G,)), ISBLANK(INDEX($C:$C,))), \"\", 'PWS Records (System Entry)'!$D$4)","v":""},{"$f":"IF(AND(ISBLANK(INDEX($G:$G,)), ISBLANK(INDEX($C:$C,))), \"\", 'PWS Records (System Entry)'!$D$3)","v":""},null,null,null,null,null,null,null,null,null,null,null,null,null,null,null,null,null,null,""]
[{"$f":"IF(AND(ISBLANK(INDEX($G:$G,)), ISBLANK(INDEX($C:$C,))), \"\", 'PWS Records (System Entry)'!$D$4)","v":""},{"$f":"IF(AND(ISBLANK(INDEX($G:$G,)), ISBLANK(INDEX($C:$C,))), \"\", 'PWS Records (System Entry)'!$D$3)","v":""},null,null,null,null,null,null,null,null,null,null,null,null,null,null,null,null,null,null,""]
[{"$f":"IF(AND(ISBLANK(INDEX($G:$G,)), ISBLANK(INDEX($C:$C,))), \"\", 'PWS Records (System Entry)'!$D$4)","v":""},{"$f":"IF(AND(ISBLANK(INDEX($G:$G,)), ISBLANK(INDEX($C:$C,))), \"\", 'PWS Records (System Entry)'!$D$3)","v":""},null,null,null,null,null,null,null,null,null,null,null,null,null,null,null,null,null,null,""]
[{"$f":"IF(AND(ISBLANK(INDEX($G:$G,)), ISBLANK(INDEX($C:$C,))), \"\", 'PWS Records (System Entry)'!$D$4)","v":""},{"$f":"IF(AND(ISBLANK(INDEX($G:$G,)), ISBLANK(INDEX($C:$C,))), \"\", 'PWS Records (System Entry)'!$D$3)","v":""},null,null,null,null,null,null,null,null,null,null,null,null,null,null,null,null,null,null,""]
[{"$f":"IF(AND(ISBLANK(INDEX($G:$G,)), ISBLANK(INDEX($C:$C,))), \"\", 'PWS Records (System Entry)'!$D$4)","v":""},{"$f":"IF(AND(ISBLANK(INDEX($G:$G,)), ISBLANK(INDEX($C:$C,))), \"\", 'PWS Records (System Entry)'!$D$3)","v":""},null,null,null,null,null,null,null,null,null,null,null,null,null,null,null,null,null,null,""]
[{"$f":"IF(AND(ISBLANK(INDEX($G:$G,)), ISBLANK(INDEX($C:$C,))), \"\", 'PWS Records (System Entry)'!$D$4)","v":""},{"$f":"IF(AND(ISBLANK(INDEX($G:$G,)), ISBLANK(INDEX($C:$C,))), \"\", 'PWS Records (System Entry)'!$D$3)","v":""},null,null,null,null,null,null,null,null,null,null,null,null,null,null,null,null,null,null,""]
[{"$f":"IF(AND(ISBLANK(INDEX($G:$G,)), ISBLANK(INDEX($C:$C,))), \"\", 'PWS Records (System Entry)'!$D$4)","v":""},{"$f":"IF(AND(ISBLANK(INDEX($G:$G,)), ISBLANK(INDEX($C:$C,))), \"\", 'PWS Records (System Entry)'!$D$3)","v":""},null,null,null,null,null,null,null,null,null,null,null,null,null,null,null,null,null,null,""]
[{"$f":"IF(AND(ISBLANK(INDEX($G:$G,)), ISBLANK(INDEX($C:$C,))), \"\", 'PWS Records (System Entry)'!$D$4)","v":""},{"$f":"IF(AND(ISBLANK(INDEX($G:$G,)), ISBLANK(INDEX($C:$C,))), \"\", 'PWS Records (System Entry)'!$D$3)","v":""},null,null,null,null,null,null,null,null,null,null,null,null,null,null,null,null,null,null,""]
[{"$f":"IF(AND(ISBLANK(INDEX($G:$G,)), ISBLANK(INDEX($C:$C,))), \"\", 'PWS Records (System Entry)'!$D$4)","v":""},{"$f":"IF(AND(ISBLANK(INDEX($G:$G,)), ISBLANK(INDEX($C:$C,))), \"\", 'PWS Records (System Entry)'!$D$3)","v":""},null,null,null,null,null,null,null,null,null,null,null,null,null,null,null,null,null,null,""]
[{"$f":"IF(AND(ISBLANK(INDEX($G:$G,)), ISBLANK(INDEX($C:$C,))), \"\", 'PWS Records (System Entry)'!$D$4)","v":""},{"$f":"IF(AND(ISBLANK(INDEX($G:$G,)), ISBLANK(INDEX($C:$C,))), \"\", 'PWS Records (System Entry)'!$D$3)","v":""},null,null,null,null,null,null,null,null,null,null,null,null,null,null,null,null,null,null,""]
[{"$f":"IF(AND(ISBLANK(INDEX($G:$G,)), ISBLANK(INDEX($C:$C,))), \"\", 'PWS Records (System Entry)'!$D$4)","v":""},{"$f":"IF(AND(ISBLANK(INDEX($G:$G,)), ISBLANK(INDEX($C:$C,))), \"\", 'PWS Records (System Entry)'!$D$3)","v":""},null,null,null,null,null,null,null,null,null,null,null,null,null,null,null,null,null,null,""]
[{"$f":"IF(AND(ISBLANK(INDEX($G:$G,)), ISBLANK(INDEX($C:$C,))), \"\", 'PWS Records (System Entry)'!$D$4)","v":""},{"$f":"IF(AND(ISBLANK(INDEX($G:$G,)), ISBLANK(INDEX($C:$C,))), \"\", 'PWS Records (System Entry)'!$D$3)","v":""},null,null,null,null,null,null,null,null,null,null,null,null,null,null,null,null,null,null,""]
[{"$f":"IF(AND(ISBLANK(INDEX($G:$G,)), ISBLANK(INDEX($C:$C,))), \"\", 'PWS Records (System Entry)'!$D$4)","v":""},{"$f":"IF(AND(ISBLANK(INDEX($G:$G,)), ISBLANK(INDEX($C:$C,))), \"\", 'PWS Records (System Entry)'!$D$3)","v":""},null,null,null,null,null,null,null,null,null,null,null,null,null,null,null,null,null,null,""]
[{"$f":"IF(AND(ISBLANK(INDEX($G:$G,)), ISBLANK(INDEX($C:$C,))), \"\", 'PWS Records (System Entry)'!$D$4)","v":""},{"$f":"IF(AND(ISBLANK(INDEX($G:$G,)), ISBLANK(INDEX($C:$C,))), \"\", 'PWS Records (System Entry)'!$D$3)","v":""},null,null,null,null,null,null,null,null,null,null,null,null,null,null,null,null,null,null,""]
[{"$f":"IF(AND(ISBLANK(INDEX($G:$G,)), ISBLANK(INDEX($C:$C,))), \"\", 'PWS Records (System Entry)'!$D$4)","v":""},{"$f":"IF(AND(ISBLANK(INDEX($G:$G,)), ISBLANK(INDEX($C:$C,))), \"\", 'PWS Records (System Entry)'!$D$3)","v":""},null,null,null,null,null,null,null,null,null,null,null,null,null,null,null,null,null,null,""]
[{"$f":"IF(AND(ISBLANK(INDEX($G:$G,)), ISBLANK(INDEX($C:$C,))), \"\", 'PWS Records (System Entry)'!$D$4)","v":""},{"$f":"IF(AND(ISBLANK(INDEX($G:$G,)), ISBLANK(INDEX($C:$C,))), \"\", 'PWS Records (System Entry)'!$D$3)","v":""},null,null,null,null,null,null,null,null,null,null,null,null,null,null,null,null,null,null,""]
[{"$f":"IF(AND(ISBLANK(INDEX($G:$G,)), ISBLANK(INDEX($C:$C,))), \"\", 'PWS Records (System Entry)'!$D$4)","v":""},{"$f":"IF(AND(ISBLANK(INDEX($G:$G,)), ISBLANK(INDEX($C:$C,))), \"\", 'PWS Records (System Entry)'!$D$3)","v":""},null,null,null,null,null,null,null,null,null,null,null,null,null,null,null,null,null,null,""]
[{"$f":"IF(AND(ISBLANK(INDEX($G:$G,)), ISBLANK(INDEX($C:$C,))), \"\", 'PWS Records (System Entry)'!$D$4)","v":""},{"$f":"IF(AND(ISBLANK(INDEX($G:$G,)), ISBLANK(INDEX($C:$C,))), \"\", 'PWS Records (System Entry)'!$D$3)","v":""},null,null,null,null,null,null,null,null,null,null,null,null,null,null,null,null,null,null,""]
[{"$f":"IF(AND(ISBLANK(INDEX($G:$G,)), ISBLANK(INDEX($C:$C,))), \"\", 'PWS Records (System Entry)'!$D$4)","v":""},{"$f":"IF(AND(ISBLANK(INDEX($G:$G,)), ISBLANK(INDEX($C:$C,))), \"\", 'PWS Records (System Entry)'!$D$3)","v":""},null,null,null,null,null,null,null,null,null,null,null,null,null,null,null,null,null,null,{"$f":"IF(AND(INDEX($K:$K,)=\"\", INDEX($L:$L,)=\"\", INDEX($M:$M,)=\"\", INDEX($Q:$Q,)=\"\", INDEX($R:$R,)=\"\"), \"\", IF(OR(INDEX($K:$K,)=\"Lead\",INDEX($Q:$Q,)=\"Lead\"),\"Lead\",IF(OR(AND(OR(INDEX($M:$M,)=\"Yes\", INDEX($M:$M,)=\"Don't Know\", INDEX($M:$M,)=\"\"), INDEX($Q:$Q,)=\"Galvanized Iron/Steel\"), AND(INDEX($K:$K,)=\"Unknown\", INDEX($M:$M,)=\"No\", INDEX($Q:$Q,)=\"Galvanized Iron/Steel\")), \"Galvanized Requiring Replacement\", IF(OR(AND(OR(INDEX($K:$K,)=\"Galvanized Iron/Steel\", INDEX($K:$K,)=\"Non-Lead - Copper\", INDEX($K:$K,)=\"Non-Lead - Plastic\", INDEX($K:$K,)=\"Non-Lead - Other\", INDEX($K:$K,)=\"Non-Lead - Material Unknown\", INDEX($K:$K,)=\"No System Owned Portion\"), OR(INDEX($Q:$Q,)=\"Galvanized Iron/Steel\", INDEX($Q:$Q,)=\"Non-Lead - Copper\", INDEX($Q:$Q,)=\"Non-Lead - Plastic\", INDEX($Q:$Q,)=\"Non-Lead - Other\", INDEX($Q:$Q,)=\"Non-Lead - Predictive Model\", INDEX($Q:$Q,)=\"No Customer Owned Portion\")), AND(OR( INDEX($K:$K,)=\"Galvanized Iron/Steel\", INDEX($K:$K,)=\"Non-Lead - Copper\", INDEX($K:$K,)=\"Non-Lead - Plastic\", INDEX($K:$K,)=\"Non-Lead - Other\", INDEX($K:$K,)=\"Non-Lead - Material Unknown\", INDEX($K:$K,)=\"No System Owned Portion\"), INDEX($M:$M,)=\"No\", INDEX($Q:$Q,)=\"Non-Lead - Material Unknown\")), \"Non-Lead\", \"Lead Status Unknown\"))))","v":""}]
[{"$f":"IF(AND(ISBLANK(INDEX($G:$G,)), ISBLANK(INDEX($C:$C,))), \"\", 'PWS Records (System Entry)'!$D$4)","v":""},{"$f":"IF(AND(ISBLANK(INDEX($G:$G,)), ISBLANK(INDEX($C:$C,))), \"\", 'PWS Records (System Entry)'!$D$3)","v":""},null,null,null,null,null,null,null,null,null,null,null,null,null,null,null,null,null,null,""]
[{"$f":"IF(AND(ISBLANK(INDEX($G:$G,)), ISBLANK(INDEX($C:$C,))), \"\", 'PWS Records (System Entry)'!$D$4)","v":""},{"$f":"IF(AND(ISBLANK(INDEX($G:$G,)), ISBLANK(INDEX($C:$C,))), \"\", 'PWS Records (System Entry)'!$D$3)","v":""},null,null,null,null,null,null,null,null,null,null,null,null,null,null,null,null,null,null,""]
[{"$f":"IF(AND(ISBLANK(INDEX($G:$G,)), ISBLANK(INDEX($C:$C,))), \"\", 'PWS Records (System Entry)'!$D$4)","v":""},{"$f":"IF(AND(ISBLANK(INDEX($G:$G,)), ISBLANK(INDEX($C:$C,))), \"\", 'PWS Records (System Entry)'!$D$3)","v":""},null,null,null,null,null,null,null,null,null,null,null,null,null,null,null,null,null,null,""]
[{"$f":"IF(AND(ISBLANK(INDEX($G:$G,)), ISBLANK(INDEX($C:$C,))), \"\", 'PWS Records (System Entry)'!$D$4)","v":""},{"$f":"IF(AND(ISBLANK(INDEX($G:$G,)), ISBLANK(INDEX($C:$C,))), \"\", 'PWS Records (System Entry)'!$D$3)","v":""},null,null,null,null,null,null,null,null,null,null,null,null,null,null,null,null,null,null,""]
[{"$f":"IF(AND(ISBLANK(INDEX($G:$G,)), ISBLANK(INDEX($C:$C,))), \"\", 'PWS Records (System Entry)'!$D$4)","v":""},{"$f":"IF(AND(ISBLANK(INDEX($G:$G,)), ISBLANK(INDEX($C:$C,))), \"\", 'PWS Records (System Entry)'!$D$3)","v":""},null,null,null,null,null,null,null,null,null,null,null,null,null,null,null,null,null,null,""]
[{"$f":"IF(AND(ISBLANK(INDEX($G:$G,)), ISBLANK(INDEX($C:$C,))), \"\", 'PWS Records (System Entry)'!$D$4)","v":""},{"$f":"IF(AND(ISBLANK(INDEX($G:$G,)), ISBLANK(INDEX($C:$C,))), \"\", 'PWS Records (System Entry)'!$D$3)","v":""},null,null,null,null,null,null,null,null,null,null,null,null,null,null,null,null,null,null,""]
[{"$f":"IF(AND(ISBLANK(INDEX($G:$G,)), ISBLANK(INDEX($C:$C,))), \"\", 'PWS Records (System Entry)'!$D$4)","v":""},{"$f":"IF(AND(ISBLANK(INDEX($G:$G,)), ISBLANK(INDEX($C:$C,))), \"\", 'PWS Records (System Entry)'!$D$3)","v":""},null,null,null,null,null,null,null,null,null,null,null,null,null,null,null,null,null,null,""]
[{"$f":"IF(AND(ISBLANK(INDEX($G:$G,)), ISBLANK(INDEX($C:$C,))), \"\", 'PWS Records (System Entry)'!$D$4)","v":""},{"$f":"IF(AND(ISBLANK(INDEX($G:$G,)), ISBLANK(INDEX($C:$C,))), \"\", 'PWS Records (System Entry)'!$D$3)","v":""},null,null,null,null,null,null,null,null,null,null,null,null,null,null,null,null,null,null,""]
[{"$f":"IF(AND(ISBLANK(INDEX($G:$G,)), ISBLANK(INDEX($C:$C,))), \"\", 'PWS Records (System Entry)'!$D$4)","v":""},{"$f":"IF(AND(ISBLANK(INDEX($G:$G,)), ISBLANK(INDEX($C:$C,))), \"\", 'PWS Records (System Entry)'!$D$3)","v":""},null,null,null,null,null,null,null,null,null,null,null,null,null,null,null,null,null,null,""]
[{"$f":"IF(AND(ISBLANK(INDEX($G:$G,)), ISBLANK(INDEX($C:$C,))), \"\", 'PWS Records (System Entry)'!$D$4)","v":""},{"$f":"IF(AND(ISBLANK(INDEX($G:$G,)), ISBLANK(INDEX($C:$C,))), \"\", 'PWS Records (System Entry)'!$D$3)","v":""},null,null,null,null,null,null,null,null,null,null,null,null,null,null,null,null,null,null,""]
[{"$f":"IF(AND(ISBLANK(INDEX($G:$G,)), ISBLANK(INDEX($C:$C,))), \"\", 'PWS Records (System Entry)'!$D$4)","v":""},{"$f":"IF(AND(ISBLANK(INDEX($G:$G,)), ISBLANK(INDEX($C:$C,))), \"\", 'PWS Records (System Entry)'!$D$3)","v":""},null,null,null,null,null,null,null,null,null,null,null,null,null,null,null,null,null,null,""]
[{"$f":"IF(AND(ISBLANK(INDEX($G:$G,)), ISBLANK(INDEX($C:$C,))), \"\", 'PWS Records (System Entry)'!$D$4)","v":""},{"$f":"IF(AND(ISBLANK(INDEX($G:$G,)), ISBLANK(INDEX($C:$C,))), \"\", 'PWS Records (System Entry)'!$D$3)","v":""},null,null,null,null,null,null,null,null,null,null,null,null,null,null,null,null,null,null,""]
[{"$f":"IF(AND(ISBLANK(INDEX($G:$G,)), ISBLANK(INDEX($C:$C,))), \"\", 'PWS Records (System Entry)'!$D$4)","v":""},{"$f":"IF(AND(ISBLANK(INDEX($G:$G,)), ISBLANK(INDEX($C:$C,))), \"\", 'PWS Records (System Entry)'!$D$3)","v":""},null,null,null,null,null,null,null,null,null,null,null,null,null,null,null,null,null,null,""]
[{"$f":"IF(AND(ISBLANK(INDEX($G:$G,)), ISBLANK(INDEX($C:$C,))), \"\", 'PWS Records (System Entry)'!$D$4)","v":""},{"$f":"IF(AND(ISBLANK(INDEX($G:$G,)), ISBLANK(INDEX($C:$C,))), \"\", 'PWS Records (System Entry)'!$D$3)","v":""},null,null,null,null,null,null,null,null,null,null,null,null,null,null,null,null,null,null,""]
[{"$f":"IF(AND(ISBLANK(INDEX($G:$G,)), ISBLANK(INDEX($C:$C,))), \"\", 'PWS Records (System Entry)'!$D$4)","v":""},{"$f":"IF(AND(ISBLANK(INDEX($G:$G,)), ISBLANK(INDEX($C:$C,))), \"\", 'PWS Records (System Entry)'!$D$3)","v":""},null,null,null,null,null,null,null,null,null,null,null,null,null,null,null,null,null,null,""]
[{"$f":"IF(AND(ISBLANK(INDEX($G:$G,)), ISBLANK(INDEX($C:$C,))), \"\", 'PWS Records (System Entry)'!$D$4)","v":""},{"$f":"IF(AND(ISBLANK(INDEX($G:$G,)), ISBLANK(INDEX($C:$C,))), \"\", 'PWS Records (System Entry)'!$D$3)","v":""},null,null,null,null,null,null,null,null,null,null,null,null,null,null,null,null,null,null,""]
[{"$f":"IF(AND(ISBLANK(INDEX($G:$G,)), ISBLANK(INDEX($C:$C,))), \"\", 'PWS Records (System Entry)'!$D$4)","v":""},{"$f":"IF(AND(ISBLANK(INDEX($G:$G,)), ISBLANK(INDEX($C:$C,))), \"\", 'PWS Records (System Entry)'!$D$3)","v":""},null,null,null,null,null,null,null,null,null,null,null,null,null,null,null,null,null,null,{"$f":"IF(AND(INDEX($K:$K,)=\"\", INDEX($L:$L,)=\"\", INDEX($M:$M,)=\"\", INDEX($Q:$Q,)=\"\", INDEX($R:$R,)=\"\"), \"\", IF(OR(INDEX($K:$K,)=\"Lead\",INDEX($Q:$Q,)=\"Lead\"),\"Lead\",IF(OR(AND(OR(INDEX($M:$M,)=\"Yes\", INDEX($M:$M,)=\"Don't Know\", INDEX($M:$M,)=\"\"), INDEX($Q:$Q,)=\"Galvanized Iron/Steel\"), AND(INDEX($K:$K,)=\"Unknown\", INDEX($M:$M,)=\"No\", INDEX($Q:$Q,)=\"Galvanized Iron/Steel\")), \"Galvanized Requiring Replacement\", IF(OR(AND(OR(INDEX($K:$K,)=\"Galvanized Iron/Steel\", INDEX($K:$K,)=\"Non-Lead - Copper\", INDEX($K:$K,)=\"Non-Lead - Plastic\", INDEX($K:$K,)=\"Non-Lead - Other\", INDEX($K:$K,)=\"Non-Lead - Material Unknown\", INDEX($K:$K,)=\"No System Owned Portion\"), OR(INDEX($Q:$Q,)=\"Galvanized Iron/Steel\", INDEX($Q:$Q,)=\"Non-Lead - Copper\", INDEX($Q:$Q,)=\"Non-Lead - Plastic\", INDEX($Q:$Q,)=\"Non-Lead - Other\", INDEX($Q:$Q,)=\"Non-Lead - Predictive Model\", INDEX($Q:$Q,)=\"No Customer Owned Portion\")), AND(OR( INDEX($K:$K,)=\"Galvanized Iron/Steel\", INDEX($K:$K,)=\"Non-Lead - Copper\", INDEX($K:$K,)=\"Non-Lead - Plastic\", INDEX($K:$K,)=\"Non-Lead - Other\", INDEX($K:$K,)=\"Non-Lead - Material Unknown\", INDEX($K:$K,)=\"No System Owned Portion\"), INDEX($M:$M,)=\"No\", INDEX($Q:$Q,)=\"Non-Lead - Material Unknown\")), \"Non-Lead\", \"Lead Status Unknown\"))))","v":""}]
[{"$f":"IF(AND(ISBLANK(INDEX($G:$G,)), ISBLANK(INDEX($C:$C,))), \"\", 'PWS Records (System Entry)'!$D$4)","v":""},{"$f":"IF(AND(ISBLANK(INDEX($G:$G,)), ISBLANK(INDEX($C:$C,))), \"\", 'PWS Records (System Entry)'!$D$3)","v":""},null,null,null,null,null,null,null,null,null,null,null,null,null,null,null,null,null,null,""]
[{"$f":"IF(AND(ISBLANK(INDEX($G:$G,)), ISBLANK(INDEX($C:$C,))), \"\", 'PWS Records (System Entry)'!$D$4)","v":""},{"$f":"IF(AND(ISBLANK(INDEX($G:$G,)), ISBLANK(INDEX($C:$C,))), \"\", 'PWS Records (System Entry)'!$D$3)","v":""},null,null,null,null,null,null,null,null,null,null,null,null,null,null,null,null,null,null,""]
[{"$f":"IF(AND(ISBLANK(INDEX($G:$G,)), ISBLANK(INDEX($C:$C,))), \"\", 'PWS Records (System Entry)'!$D$4)","v":""},{"$f":"IF(AND(ISBLANK(INDEX($G:$G,)), ISBLANK(INDEX($C:$C,))), \"\", 'PWS Records (System Entry)'!$D$3)","v":""},null,null,null,null,null,null,null,null,null,null,null,null,null,null,null,null,null,null,""]
[{"$f":"IF(AND(ISBLANK(INDEX($G:$G,)), ISBLANK(INDEX($C:$C,))), \"\", 'PWS Records (System Entry)'!$D$4)","v":""},{"$f":"IF(AND(ISBLANK(INDEX($G:$G,)), ISBLANK(INDEX($C:$C,))), \"\", 'PWS Records (System Entry)'!$D$3)","v":""},null,null,null,null,null,null,null,null,null,null,null,null,null,null,null,null,null,null,""]
[{"$f":"IF(AND(ISBLANK(INDEX($G:$G,)), ISBLANK(INDEX($C:$C,))), \"\", 'PWS Records (System Entry)'!$D$4)","v":""},{"$f":"IF(AND(ISBLANK(INDEX($G:$G,)), ISBLANK(INDEX($C:$C,))), \"\", 'PWS Records (System Entry)'!$D$3)","v":""},null,null,null,null,null,null,null,null,null,null,null,null,null,null,null,null,null,null,""]
[{"$f":"IF(AND(ISBLANK(INDEX($G:$G,)), ISBLANK(INDEX($C:$C,))), \"\", 'PWS Records (System Entry)'!$D$4)","v":""},{"$f":"IF(AND(ISBLANK(INDEX($G:$G,)), ISBLANK(INDEX($C:$C,))), \"\", 'PWS Records (System Entry)'!$D$3)","v":""},null,null,null,null,null,null,null,null,null,null,null,null,null,null,null,null,null,null,""]
[{"$f":"IF(AND(ISBLANK(INDEX($G:$G,)), ISBLANK(INDEX($C:$C,))), \"\", 'PWS Records (System Entry)'!$D$4)","v":""},{"$f":"IF(AND(ISBLANK(INDEX($G:$G,)), ISBLANK(INDEX($C:$C,))), \"\", 'PWS Records (System Entry)'!$D$3)","v":""},null,null,null,null,null,null,null,null,null,null,null,null,null,null,null,null,null,null,""]
[{"$f":"IF(AND(ISBLANK(INDEX($G:$G,)), ISBLANK(INDEX($C:$C,))), \"\", 'PWS Records (System Entry)'!$D$4)","v":""},{"$f":"IF(AND(ISBLANK(INDEX($G:$G,)), ISBLANK(INDEX($C:$C,))), \"\", 'PWS Records (System Entry)'!$D$3)","v":""},null,null,null,null,null,null,null,null,null,null,null,null,null,null,null,null,null,null,""]
[{"$f":"IF(AND(ISBLANK(INDEX($G:$G,)), ISBLANK(INDEX($C:$C,))), \"\", 'PWS Records (System Entry)'!$D$4)","v":""},{"$f":"IF(AND(ISBLANK(INDEX($G:$G,)), ISBLANK(INDEX($C:$C,))), \"\", 'PWS Records (System Entry)'!$D$3)","v":""},null,null,null,null,null,null,null,null,null,null,null,null,null,null,null,null,null,null,""]
[{"$f":"IF(AND(ISBLANK(INDEX($G:$G,)), ISBLANK(INDEX($C:$C,))), \"\", 'PWS Records (System Entry)'!$D$4)","v":""},{"$f":"IF(AND(ISBLANK(INDEX($G:$G,)), ISBLANK(INDEX($C:$C,))), \"\", 'PWS Records (System Entry)'!$D$3)","v":""},null,null,null,null,null,null,null,null,null,null,null,null,null,null,null,null,null,null,""]
[{"$f":"IF(AND(ISBLANK(INDEX($G:$G,)), ISBLANK(INDEX($C:$C,))), \"\", 'PWS Records (System Entry)'!$D$4)","v":""},{"$f":"IF(AND(ISBLANK(INDEX($G:$G,)), ISBLANK(INDEX($C:$C,))), \"\", 'PWS Records (System Entry)'!$D$3)","v":""},null,null,null,null,null,null,null,null,null,null,null,null,null,null,null,null,null,null,""]
[{"$f":"IF(AND(ISBLANK(INDEX($G:$G,)), ISBLANK(INDEX($C:$C,))), \"\", 'PWS Records (System Entry)'!$D$4)","v":""},{"$f":"IF(AND(ISBLANK(INDEX($G:$G,)), ISBLANK(INDEX($C:$C,))), \"\", 'PWS Records (System Entry)'!$D$3)","v":""},null,null,null,null,null,null,null,null,null,null,null,null,null,null,null,null,null,null,""]
[{"$f":"IF(AND(ISBLANK(INDEX($G:$G,)), ISBLANK(INDEX($C:$C,))), \"\", 'PWS Records (System Entry)'!$D$4)","v":""},{"$f":"IF(AND(ISBLANK(INDEX($G:$G,)), ISBLANK(INDEX($C:$C,))), \"\", 'PWS Records (System Entry)'!$D$3)","v":""},null,null,null,null,null,null,null,null,null,null,null,null,null,null,null,null,null,null,""]
[{"$f":"IF(AND(ISBLANK(INDEX($G:$G,)), ISBLANK(INDEX($C:$C,))), \"\", 'PWS Records (System Entry)'!$D$4)","v":""},{"$f":"IF(AND(ISBLANK(INDEX($G:$G,)), ISBLANK(INDEX($C:$C,))), \"\", 'PWS Records (System Entry)'!$D$3)","v":""},null,null,null,null,null,null,null,null,null,null,null,null,null,null,null,null,null,null,""]
[{"$f":"IF(AND(ISBLANK(INDEX($G:$G,)), ISBLANK(INDEX($C:$C,))), \"\", 'PWS Records (System Entry)'!$D$4)","v":""},{"$f":"IF(AND(ISBLANK(INDEX($G:$G,)), ISBLANK(INDEX($C:$C,))), \"\", 'PWS Records (System Entry)'!$D$3)","v":""},null,null,null,null,null,null,null,null,null,null,null,null,null,null,null,null,null,null,""]
[{"$f":"IF(AND(ISBLANK(INDEX($G:$G,)), ISBLANK(INDEX($C:$C,))), \"\", 'PWS Records (System Entry)'!$D$4)","v":""},{"$f":"IF(AND(ISBLANK(INDEX($G:$G,)), ISBLANK(INDEX($C:$C,))), \"\", 'PWS Records (System Entry)'!$D$3)","v":""},null,null,null,null,null,null,null,null,null,null,null,null,null,null,null,null,null,null,""]
[{"$f":"IF(AND(ISBLANK(INDEX($G:$G,)), ISBLANK(INDEX($C:$C,))), \"\", 'PWS Records (System Entry)'!$D$4)","v":""},{"$f":"IF(AND(ISBLANK(INDEX($G:$G,)), ISBLANK(INDEX($C:$C,))), \"\", 'PWS Records (System Entry)'!$D$3)","v":""},null,null,null,null,null,null,null,null,null,null,null,null,null,null,null,null,null,null,""]
[{"$f":"IF(AND(ISBLANK(INDEX($G:$G,)), ISBLANK(INDEX($C:$C,))), \"\", 'PWS Records (System Entry)'!$D$4)","v":""},{"$f":"IF(AND(ISBLANK(INDEX($G:$G,)), ISBLANK(INDEX($C:$C,))), \"\", 'PWS Records (System Entry)'!$D$3)","v":""},null,null,null,null,null,null,null,null,null,null,null,null,null,null,null,null,null,null,""]
[{"$f":"IF(AND(ISBLANK(INDEX($G:$G,)), ISBLANK(INDEX($C:$C,))), \"\", 'PWS Records (System Entry)'!$D$4)","v":""},{"$f":"IF(AND(ISBLANK(INDEX($G:$G,)), ISBLANK(INDEX($C:$C,))), \"\", 'PWS Records (System Entry)'!$D$3)","v":""},null,null,null,null,null,null,null,null,null,null,null,null,null,null,null,null,null,null,""]
[{"$f":"IF(AND(ISBLANK(INDEX($G:$G,)), ISBLANK(INDEX($C:$C,))), \"\", 'PWS Records (System Entry)'!$D$4)","v":""},{"$f":"IF(AND(ISBLANK(INDEX($G:$G,)), ISBLANK(INDEX($C:$C,))), \"\", 'PWS Records (System Entry)'!$D$3)","v":""},null,null,null,null,null,null,null,null,null,null,null,null,null,null,null,null,null,null,""]
[{"$f":"IF(AND(ISBLANK(INDEX($G:$G,)), ISBLANK(INDEX($C:$C,))), \"\", 'PWS Records (System Entry)'!$D$4)","v":""},{"$f":"IF(AND(ISBLANK(INDEX($G:$G,)), ISBLANK(INDEX($C:$C,))), \"\", 'PWS Records (System Entry)'!$D$3)","v":""},null,null,null,null,null,null,null,null,null,null,null,null,null,null,null,null,null,null,""]
[{"$f":"IF(AND(ISBLANK(INDEX($G:$G,)), ISBLANK(INDEX($C:$C,))), \"\", 'PWS Records (System Entry)'!$D$4)","v":""},{"$f":"IF(AND(ISBLANK(INDEX($G:$G,)), ISBLANK(INDEX($C:$C,))), \"\", 'PWS Records (System Entry)'!$D$3)","v":""},null,null,null,null,null,null,null,null,null,null,null,null,null,null,null,null,null,null,""]
[{"$f":"IF(AND(ISBLANK(INDEX($G:$G,)), ISBLANK(INDEX($C:$C,))), \"\", 'PWS Records (System Entry)'!$D$4)","v":""},{"$f":"IF(AND(ISBLANK(INDEX($G:$G,)), ISBLANK(INDEX($C:$C,))), \"\", 'PWS Records (System Entry)'!$D$3)","v":""},null,null,null,null,null,null,null,null,null,null,null,null,null,null,null,null,null,null,""]
[{"$f":"IF(AND(ISBLANK(INDEX($G:$G,)), ISBLANK(INDEX($C:$C,))), \"\", 'PWS Records (System Entry)'!$D$4)","v":""},{"$f":"IF(AND(ISBLANK(INDEX($G:$G,)), ISBLANK(INDEX($C:$C,))), \"\", 'PWS Records (System Entry)'!$D$3)","v":""},null,null,null,null,null,null,null,null,null,null,null,null,null,null,null,null,null,null,""]
[{"$f":"IF(AND(ISBLANK(INDEX($G:$G,)), ISBLANK(INDEX($C:$C,))), \"\", 'PWS Records (System Entry)'!$D$4)","v":""},{"$f":"IF(AND(ISBLANK(INDEX($G:$G,)), ISBLANK(INDEX($C:$C,))), \"\", 'PWS Records (System Entry)'!$D$3)","v":""},null,null,null,null,null,null,null,null,null,null,null,null,null,null,null,null,null,null,""]
[{"$f":"IF(AND(ISBLANK(INDEX($G:$G,)), ISBLANK(INDEX($C:$C,))), \"\", 'PWS Records (System Entry)'!$D$4)","v":""},{"$f":"IF(AND(ISBLANK(INDEX($G:$G,)), ISBLANK(INDEX($C:$C,))), \"\", 'PWS Records (System Entry)'!$D$3)","v":""},null,null,null,null,null,null,null,null,null,null,null,null,null,null,null,null,null,null,""]
[{"$f":"IF(AND(ISBLANK(INDEX($G:$G,)), ISBLANK(INDEX($C:$C,))), \"\", 'PWS Records (System Entry)'!$D$4)","v":""},{"$f":"IF(AND(ISBLANK(INDEX($G:$G,)), ISBLANK(INDEX($C:$C,))), \"\", 'PWS Records (System Entry)'!$D$3)","v":""},null,null,null,null,null,null,null,null,null,null,null,null,null,null,null,null,null,null,""]
[{"$f":"IF(AND(ISBLANK(INDEX($G:$G,)), ISBLANK(INDEX($C:$C,))), \"\", 'PWS Records (System Entry)'!$D$4)","v":""},{"$f":"IF(AND(ISBLANK(INDEX($G:$G,)), ISBLANK(INDEX($C:$C,))), \"\", 'PWS Records (System Entry)'!$D$3)","v":""},null,null,null,null,null,null,null,null,null,null,null,null,null,null,null,null,null,null,""]
[{"$f":"IF(AND(ISBLANK(INDEX($G:$G,)), ISBLANK(INDEX($C:$C,))), \"\", 'PWS Records (System Entry)'!$D$4)","v":""},{"$f":"IF(AND(ISBLANK(INDEX($G:$G,)), ISBLANK(INDEX($C:$C,))), \"\", 'PWS Records (System Entry)'!$D$3)","v":""},null,null,null,null,null,null,null,null,null,null,null,null,null,null,null,null,null,null,""]
[{"$f":"IF(AND(ISBLANK(INDEX($G:$G,)), ISBLANK(INDEX($C:$C,))), \"\", 'PWS Records (System Entry)'!$D$4)","v":""},{"$f":"IF(AND(ISBLANK(INDEX($G:$G,)), ISBLANK(INDEX($C:$C,))), \"\", 'PWS Records (System Entry)'!$D$3)","v":""},null,null,null,null,null,null,null,null,null,null,null,null,null,null,null,null,null,null,""]
[{"$f":"IF(AND(ISBLANK(INDEX($G:$G,)), ISBLANK(INDEX($C:$C,))), \"\", 'PWS Records (System Entry)'!$D$4)","v":""},{"$f":"IF(AND(ISBLANK(INDEX($G:$G,)), ISBLANK(INDEX($C:$C,))), \"\", 'PWS Records (System Entry)'!$D$3)","v":""},null,null,null,null,null,null,null,null,null,null,null,null,null,null,null,null,null,null,""]
[{"$f":"IF(AND(ISBLANK(INDEX($G:$G,)), ISBLANK(INDEX($C:$C,))), \"\", 'PWS Records (System Entry)'!$D$4)","v":""},{"$f":"IF(AND(ISBLANK(INDEX($G:$G,)), ISBLANK(INDEX($C:$C,))), \"\", 'PWS Records (System Entry)'!$D$3)","v":""},null,null,null,null,null,null,null,null,null,null,null,null,null,null,null,null,null,null,""]
[{"$f":"IF(AND(ISBLANK(INDEX($G:$G,)), ISBLANK(INDEX($C:$C,))), \"\", 'PWS Records (System Entry)'!$D$4)","v":""},{"$f":"IF(AND(ISBLANK(INDEX($G:$G,)), ISBLANK(INDEX($C:$C,))), \"\", 'PWS Records (System Entry)'!$D$3)","v":""},null,null,null,null,null,null,null,null,null,null,null,null,null,null,null,null,null,null,""]
[{"$f":"IF(AND(ISBLANK(INDEX($G:$G,)), ISBLANK(INDEX($C:$C,))), \"\", 'PWS Records (System Entry)'!$D$4)","v":""},{"$f":"IF(AND(ISBLANK(INDEX($G:$G,)), ISBLANK(INDEX($C:$C,))), \"\", 'PWS Records (System Entry)'!$D$3)","v":""},null,null,null,null,null,null,null,null,null,null,null,null,null,null,null,null,null,null,""]
[{"$f":"IF(AND(ISBLANK(INDEX($G:$G,)), ISBLANK(INDEX($C:$C,))), \"\", 'PWS Records (System Entry)'!$D$4)","v":""},{"$f":"IF(AND(ISBLANK(INDEX($G:$G,)), ISBLANK(INDEX($C:$C,))), \"\", 'PWS Records (System Entry)'!$D$3)","v":""},null,null,null,null,null,null,null,null,null,null,null,null,null,null,null,null,null,null,""]
[{"$f":"IF(AND(ISBLANK(INDEX($G:$G,)), ISBLANK(INDEX($C:$C,))), \"\", 'PWS Records (System Entry)'!$D$4)","v":""},{"$f":"IF(AND(ISBLANK(INDEX($G:$G,)), ISBLANK(INDEX($C:$C,))), \"\", 'PWS Records (System Entry)'!$D$3)","v":""},null,null,null,null,null,null,null,null,null,null,null,null,null,null,null,null,null,null,""]
[{"$f":"IF(AND(ISBLANK(INDEX($G:$G,)), ISBLANK(INDEX($C:$C,))), \"\", 'PWS Records (System Entry)'!$D$4)","v":""},{"$f":"IF(AND(ISBLANK(INDEX($G:$G,)), ISBLANK(INDEX($C:$C,))), \"\", 'PWS Records (System Entry)'!$D$3)","v":""},null,null,null,null,null,null,null,null,null,null,null,null,null,null,null,null,null,null,""]
[{"$f":"IF(AND(ISBLANK(INDEX($G:$G,)), ISBLANK(INDEX($C:$C,))), \"\", 'PWS Records (System Entry)'!$D$4)","v":""},{"$f":"IF(AND(ISBLANK(INDEX($G:$G,)), ISBLANK(INDEX($C:$C,))), \"\", 'PWS Records (System Entry)'!$D$3)","v":""},null,null,null,null,null,null,null,null,null,null,null,null,null,null,null,null,null,null,""]
[{"$f":"IF(AND(ISBLANK(INDEX($G:$G,)), ISBLANK(INDEX($C:$C,))), \"\", 'PWS Records (System Entry)'!$D$4)","v":""},{"$f":"IF(AND(ISBLANK(INDEX($G:$G,)), ISBLANK(INDEX($C:$C,))), \"\", 'PWS Records (System Entry)'!$D$3)","v":""},null,null,null,null,null,null,null,null,null,null,null,null,null,null,null,null,null,null,""]
[{"$f":"IF(AND(ISBLANK(INDEX($G:$G,)), ISBLANK(INDEX($C:$C,))), \"\", 'PWS Records (System Entry)'!$D$4)","v":""},{"$f":"IF(AND(ISBLANK(INDEX($G:$G,)), ISBLANK(INDEX($C:$C,))), \"\", 'PWS Records (System Entry)'!$D$3)","v":""},null,null,null,null,null,null,null,null,null,null,null,null,null,null,null,null,null,null,""]
[{"$f":"IF(AND(ISBLANK(INDEX($G:$G,)), ISBLANK(INDEX($C:$C,))), \"\", 'PWS Records (System Entry)'!$D$4)","v":""},{"$f":"IF(AND(ISBLANK(INDEX($G:$G,)), ISBLANK(INDEX($C:$C,))), \"\", 'PWS Records (System Entry)'!$D$3)","v":""},null,null,null,null,null,null,null,null,null,null,null,null,null,null,null,null,null,null,""]
[{"$f":"IF(AND(ISBLANK(INDEX($G:$G,)), ISBLANK(INDEX($C:$C,))), \"\", 'PWS Records (System Entry)'!$D$4)","v":""},{"$f":"IF(AND(ISBLANK(INDEX($G:$G,)), ISBLANK(INDEX($C:$C,))), \"\", 'PWS Records (System Entry)'!$D$3)","v":""},null,null,null,null,null,null,null,null,null,null,null,null,null,null,null,null,null,null,""]
[{"$f":"IF(AND(ISBLANK(INDEX($G:$G,)), ISBLANK(INDEX($C:$C,))), \"\", 'PWS Records (System Entry)'!$D$4)","v":""},{"$f":"IF(AND(ISBLANK(INDEX($G:$G,)), ISBLANK(INDEX($C:$C,))), \"\", 'PWS Records (System Entry)'!$D$3)","v":""},null,null,null,null,null,null,null,null,null,null,null,null,null,null,null,null,null,null,""]
[{"$f":"IF(AND(ISBLANK(INDEX($G:$G,)), ISBLANK(INDEX($C:$C,))), \"\", 'PWS Records (System Entry)'!$D$4)","v":""},{"$f":"IF(AND(ISBLANK(INDEX($G:$G,)), ISBLANK(INDEX($C:$C,))), \"\", 'PWS Records (System Entry)'!$D$3)","v":""},null,null,null,null,null,null,null,null,null,null,null,null,null,null,null,null,null,null,""]
[{"$f":"IF(AND(ISBLANK(INDEX($G:$G,)), ISBLANK(INDEX($C:$C,))), \"\", 'PWS Records (System Entry)'!$D$4)","v":""},{"$f":"IF(AND(ISBLANK(INDEX($G:$G,)), ISBLANK(INDEX($C:$C,))), \"\", 'PWS Records (System Entry)'!$D$3)","v":""},null,null,null,null,null,null,null,null,null,null,null,null,null,null,null,null,null,null,""]
[{"$f":"IF(AND(ISBLANK(INDEX($G:$G,)), ISBLANK(INDEX($C:$C,))), \"\", 'PWS Records (System Entry)'!$D$4)","v":""},{"$f":"IF(AND(ISBLANK(INDEX($G:$G,)), ISBLANK(INDEX($C:$C,))), \"\", 'PWS Records (System Entry)'!$D$3)","v":""},null,null,null,null,null,null,null,null,null,null,null,null,null,null,null,null,null,null,""]
[{"$f":"IF(AND(ISBLANK(INDEX($G:$G,)), ISBLANK(INDEX($C:$C,))), \"\", 'PWS Records (System Entry)'!$D$4)","v":""},{"$f":"IF(AND(ISBLANK(INDEX($G:$G,)), ISBLANK(INDEX($C:$C,))), \"\", 'PWS Records (System Entry)'!$D$3)","v":""},null,null,null,null,null,null,null,null,null,null,null,null,null,null,null,null,null,null,""]
[{"$f":"IF(AND(ISBLANK(INDEX($G:$G,)), ISBLANK(INDEX($C:$C,))), \"\", 'PWS Records (System Entry)'!$D$4)","v":""},{"$f":"IF(AND(ISBLANK(INDEX($G:$G,)), ISBLANK(INDEX($C:$C,))), \"\", 'PWS Records (System Entry)'!$D$3)","v":""},null,null,null,null,null,null,null,null,null,null,null,null,null,null,null,null,null,null,""]
[{"$f":"IF(AND(ISBLANK(INDEX($G:$G,)), ISBLANK(INDEX($C:$C,))), \"\", 'PWS Records (System Entry)'!$D$4)","v":""},{"$f":"IF(AND(ISBLANK(INDEX($G:$G,)), ISBLANK(INDEX($C:$C,))), \"\", 'PWS Records (System Entry)'!$D$3)","v":""},null,null,null,null,null,null,null,null,null,null,null,null,null,null,null,null,null,null,""]
[{"$f":"IF(AND(ISBLANK(INDEX($G:$G,)), ISBLANK(INDEX($C:$C,))), \"\", 'PWS Records (System Entry)'!$D$4)","v":""},{"$f":"IF(AND(ISBLANK(INDEX($G:$G,)), ISBLANK(INDEX($C:$C,))), \"\", 'PWS Records (System Entry)'!$D$3)","v":""},null,null,null,null,null,null,null,null,null,null,null,null,null,null,null,null,null,null,""]
[{"$f":"IF(AND(ISBLANK(INDEX($G:$G,)), ISBLANK(INDEX($C:$C,))), \"\", 'PWS Records (System Entry)'!$D$4)","v":""},{"$f":"IF(AND(ISBLANK(INDEX($G:$G,)), ISBLANK(INDEX($C:$C,))), \"\", 'PWS Records (System Entry)'!$D$3)","v":""},null,null,null,null,null,null,null,null,null,null,null,null,null,null,null,null,null,null,""]
[{"$f":"IF(AND(ISBLANK(INDEX($G:$G,)), ISBLANK(INDEX($C:$C,))), \"\", 'PWS Records (System Entry)'!$D$4)","v":""},{"$f":"IF(AND(ISBLANK(INDEX($G:$G,)), ISBLANK(INDEX($C:$C,))), \"\", 'PWS Records (System Entry)'!$D$3)","v":""},null,null,null,null,null,null,null,null,null,null,null,null,null,null,null,null,null,null,""]
[{"$f":"IF(AND(ISBLANK(INDEX($G:$G,)), ISBLANK(INDEX($C:$C,))), \"\", 'PWS Records (System Entry)'!$D$4)","v":""},{"$f":"IF(AND(ISBLANK(INDEX($G:$G,)), ISBLANK(INDEX($C:$C,))), \"\", 'PWS Records (System Entry)'!$D$3)","v":""},null,null,null,null,null,null,null,null,null,null,null,null,null,null,null,null,null,null,""]
[{"$f":"IF(AND(ISBLANK(INDEX($G:$G,)), ISBLANK(INDEX($C:$C,))), \"\", 'PWS Records (System Entry)'!$D$4)","v":""},{"$f":"IF(AND(ISBLANK(INDEX($G:$G,)), ISBLANK(INDEX($C:$C,))), \"\", 'PWS Records (System Entry)'!$D$3)","v":""},null,null,null,null,null,null,null,null,null,null,null,null,null,null,null,null,null,null,""]
[{"$f":"IF(AND(ISBLANK(INDEX($G:$G,)), ISBLANK(INDEX($C:$C,))), \"\", 'PWS Records (System Entry)'!$D$4)","v":""},{"$f":"IF(AND(ISBLANK(INDEX($G:$G,)), ISBLANK(INDEX($C:$C,))), \"\", 'PWS Records (System Entry)'!$D$3)","v":""},null,null,null,null,null,null,null,null,null,null,null,null,null,null,null,null,null,null,""]
[{"$f":"IF(AND(ISBLANK(INDEX($G:$G,)), ISBLANK(INDEX($C:$C,))), \"\", 'PWS Records (System Entry)'!$D$4)","v":""},{"$f":"IF(AND(ISBLANK(INDEX($G:$G,)), ISBLANK(INDEX($C:$C,))), \"\", 'PWS Records (System Entry)'!$D$3)","v":""},null,null,null,null,null,null,null,null,null,null,null,null,null,null,null,null,null,null,""]
[{"$f":"IF(AND(ISBLANK(INDEX($G:$G,)), ISBLANK(INDEX($C:$C,))), \"\", 'PWS Records (System Entry)'!$D$4)","v":""},{"$f":"IF(AND(ISBLANK(INDEX($G:$G,)), ISBLANK(INDEX($C:$C,))), \"\", 'PWS Records (System Entry)'!$D$3)","v":""},null,null,null,null,null,null,null,null,null,null,null,null,null,null,null,null,null,null,""]
[{"$f":"IF(AND(ISBLANK(INDEX($G:$G,)), ISBLANK(INDEX($C:$C,))), \"\", 'PWS Records (System Entry)'!$D$4)","v":""},{"$f":"IF(AND(ISBLANK(INDEX($G:$G,)), ISBLANK(INDEX($C:$C,))), \"\", 'PWS Records (System Entry)'!$D$3)","v":""},null,null,null,null,null,null,null,null,null,null,null,null,null,null,null,null,null,null,""]
[{"$f":"IF(AND(ISBLANK(INDEX($G:$G,)), ISBLANK(INDEX($C:$C,))), \"\", 'PWS Records (System Entry)'!$D$4)","v":""},{"$f":"IF(AND(ISBLANK(INDEX($G:$G,)), ISBLANK(INDEX($C:$C,))), \"\", 'PWS Records (System Entry)'!$D$3)","v":""},null,null,null,null,null,null,null,null,null,null,null,null,null,null,null,null,null,null,""]
[{"$f":"IF(AND(ISBLANK(INDEX($G:$G,)), ISBLANK(INDEX($C:$C,))), \"\", 'PWS Records (System Entry)'!$D$4)","v":""},{"$f":"IF(AND(ISBLANK(INDEX($G:$G,)), ISBLANK(INDEX($C:$C,))), \"\", 'PWS Records (System Entry)'!$D$3)","v":""},null,null,null,null,null,null,null,null,null,null,null,null,null,null,null,null,null,null,""]
[{"$f":"IF(AND(ISBLANK(INDEX($G:$G,)), ISBLANK(INDEX($C:$C,))), \"\", 'PWS Records (System Entry)'!$D$4)","v":""},{"$f":"IF(AND(ISBLANK(INDEX($G:$G,)), ISBLANK(INDEX($C:$C,))), \"\", 'PWS Records (System Entry)'!$D$3)","v":""},null,null,null,null,null,null,null,null,null,null,null,null,null,null,null,null,null,null,""]
[{"$f":"IF(AND(ISBLANK(INDEX($G:$G,)), ISBLANK(INDEX($C:$C,))), \"\", 'PWS Records (System Entry)'!$D$4)","v":""},{"$f":"IF(AND(ISBLANK(INDEX($G:$G,)), ISBLANK(INDEX($C:$C,))), \"\", 'PWS Records (System Entry)'!$D$3)","v":""},null,null,null,null,null,null,null,null,null,null,null,null,null,null,null,null,null,null,""]
[{"$f":"IF(AND(ISBLANK(INDEX($G:$G,)), ISBLANK(INDEX($C:$C,))), \"\", 'PWS Records (System Entry)'!$D$4)","v":""},{"$f":"IF(AND(ISBLANK(INDEX($G:$G,)), ISBLANK(INDEX($C:$C,))), \"\", 'PWS Records (System Entry)'!$D$3)","v":""},null,null,null,null,null,null,null,null,null,null,null,null,null,null,null,null,null,null,""]
[{"$f":"IF(AND(ISBLANK(INDEX($G:$G,)), ISBLANK(INDEX($C:$C,))), \"\", 'PWS Records (System Entry)'!$D$4)","v":""},{"$f":"IF(AND(ISBLANK(INDEX($G:$G,)), ISBLANK(INDEX($C:$C,))), \"\", 'PWS Records (System Entry)'!$D$3)","v":""},null,null,null,null,null,null,null,null,null,null,null,null,null,null,null,null,null,null,""]
[{"$f":"IF(AND(ISBLANK(INDEX($G:$G,)), ISBLANK(INDEX($C:$C,))), \"\", 'PWS Records (System Entry)'!$D$4)","v":""},{"$f":"IF(AND(ISBLANK(INDEX($G:$G,)), ISBLANK(INDEX($C:$C,))), \"\", 'PWS Records (System Entry)'!$D$3)","v":""},null,null,null,null,null,null,null,null,null,null,null,null,null,null,null,null,null,null,""]
[{"$f":"IF(AND(ISBLANK(INDEX($G:$G,)), ISBLANK(INDEX($C:$C,))), \"\", 'PWS Records (System Entry)'!$D$4)","v":""},{"$f":"IF(AND(ISBLANK(INDEX($G:$G,)), ISBLANK(INDEX($C:$C,))), \"\", 'PWS Records (System Entry)'!$D$3)","v":""},null,null,null,null,null,null,null,null,null,null,null,null,null,null,null,null,null,null,""]
[{"$f":"IF(AND(ISBLANK(INDEX($G:$G,)), ISBLANK(INDEX($C:$C,))), \"\", 'PWS Records (System Entry)'!$D$4)","v":""},{"$f":"IF(AND(ISBLANK(INDEX($G:$G,)), ISBLANK(INDEX($C:$C,))), \"\", 'PWS Records (System Entry)'!$D$3)","v":""},null,null,null,null,null,null,null,null,null,null,null,null,null,null,null,null,null,null,""]
[{"$f":"IF(AND(ISBLANK(INDEX($G:$G,)), ISBLANK(INDEX($C:$C,))), \"\", 'PWS Records (System Entry)'!$D$4)","v":""},{"$f":"IF(AND(ISBLANK(INDEX($G:$G,)), ISBLANK(INDEX($C:$C,))), \"\", 'PWS Records (System Entry)'!$D$3)","v":""},null,null,null,null,null,null,null,null,null,null,null,null,null,null,null,null,null,null,""]
[{"$f":"IF(AND(ISBLANK(INDEX($G:$G,)), ISBLANK(INDEX($C:$C,))), \"\", 'PWS Records (System Entry)'!$D$4)","v":""},{"$f":"IF(AND(ISBLANK(INDEX($G:$G,)), ISBLANK(INDEX($C:$C,))), \"\", 'PWS Records (System Entry)'!$D$3)","v":""},null,null,null,null,null,null,null,null,null,null,null,null,null,null,null,null,null,null,""]
[{"$f":"IF(AND(ISBLANK(INDEX($G:$G,)), ISBLANK(INDEX($C:$C,))), \"\", 'PWS Records (System Entry)'!$D$4)","v":""},{"$f":"IF(AND(ISBLANK(INDEX($G:$G,)), ISBLANK(INDEX($C:$C,))), \"\", 'PWS Records (System Entry)'!$D$3)","v":""},null,null,null,null,null,null,null,null,null,null,null,null,null,null,null,null,null,null,""]
[{"$f":"IF(AND(ISBLANK(INDEX($G:$G,)), ISBLANK(INDEX($C:$C,))), \"\", 'PWS Records (System Entry)'!$D$4)","v":""},{"$f":"IF(AND(ISBLANK(INDEX($G:$G,)), ISBLANK(INDEX($C:$C,))), \"\", 'PWS Records (System Entry)'!$D$3)","v":""},null,null,null,null,null,null,null,null,null,null,null,null,null,null,null,null,null,null,""]
[{"$f":"IF(AND(ISBLANK(INDEX($G:$G,)), ISBLANK(INDEX($C:$C,))), \"\", 'PWS Records (System Entry)'!$D$4)","v":""},{"$f":"IF(AND(ISBLANK(INDEX($G:$G,)), ISBLANK(INDEX($C:$C,))), \"\", 'PWS Records (System Entry)'!$D$3)","v":""},null,null,null,null,null,null,null,null,null,null,null,null,null,null,null,null,null,null,""]
[{"$f":"IF(AND(ISBLANK(INDEX($G:$G,)), ISBLANK(INDEX($C:$C,))), \"\", 'PWS Records (System Entry)'!$D$4)","v":""},{"$f":"IF(AND(ISBLANK(INDEX($G:$G,)), ISBLANK(INDEX($C:$C,))), \"\", 'PWS Records (System Entry)'!$D$3)","v":""},null,null,null,null,null,null,null,null,null,null,null,null,null,null,null,null,null,null,""]
[{"$f":"IF(AND(ISBLANK(INDEX($G:$G,)), ISBLANK(INDEX($C:$C,))), \"\", 'PWS Records (System Entry)'!$D$4)","v":""},{"$f":"IF(AND(ISBLANK(INDEX($G:$G,)), ISBLANK(INDEX($C:$C,))), \"\", 'PWS Records (System Entry)'!$D$3)","v":""},null,null,null,null,null,null,null,null,null,null,null,null,null,null,null,null,null,null,""]
[{"$f":"IF(AND(ISBLANK(INDEX($G:$G,)), ISBLANK(INDEX($C:$C,))), \"\", 'PWS Records (System Entry)'!$D$4)","v":""},{"$f":"IF(AND(ISBLANK(INDEX($G:$G,)), ISBLANK(INDEX($C:$C,))), \"\", 'PWS Records (System Entry)'!$D$3)","v":""},null,null,null,null,null,null,null,null,null,null,null,null,null,null,null,null,null,null,""]
[{"$f":"IF(AND(ISBLANK(INDEX($G:$G,)), ISBLANK(INDEX($C:$C,))), \"\", 'PWS Records (System Entry)'!$D$4)","v":""},{"$f":"IF(AND(ISBLANK(INDEX($G:$G,)), ISBLANK(INDEX($C:$C,))), \"\", 'PWS Records (System Entry)'!$D$3)","v":""},null,null,null,null,null,null,null,null,null,null,null,null,null,null,null,null,null,null,""]
[{"$f":"IF(AND(ISBLANK(INDEX($G:$G,)), ISBLANK(INDEX($C:$C,))), \"\", 'PWS Records (System Entry)'!$D$4)","v":""},{"$f":"IF(AND(ISBLANK(INDEX($G:$G,)), ISBLANK(INDEX($C:$C,))), \"\", 'PWS Records (System Entry)'!$D$3)","v":""},null,null,null,null,null,null,null,null,null,null,null,null,null,null,null,null,null,null,""]
[{"$f":"IF(AND(ISBLANK(INDEX($G:$G,)), ISBLANK(INDEX($C:$C,))), \"\", 'PWS Records (System Entry)'!$D$4)","v":""},{"$f":"IF(AND(ISBLANK(INDEX($G:$G,)), ISBLANK(INDEX($C:$C,))), \"\", 'PWS Records (System Entry)'!$D$3)","v":""},null,null,null,null,null,null,null,null,null,null,null,null,null,null,null,null,null,null,""]
[{"$f":"IF(AND(ISBLANK(INDEX($G:$G,)), ISBLANK(INDEX($C:$C,))), \"\", 'PWS Records (System Entry)'!$D$4)","v":""},{"$f":"IF(AND(ISBLANK(INDEX($G:$G,)), ISBLANK(INDEX($C:$C,))), \"\", 'PWS Records (System Entry)'!$D$3)","v":""},null,null,null,null,null,null,null,null,null,null,null,null,null,null,null,null,null,null,""]
[{"$f":"IF(AND(ISBLANK(INDEX($G:$G,)), ISBLANK(INDEX($C:$C,))), \"\", 'PWS Records (System Entry)'!$D$4)","v":""},{"$f":"IF(AND(ISBLANK(INDEX($G:$G,)), ISBLANK(INDEX($C:$C,))), \"\", 'PWS Records (System Entry)'!$D$3)","v":""},null,null,null,null,null,null,null,null,null,null,null,null,null,null,null,null,null,null,""]
[{"$f":"IF(AND(ISBLANK(INDEX($G:$G,)), ISBLANK(INDEX($C:$C,))), \"\", 'PWS Records (System Entry)'!$D$4)","v":""},{"$f":"IF(AND(ISBLANK(INDEX($G:$G,)), ISBLANK(INDEX($C:$C,))), \"\", 'PWS Records (System Entry)'!$D$3)","v":""},null,null,null,null,null,null,null,null,null,null,null,null,null,null,null,null,null,null,""]
[{"$f":"IF(AND(ISBLANK(INDEX($G:$G,)), ISBLANK(INDEX($C:$C,))), \"\", 'PWS Records (System Entry)'!$D$4)","v":""},{"$f":"IF(AND(ISBLANK(INDEX($G:$G,)), ISBLANK(INDEX($C:$C,))), \"\", 'PWS Records (System Entry)'!$D$3)","v":""},null,null,null,null,null,null,null,null,null,null,null,null,null,null,null,null,null,null,""]
[{"$f":"IF(AND(ISBLANK(INDEX($G:$G,)), ISBLANK(INDEX($C:$C,))), \"\", 'PWS Records (System Entry)'!$D$4)","v":""},{"$f":"IF(AND(ISBLANK(INDEX($G:$G,)), ISBLANK(INDEX($C:$C,))), \"\", 'PWS Records (System Entry)'!$D$3)","v":""},null,null,null,null,null,null,null,null,null,null,null,null,null,null,null,null,null,null,""]
[{"$f":"IF(AND(ISBLANK(INDEX($G:$G,)), ISBLANK(INDEX($C:$C,))), \"\", 'PWS Records (System Entry)'!$D$4)","v":""},{"$f":"IF(AND(ISBLANK(INDEX($G:$G,)), ISBLANK(INDEX($C:$C,))), \"\", 'PWS Records (System Entry)'!$D$3)","v":""},null,null,null,null,null,null,null,null,null,null,null,null,null,null,null,null,null,null,""]
[{"$f":"IF(AND(ISBLANK(INDEX($G:$G,)), ISBLANK(INDEX($C:$C,))), \"\", 'PWS Records (System Entry)'!$D$4)","v":""},{"$f":"IF(AND(ISBLANK(INDEX($G:$G,)), ISBLANK(INDEX($C:$C,))), \"\", 'PWS Records (System Entry)'!$D$3)","v":""},null,null,null,null,null,null,null,null,null,null,null,null,null,null,null,null,null,null,{"$f":"IF(AND(INDEX($K:$K,)=\"\", INDEX($L:$L,)=\"\", INDEX($M:$M,)=\"\", INDEX($Q:$Q,)=\"\", INDEX($R:$R,)=\"\"), \"\", IF(OR(INDEX($K:$K,)=\"Lead\",INDEX($Q:$Q,)=\"Lead\"),\"Lead\",IF(OR(AND(OR(INDEX($M:$M,)=\"Yes\", INDEX($M:$M,)=\"Don't Know\", INDEX($M:$M,)=\"\"), INDEX($Q:$Q,)=\"Galvanized Iron/Steel\"), AND(INDEX($K:$K,)=\"Unknown\", INDEX($M:$M,)=\"No\", INDEX($Q:$Q,)=\"Galvanized Iron/Steel\")), \"Galvanized Requiring Replacement\", IF(OR(AND(OR(INDEX($K:$K,)=\"Galvanized Iron/Steel\", INDEX($K:$K,)=\"Non-Lead - Copper\", INDEX($K:$K,)=\"Non-Lead - Plastic\", INDEX($K:$K,)=\"Non-Lead - Other\", INDEX($K:$K,)=\"Non-Lead - Material Unknown\", INDEX($K:$K,)=\"No System Owned Portion\"), OR(INDEX($Q:$Q,)=\"Galvanized Iron/Steel\", INDEX($Q:$Q,)=\"Non-Lead - Copper\", INDEX($Q:$Q,)=\"Non-Lead - Plastic\", INDEX($Q:$Q,)=\"Non-Lead - Other\", INDEX($Q:$Q,)=\"Non-Lead - Predictive Model\", INDEX($Q:$Q,)=\"No Customer Owned Portion\")), AND(OR( INDEX($K:$K,)=\"Galvanized Iron/Steel\", INDEX($K:$K,)=\"Non-Lead - Copper\", INDEX($K:$K,)=\"Non-Lead - Plastic\", INDEX($K:$K,)=\"Non-Lead - Other\", INDEX($K:$K,)=\"Non-Lead - Material Unknown\", INDEX($K:$K,)=\"No System Owned Portion\"), INDEX($M:$M,)=\"No\", INDEX($Q:$Q,)=\"Non-Lead - Material Unknown\")), \"Non-Lead\", \"Lead Status Unknown\"))))","v":""}]
[{"$f":"IF(AND(ISBLANK(INDEX($G:$G,)), ISBLANK(INDEX($C:$C,))), \"\", 'PWS Records (System Entry)'!$D$4)","v":""},{"$f":"IF(AND(ISBLANK(INDEX($G:$G,)), ISBLANK(INDEX($C:$C,))), \"\", 'PWS Records (System Entry)'!$D$3)","v":""},null,null,null,null,null,null,null,null,null,null,null,null,null,null,null,null,null,null,""]
[{"$f":"IF(AND(ISBLANK(INDEX($G:$G,)), ISBLANK(INDEX($C:$C,))), \"\", 'PWS Records (System Entry)'!$D$4)","v":""},{"$f":"IF(AND(ISBLANK(INDEX($G:$G,)), ISBLANK(INDEX($C:$C,))), \"\", 'PWS Records (System Entry)'!$D$3)","v":""},null,null,null,null,null,null,null,null,null,null,null,null,null,null,null,null,null,null,""]
[{"$f":"IF(AND(ISBLANK(INDEX($G:$G,)), ISBLANK(INDEX($C:$C,))), \"\", 'PWS Records (System Entry)'!$D$4)","v":""},{"$f":"IF(AND(ISBLANK(INDEX($G:$G,)), ISBLANK(INDEX($C:$C,))), \"\", 'PWS Records (System Entry)'!$D$3)","v":""},null,null,null,null,null,null,null,null,null,null,null,null,null,null,null,null,null,null,""]
[{"$f":"IF(AND(ISBLANK(INDEX($G:$G,)), ISBLANK(INDEX($C:$C,))), \"\", 'PWS Records (System Entry)'!$D$4)","v":""},{"$f":"IF(AND(ISBLANK(INDEX($G:$G,)), ISBLANK(INDEX($C:$C,))), \"\", 'PWS Records (System Entry)'!$D$3)","v":""},null,null,null,null,null,null,null,null,null,null,null,null,null,null,null,null,null,null,""]
[{"$f":"IF(AND(ISBLANK(INDEX($G:$G,)), ISBLANK(INDEX($C:$C,))), \"\", 'PWS Records (System Entry)'!$D$4)","v":""},{"$f":"IF(AND(ISBLANK(INDEX($G:$G,)), ISBLANK(INDEX($C:$C,))), \"\", 'PWS Records (System Entry)'!$D$3)","v":""},null,null,null,null,null,null,null,null,null,null,null,null,null,null,null,null,null,null,""]
[{"$f":"IF(AND(ISBLANK(INDEX($G:$G,)), ISBLANK(INDEX($C:$C,))), \"\", 'PWS Records (System Entry)'!$D$4)","v":""},{"$f":"IF(AND(ISBLANK(INDEX($G:$G,)), ISBLANK(INDEX($C:$C,))), \"\", 'PWS Records (System Entry)'!$D$3)","v":""},null,null,null,null,null,null,null,null,null,null,null,null,null,null,null,null,null,null,""]
[{"$f":"IF(AND(ISBLANK(INDEX($G:$G,)), ISBLANK(INDEX($C:$C,))), \"\", 'PWS Records (System Entry)'!$D$4)","v":""},{"$f":"IF(AND(ISBLANK(INDEX($G:$G,)), ISBLANK(INDEX($C:$C,))), \"\", 'PWS Records (System Entry)'!$D$3)","v":""},null,null,null,null,null,null,null,null,null,null,null,null,null,null,null,null,null,null,""]
[{"$f":"IF(AND(ISBLANK(INDEX($G:$G,)), ISBLANK(INDEX($C:$C,))), \"\", 'PWS Records (System Entry)'!$D$4)","v":""},{"$f":"IF(AND(ISBLANK(INDEX($G:$G,)), ISBLANK(INDEX($C:$C,))), \"\", 'PWS Records (System Entry)'!$D$3)","v":""},null,null,null,null,null,null,null,null,null,null,null,null,null,null,null,null,null,null,""]
[{"$f":"IF(AND(ISBLANK(INDEX($G:$G,)), ISBLANK(INDEX($C:$C,))), \"\", 'PWS Records (System Entry)'!$D$4)","v":""},{"$f":"IF(AND(ISBLANK(INDEX($G:$G,)), ISBLANK(INDEX($C:$C,))), \"\", 'PWS Records (System Entry)'!$D$3)","v":""},null,null,null,null,null,null,null,null,null,null,null,null,null,null,null,null,null,null,""]
[{"$f":"IF(AND(ISBLANK(INDEX($G:$G,)), ISBLANK(INDEX($C:$C,))), \"\", 'PWS Records (System Entry)'!$D$4)","v":""},{"$f":"IF(AND(ISBLANK(INDEX($G:$G,)), ISBLANK(INDEX($C:$C,))), \"\", 'PWS Records (System Entry)'!$D$3)","v":""},null,null,null,null,null,null,null,null,null,null,null,null,null,null,null,null,null,null,""]
[{"$f":"IF(AND(ISBLANK(INDEX($G:$G,)), ISBLANK(INDEX($C:$C,))), \"\", 'PWS Records (System Entry)'!$D$4)","v":""},{"$f":"IF(AND(ISBLANK(INDEX($G:$G,)), ISBLANK(INDEX($C:$C,))), \"\", 'PWS Records (System Entry)'!$D$3)","v":""},null,null,null,null,null,null,null,null,null,null,null,null,null,null,null,null,null,null,""]
[{"$f":"IF(AND(ISBLANK(INDEX($G:$G,)), ISBLANK(INDEX($C:$C,))), \"\", 'PWS Records (System Entry)'!$D$4)","v":""},{"$f":"IF(AND(ISBLANK(INDEX($G:$G,)), ISBLANK(INDEX($C:$C,))), \"\", 'PWS Records (System Entry)'!$D$3)","v":""},null,null,null,null,null,null,null,null,null,null,null,null,null,null,null,null,null,null,""]
[{"$f":"IF(AND(ISBLANK(INDEX($G:$G,)), ISBLANK(INDEX($C:$C,))), \"\", 'PWS Records (System Entry)'!$D$4)","v":""},{"$f":"IF(AND(ISBLANK(INDEX($G:$G,)), ISBLANK(INDEX($C:$C,))), \"\", 'PWS Records (System Entry)'!$D$3)","v":""},null,null,null,null,null,null,null,null,null,null,null,null,null,null,null,null,null,null,""]
[{"$f":"IF(AND(ISBLANK(INDEX($G:$G,)), ISBLANK(INDEX($C:$C,))), \"\", 'PWS Records (System Entry)'!$D$4)","v":""},{"$f":"IF(AND(ISBLANK(INDEX($G:$G,)), ISBLANK(INDEX($C:$C,))), \"\", 'PWS Records (System Entry)'!$D$3)","v":""},null,null,null,null,null,null,null,null,null,null,null,null,null,null,null,null,null,null,""]
[{"$f":"IF(AND(ISBLANK(INDEX($G:$G,)), ISBLANK(INDEX($C:$C,))), \"\", 'PWS Records (System Entry)'!$D$4)","v":""},{"$f":"IF(AND(ISBLANK(INDEX($G:$G,)), ISBLANK(INDEX($C:$C,))), \"\", 'PWS Records (System Entry)'!$D$3)","v":""},null,null,null,null,null,null,null,null,null,null,null,null,null,null,null,null,null,null,""]
[{"$f":"IF(AND(ISBLANK(INDEX($G:$G,)), ISBLANK(INDEX($C:$C,))), \"\", 'PWS Records (System Entry)'!$D$4)","v":""},{"$f":"IF(AND(ISBLANK(INDEX($G:$G,)), ISBLANK(INDEX($C:$C,))), \"\", 'PWS Records (System Entry)'!$D$3)","v":""},null,null,null,null,null,null,null,null,null,null,null,null,null,null,null,null,null,null,""]
[{"$f":"IF(AND(ISBLANK(INDEX($G:$G,)), ISBLANK(INDEX($C:$C,))), \"\", 'PWS Records (System Entry)'!$D$4)","v":""},{"$f":"IF(AND(ISBLANK(INDEX($G:$G,)), ISBLANK(INDEX($C:$C,))), \"\", 'PWS Records (System Entry)'!$D$3)","v":""},null,null,null,null,null,null,null,null,null,null,null,null,null,null,null,null,null,null,""]
[{"$f":"IF(AND(ISBLANK(INDEX($G:$G,)), ISBLANK(INDEX($C:$C,))), \"\", 'PWS Records (System Entry)'!$D$4)","v":""},{"$f":"IF(AND(ISBLANK(INDEX($G:$G,)), ISBLANK(INDEX($C:$C,))), \"\", 'PWS Records (System Entry)'!$D$3)","v":""},null,null,null,null,null,null,null,null,null,null,null,null,null,null,null,null,null,null,""]
[{"$f":"IF(AND(ISBLANK(INDEX($G:$G,)), ISBLANK(INDEX($C:$C,))), \"\", 'PWS Records (System Entry)'!$D$4)","v":""},{"$f":"IF(AND(ISBLANK(INDEX($G:$G,)), ISBLANK(INDEX($C:$C,))), \"\", 'PWS Records (System Entry)'!$D$3)","v":""},null,null,null,null,null,null,null,null,null,null,null,null,null,null,null,null,null,null,""]
[{"$f":"IF(AND(ISBLANK(INDEX($G:$G,)), ISBLANK(INDEX($C:$C,))), \"\", 'PWS Records (System Entry)'!$D$4)","v":""},{"$f":"IF(AND(ISBLANK(INDEX($G:$G,)), ISBLANK(INDEX($C:$C,))), \"\", 'PWS Records (System Entry)'!$D$3)","v":""},null,null,null,null,null,null,null,null,null,null,null,null,null,null,null,null,null,null,""]
[{"$f":"IF(AND(ISBLANK(INDEX($G:$G,)), ISBLANK(INDEX($C:$C,))), \"\", 'PWS Records (System Entry)'!$D$4)","v":""},{"$f":"IF(AND(ISBLANK(INDEX($G:$G,)), ISBLANK(INDEX($C:$C,))), \"\", 'PWS Records (System Entry)'!$D$3)","v":""},null,null,null,null,null,null,null,null,null,null,null,null,null,null,null,null,null,null,""]
[{"$f":"IF(AND(ISBLANK(INDEX($G:$G,)), ISBLANK(INDEX($C:$C,))), \"\", 'PWS Records (System Entry)'!$D$4)","v":""},{"$f":"IF(AND(ISBLANK(INDEX($G:$G,)), ISBLANK(INDEX($C:$C,))), \"\", 'PWS Records (System Entry)'!$D$3)","v":""},null,null,null,null,null,null,null,null,null,null,null,null,null,null,null,null,null,null,""]
[{"$f":"IF(AND(ISBLANK(INDEX($G:$G,)), ISBLANK(INDEX($C:$C,))), \"\", 'PWS Records (System Entry)'!$D$4)","v":""},{"$f":"IF(AND(ISBLANK(INDEX($G:$G,)), ISBLANK(INDEX($C:$C,))), \"\", 'PWS Records (System Entry)'!$D$3)","v":""},null,null,null,null,null,null,null,null,null,null,null,null,null,null,null,null,null,null,""]
[{"$f":"IF(AND(ISBLANK(INDEX($G:$G,)), ISBLANK(INDEX($C:$C,))), \"\", 'PWS Records (System Entry)'!$D$4)","v":""},{"$f":"IF(AND(ISBLANK(INDEX($G:$G,)), ISBLANK(INDEX($C:$C,))), \"\", 'PWS Records (System Entry)'!$D$3)","v":""},null,null,null,null,null,null,null,null,null,null,null,null,null,null,null,null,null,null,""]
[{"$f":"IF(AND(ISBLANK(INDEX($G:$G,)), ISBLANK(INDEX($C:$C,))), \"\", 'PWS Records (System Entry)'!$D$4)","v":""},{"$f":"IF(AND(ISBLANK(INDEX($G:$G,)), ISBLANK(INDEX($C:$C,))), \"\", 'PWS Records (System Entry)'!$D$3)","v":""},null,null,null,null,null,null,null,null,null,null,null,null,null,null,null,null,null,null,""]
[{"$f":"IF(AND(ISBLANK(INDEX($G:$G,)), ISBLANK(INDEX($C:$C,))), \"\", 'PWS Records (System Entry)'!$D$4)","v":""},{"$f":"IF(AND(ISBLANK(INDEX($G:$G,)), ISBLANK(INDEX($C:$C,))), \"\", 'PWS Records (System Entry)'!$D$3)","v":""},null,null,null,null,null,null,null,null,null,null,null,null,null,null,null,null,null,null,""]
[{"$f":"IF(AND(ISBLANK(INDEX($G:$G,)), ISBLANK(INDEX($C:$C,))), \"\", 'PWS Records (System Entry)'!$D$4)","v":""},{"$f":"IF(AND(ISBLANK(INDEX($G:$G,)), ISBLANK(INDEX($C:$C,))), \"\", 'PWS Records (System Entry)'!$D$3)","v":""},null,null,null,null,null,null,null,null,null,null,null,null,null,null,null,null,null,null,""]
[{"$f":"IF(AND(ISBLANK(INDEX($G:$G,)), ISBLANK(INDEX($C:$C,))), \"\", 'PWS Records (System Entry)'!$D$4)","v":""},{"$f":"IF(AND(ISBLANK(INDEX($G:$G,)), ISBLANK(INDEX($C:$C,))), \"\", 'PWS Records (System Entry)'!$D$3)","v":""},null,null,null,null,null,null,null,null,null,null,null,null,null,null,null,null,null,null,""]
[{"$f":"IF(AND(ISBLANK(INDEX($G:$G,)), ISBLANK(INDEX($C:$C,))), \"\", 'PWS Records (System Entry)'!$D$4)","v":""},{"$f":"IF(AND(ISBLANK(INDEX($G:$G,)), ISBLANK(INDEX($C:$C,))), \"\", 'PWS Records (System Entry)'!$D$3)","v":""},null,null,null,null,null,null,null,null,null,null,null,null,null,null,null,null,null,null,""]
[{"$f":"IF(AND(ISBLANK(INDEX($G:$G,)), ISBLANK(INDEX($C:$C,))), \"\", 'PWS Records (System Entry)'!$D$4)","v":""},{"$f":"IF(AND(ISBLANK(INDEX($G:$G,)), ISBLANK(INDEX($C:$C,))), \"\", 'PWS Records (System Entry)'!$D$3)","v":""},null,null,null,null,null,null,null,null,null,null,null,null,null,null,null,null,null,null,""]
[{"$f":"IF(AND(ISBLANK(INDEX($G:$G,)), ISBLANK(INDEX($C:$C,))), \"\", 'PWS Records (System Entry)'!$D$4)","v":""},{"$f":"IF(AND(ISBLANK(INDEX($G:$G,)), ISBLANK(INDEX($C:$C,))), \"\", 'PWS Records (System Entry)'!$D$3)","v":""},null,null,null,null,null,null,null,null,null,null,null,null,null,null,null,null,null,null,""]
[{"$f":"IF(AND(ISBLANK(INDEX($G:$G,)), ISBLANK(INDEX($C:$C,))), \"\", 'PWS Records (System Entry)'!$D$4)","v":""},{"$f":"IF(AND(ISBLANK(INDEX($G:$G,)), ISBLANK(INDEX($C:$C,))), \"\", 'PWS Records (System Entry)'!$D$3)","v":""},null,null,null,null,null,null,null,null,null,null,null,null,null,null,null,null,null,null,""]
[{"$f":"IF(AND(ISBLANK(INDEX($G:$G,)), ISBLANK(INDEX($C:$C,))), \"\", 'PWS Records (System Entry)'!$D$4)","v":""},{"$f":"IF(AND(ISBLANK(INDEX($G:$G,)), ISBLANK(INDEX($C:$C,))), \"\", 'PWS Records (System Entry)'!$D$3)","v":""},null,null,null,null,null,null,null,null,null,null,null,null,null,null,null,null,null,null,""]
[{"$f":"IF(AND(ISBLANK(INDEX($G:$G,)), ISBLANK(INDEX($C:$C,))), \"\", 'PWS Records (System Entry)'!$D$4)","v":""},{"$f":"IF(AND(ISBLANK(INDEX($G:$G,)), ISBLANK(INDEX($C:$C,))), \"\", 'PWS Records (System Entry)'!$D$3)","v":""},null,null,null,null,null,null,null,null,null,null,null,null,null,null,null,null,null,null,""]
[{"$f":"IF(AND(ISBLANK(INDEX($G:$G,)), ISBLANK(INDEX($C:$C,))), \"\", 'PWS Records (System Entry)'!$D$4)","v":""},{"$f":"IF(AND(ISBLANK(INDEX($G:$G,)), ISBLANK(INDEX($C:$C,))), \"\", 'PWS Records (System Entry)'!$D$3)","v":""},null,null,null,null,null,null,null,null,null,null,null,null,null,null,null,null,null,null,""]
[{"$f":"IF(AND(ISBLANK(INDEX($G:$G,)), ISBLANK(INDEX($C:$C,))), \"\", 'PWS Records (System Entry)'!$D$4)","v":""},{"$f":"IF(AND(ISBLANK(INDEX($G:$G,)), ISBLANK(INDEX($C:$C,))), \"\", 'PWS Records (System Entry)'!$D$3)","v":""},null,null,null,null,null,null,null,null,null,null,null,null,null,null,null,null,null,null,""]
[{"$f":"IF(AND(ISBLANK(INDEX($G:$G,)), ISBLANK(INDEX($C:$C,))), \"\", 'PWS Records (System Entry)'!$D$4)","v":""},{"$f":"IF(AND(ISBLANK(INDEX($G:$G,)), ISBLANK(INDEX($C:$C,))), \"\", 'PWS Records (System Entry)'!$D$3)","v":""},null,null,null,null,null,null,null,null,null,null,null,null,null,null,null,null,null,null,""]
[{"$f":"IF(AND(ISBLANK(INDEX($G:$G,)), ISBLANK(INDEX($C:$C,))), \"\", 'PWS Records (System Entry)'!$D$4)","v":""},{"$f":"IF(AND(ISBLANK(INDEX($G:$G,)), ISBLANK(INDEX($C:$C,))), \"\", 'PWS Records (System Entry)'!$D$3)","v":""},null,null,null,null,null,null,null,null,null,null,null,null,null,null,null,null,null,null,""]
[{"$f":"IF(AND(ISBLANK(INDEX($G:$G,)), ISBLANK(INDEX($C:$C,))), \"\", 'PWS Records (System Entry)'!$D$4)","v":""},{"$f":"IF(AND(ISBLANK(INDEX($G:$G,)), ISBLANK(INDEX($C:$C,))), \"\", 'PWS Records (System Entry)'!$D$3)","v":""},null,null,null,null,null,null,null,null,null,null,null,null,null,null,null,null,null,null,""]
[{"$f":"IF(AND(ISBLANK(INDEX($G:$G,)), ISBLANK(INDEX($C:$C,))), \"\", 'PWS Records (System Entry)'!$D$4)","v":""},{"$f":"IF(AND(ISBLANK(INDEX($G:$G,)), ISBLANK(INDEX($C:$C,))), \"\", 'PWS Records (System Entry)'!$D$3)","v":""},null,null,null,null,null,null,null,null,null,null,null,null,null,null,null,null,null,null,""]
[{"$f":"IF(AND(ISBLANK(INDEX($G:$G,)), ISBLANK(INDEX($C:$C,))), \"\", 'PWS Records (System Entry)'!$D$4)","v":""},{"$f":"IF(AND(ISBLANK(INDEX($G:$G,)), ISBLANK(INDEX($C:$C,))), \"\", 'PWS Records (System Entry)'!$D$3)","v":""},null,null,null,null,null,null,null,null,null,null,null,null,null,null,null,null,null,null,""]
[{"$f":"IF(AND(ISBLANK(INDEX($G:$G,)), ISBLANK(INDEX($C:$C,))), \"\", 'PWS Records (System Entry)'!$D$4)","v":""},{"$f":"IF(AND(ISBLANK(INDEX($G:$G,)), ISBLANK(INDEX($C:$C,))), \"\", 'PWS Records (System Entry)'!$D$3)","v":""},null,null,null,null,null,null,null,null,null,null,null,null,null,null,null,null,null,null,""]
[{"$f":"IF(AND(ISBLANK(INDEX($G:$G,)), ISBLANK(INDEX($C:$C,))), \"\", 'PWS Records (System Entry)'!$D$4)","v":""},{"$f":"IF(AND(ISBLANK(INDEX($G:$G,)), ISBLANK(INDEX($C:$C,))), \"\", 'PWS Records (System Entry)'!$D$3)","v":""},null,null,null,null,null,null,null,null,null,null,null,null,null,null,null,null,null,null,""]
[{"$f":"IF(AND(ISBLANK(INDEX($G:$G,)), ISBLANK(INDEX($C:$C,))), \"\", 'PWS Records (System Entry)'!$D$4)","v":""},{"$f":"IF(AND(ISBLANK(INDEX($G:$G,)), ISBLANK(INDEX($C:$C,))), \"\", 'PWS Records (System Entry)'!$D$3)","v":""},null,null,null,null,null,null,null,null,null,null,null,null,null,null,null,null,null,null,""]
[{"$f":"IF(AND(ISBLANK(INDEX($G:$G,)), ISBLANK(INDEX($C:$C,))), \"\", 'PWS Records (System Entry)'!$D$4)","v":""},{"$f":"IF(AND(ISBLANK(INDEX($G:$G,)), ISBLANK(INDEX($C:$C,))), \"\", 'PWS Records (System Entry)'!$D$3)","v":""},null,null,null,null,null,null,null,null,null,null,null,null,null,null,null,null,null,null,""]
[{"$f":"IF(AND(ISBLANK(INDEX($G:$G,)), ISBLANK(INDEX($C:$C,))), \"\", 'PWS Records (System Entry)'!$D$4)","v":""},{"$f":"IF(AND(ISBLANK(INDEX($G:$G,)), ISBLANK(INDEX($C:$C,))), \"\", 'PWS Records (System Entry)'!$D$3)","v":""},null,null,null,null,null,null,null,null,null,null,null,null,null,null,null,null,null,null,""]
[{"$f":"IF(AND(ISBLANK(INDEX($G:$G,)), ISBLANK(INDEX($C:$C,))), \"\", 'PWS Records (System Entry)'!$D$4)","v":""},{"$f":"IF(AND(ISBLANK(INDEX($G:$G,)), ISBLANK(INDEX($C:$C,))), \"\", 'PWS Records (System Entry)'!$D$3)","v":""},null,null,null,null,null,null,null,null,null,null,null,null,null,null,null,null,null,null,""]
[{"$f":"IF(AND(ISBLANK(INDEX($G:$G,)), ISBLANK(INDEX($C:$C,))), \"\", 'PWS Records (System Entry)'!$D$4)","v":""},{"$f":"IF(AND(ISBLANK(INDEX($G:$G,)), ISBLANK(INDEX($C:$C,))), \"\", 'PWS Records (System Entry)'!$D$3)","v":""},null,null,null,null,null,null,null,null,null,null,null,null,null,null,null,null,null,null,""]
[{"$f":"IF(AND(ISBLANK(INDEX($G:$G,)), ISBLANK(INDEX($C:$C,))), \"\", 'PWS Records (System Entry)'!$D$4)","v":""},{"$f":"IF(AND(ISBLANK(INDEX($G:$G,)), ISBLANK(INDEX($C:$C,))), \"\", 'PWS Records (System Entry)'!$D$3)","v":""},null,null,null,null,null,null,null,null,null,null,null,null,null,null,null,null,null,null,""]
[{"$f":"IF(AND(ISBLANK(INDEX($G:$G,)), ISBLANK(INDEX($C:$C,))), \"\", 'PWS Records (System Entry)'!$D$4)","v":""},{"$f":"IF(AND(ISBLANK(INDEX($G:$G,)), ISBLANK(INDEX($C:$C,))), \"\", 'PWS Records (System Entry)'!$D$3)","v":""},null,null,null,null,null,null,null,null,null,null,null,null,null,null,null,null,null,null,""]
[{"$f":"IF(AND(ISBLANK(INDEX($G:$G,)), ISBLANK(INDEX($C:$C,))), \"\", 'PWS Records (System Entry)'!$D$4)","v":""},{"$f":"IF(AND(ISBLANK(INDEX($G:$G,)), ISBLANK(INDEX($C:$C,))), \"\", 'PWS Records (System Entry)'!$D$3)","v":""},null,null,null,null,null,null,null,null,null,null,null,null,null,null,null,null,null,null,""]
[{"$f":"IF(AND(ISBLANK(INDEX($G:$G,)), ISBLANK(INDEX($C:$C,))), \"\", 'PWS Records (System Entry)'!$D$4)","v":""},{"$f":"IF(AND(ISBLANK(INDEX($G:$G,)), ISBLANK(INDEX($C:$C,))), \"\", 'PWS Records (System Entry)'!$D$3)","v":""},null,null,null,null,null,null,null,null,null,null,null,null,null,null,null,null,null,null,""]
[{"$f":"IF(AND(ISBLANK(INDEX($G:$G,)), ISBLANK(INDEX($C:$C,))), \"\", 'PWS Records (System Entry)'!$D$4)","v":""},{"$f":"IF(AND(ISBLANK(INDEX($G:$G,)), ISBLANK(INDEX($C:$C,))), \"\", 'PWS Records (System Entry)'!$D$3)","v":""},null,null,null,null,null,null,null,null,null,null,null,null,null,null,null,null,null,null,""]
[{"$f":"IF(AND(ISBLANK(INDEX($G:$G,)), ISBLANK(INDEX($C:$C,))), \"\", 'PWS Records (System Entry)'!$D$4)","v":""},{"$f":"IF(AND(ISBLANK(INDEX($G:$G,)), ISBLANK(INDEX($C:$C,))), \"\", 'PWS Records (System Entry)'!$D$3)","v":""},null,null,null,null,null,null,null,null,null,null,null,null,null,null,null,null,null,null,""]
[{"$f":"IF(AND(ISBLANK(INDEX($G:$G,)), ISBLANK(INDEX($C:$C,))), \"\", 'PWS Records (System Entry)'!$D$4)","v":""},{"$f":"IF(AND(ISBLANK(INDEX($G:$G,)), ISBLANK(INDEX($C:$C,))), \"\", 'PWS Records (System Entry)'!$D$3)","v":""},null,null,null,null,null,null,null,null,null,null,null,null,null,null,null,null,null,null,""]
[{"$f":"IF(AND(ISBLANK(INDEX($G:$G,)), ISBLANK(INDEX($C:$C,))), \"\", 'PWS Records (System Entry)'!$D$4)","v":""},{"$f":"IF(AND(ISBLANK(INDEX($G:$G,)), ISBLANK(INDEX($C:$C,))), \"\", 'PWS Records (System Entry)'!$D$3)","v":""},null,null,null,null,null,null,null,null,null,null,null,null,null,null,null,null,null,null,""]
[{"$f":"IF(AND(ISBLANK(INDEX($G:$G,)), ISBLANK(INDEX($C:$C,))), \"\", 'PWS Records (System Entry)'!$D$4)","v":""},{"$f":"IF(AND(ISBLANK(INDEX($G:$G,)), ISBLANK(INDEX($C:$C,))), \"\", 'PWS Records (System Entry)'!$D$3)","v":""},null,null,null,null,null,null,null,null,null,null,null,null,null,null,null,null,null,null,""]
[{"$f":"IF(AND(ISBLANK(INDEX($G:$G,)), ISBLANK(INDEX($C:$C,))), \"\", 'PWS Records (System Entry)'!$D$4)","v":""},{"$f":"IF(AND(ISBLANK(INDEX($G:$G,)), ISBLANK(INDEX($C:$C,))), \"\", 'PWS Records (System Entry)'!$D$3)","v":""},null,null,null,null,null,null,null,null,null,null,null,null,null,null,null,null,null,null,""]
[{"$f":"IF(AND(ISBLANK(INDEX($G:$G,)), ISBLANK(INDEX($C:$C,))), \"\", 'PWS Records (System Entry)'!$D$4)","v":""},{"$f":"IF(AND(ISBLANK(INDEX($G:$G,)), ISBLANK(INDEX($C:$C,))), \"\", 'PWS Records (System Entry)'!$D$3)","v":""},null,null,null,null,null,null,null,null,null,null,null,null,null,null,null,null,null,null,""]
[{"$f":"IF(AND(ISBLANK(INDEX($G:$G,)), ISBLANK(INDEX($C:$C,))), \"\", 'PWS Records (System Entry)'!$D$4)","v":""},{"$f":"IF(AND(ISBLANK(INDEX($G:$G,)), ISBLANK(INDEX($C:$C,))), \"\", 'PWS Records (System Entry)'!$D$3)","v":""},null,null,null,null,null,null,null,null,null,null,null,null,null,null,null,null,null,null,""]
[{"$f":"IF(AND(ISBLANK(INDEX($G:$G,)), ISBLANK(INDEX($C:$C,))), \"\", 'PWS Records (System Entry)'!$D$4)","v":""},{"$f":"IF(AND(ISBLANK(INDEX($G:$G,)), ISBLANK(INDEX($C:$C,))), \"\", 'PWS Records (System Entry)'!$D$3)","v":""},null,null,null,null,null,null,null,null,null,null,null,null,null,null,null,null,null,null,""]
[{"$f":"IF(AND(ISBLANK(INDEX($G:$G,)), ISBLANK(INDEX($C:$C,))), \"\", 'PWS Records (System Entry)'!$D$4)","v":""},{"$f":"IF(AND(ISBLANK(INDEX($G:$G,)), ISBLANK(INDEX($C:$C,))), \"\", 'PWS Records (System Entry)'!$D$3)","v":""},null,null,null,null,null,null,null,null,null,null,null,null,null,null,null,null,null,null,""]
[{"$f":"IF(AND(ISBLANK(INDEX($G:$G,)), ISBLANK(INDEX($C:$C,))), \"\", 'PWS Records (System Entry)'!$D$4)","v":""},{"$f":"IF(AND(ISBLANK(INDEX($G:$G,)), ISBLANK(INDEX($C:$C,))), \"\", 'PWS Records (System Entry)'!$D$3)","v":""},null,null,null,null,null,null,null,null,null,null,null,null,null,null,null,null,null,null,""]
[{"$f":"IF(AND(ISBLANK(INDEX($G:$G,)), ISBLANK(INDEX($C:$C,))), \"\", 'PWS Records (System Entry)'!$D$4)","v":""},{"$f":"IF(AND(ISBLANK(INDEX($G:$G,)), ISBLANK(INDEX($C:$C,))), \"\", 'PWS Records (System Entry)'!$D$3)","v":""},null,null,null,null,null,null,null,null,null,null,null,null,null,null,null,null,null,null,""]
[{"$f":"IF(AND(ISBLANK(INDEX($G:$G,)), ISBLANK(INDEX($C:$C,))), \"\", 'PWS Records (System Entry)'!$D$4)","v":""},{"$f":"IF(AND(ISBLANK(INDEX($G:$G,)), ISBLANK(INDEX($C:$C,))), \"\", 'PWS Records (System Entry)'!$D$3)","v":""},null,null,null,null,null,null,null,null,null,null,null,null,null,null,null,null,null,null,""]
[{"$f":"IF(AND(ISBLANK(INDEX($G:$G,)), ISBLANK(INDEX($C:$C,))), \"\", 'PWS Records (System Entry)'!$D$4)","v":""},{"$f":"IF(AND(ISBLANK(INDEX($G:$G,)), ISBLANK(INDEX($C:$C,))), \"\", 'PWS Records (System Entry)'!$D$3)","v":""},null,null,null,null,null,null,null,null,null,null,null,null,null,null,null,null,null,null,""]
[{"$f":"IF(AND(ISBLANK(INDEX($G:$G,)), ISBLANK(INDEX($C:$C,))), \"\", 'PWS Records (System Entry)'!$D$4)","v":""},{"$f":"IF(AND(ISBLANK(INDEX($G:$G,)), ISBLANK(INDEX($C:$C,))), \"\", 'PWS Records (System Entry)'!$D$3)","v":""},null,null,null,null,null,null,null,null,null,null,null,null,null,null,null,null,null,null,""]
[{"$f":"IF(AND(ISBLANK(INDEX($G:$G,)), ISBLANK(INDEX($C:$C,))), \"\", 'PWS Records (System Entry)'!$D$4)","v":""},{"$f":"IF(AND(ISBLANK(INDEX($G:$G,)), ISBLANK(INDEX($C:$C,))), \"\", 'PWS Records (System Entry)'!$D$3)","v":""},null,null,null,null,null,null,null,null,null,null,null,null,null,null,null,null,null,null,""]
[{"$f":"IF(AND(ISBLANK(INDEX($G:$G,)), ISBLANK(INDEX($C:$C,))), \"\", 'PWS Records (System Entry)'!$D$4)","v":""},{"$f":"IF(AND(ISBLANK(INDEX($G:$G,)), ISBLANK(INDEX($C:$C,))), \"\", 'PWS Records (System Entry)'!$D$3)","v":""},null,null,null,null,null,null,null,null,null,null,null,null,null,null,null,null,null,null,""]
[{"$f":"IF(AND(ISBLANK(INDEX($G:$G,)), ISBLANK(INDEX($C:$C,))), \"\", 'PWS Records (System Entry)'!$D$4)","v":""},{"$f":"IF(AND(ISBLANK(INDEX($G:$G,)), ISBLANK(INDEX($C:$C,))), \"\", 'PWS Records (System Entry)'!$D$3)","v":""},null,null,null,null,null,null,null,null,null,null,null,null,null,null,null,null,null,null,""]
[{"$f":"IF(AND(ISBLANK(INDEX($G:$G,)), ISBLANK(INDEX($C:$C,))), \"\", 'PWS Records (System Entry)'!$D$4)","v":""},{"$f":"IF(AND(ISBLANK(INDEX($G:$G,)), ISBLANK(INDEX($C:$C,))), \"\", 'PWS Records (System Entry)'!$D$3)","v":""},null,null,null,null,null,null,null,null,null,null,null,null,null,null,null,null,null,null,""]
[{"$f":"IF(AND(ISBLANK(INDEX($G:$G,)), ISBLANK(INDEX($C:$C,))), \"\", 'PWS Records (System Entry)'!$D$4)","v":""},{"$f":"IF(AND(ISBLANK(INDEX($G:$G,)), ISBLANK(INDEX($C:$C,))), \"\", 'PWS Records (System Entry)'!$D$3)","v":""},null,null,null,null,null,null,null,null,null,null,null,null,null,null,null,null,null,null,""]
[{"$f":"IF(AND(ISBLANK(INDEX($G:$G,)), ISBLANK(INDEX($C:$C,))), \"\", 'PWS Records (System Entry)'!$D$4)","v":""},{"$f":"IF(AND(ISBLANK(INDEX($G:$G,)), ISBLANK(INDEX($C:$C,))), \"\", 'PWS Records (System Entry)'!$D$3)","v":""},null,null,null,null,null,null,null,null,null,null,null,null,null,null,null,null,null,null,""]
[{"$f":"IF(AND(ISBLANK(INDEX($G:$G,)), ISBLANK(INDEX($C:$C,))), \"\", 'PWS Records (System Entry)'!$D$4)","v":""},{"$f":"IF(AND(ISBLANK(INDEX($G:$G,)), ISBLANK(INDEX($C:$C,))), \"\", 'PWS Records (System Entry)'!$D$3)","v":""},null,null,null,null,null,null,null,null,null,null,null,null,null,null,null,null,null,null,""]
[{"$f":"IF(AND(ISBLANK(INDEX($G:$G,)), ISBLANK(INDEX($C:$C,))), \"\", 'PWS Records (System Entry)'!$D$4)","v":""},{"$f":"IF(AND(ISBLANK(INDEX($G:$G,)), ISBLANK(INDEX($C:$C,))), \"\", 'PWS Records (System Entry)'!$D$3)","v":""},null,null,null,null,null,null,null,null,null,null,null,null,null,null,null,null,null,null,""]
[{"$f":"IF(AND(ISBLANK(INDEX($G:$G,)), ISBLANK(INDEX($C:$C,))), \"\", 'PWS Records (System Entry)'!$D$4)","v":""},{"$f":"IF(AND(ISBLANK(INDEX($G:$G,)), ISBLANK(INDEX($C:$C,))), \"\", 'PWS Records (System Entry)'!$D$3)","v":""},null,null,null,null,null,null,null,null,null,null,null,null,null,null,null,null,null,null,""]
[{"$f":"IF(AND(ISBLANK(INDEX($G:$G,)), ISBLANK(INDEX($C:$C,))), \"\", 'PWS Records (System Entry)'!$D$4)","v":""},{"$f":"IF(AND(ISBLANK(INDEX($G:$G,)), ISBLANK(INDEX($C:$C,))), \"\", 'PWS Records (System Entry)'!$D$3)","v":""},null,null,null,null,null,null,null,null,null,null,null,null,null,null,null,null,null,null,""]
[{"$f":"IF(AND(ISBLANK(INDEX($G:$G,)), ISBLANK(INDEX($C:$C,))), \"\", 'PWS Records (System Entry)'!$D$4)","v":""},{"$f":"IF(AND(ISBLANK(INDEX($G:$G,)), ISBLANK(INDEX($C:$C,))), \"\", 'PWS Records (System Entry)'!$D$3)","v":""},null,null,null,null,null,null,null,null,null,null,null,null,null,null,null,null,null,null,""]
[{"$f":"IF(AND(ISBLANK(INDEX($G:$G,)), ISBLANK(INDEX($C:$C,))), \"\", 'PWS Records (System Entry)'!$D$4)","v":""},{"$f":"IF(AND(ISBLANK(INDEX($G:$G,)), ISBLANK(INDEX($C:$C,))), \"\", 'PWS Records (System Entry)'!$D$3)","v":""},null,null,null,null,null,null,null,null,null,null,null,null,null,null,null,null,null,null,""]
[{"$f":"IF(AND(ISBLANK(INDEX($G:$G,)), ISBLANK(INDEX($C:$C,))), \"\", 'PWS Records (System Entry)'!$D$4)","v":""},{"$f":"IF(AND(ISBLANK(INDEX($G:$G,)), ISBLANK(INDEX($C:$C,))), \"\", 'PWS Records (System Entry)'!$D$3)","v":""},null,null,null,null,null,null,null,null,null,null,null,null,null,null,null,null,null,null,""]
[{"$f":"IF(AND(ISBLANK(INDEX($G:$G,)), ISBLANK(INDEX($C:$C,))), \"\", 'PWS Records (System Entry)'!$D$4)","v":""},{"$f":"IF(AND(ISBLANK(INDEX($G:$G,)), ISBLANK(INDEX($C:$C,))), \"\", 'PWS Records (System Entry)'!$D$3)","v":""},null,null,null,null,null,null,null,null,null,null,null,null,null,null,null,null,null,null,""]
[{"$f":"IF(AND(ISBLANK(INDEX($G:$G,)), ISBLANK(INDEX($C:$C,))), \"\", 'PWS Records (System Entry)'!$D$4)","v":""},{"$f":"IF(AND(ISBLANK(INDEX($G:$G,)), ISBLANK(INDEX($C:$C,))), \"\", 'PWS Records (System Entry)'!$D$3)","v":""},null,null,null,null,null,null,null,null,null,null,null,null,null,null,null,null,null,null,""]
[{"$f":"IF(AND(ISBLANK(INDEX($G:$G,)), ISBLANK(INDEX($C:$C,))), \"\", 'PWS Records (System Entry)'!$D$4)","v":""},{"$f":"IF(AND(ISBLANK(INDEX($G:$G,)), ISBLANK(INDEX($C:$C,))), \"\", 'PWS Records (System Entry)'!$D$3)","v":""},null,null,null,null,null,null,null,null,null,null,null,null,null,null,null,null,null,null,""]
[{"$f":"IF(AND(ISBLANK(INDEX($G:$G,)), ISBLANK(INDEX($C:$C,))), \"\", 'PWS Records (System Entry)'!$D$4)","v":""},{"$f":"IF(AND(ISBLANK(INDEX($G:$G,)), ISBLANK(INDEX($C:$C,))), \"\", 'PWS Records (System Entry)'!$D$3)","v":""},null,null,null,null,null,null,null,null,null,null,null,null,null,null,null,null,null,null,""]
[{"$f":"IF(AND(ISBLANK(INDEX($G:$G,)), ISBLANK(INDEX($C:$C,))), \"\", 'PWS Records (System Entry)'!$D$4)","v":""},{"$f":"IF(AND(ISBLANK(INDEX($G:$G,)), ISBLANK(INDEX($C:$C,))), \"\", 'PWS Records (System Entry)'!$D$3)","v":""},null,null,null,null,null,null,null,null,null,null,null,null,null,null,null,null,null,null,{"$f":"IF(AND(INDEX($K:$K,)=\"\", INDEX($L:$L,)=\"\", INDEX($M:$M,)=\"\", INDEX($Q:$Q,)=\"\", INDEX($R:$R,)=\"\"), \"\", IF(OR(INDEX($K:$K,)=\"Lead\",INDEX($Q:$Q,)=\"Lead\"),\"Lead\",IF(OR(AND(OR(INDEX($M:$M,)=\"Yes\", INDEX($M:$M,)=\"Don't Know\", INDEX($M:$M,)=\"\"), INDEX($Q:$Q,)=\"Galvanized Iron/Steel\"), AND(INDEX($K:$K,)=\"Unknown\", INDEX($M:$M,)=\"No\", INDEX($Q:$Q,)=\"Galvanized Iron/Steel\")), \"Galvanized Requiring Replacement\", IF(OR(AND(OR(INDEX($K:$K,)=\"Galvanized Iron/Steel\", INDEX($K:$K,)=\"Non-Lead - Copper\", INDEX($K:$K,)=\"Non-Lead - Plastic\", INDEX($K:$K,)=\"Non-Lead - Other\", INDEX($K:$K,)=\"Non-Lead - Material Unknown\", INDEX($K:$K,)=\"No System Owned Portion\"), OR(INDEX($Q:$Q,)=\"Galvanized Iron/Steel\", INDEX($Q:$Q,)=\"Non-Lead - Copper\", INDEX($Q:$Q,)=\"Non-Lead - Plastic\", INDEX($Q:$Q,)=\"Non-Lead - Other\", INDEX($Q:$Q,)=\"Non-Lead - Predictive Model\", INDEX($Q:$Q,)=\"No Customer Owned Portion\")), AND(OR( INDEX($K:$K,)=\"Galvanized Iron/Steel\", INDEX($K:$K,)=\"Non-Lead - Copper\", INDEX($K:$K,)=\"Non-Lead - Plastic\", INDEX($K:$K,)=\"Non-Lead - Other\", INDEX($K:$K,)=\"Non-Lead - Material Unknown\", INDEX($K:$K,)=\"No System Owned Portion\"), INDEX($M:$M,)=\"No\", INDEX($Q:$Q,)=\"Non-Lead - Material Unknown\")), \"Non-Lead\", \"Lead Status Unknown\"))))","v":""}]
[{"$f":"IF(AND(ISBLANK(INDEX($G:$G,)), ISBLANK(INDEX($C:$C,))), \"\", 'PWS Records (System Entry)'!$D$4)","v":""},{"$f":"IF(AND(ISBLANK(INDEX($G:$G,)), ISBLANK(INDEX($C:$C,))), \"\", 'PWS Records (System Entry)'!$D$3)","v":""},null,null,null,null,null,null,null,null,null,null,null,null,null,null,null,null,null,null,""]
[{"$f":"IF(AND(ISBLANK(INDEX($G:$G,)), ISBLANK(INDEX($C:$C,))), \"\", 'PWS Records (System Entry)'!$D$4)","v":""},{"$f":"IF(AND(ISBLANK(INDEX($G:$G,)), ISBLANK(INDEX($C:$C,))), \"\", 'PWS Records (System Entry)'!$D$3)","v":""},null,null,null,null,null,null,null,null,null,null,null,null,null,null,null,null,null,null,""]
[{"$f":"IF(AND(ISBLANK(INDEX($G:$G,)), ISBLANK(INDEX($C:$C,))), \"\", 'PWS Records (System Entry)'!$D$4)","v":""},{"$f":"IF(AND(ISBLANK(INDEX($G:$G,)), ISBLANK(INDEX($C:$C,))), \"\", 'PWS Records (System Entry)'!$D$3)","v":""},null,null,null,null,null,null,null,null,null,null,null,null,null,null,null,null,null,null,""]
[{"$f":"IF(AND(ISBLANK(INDEX($G:$G,)), ISBLANK(INDEX($C:$C,))), \"\", 'PWS Records (System Entry)'!$D$4)","v":""},{"$f":"IF(AND(ISBLANK(INDEX($G:$G,)), ISBLANK(INDEX($C:$C,))), \"\", 'PWS Records (System Entry)'!$D$3)","v":""},null,null,null,null,null,null,null,null,null,null,null,null,null,null,null,null,null,null,""]
[{"$f":"IF(AND(ISBLANK(INDEX($G:$G,)), ISBLANK(INDEX($C:$C,))), \"\", 'PWS Records (System Entry)'!$D$4)","v":""},{"$f":"IF(AND(ISBLANK(INDEX($G:$G,)), ISBLANK(INDEX($C:$C,))), \"\", 'PWS Records (System Entry)'!$D$3)","v":""},null,null,null,null,null,null,null,null,null,null,null,null,null,null,null,null,null,null,""]
[{"$f":"IF(AND(ISBLANK(INDEX($G:$G,)), ISBLANK(INDEX($C:$C,))), \"\", 'PWS Records (System Entry)'!$D$4)","v":""},{"$f":"IF(AND(ISBLANK(INDEX($G:$G,)), ISBLANK(INDEX($C:$C,))), \"\", 'PWS Records (System Entry)'!$D$3)","v":""},null,null,null,null,null,null,null,null,null,null,null,null,null,null,null,null,null,null,""]
[{"$f":"IF(AND(ISBLANK(INDEX($G:$G,)), ISBLANK(INDEX($C:$C,))), \"\", 'PWS Records (System Entry)'!$D$4)","v":""},{"$f":"IF(AND(ISBLANK(INDEX($G:$G,)), ISBLANK(INDEX($C:$C,))), \"\", 'PWS Records (System Entry)'!$D$3)","v":""},null,null,null,null,null,null,null,null,null,null,null,null,null,null,null,null,null,null,""]
[{"$f":"IF(AND(ISBLANK(INDEX($G:$G,)), ISBLANK(INDEX($C:$C,))), \"\", 'PWS Records (System Entry)'!$D$4)","v":""},{"$f":"IF(AND(ISBLANK(INDEX($G:$G,)), ISBLANK(INDEX($C:$C,))), \"\", 'PWS Records (System Entry)'!$D$3)","v":""},null,null,null,null,null,null,null,null,null,null,null,null,null,null,null,null,null,null,""]
[{"$f":"IF(AND(ISBLANK(INDEX($G:$G,)), ISBLANK(INDEX($C:$C,))), \"\", 'PWS Records (System Entry)'!$D$4)","v":""},{"$f":"IF(AND(ISBLANK(INDEX($G:$G,)), ISBLANK(INDEX($C:$C,))), \"\", 'PWS Records (System Entry)'!$D$3)","v":""},null,null,null,null,null,null,null,null,null,null,null,null,null,null,null,null,null,null,""]
[{"$f":"IF(AND(ISBLANK(INDEX($G:$G,)), ISBLANK(INDEX($C:$C,))), \"\", 'PWS Records (System Entry)'!$D$4)","v":""},{"$f":"IF(AND(ISBLANK(INDEX($G:$G,)), ISBLANK(INDEX($C:$C,))), \"\", 'PWS Records (System Entry)'!$D$3)","v":""},null,null,null,null,null,null,null,null,null,null,null,null,null,null,null,null,null,null,""]
[{"$f":"IF(AND(ISBLANK(INDEX($G:$G,)), ISBLANK(INDEX($C:$C,))), \"\", 'PWS Records (System Entry)'!$D$4)","v":""},{"$f":"IF(AND(ISBLANK(INDEX($G:$G,)), ISBLANK(INDEX($C:$C,))), \"\", 'PWS Records (System Entry)'!$D$3)","v":""},null,null,null,null,null,null,null,null,null,null,null,null,null,null,null,null,null,null,""]
[{"$f":"IF(AND(ISBLANK(INDEX($G:$G,)), ISBLANK(INDEX($C:$C,))), \"\", 'PWS Records (System Entry)'!$D$4)","v":""},{"$f":"IF(AND(ISBLANK(INDEX($G:$G,)), ISBLANK(INDEX($C:$C,))), \"\", 'PWS Records (System Entry)'!$D$3)","v":""},null,null,null,null,null,null,null,null,null,null,null,null,null,null,null,null,null,null,""]
[{"$f":"IF(AND(ISBLANK(INDEX($G:$G,)), ISBLANK(INDEX($C:$C,))), \"\", 'PWS Records (System Entry)'!$D$4)","v":""},{"$f":"IF(AND(ISBLANK(INDEX($G:$G,)), ISBLANK(INDEX($C:$C,))), \"\", 'PWS Records (System Entry)'!$D$3)","v":""},null,null,null,null,null,null,null,null,null,null,null,null,null,null,null,null,null,null,""]
[{"$f":"IF(AND(ISBLANK(INDEX($G:$G,)), ISBLANK(INDEX($C:$C,))), \"\", 'PWS Records (System Entry)'!$D$4)","v":""},{"$f":"IF(AND(ISBLANK(INDEX($G:$G,)), ISBLANK(INDEX($C:$C,))), \"\", 'PWS Records (System Entry)'!$D$3)","v":""},null,null,null,null,null,null,null,null,null,null,null,null,null,null,null,null,null,null,""]
[{"$f":"IF(AND(ISBLANK(INDEX($G:$G,)), ISBLANK(INDEX($C:$C,))), \"\", 'PWS Records (System Entry)'!$D$4)","v":""},{"$f":"IF(AND(ISBLANK(INDEX($G:$G,)), ISBLANK(INDEX($C:$C,))), \"\", 'PWS Records (System Entry)'!$D$3)","v":""},null,null,null,null,null,null,null,null,null,null,null,null,null,null,null,null,null,null,""]
[{"$f":"IF(AND(ISBLANK(INDEX($G:$G,)), ISBLANK(INDEX($C:$C,))), \"\", 'PWS Records (System Entry)'!$D$4)","v":""},{"$f":"IF(AND(ISBLANK(INDEX($G:$G,)), ISBLANK(INDEX($C:$C,))), \"\", 'PWS Records (System Entry)'!$D$3)","v":""},null,null,null,null,null,null,null,null,null,null,null,null,null,null,null,null,null,null,""]
[{"$f":"IF(AND(ISBLANK(INDEX($G:$G,)), ISBLANK(INDEX($C:$C,))), \"\", 'PWS Records (System Entry)'!$D$4)","v":""},{"$f":"IF(AND(ISBLANK(INDEX($G:$G,)), ISBLANK(INDEX($C:$C,))), \"\", 'PWS Records (System Entry)'!$D$3)","v":""},null,null,null,null,null,null,null,null,null,null,null,null,null,null,null,null,null,null,""]
[{"$f":"IF(AND(ISBLANK(INDEX($G:$G,)), ISBLANK(INDEX($C:$C,))), \"\", 'PWS Records (System Entry)'!$D$4)","v":""},{"$f":"IF(AND(ISBLANK(INDEX($G:$G,)), ISBLANK(INDEX($C:$C,))), \"\", 'PWS Records (System Entry)'!$D$3)","v":""},null,null,null,null,null,null,null,null,null,null,null,null,null,null,null,null,null,null,""]
[{"$f":"IF(AND(ISBLANK(INDEX($G:$G,)), ISBLANK(INDEX($C:$C,))), \"\", 'PWS Records (System Entry)'!$D$4)","v":""},{"$f":"IF(AND(ISBLANK(INDEX($G:$G,)), ISBLANK(INDEX($C:$C,))), \"\", 'PWS Records (System Entry)'!$D$3)","v":""},null,null,null,null,null,null,null,null,null,null,null,null,null,null,null,null,null,null,""]
[{"$f":"IF(AND(ISBLANK(INDEX($G:$G,)), ISBLANK(INDEX($C:$C,))), \"\", 'PWS Records (System Entry)'!$D$4)","v":""},{"$f":"IF(AND(ISBLANK(INDEX($G:$G,)), ISBLANK(INDEX($C:$C,))), \"\", 'PWS Records (System Entry)'!$D$3)","v":""},null,null,null,null,null,null,null,null,null,null,null,null,null,null,null,null,null,null,""]
[{"$f":"IF(AND(ISBLANK(INDEX($G:$G,)), ISBLANK(INDEX($C:$C,))), \"\", 'PWS Records (System Entry)'!$D$4)","v":""},{"$f":"IF(AND(ISBLANK(INDEX($G:$G,)), ISBLANK(INDEX($C:$C,))), \"\", 'PWS Records (System Entry)'!$D$3)","v":""},null,null,null,null,null,null,null,null,null,null,null,null,null,null,null,null,null,null,""]
[{"$f":"IF(AND(ISBLANK(INDEX($G:$G,)), ISBLANK(INDEX($C:$C,))), \"\", 'PWS Records (System Entry)'!$D$4)","v":""},{"$f":"IF(AND(ISBLANK(INDEX($G:$G,)), ISBLANK(INDEX($C:$C,))), \"\", 'PWS Records (System Entry)'!$D$3)","v":""},null,null,null,null,null,null,null,null,null,null,null,null,null,null,null,null,null,null,""]
[{"$f":"IF(AND(ISBLANK(INDEX($G:$G,)), ISBLANK(INDEX($C:$C,))), \"\", 'PWS Records (System Entry)'!$D$4)","v":""},{"$f":"IF(AND(ISBLANK(INDEX($G:$G,)), ISBLANK(INDEX($C:$C,))), \"\", 'PWS Records (System Entry)'!$D$3)","v":""},null,null,null,null,null,null,null,null,null,null,null,null,null,null,null,null,null,null,""]
[{"$f":"IF(AND(ISBLANK(INDEX($G:$G,)), ISBLANK(INDEX($C:$C,))), \"\", 'PWS Records (System Entry)'!$D$4)","v":""},{"$f":"IF(AND(ISBLANK(INDEX($G:$G,)), ISBLANK(INDEX($C:$C,))), \"\", 'PWS Records (System Entry)'!$D$3)","v":""},null,null,null,null,null,null,null,null,null,null,null,null,null,null,null,null,null,null,""]
[{"$f":"IF(AND(ISBLANK(INDEX($G:$G,)), ISBLANK(INDEX($C:$C,))), \"\", 'PWS Records (System Entry)'!$D$4)","v":""},{"$f":"IF(AND(ISBLANK(INDEX($G:$G,)), ISBLANK(INDEX($C:$C,))), \"\", 'PWS Records (System Entry)'!$D$3)","v":""},null,null,null,null,null,null,null,null,null,null,null,null,null,null,null,null,null,null,""]
[{"$f":"IF(AND(ISBLANK(INDEX($G:$G,)), ISBLANK(INDEX($C:$C,))), \"\", 'PWS Records (System Entry)'!$D$4)","v":""},{"$f":"IF(AND(ISBLANK(INDEX($G:$G,)), ISBLANK(INDEX($C:$C,))), \"\", 'PWS Records (System Entry)'!$D$3)","v":""},null,null,null,null,null,null,null,null,null,null,null,null,null,null,null,null,null,null,""]
[{"$f":"IF(AND(ISBLANK(INDEX($G:$G,)), ISBLANK(INDEX($C:$C,))), \"\", 'PWS Records (System Entry)'!$D$4)","v":""},{"$f":"IF(AND(ISBLANK(INDEX($G:$G,)), ISBLANK(INDEX($C:$C,))), \"\", 'PWS Records (System Entry)'!$D$3)","v":""},null,null,null,null,null,null,null,null,null,null,null,null,null,null,null,null,null,null,""]
[{"$f":"IF(AND(ISBLANK(INDEX($G:$G,)), ISBLANK(INDEX($C:$C,))), \"\", 'PWS Records (System Entry)'!$D$4)","v":""},{"$f":"IF(AND(ISBLANK(INDEX($G:$G,)), ISBLANK(INDEX($C:$C,))), \"\", 'PWS Records (System Entry)'!$D$3)","v":""},null,null,null,null,null,null,null,null,null,null,null,null,null,null,null,null,null,null,""]
[{"$f":"IF(AND(ISBLANK(INDEX($G:$G,)), ISBLANK(INDEX($C:$C,))), \"\", 'PWS Records (System Entry)'!$D$4)","v":""},{"$f":"IF(AND(ISBLANK(INDEX($G:$G,)), ISBLANK(INDEX($C:$C,))), \"\", 'PWS Records (System Entry)'!$D$3)","v":""},null,null,null,null,null,null,null,null,null,null,null,null,null,null,null,null,null,null,""]
[{"$f":"IF(AND(ISBLANK(INDEX($G:$G,)), ISBLANK(INDEX($C:$C,))), \"\", 'PWS Records (System Entry)'!$D$4)","v":""},{"$f":"IF(AND(ISBLANK(INDEX($G:$G,)), ISBLANK(INDEX($C:$C,))), \"\", 'PWS Records (System Entry)'!$D$3)","v":""},null,null,null,null,null,null,null,null,null,null,null,null,null,null,null,null,null,null,""]
[{"$f":"IF(AND(ISBLANK(INDEX($G:$G,)), ISBLANK(INDEX($C:$C,))), \"\", 'PWS Records (System Entry)'!$D$4)","v":""},{"$f":"IF(AND(ISBLANK(INDEX($G:$G,)), ISBLANK(INDEX($C:$C,))), \"\", 'PWS Records (System Entry)'!$D$3)","v":""},null,null,null,null,null,null,null,null,null,null,null,null,null,null,null,null,null,null,""]
[{"$f":"IF(AND(ISBLANK(INDEX($G:$G,)), ISBLANK(INDEX($C:$C,))), \"\", 'PWS Records (System Entry)'!$D$4)","v":""},{"$f":"IF(AND(ISBLANK(INDEX($G:$G,)), ISBLANK(INDEX($C:$C,))), \"\", 'PWS Records (System Entry)'!$D$3)","v":""},null,null,null,null,null,null,null,null,null,null,null,null,null,null,null,null,null,null,""]
[{"$f":"IF(AND(ISBLANK(INDEX($G:$G,)), ISBLANK(INDEX($C:$C,))), \"\", 'PWS Records (System Entry)'!$D$4)","v":""},{"$f":"IF(AND(ISBLANK(INDEX($G:$G,)), ISBLANK(INDEX($C:$C,))), \"\", 'PWS Records (System Entry)'!$D$3)","v":""},null,null,null,null,null,null,null,null,null,null,null,null,null,null,null,null,null,null,""]
[{"$f":"IF(AND(ISBLANK(INDEX($G:$G,)), ISBLANK(INDEX($C:$C,))), \"\", 'PWS Records (System Entry)'!$D$4)","v":""},{"$f":"IF(AND(ISBLANK(INDEX($G:$G,)), ISBLANK(INDEX($C:$C,))), \"\", 'PWS Records (System Entry)'!$D$3)","v":""},null,null,null,null,null,null,null,null,null,null,null,null,null,null,null,null,null,null,""]
[{"$f":"IF(AND(ISBLANK(INDEX($G:$G,)), ISBLANK(INDEX($C:$C,))), \"\", 'PWS Records (System Entry)'!$D$4)","v":""},{"$f":"IF(AND(ISBLANK(INDEX($G:$G,)), ISBLANK(INDEX($C:$C,))), \"\", 'PWS Records (System Entry)'!$D$3)","v":""},null,null,null,null,null,null,null,null,null,null,null,null,null,null,null,null,null,null,""]
[{"$f":"IF(AND(ISBLANK(INDEX($G:$G,)), ISBLANK(INDEX($C:$C,))), \"\", 'PWS Records (System Entry)'!$D$4)","v":""},{"$f":"IF(AND(ISBLANK(INDEX($G:$G,)), ISBLANK(INDEX($C:$C,))), \"\", 'PWS Records (System Entry)'!$D$3)","v":""},null,null,null,null,null,null,null,null,null,null,null,null,null,null,null,null,null,null,""]
[{"$f":"IF(AND(ISBLANK(INDEX($G:$G,)), ISBLANK(INDEX($C:$C,))), \"\", 'PWS Records (System Entry)'!$D$4)","v":""},{"$f":"IF(AND(ISBLANK(INDEX($G:$G,)), ISBLANK(INDEX($C:$C,))), \"\", 'PWS Records (System Entry)'!$D$3)","v":""},null,null,null,null,null,null,null,null,null,null,null,null,null,null,null,null,null,null,""]
[{"$f":"IF(AND(ISBLANK(INDEX($G:$G,)), ISBLANK(INDEX($C:$C,))), \"\", 'PWS Records (System Entry)'!$D$4)","v":""},{"$f":"IF(AND(ISBLANK(INDEX($G:$G,)), ISBLANK(INDEX($C:$C,))), \"\", 'PWS Records (System Entry)'!$D$3)","v":""},null,null,null,null,null,null,null,null,null,null,null,null,null,null,null,null,null,null,""]
[{"$f":"IF(AND(ISBLANK(INDEX($G:$G,)), ISBLANK(INDEX($C:$C,))), \"\", 'PWS Records (System Entry)'!$D$4)","v":""},{"$f":"IF(AND(ISBLANK(INDEX($G:$G,)), ISBLANK(INDEX($C:$C,))), \"\", 'PWS Records (System Entry)'!$D$3)","v":""},null,null,null,null,null,null,null,null,null,null,null,null,null,null,null,null,null,null,""]
[{"$f":"IF(AND(ISBLANK(INDEX($G:$G,)), ISBLANK(INDEX($C:$C,))), \"\", 'PWS Records (System Entry)'!$D$4)","v":""},{"$f":"IF(AND(ISBLANK(INDEX($G:$G,)), ISBLANK(INDEX($C:$C,))), \"\", 'PWS Records (System Entry)'!$D$3)","v":""},null,null,null,null,null,null,null,null,null,null,null,null,null,null,null,null,null,null,""]
[{"$f":"IF(AND(ISBLANK(INDEX($G:$G,)), ISBLANK(INDEX($C:$C,))), \"\", 'PWS Records (System Entry)'!$D$4)","v":""},{"$f":"IF(AND(ISBLANK(INDEX($G:$G,)), ISBLANK(INDEX($C:$C,))), \"\", 'PWS Records (System Entry)'!$D$3)","v":""},null,null,null,null,null,null,null,null,null,null,null,null,null,null,null,null,null,null,""]
[{"$f":"IF(AND(ISBLANK(INDEX($G:$G,)), ISBLANK(INDEX($C:$C,))), \"\", 'PWS Records (System Entry)'!$D$4)","v":""},{"$f":"IF(AND(ISBLANK(INDEX($G:$G,)), ISBLANK(INDEX($C:$C,))), \"\", 'PWS Records (System Entry)'!$D$3)","v":""},null,null,null,null,null,null,null,null,null,null,null,null,null,null,null,null,null,null,""]
[{"$f":"IF(AND(ISBLANK(INDEX($G:$G,)), ISBLANK(INDEX($C:$C,))), \"\", 'PWS Records (System Entry)'!$D$4)","v":""},{"$f":"IF(AND(ISBLANK(INDEX($G:$G,)), ISBLANK(INDEX($C:$C,))), \"\", 'PWS Records (System Entry)'!$D$3)","v":""},null,null,null,null,null,null,null,null,null,null,null,null,null,null,null,null,null,null,""]
[{"$f":"IF(AND(ISBLANK(INDEX($G:$G,)), ISBLANK(INDEX($C:$C,))), \"\", 'PWS Records (System Entry)'!$D$4)","v":""},{"$f":"IF(AND(ISBLANK(INDEX($G:$G,)), ISBLANK(INDEX($C:$C,))), \"\", 'PWS Records (System Entry)'!$D$3)","v":""},null,null,null,null,null,null,null,null,null,null,null,null,null,null,null,null,null,null,""]
[{"$f":"IF(AND(ISBLANK(INDEX($G:$G,)), ISBLANK(INDEX($C:$C,))), \"\", 'PWS Records (System Entry)'!$D$4)","v":""},{"$f":"IF(AND(ISBLANK(INDEX($G:$G,)), ISBLANK(INDEX($C:$C,))), \"\", 'PWS Records (System Entry)'!$D$3)","v":""},null,null,null,null,null,null,null,null,null,null,null,null,null,null,null,null,null,null,""]
[{"$f":"IF(AND(ISBLANK(INDEX($G:$G,)), ISBLANK(INDEX($C:$C,))), \"\", 'PWS Records (System Entry)'!$D$4)","v":""},{"$f":"IF(AND(ISBLANK(INDEX($G:$G,)), ISBLANK(INDEX($C:$C,))), \"\", 'PWS Records (System Entry)'!$D$3)","v":""},null,null,null,null,null,null,null,null,null,null,null,null,null,null,null,null,null,null,""]
[{"$f":"IF(AND(ISBLANK(INDEX($G:$G,)), ISBLANK(INDEX($C:$C,))), \"\", 'PWS Records (System Entry)'!$D$4)","v":""},{"$f":"IF(AND(ISBLANK(INDEX($G:$G,)), ISBLANK(INDEX($C:$C,))), \"\", 'PWS Records (System Entry)'!$D$3)","v":""},null,null,null,null,null,null,null,null,null,null,null,null,null,null,null,null,null,null,""]
[{"$f":"IF(AND(ISBLANK(INDEX($G:$G,)), ISBLANK(INDEX($C:$C,))), \"\", 'PWS Records (System Entry)'!$D$4)","v":""},{"$f":"IF(AND(ISBLANK(INDEX($G:$G,)), ISBLANK(INDEX($C:$C,))), \"\", 'PWS Records (System Entry)'!$D$3)","v":""},null,null,null,null,null,null,null,null,null,null,null,null,null,null,null,null,null,null,""]
[{"$f":"IF(AND(ISBLANK(INDEX($G:$G,)), ISBLANK(INDEX($C:$C,))), \"\", 'PWS Records (System Entry)'!$D$4)","v":""},{"$f":"IF(AND(ISBLANK(INDEX($G:$G,)), ISBLANK(INDEX($C:$C,))), \"\", 'PWS Records (System Entry)'!$D$3)","v":""},null,null,null,null,null,null,null,null,null,null,null,null,null,null,null,null,null,null,""]
[{"$f":"IF(AND(ISBLANK(INDEX($G:$G,)), ISBLANK(INDEX($C:$C,))), \"\", 'PWS Records (System Entry)'!$D$4)","v":""},{"$f":"IF(AND(ISBLANK(INDEX($G:$G,)), ISBLANK(INDEX($C:$C,))), \"\", 'PWS Records (System Entry)'!$D$3)","v":""},null,null,null,null,null,null,null,null,null,null,null,null,null,null,null,null,null,null,""]
[{"$f":"IF(AND(ISBLANK(INDEX($G:$G,)), ISBLANK(INDEX($C:$C,))), \"\", 'PWS Records (System Entry)'!$D$4)","v":""},{"$f":"IF(AND(ISBLANK(INDEX($G:$G,)), ISBLANK(INDEX($C:$C,))), \"\", 'PWS Records (System Entry)'!$D$3)","v":""},null,null,null,null,null,null,null,null,null,null,null,null,null,null,null,null,null,null,""]
[{"$f":"IF(AND(ISBLANK(INDEX($G:$G,)), ISBLANK(INDEX($C:$C,))), \"\", 'PWS Records (System Entry)'!$D$4)","v":""},{"$f":"IF(AND(ISBLANK(INDEX($G:$G,)), ISBLANK(INDEX($C:$C,))), \"\", 'PWS Records (System Entry)'!$D$3)","v":""},null,null,null,null,null,null,null,null,null,null,null,null,null,null,null,null,null,null,""]
[{"$f":"IF(AND(ISBLANK(INDEX($G:$G,)), ISBLANK(INDEX($C:$C,))), \"\", 'PWS Records (System Entry)'!$D$4)","v":""},{"$f":"IF(AND(ISBLANK(INDEX($G:$G,)), ISBLANK(INDEX($C:$C,))), \"\", 'PWS Records (System Entry)'!$D$3)","v":""},null,null,null,null,null,null,null,null,null,null,null,null,null,null,null,null,null,null,""]
[{"$f":"IF(AND(ISBLANK(INDEX($G:$G,)), ISBLANK(INDEX($C:$C,))), \"\", 'PWS Records (System Entry)'!$D$4)","v":""},{"$f":"IF(AND(ISBLANK(INDEX($G:$G,)), ISBLANK(INDEX($C:$C,))), \"\", 'PWS Records (System Entry)'!$D$3)","v":""},null,null,null,null,null,null,null,null,null,null,null,null,null,null,null,null,null,null,""]
[{"$f":"IF(AND(ISBLANK(INDEX($G:$G,)), ISBLANK(INDEX($C:$C,))), \"\", 'PWS Records (System Entry)'!$D$4)","v":""},{"$f":"IF(AND(ISBLANK(INDEX($G:$G,)), ISBLANK(INDEX($C:$C,))), \"\", 'PWS Records (System Entry)'!$D$3)","v":""},null,null,null,null,null,null,null,null,null,null,null,null,null,null,null,null,null,null,""]
[{"$f":"IF(AND(ISBLANK(INDEX($G:$G,)), ISBLANK(INDEX($C:$C,))), \"\", 'PWS Records (System Entry)'!$D$4)","v":""},{"$f":"IF(AND(ISBLANK(INDEX($G:$G,)), ISBLANK(INDEX($C:$C,))), \"\", 'PWS Records (System Entry)'!$D$3)","v":""},null,null,null,null,null,null,null,null,null,null,null,null,null,null,null,null,null,null,""]
[{"$f":"IF(AND(ISBLANK(INDEX($G:$G,)), ISBLANK(INDEX($C:$C,))), \"\", 'PWS Records (System Entry)'!$D$4)","v":""},{"$f":"IF(AND(ISBLANK(INDEX($G:$G,)), ISBLANK(INDEX($C:$C,))), \"\", 'PWS Records (System Entry)'!$D$3)","v":""},null,null,null,null,null,null,null,null,null,null,null,null,null,null,null,null,null,null,""]
[{"$f":"IF(AND(ISBLANK(INDEX($G:$G,)), ISBLANK(INDEX($C:$C,))), \"\", 'PWS Records (System Entry)'!$D$4)","v":""},{"$f":"IF(AND(ISBLANK(INDEX($G:$G,)), ISBLANK(INDEX($C:$C,))), \"\", 'PWS Records (System Entry)'!$D$3)","v":""},null,null,null,null,null,null,null,null,null,null,null,null,null,null,null,null,null,null,""]
[{"$f":"IF(AND(ISBLANK(INDEX($G:$G,)), ISBLANK(INDEX($C:$C,))), \"\", 'PWS Records (System Entry)'!$D$4)","v":""},{"$f":"IF(AND(ISBLANK(INDEX($G:$G,)), ISBLANK(INDEX($C:$C,))), \"\", 'PWS Records (System Entry)'!$D$3)","v":""},null,null,null,null,null,null,null,null,null,null,null,null,null,null,null,null,null,null,""]
[{"$f":"IF(AND(ISBLANK(INDEX($G:$G,)), ISBLANK(INDEX($C:$C,))), \"\", 'PWS Records (System Entry)'!$D$4)","v":""},{"$f":"IF(AND(ISBLANK(INDEX($G:$G,)), ISBLANK(INDEX($C:$C,))), \"\", 'PWS Records (System Entry)'!$D$3)","v":""},null,null,null,null,null,null,null,null,null,null,null,null,null,null,null,null,null,null,""]
[{"$f":"IF(AND(ISBLANK(INDEX($G:$G,)), ISBLANK(INDEX($C:$C,))), \"\", 'PWS Records (System Entry)'!$D$4)","v":""},{"$f":"IF(AND(ISBLANK(INDEX($G:$G,)), ISBLANK(INDEX($C:$C,))), \"\", 'PWS Records (System Entry)'!$D$3)","v":""},null,null,null,null,null,null,null,null,null,null,null,null,null,null,null,null,null,null,""]
[{"$f":"IF(AND(ISBLANK(INDEX($G:$G,)), ISBLANK(INDEX($C:$C,))), \"\", 'PWS Records (System Entry)'!$D$4)","v":""},{"$f":"IF(AND(ISBLANK(INDEX($G:$G,)), ISBLANK(INDEX($C:$C,))), \"\", 'PWS Records (System Entry)'!$D$3)","v":""},null,null,null,null,null,null,null,null,null,null,null,null,null,null,null,null,null,null,""]
[{"$f":"IF(AND(ISBLANK(INDEX($G:$G,)), ISBLANK(INDEX($C:$C,))), \"\", 'PWS Records (System Entry)'!$D$4)","v":""},{"$f":"IF(AND(ISBLANK(INDEX($G:$G,)), ISBLANK(INDEX($C:$C,))), \"\", 'PWS Records (System Entry)'!$D$3)","v":""},null,null,null,null,null,null,null,null,null,null,null,null,null,null,null,null,null,null,""]
[{"$f":"IF(AND(ISBLANK(INDEX($G:$G,)), ISBLANK(INDEX($C:$C,))), \"\", 'PWS Records (System Entry)'!$D$4)","v":""},{"$f":"IF(AND(ISBLANK(INDEX($G:$G,)), ISBLANK(INDEX($C:$C,))), \"\", 'PWS Records (System Entry)'!$D$3)","v":""},null,null,null,null,null,null,null,null,null,null,null,null,null,null,null,null,null,null,""]
[{"$f":"IF(AND(ISBLANK(INDEX($G:$G,)), ISBLANK(INDEX($C:$C,))), \"\", 'PWS Records (System Entry)'!$D$4)","v":""},{"$f":"IF(AND(ISBLANK(INDEX($G:$G,)), ISBLANK(INDEX($C:$C,))), \"\", 'PWS Records (System Entry)'!$D$3)","v":""},null,null,null,null,null,null,null,null,null,null,null,null,null,null,null,null,null,null,""]
[{"$f":"IF(AND(ISBLANK(INDEX($G:$G,)), ISBLANK(INDEX($C:$C,))), \"\", 'PWS Records (System Entry)'!$D$4)","v":""},{"$f":"IF(AND(ISBLANK(INDEX($G:$G,)), ISBLANK(INDEX($C:$C,))), \"\", 'PWS Records (System Entry)'!$D$3)","v":""},null,null,null,null,null,null,null,null,null,null,null,null,null,null,null,null,null,null,""]
[{"$f":"IF(AND(ISBLANK(INDEX($G:$G,)), ISBLANK(INDEX($C:$C,))), \"\", 'PWS Records (System Entry)'!$D$4)","v":""},{"$f":"IF(AND(ISBLANK(INDEX($G:$G,)), ISBLANK(INDEX($C:$C,))), \"\", 'PWS Records (System Entry)'!$D$3)","v":""},null,null,null,null,null,null,null,null,null,null,null,null,null,null,null,null,null,null,""]
[{"$f":"IF(AND(ISBLANK(INDEX($G:$G,)), ISBLANK(INDEX($C:$C,))), \"\", 'PWS Records (System Entry)'!$D$4)","v":""},{"$f":"IF(AND(ISBLANK(INDEX($G:$G,)), ISBLANK(INDEX($C:$C,))), \"\", 'PWS Records (System Entry)'!$D$3)","v":""},null,null,null,null,null,null,null,null,null,null,null,null,null,null,null,null,null,null,""]
[{"$f":"IF(AND(ISBLANK(INDEX($G:$G,)), ISBLANK(INDEX($C:$C,))), \"\", 'PWS Records (System Entry)'!$D$4)","v":""},{"$f":"IF(AND(ISBLANK(INDEX($G:$G,)), ISBLANK(INDEX($C:$C,))), \"\", 'PWS Records (System Entry)'!$D$3)","v":""},null,null,null,null,null,null,null,null,null,null,null,null,null,null,null,null,null,null,{"$f":"IF(AND(INDEX($K:$K,)=\"\", INDEX($L:$L,)=\"\", INDEX($M:$M,)=\"\", INDEX($Q:$Q,)=\"\", INDEX($R:$R,)=\"\"), \"\", IF(OR(INDEX($K:$K,)=\"Lead\",INDEX($Q:$Q,)=\"Lead\"),\"Lead\",IF(OR(AND(OR(INDEX($M:$M,)=\"Yes\", INDEX($M:$M,)=\"Don't Know\", INDEX($M:$M,)=\"\"), INDEX($Q:$Q,)=\"Galvanized Iron/Steel\"), AND(INDEX($K:$K,)=\"Unknown\", INDEX($M:$M,)=\"No\", INDEX($Q:$Q,)=\"Galvanized Iron/Steel\")), \"Galvanized Requiring Replacement\", IF(OR(AND(OR(INDEX($K:$K,)=\"Galvanized Iron/Steel\", INDEX($K:$K,)=\"Non-Lead - Copper\", INDEX($K:$K,)=\"Non-Lead - Plastic\", INDEX($K:$K,)=\"Non-Lead - Other\", INDEX($K:$K,)=\"Non-Lead - Material Unknown\", INDEX($K:$K,)=\"No System Owned Portion\"), OR(INDEX($Q:$Q,)=\"Galvanized Iron/Steel\", INDEX($Q:$Q,)=\"Non-Lead - Copper\", INDEX($Q:$Q,)=\"Non-Lead - Plastic\", INDEX($Q:$Q,)=\"Non-Lead - Other\", INDEX($Q:$Q,)=\"Non-Lead - Predictive Model\", INDEX($Q:$Q,)=\"No Customer Owned Portion\")), AND(OR( INDEX($K:$K,)=\"Galvanized Iron/Steel\", INDEX($K:$K,)=\"Non-Lead - Copper\", INDEX($K:$K,)=\"Non-Lead - Plastic\", INDEX($K:$K,)=\"Non-Lead - Other\", INDEX($K:$K,)=\"Non-Lead - Material Unknown\", INDEX($K:$K,)=\"No System Owned Portion\"), INDEX($M:$M,)=\"No\", INDEX($Q:$Q,)=\"Non-Lead - Material Unknown\")), \"Non-Lead\", \"Lead Status Unknown\"))))","v":""}]
[{"$f":"IF(AND(ISBLANK(INDEX($G:$G,)), ISBLANK(INDEX($C:$C,))), \"\", 'PWS Records (System Entry)'!$D$4)","v":""},{"$f":"IF(AND(ISBLANK(INDEX($G:$G,)), ISBLANK(INDEX($C:$C,))), \"\", 'PWS Records (System Entry)'!$D$3)","v":""},null,null,null,null,null,null,null,null,null,null,null,null,null,null,null,null,null,null,""]
[{"$f":"IF(AND(ISBLANK(INDEX($G:$G,)), ISBLANK(INDEX($C:$C,))), \"\", 'PWS Records (System Entry)'!$D$4)","v":""},{"$f":"IF(AND(ISBLANK(INDEX($G:$G,)), ISBLANK(INDEX($C:$C,))), \"\", 'PWS Records (System Entry)'!$D$3)","v":""},null,null,null,null,null,null,null,null,null,null,null,null,null,null,null,null,null,null,""]
[{"$f":"IF(AND(ISBLANK(INDEX($G:$G,)), ISBLANK(INDEX($C:$C,))), \"\", 'PWS Records (System Entry)'!$D$4)","v":""},{"$f":"IF(AND(ISBLANK(INDEX($G:$G,)), ISBLANK(INDEX($C:$C,))), \"\", 'PWS Records (System Entry)'!$D$3)","v":""},null,null,null,null,null,null,null,null,null,null,null,null,null,null,null,null,null,null,""]
[{"$f":"IF(AND(ISBLANK(INDEX($G:$G,)), ISBLANK(INDEX($C:$C,))), \"\", 'PWS Records (System Entry)'!$D$4)","v":""},{"$f":"IF(AND(ISBLANK(INDEX($G:$G,)), ISBLANK(INDEX($C:$C,))), \"\", 'PWS Records (System Entry)'!$D$3)","v":""},null,null,null,null,null,null,null,null,null,null,null,null,null,null,null,null,null,null,""]
[{"$f":"IF(AND(ISBLANK(INDEX($G:$G,)), ISBLANK(INDEX($C:$C,))), \"\", 'PWS Records (System Entry)'!$D$4)","v":""},{"$f":"IF(AND(ISBLANK(INDEX($G:$G,)), ISBLANK(INDEX($C:$C,))), \"\", 'PWS Records (System Entry)'!$D$3)","v":""},null,null,null,null,null,null,null,null,null,null,null,null,null,null,null,null,null,null,""]
[{"$f":"IF(AND(ISBLANK(INDEX($G:$G,)), ISBLANK(INDEX($C:$C,))), \"\", 'PWS Records (System Entry)'!$D$4)","v":""},{"$f":"IF(AND(ISBLANK(INDEX($G:$G,)), ISBLANK(INDEX($C:$C,))), \"\", 'PWS Records (System Entry)'!$D$3)","v":""},null,null,null,null,null,null,null,null,null,null,null,null,null,null,null,null,null,null,""]
[{"$f":"IF(AND(ISBLANK(INDEX($G:$G,)), ISBLANK(INDEX($C:$C,))), \"\", 'PWS Records (System Entry)'!$D$4)","v":""},{"$f":"IF(AND(ISBLANK(INDEX($G:$G,)), ISBLANK(INDEX($C:$C,))), \"\", 'PWS Records (System Entry)'!$D$3)","v":""},null,null,null,null,null,null,null,null,null,null,null,null,null,null,null,null,null,null,""]
[{"$f":"IF(AND(ISBLANK(INDEX($G:$G,)), ISBLANK(INDEX($C:$C,))), \"\", 'PWS Records (System Entry)'!$D$4)","v":""},{"$f":"IF(AND(ISBLANK(INDEX($G:$G,)), ISBLANK(INDEX($C:$C,))), \"\", 'PWS Records (System Entry)'!$D$3)","v":""},null,null,null,null,null,null,null,null,null,null,null,null,null,null,null,null,null,null,""]
[{"$f":"IF(AND(ISBLANK(INDEX($G:$G,)), ISBLANK(INDEX($C:$C,))), \"\", 'PWS Records (System Entry)'!$D$4)","v":""},{"$f":"IF(AND(ISBLANK(INDEX($G:$G,)), ISBLANK(INDEX($C:$C,))), \"\", 'PWS Records (System Entry)'!$D$3)","v":""},null,null,null,null,null,null,null,null,null,null,null,null,null,null,null,null,null,null,""]
[{"$f":"IF(AND(ISBLANK(INDEX($G:$G,)), ISBLANK(INDEX($C:$C,))), \"\", 'PWS Records (System Entry)'!$D$4)","v":""},{"$f":"IF(AND(ISBLANK(INDEX($G:$G,)), ISBLANK(INDEX($C:$C,))), \"\", 'PWS Records (System Entry)'!$D$3)","v":""},null,null,null,null,null,null,null,null,null,null,null,null,null,null,null,null,null,null,""]
[{"$f":"IF(AND(ISBLANK(INDEX($G:$G,)), ISBLANK(INDEX($C:$C,))), \"\", 'PWS Records (System Entry)'!$D$4)","v":""},{"$f":"IF(AND(ISBLANK(INDEX($G:$G,)), ISBLANK(INDEX($C:$C,))), \"\", 'PWS Records (System Entry)'!$D$3)","v":""},null,null,null,null,null,null,null,null,null,null,null,null,null,null,null,null,null,null,""]
[{"$f":"IF(AND(ISBLANK(INDEX($G:$G,)), ISBLANK(INDEX($C:$C,))), \"\", 'PWS Records (System Entry)'!$D$4)","v":""},{"$f":"IF(AND(ISBLANK(INDEX($G:$G,)), ISBLANK(INDEX($C:$C,))), \"\", 'PWS Records (System Entry)'!$D$3)","v":""},null,null,null,null,null,null,null,null,null,null,null,null,null,null,null,null,null,null,""]
[{"$f":"IF(AND(ISBLANK(INDEX($G:$G,)), ISBLANK(INDEX($C:$C,))), \"\", 'PWS Records (System Entry)'!$D$4)","v":""},{"$f":"IF(AND(ISBLANK(INDEX($G:$G,)), ISBLANK(INDEX($C:$C,))), \"\", 'PWS Records (System Entry)'!$D$3)","v":""},null,null,null,null,null,null,null,null,null,null,null,null,null,null,null,null,null,null,""]
[{"$f":"IF(AND(ISBLANK(INDEX($G:$G,)), ISBLANK(INDEX($C:$C,))), \"\", 'PWS Records (System Entry)'!$D$4)","v":""},{"$f":"IF(AND(ISBLANK(INDEX($G:$G,)), ISBLANK(INDEX($C:$C,))), \"\", 'PWS Records (System Entry)'!$D$3)","v":""},null,null,null,null,null,null,null,null,null,null,null,null,null,null,null,null,null,null,""]
[{"$f":"IF(AND(ISBLANK(INDEX($G:$G,)), ISBLANK(INDEX($C:$C,))), \"\", 'PWS Records (System Entry)'!$D$4)","v":""},{"$f":"IF(AND(ISBLANK(INDEX($G:$G,)), ISBLANK(INDEX($C:$C,))), \"\", 'PWS Records (System Entry)'!$D$3)","v":""},null,null,null,null,null,null,null,null,null,null,null,null,null,null,null,null,null,null,""]
[{"$f":"IF(AND(ISBLANK(INDEX($G:$G,)), ISBLANK(INDEX($C:$C,))), \"\", 'PWS Records (System Entry)'!$D$4)","v":""},{"$f":"IF(AND(ISBLANK(INDEX($G:$G,)), ISBLANK(INDEX($C:$C,))), \"\", 'PWS Records (System Entry)'!$D$3)","v":""},null,null,null,null,null,null,null,null,null,null,null,null,null,null,null,null,null,null,""]
[{"$f":"IF(AND(ISBLANK(INDEX($G:$G,)), ISBLANK(INDEX($C:$C,))), \"\", 'PWS Records (System Entry)'!$D$4)","v":""},{"$f":"IF(AND(ISBLANK(INDEX($G:$G,)), ISBLANK(INDEX($C:$C,))), \"\", 'PWS Records (System Entry)'!$D$3)","v":""},null,null,null,null,null,null,null,null,null,null,null,null,null,null,null,null,null,null,""]
[{"$f":"IF(AND(ISBLANK(INDEX($G:$G,)), ISBLANK(INDEX($C:$C,))), \"\", 'PWS Records (System Entry)'!$D$4)","v":""},{"$f":"IF(AND(ISBLANK(INDEX($G:$G,)), ISBLANK(INDEX($C:$C,))), \"\", 'PWS Records (System Entry)'!$D$3)","v":""},null,null,null,null,null,null,null,null,null,null,null,null,null,null,null,null,null,null,""]
[{"$f":"IF(AND(ISBLANK(INDEX($G:$G,)), ISBLANK(INDEX($C:$C,))), \"\", 'PWS Records (System Entry)'!$D$4)","v":""},{"$f":"IF(AND(ISBLANK(INDEX($G:$G,)), ISBLANK(INDEX($C:$C,))), \"\", 'PWS Records (System Entry)'!$D$3)","v":""},null,null,null,null,null,null,null,null,null,null,null,null,null,null,null,null,null,null,""]
[{"$f":"IF(AND(ISBLANK(INDEX($G:$G,)), ISBLANK(INDEX($C:$C,))), \"\", 'PWS Records (System Entry)'!$D$4)","v":""},{"$f":"IF(AND(ISBLANK(INDEX($G:$G,)), ISBLANK(INDEX($C:$C,))), \"\", 'PWS Records (System Entry)'!$D$3)","v":""},null,null,null,null,null,null,null,null,null,null,null,null,null,null,null,null,null,null,""]
[{"$f":"IF(AND(ISBLANK(INDEX($G:$G,)), ISBLANK(INDEX($C:$C,))), \"\", 'PWS Records (System Entry)'!$D$4)","v":""},{"$f":"IF(AND(ISBLANK(INDEX($G:$G,)), ISBLANK(INDEX($C:$C,))), \"\", 'PWS Records (System Entry)'!$D$3)","v":""},null,null,null,null,null,null,null,null,null,null,null,null,null,null,null,null,null,null,""]
[{"$f":"IF(AND(ISBLANK(INDEX($G:$G,)), ISBLANK(INDEX($C:$C,))), \"\", 'PWS Records (System Entry)'!$D$4)","v":""},{"$f":"IF(AND(ISBLANK(INDEX($G:$G,)), ISBLANK(INDEX($C:$C,))), \"\", 'PWS Records (System Entry)'!$D$3)","v":""},null,null,null,null,null,null,null,null,null,null,null,null,null,null,null,null,null,null,""]
[{"$f":"IF(AND(ISBLANK(INDEX($G:$G,)), ISBLANK(INDEX($C:$C,))), \"\", 'PWS Records (System Entry)'!$D$4)","v":""},{"$f":"IF(AND(ISBLANK(INDEX($G:$G,)), ISBLANK(INDEX($C:$C,))), \"\", 'PWS Records (System Entry)'!$D$3)","v":""},null,null,null,null,null,null,null,null,null,null,null,null,null,null,null,null,null,null,""]
[{"$f":"IF(AND(ISBLANK(INDEX($G:$G,)), ISBLANK(INDEX($C:$C,))), \"\", 'PWS Records (System Entry)'!$D$4)","v":""},{"$f":"IF(AND(ISBLANK(INDEX($G:$G,)), ISBLANK(INDEX($C:$C,))), \"\", 'PWS Records (System Entry)'!$D$3)","v":""},null,null,null,null,null,null,null,null,null,null,null,null,null,null,null,null,null,null,""]
[{"$f":"IF(AND(ISBLANK(INDEX($G:$G,)), ISBLANK(INDEX($C:$C,))), \"\", 'PWS Records (System Entry)'!$D$4)","v":""},{"$f":"IF(AND(ISBLANK(INDEX($G:$G,)), ISBLANK(INDEX($C:$C,))), \"\", 'PWS Records (System Entry)'!$D$3)","v":""},null,null,null,null,null,null,null,null,null,null,null,null,null,null,null,null,null,null,""]
[{"$f":"IF(AND(ISBLANK(INDEX($G:$G,)), ISBLANK(INDEX($C:$C,))), \"\", 'PWS Records (System Entry)'!$D$4)","v":""},{"$f":"IF(AND(ISBLANK(INDEX($G:$G,)), ISBLANK(INDEX($C:$C,))), \"\", 'PWS Records (System Entry)'!$D$3)","v":""},null,null,null,null,null,null,null,null,null,null,null,null,null,null,null,null,null,null,""]
[{"$f":"IF(AND(ISBLANK(INDEX($G:$G,)), ISBLANK(INDEX($C:$C,))), \"\", 'PWS Records (System Entry)'!$D$4)","v":""},{"$f":"IF(AND(ISBLANK(INDEX($G:$G,)), ISBLANK(INDEX($C:$C,))), \"\", 'PWS Records (System Entry)'!$D$3)","v":""},null,null,null,null,null,null,null,null,null,null,null,null,null,null,null,null,null,null,""]
[{"$f":"IF(AND(ISBLANK(INDEX($G:$G,)), ISBLANK(INDEX($C:$C,))), \"\", 'PWS Records (System Entry)'!$D$4)","v":""},{"$f":"IF(AND(ISBLANK(INDEX($G:$G,)), ISBLANK(INDEX($C:$C,))), \"\", 'PWS Records (System Entry)'!$D$3)","v":""},null,null,null,null,null,null,null,null,null,null,null,null,null,null,null,null,null,null,""]
[{"$f":"IF(AND(ISBLANK(INDEX($G:$G,)), ISBLANK(INDEX($C:$C,))), \"\", 'PWS Records (System Entry)'!$D$4)","v":""},{"$f":"IF(AND(ISBLANK(INDEX($G:$G,)), ISBLANK(INDEX($C:$C,))), \"\", 'PWS Records (System Entry)'!$D$3)","v":""},null,null,null,null,null,null,null,null,null,null,null,null,null,null,null,null,null,null,""]
[{"$f":"IF(AND(ISBLANK(INDEX($G:$G,)), ISBLANK(INDEX($C:$C,))), \"\", 'PWS Records (System Entry)'!$D$4)","v":""},{"$f":"IF(AND(ISBLANK(INDEX($G:$G,)), ISBLANK(INDEX($C:$C,))), \"\", 'PWS Records (System Entry)'!$D$3)","v":""},null,null,null,null,null,null,null,null,null,null,null,null,null,null,null,null,null,null,""]
[{"$f":"IF(AND(ISBLANK(INDEX($G:$G,)), ISBLANK(INDEX($C:$C,))), \"\", 'PWS Records (System Entry)'!$D$4)","v":""},{"$f":"IF(AND(ISBLANK(INDEX($G:$G,)), ISBLANK(INDEX($C:$C,))), \"\", 'PWS Records (System Entry)'!$D$3)","v":""},null,null,null,null,null,null,null,null,null,null,null,null,null,null,null,null,null,null,""]
[{"$f":"IF(AND(ISBLANK(INDEX($G:$G,)), ISBLANK(INDEX($C:$C,))), \"\", 'PWS Records (System Entry)'!$D$4)","v":""},{"$f":"IF(AND(ISBLANK(INDEX($G:$G,)), ISBLANK(INDEX($C:$C,))), \"\", 'PWS Records (System Entry)'!$D$3)","v":""},null,null,null,null,null,null,null,null,null,null,null,null,null,null,null,null,null,null,""]
[{"$f":"IF(AND(ISBLANK(INDEX($G:$G,)), ISBLANK(INDEX($C:$C,))), \"\", 'PWS Records (System Entry)'!$D$4)","v":""},{"$f":"IF(AND(ISBLANK(INDEX($G:$G,)), ISBLANK(INDEX($C:$C,))), \"\", 'PWS Records (System Entry)'!$D$3)","v":""},null,null,null,null,null,null,null,null,null,null,null,null,null,null,null,null,null,null,""]
[{"$f":"IF(AND(ISBLANK(INDEX($G:$G,)), ISBLANK(INDEX($C:$C,))), \"\", 'PWS Records (System Entry)'!$D$4)","v":""},{"$f":"IF(AND(ISBLANK(INDEX($G:$G,)), ISBLANK(INDEX($C:$C,))), \"\", 'PWS Records (System Entry)'!$D$3)","v":""},null,null,null,null,null,null,null,null,null,null,null,null,null,null,null,null,null,null,""]
[{"$f":"IF(AND(ISBLANK(INDEX($G:$G,)), ISBLANK(INDEX($C:$C,))), \"\", 'PWS Records (System Entry)'!$D$4)","v":""},{"$f":"IF(AND(ISBLANK(INDEX($G:$G,)), ISBLANK(INDEX($C:$C,))), \"\", 'PWS Records (System Entry)'!$D$3)","v":""},null,null,null,null,null,null,null,null,null,null,null,null,null,null,null,null,null,null,""]
[{"$f":"IF(AND(ISBLANK(INDEX($G:$G,)), ISBLANK(INDEX($C:$C,))), \"\", 'PWS Records (System Entry)'!$D$4)","v":""},{"$f":"IF(AND(ISBLANK(INDEX($G:$G,)), ISBLANK(INDEX($C:$C,))), \"\", 'PWS Records (System Entry)'!$D$3)","v":""},null,null,null,null,null,null,null,null,null,null,null,null,null,null,null,null,null,null,""]
[{"$f":"IF(AND(ISBLANK(INDEX($G:$G,)), ISBLANK(INDEX($C:$C,))), \"\", 'PWS Records (System Entry)'!$D$4)","v":""},{"$f":"IF(AND(ISBLANK(INDEX($G:$G,)), ISBLANK(INDEX($C:$C,))), \"\", 'PWS Records (System Entry)'!$D$3)","v":""},null,null,null,null,null,null,null,null,null,null,null,null,null,null,null,null,null,null,""]
[{"$f":"IF(AND(ISBLANK(INDEX($G:$G,)), ISBLANK(INDEX($C:$C,))), \"\", 'PWS Records (System Entry)'!$D$4)","v":""},{"$f":"IF(AND(ISBLANK(INDEX($G:$G,)), ISBLANK(INDEX($C:$C,))), \"\", 'PWS Records (System Entry)'!$D$3)","v":""},null,null,null,null,null,null,null,null,null,null,null,null,null,null,null,null,null,null,""]
[{"$f":"IF(AND(ISBLANK(INDEX($G:$G,)), ISBLANK(INDEX($C:$C,))), \"\", 'PWS Records (System Entry)'!$D$4)","v":""},{"$f":"IF(AND(ISBLANK(INDEX($G:$G,)), ISBLANK(INDEX($C:$C,))), \"\", 'PWS Records (System Entry)'!$D$3)","v":""},null,null,null,null,null,null,null,null,null,null,null,null,null,null,null,null,null,null,""]
[{"$f":"IF(AND(ISBLANK(INDEX($G:$G,)), ISBLANK(INDEX($C:$C,))), \"\", 'PWS Records (System Entry)'!$D$4)","v":""},{"$f":"IF(AND(ISBLANK(INDEX($G:$G,)), ISBLANK(INDEX($C:$C,))), \"\", 'PWS Records (System Entry)'!$D$3)","v":""},null,null,null,null,null,null,null,null,null,null,null,null,null,null,null,null,null,null,""]
[{"$f":"IF(AND(ISBLANK(INDEX($G:$G,)), ISBLANK(INDEX($C:$C,))), \"\", 'PWS Records (System Entry)'!$D$4)","v":""},{"$f":"IF(AND(ISBLANK(INDEX($G:$G,)), ISBLANK(INDEX($C:$C,))), \"\", 'PWS Records (System Entry)'!$D$3)","v":""},null,null,null,null,null,null,null,null,null,null,null,null,null,null,null,null,null,null,""]
[{"$f":"IF(AND(ISBLANK(INDEX($G:$G,)), ISBLANK(INDEX($C:$C,))), \"\", 'PWS Records (System Entry)'!$D$4)","v":""},{"$f":"IF(AND(ISBLANK(INDEX($G:$G,)), ISBLANK(INDEX($C:$C,))), \"\", 'PWS Records (System Entry)'!$D$3)","v":""},null,null,null,null,null,null,null,null,null,null,null,null,null,null,null,null,null,null,""]
[{"$f":"IF(AND(ISBLANK(INDEX($G:$G,)), ISBLANK(INDEX($C:$C,))), \"\", 'PWS Records (System Entry)'!$D$4)","v":""},{"$f":"IF(AND(ISBLANK(INDEX($G:$G,)), ISBLANK(INDEX($C:$C,))), \"\", 'PWS Records (System Entry)'!$D$3)","v":""},null,null,null,null,null,null,null,null,null,null,null,null,null,null,null,null,null,null,""]
[{"$f":"IF(AND(ISBLANK(INDEX($G:$G,)), ISBLANK(INDEX($C:$C,))), \"\", 'PWS Records (System Entry)'!$D$4)","v":""},{"$f":"IF(AND(ISBLANK(INDEX($G:$G,)), ISBLANK(INDEX($C:$C,))), \"\", 'PWS Records (System Entry)'!$D$3)","v":""},null,null,null,null,null,null,null,null,null,null,null,null,null,null,null,null,null,null,""]
[{"$f":"IF(AND(ISBLANK(INDEX($G:$G,)), ISBLANK(INDEX($C:$C,))), \"\", 'PWS Records (System Entry)'!$D$4)","v":""},{"$f":"IF(AND(ISBLANK(INDEX($G:$G,)), ISBLANK(INDEX($C:$C,))), \"\", 'PWS Records (System Entry)'!$D$3)","v":""},null,null,null,null,null,null,null,null,null,null,null,null,null,null,null,null,null,null,""]
[{"$f":"IF(AND(ISBLANK(INDEX($G:$G,)), ISBLANK(INDEX($C:$C,))), \"\", 'PWS Records (System Entry)'!$D$4)","v":""},{"$f":"IF(AND(ISBLANK(INDEX($G:$G,)), ISBLANK(INDEX($C:$C,))), \"\", 'PWS Records (System Entry)'!$D$3)","v":""},null,null,null,null,null,null,null,null,null,null,null,null,null,null,null,null,null,null,""]
[{"$f":"IF(AND(ISBLANK(INDEX($G:$G,)), ISBLANK(INDEX($C:$C,))), \"\", 'PWS Records (System Entry)'!$D$4)","v":""},{"$f":"IF(AND(ISBLANK(INDEX($G:$G,)), ISBLANK(INDEX($C:$C,))), \"\", 'PWS Records (System Entry)'!$D$3)","v":""},null,null,null,null,null,null,null,null,null,null,null,null,null,null,null,null,null,null,""]
[{"$f":"IF(AND(ISBLANK(INDEX($G:$G,)), ISBLANK(INDEX($C:$C,))), \"\", 'PWS Records (System Entry)'!$D$4)","v":""},{"$f":"IF(AND(ISBLANK(INDEX($G:$G,)), ISBLANK(INDEX($C:$C,))), \"\", 'PWS Records (System Entry)'!$D$3)","v":""},null,null,null,null,null,null,null,null,null,null,null,null,null,null,null,null,null,null,""]
[{"$f":"IF(AND(ISBLANK(INDEX($G:$G,)), ISBLANK(INDEX($C:$C,))), \"\", 'PWS Records (System Entry)'!$D$4)","v":""},{"$f":"IF(AND(ISBLANK(INDEX($G:$G,)), ISBLANK(INDEX($C:$C,))), \"\", 'PWS Records (System Entry)'!$D$3)","v":""},null,null,null,null,null,null,null,null,null,null,null,null,null,null,null,null,null,null,""]
[{"$f":"IF(AND(ISBLANK(INDEX($G:$G,)), ISBLANK(INDEX($C:$C,))), \"\", 'PWS Records (System Entry)'!$D$4)","v":""},{"$f":"IF(AND(ISBLANK(INDEX($G:$G,)), ISBLANK(INDEX($C:$C,))), \"\", 'PWS Records (System Entry)'!$D$3)","v":""},null,null,null,null,null,null,null,null,null,null,null,null,null,null,null,null,null,null,""]
[{"$f":"IF(AND(ISBLANK(INDEX($G:$G,)), ISBLANK(INDEX($C:$C,))), \"\", 'PWS Records (System Entry)'!$D$4)","v":""},{"$f":"IF(AND(ISBLANK(INDEX($G:$G,)), ISBLANK(INDEX($C:$C,))), \"\", 'PWS Records (System Entry)'!$D$3)","v":""},null,null,null,null,null,null,null,null,null,null,null,null,null,null,null,null,null,null,""]
[{"$f":"IF(AND(ISBLANK(INDEX($G:$G,)), ISBLANK(INDEX($C:$C,))), \"\", 'PWS Records (System Entry)'!$D$4)","v":""},{"$f":"IF(AND(ISBLANK(INDEX($G:$G,)), ISBLANK(INDEX($C:$C,))), \"\", 'PWS Records (System Entry)'!$D$3)","v":""},null,null,null,null,null,null,null,null,null,null,null,null,null,null,null,null,null,null,""]
[{"$f":"IF(AND(ISBLANK(INDEX($G:$G,)), ISBLANK(INDEX($C:$C,))), \"\", 'PWS Records (System Entry)'!$D$4)","v":""},{"$f":"IF(AND(ISBLANK(INDEX($G:$G,)), ISBLANK(INDEX($C:$C,))), \"\", 'PWS Records (System Entry)'!$D$3)","v":""},null,null,null,null,null,null,null,null,null,null,null,null,null,null,null,null,null,null,""]
[{"$f":"IF(AND(ISBLANK(INDEX($G:$G,)), ISBLANK(INDEX($C:$C,))), \"\", 'PWS Records (System Entry)'!$D$4)","v":""},{"$f":"IF(AND(ISBLANK(INDEX($G:$G,)), ISBLANK(INDEX($C:$C,))), \"\", 'PWS Records (System Entry)'!$D$3)","v":""},null,null,null,null,null,null,null,null,null,null,null,null,null,null,null,null,null,null,""]
[{"$f":"IF(AND(ISBLANK(INDEX($G:$G,)), ISBLANK(INDEX($C:$C,))), \"\", 'PWS Records (System Entry)'!$D$4)","v":""},{"$f":"IF(AND(ISBLANK(INDEX($G:$G,)), ISBLANK(INDEX($C:$C,))), \"\", 'PWS Records (System Entry)'!$D$3)","v":""},null,null,null,null,null,null,null,null,null,null,null,null,null,null,null,null,null,null,""]
[{"$f":"IF(AND(ISBLANK(INDEX($G:$G,)), ISBLANK(INDEX($C:$C,))), \"\", 'PWS Records (System Entry)'!$D$4)","v":""},{"$f":"IF(AND(ISBLANK(INDEX($G:$G,)), ISBLANK(INDEX($C:$C,))), \"\", 'PWS Records (System Entry)'!$D$3)","v":""},null,null,null,null,null,null,null,null,null,null,null,null,null,null,null,null,null,null,""]
[{"$f":"IF(AND(ISBLANK(INDEX($G:$G,)), ISBLANK(INDEX($C:$C,))), \"\", 'PWS Records (System Entry)'!$D$4)","v":""},{"$f":"IF(AND(ISBLANK(INDEX($G:$G,)), ISBLANK(INDEX($C:$C,))), \"\", 'PWS Records (System Entry)'!$D$3)","v":""},null,null,null,null,null,null,null,null,null,null,null,null,null,null,null,null,null,null,""]
[{"$f":"IF(AND(ISBLANK(INDEX($G:$G,)), ISBLANK(INDEX($C:$C,))), \"\", 'PWS Records (System Entry)'!$D$4)","v":""},{"$f":"IF(AND(ISBLANK(INDEX($G:$G,)), ISBLANK(INDEX($C:$C,))), \"\", 'PWS Records (System Entry)'!$D$3)","v":""},null,null,null,null,null,null,null,null,null,null,null,null,null,null,null,null,null,null,""]
[{"$f":"IF(AND(ISBLANK(INDEX($G:$G,)), ISBLANK(INDEX($C:$C,))), \"\", 'PWS Records (System Entry)'!$D$4)","v":""},{"$f":"IF(AND(ISBLANK(INDEX($G:$G,)), ISBLANK(INDEX($C:$C,))), \"\", 'PWS Records (System Entry)'!$D$3)","v":""},null,null,null,null,null,null,null,null,null,null,null,null,null,null,null,null,null,null,""]
[{"$f":"IF(AND(ISBLANK(INDEX($G:$G,)), ISBLANK(INDEX($C:$C,))), \"\", 'PWS Records (System Entry)'!$D$4)","v":""},{"$f":"IF(AND(ISBLANK(INDEX($G:$G,)), ISBLANK(INDEX($C:$C,))), \"\", 'PWS Records (System Entry)'!$D$3)","v":""},null,null,null,null,null,null,null,null,null,null,null,null,null,null,null,null,null,null,""]
[{"$f":"IF(AND(ISBLANK(INDEX($G:$G,)), ISBLANK(INDEX($C:$C,))), \"\", 'PWS Records (System Entry)'!$D$4)","v":""},{"$f":"IF(AND(ISBLANK(INDEX($G:$G,)), ISBLANK(INDEX($C:$C,))), \"\", 'PWS Records (System Entry)'!$D$3)","v":""},null,null,null,null,null,null,null,null,null,null,null,null,null,null,null,null,null,null,""]
[{"$f":"IF(AND(ISBLANK(INDEX($G:$G,)), ISBLANK(INDEX($C:$C,))), \"\", 'PWS Records (System Entry)'!$D$4)","v":""},{"$f":"IF(AND(ISBLANK(INDEX($G:$G,)), ISBLANK(INDEX($C:$C,))), \"\", 'PWS Records (System Entry)'!$D$3)","v":""},null,null,null,null,null,null,null,null,null,null,null,null,null,null,null,null,null,null,""]
[{"$f":"IF(AND(ISBLANK(INDEX($G:$G,)), ISBLANK(INDEX($C:$C,))), \"\", 'PWS Records (System Entry)'!$D$4)","v":""},{"$f":"IF(AND(ISBLANK(INDEX($G:$G,)), ISBLANK(INDEX($C:$C,))), \"\", 'PWS Records (System Entry)'!$D$3)","v":""},null,null,null,null,null,null,null,null,null,null,null,null,null,null,null,null,null,null,""]
[{"$f":"IF(AND(ISBLANK(INDEX($G:$G,)), ISBLANK(INDEX($C:$C,))), \"\", 'PWS Records (System Entry)'!$D$4)","v":""},{"$f":"IF(AND(ISBLANK(INDEX($G:$G,)), ISBLANK(INDEX($C:$C,))), \"\", 'PWS Records (System Entry)'!$D$3)","v":""},null,null,null,null,null,null,null,null,null,null,null,null,null,null,null,null,null,null,""]
[{"$f":"IF(AND(ISBLANK(INDEX($G:$G,)), ISBLANK(INDEX($C:$C,))), \"\", 'PWS Records (System Entry)'!$D$4)","v":""},{"$f":"IF(AND(ISBLANK(INDEX($G:$G,)), ISBLANK(INDEX($C:$C,))), \"\", 'PWS Records (System Entry)'!$D$3)","v":""},null,null,null,null,null,null,null,null,null,null,null,null,null,null,null,null,null,null,""]
[{"$f":"IF(AND(ISBLANK(INDEX($G:$G,)), ISBLANK(INDEX($C:$C,))), \"\", 'PWS Records (System Entry)'!$D$4)","v":""},{"$f":"IF(AND(ISBLANK(INDEX($G:$G,)), ISBLANK(INDEX($C:$C,))), \"\", 'PWS Records (System Entry)'!$D$3)","v":""},null,null,null,null,null,null,null,null,null,null,null,null,null,null,null,null,null,null,""]
[{"$f":"IF(AND(ISBLANK(INDEX($G:$G,)), ISBLANK(INDEX($C:$C,))), \"\", 'PWS Records (System Entry)'!$D$4)","v":""},{"$f":"IF(AND(ISBLANK(INDEX($G:$G,)), ISBLANK(INDEX($C:$C,))), \"\", 'PWS Records (System Entry)'!$D$3)","v":""},null,null,null,null,null,null,null,null,null,null,null,null,null,null,null,null,null,null,""]
[{"$f":"IF(AND(ISBLANK(INDEX($G:$G,)), ISBLANK(INDEX($C:$C,))), \"\", 'PWS Records (System Entry)'!$D$4)","v":""},{"$f":"IF(AND(ISBLANK(INDEX($G:$G,)), ISBLANK(INDEX($C:$C,))), \"\", 'PWS Records (System Entry)'!$D$3)","v":""},null,null,null,null,null,null,null,null,null,null,null,null,null,null,null,null,null,null,""]
[{"$f":"IF(AND(ISBLANK(INDEX($G:$G,)), ISBLANK(INDEX($C:$C,))), \"\", 'PWS Records (System Entry)'!$D$4)","v":""},{"$f":"IF(AND(ISBLANK(INDEX($G:$G,)), ISBLANK(INDEX($C:$C,))), \"\", 'PWS Records (System Entry)'!$D$3)","v":""},null,null,null,null,null,null,null,null,null,null,null,null,null,null,null,null,null,null,""]
[{"$f":"IF(AND(ISBLANK(INDEX($G:$G,)), ISBLANK(INDEX($C:$C,))), \"\", 'PWS Records (System Entry)'!$D$4)","v":""},{"$f":"IF(AND(ISBLANK(INDEX($G:$G,)), ISBLANK(INDEX($C:$C,))), \"\", 'PWS Records (System Entry)'!$D$3)","v":""},null,null,null,null,null,null,null,null,null,null,null,null,null,null,null,null,null,null,""]
[{"$f":"IF(AND(ISBLANK(INDEX($G:$G,)), ISBLANK(INDEX($C:$C,))), \"\", 'PWS Records (System Entry)'!$D$4)","v":""},{"$f":"IF(AND(ISBLANK(INDEX($G:$G,)), ISBLANK(INDEX($C:$C,))), \"\", 'PWS Records (System Entry)'!$D$3)","v":""},null,null,null,null,null,null,null,null,null,null,null,null,null,null,null,null,null,null,""]
[{"$f":"IF(AND(ISBLANK(INDEX($G:$G,)), ISBLANK(INDEX($C:$C,))), \"\", 'PWS Records (System Entry)'!$D$4)","v":""},{"$f":"IF(AND(ISBLANK(INDEX($G:$G,)), ISBLANK(INDEX($C:$C,))), \"\", 'PWS Records (System Entry)'!$D$3)","v":""},null,null,null,null,null,null,null,null,null,null,null,null,null,null,null,null,null,null,""]
[{"$f":"IF(AND(ISBLANK(INDEX($G:$G,)), ISBLANK(INDEX($C:$C,))), \"\", 'PWS Records (System Entry)'!$D$4)","v":""},{"$f":"IF(AND(ISBLANK(INDEX($G:$G,)), ISBLANK(INDEX($C:$C,))), \"\", 'PWS Records (System Entry)'!$D$3)","v":""},null,null,null,null,null,null,null,null,null,null,null,null,null,null,null,null,null,null,""]
[{"$f":"IF(AND(ISBLANK(INDEX($G:$G,)), ISBLANK(INDEX($C:$C,))), \"\", 'PWS Records (System Entry)'!$D$4)","v":""},{"$f":"IF(AND(ISBLANK(INDEX($G:$G,)), ISBLANK(INDEX($C:$C,))), \"\", 'PWS Records (System Entry)'!$D$3)","v":""},null,null,null,null,null,null,null,null,null,null,null,null,null,null,null,null,null,null,""]
[{"$f":"IF(AND(ISBLANK(INDEX($G:$G,)), ISBLANK(INDEX($C:$C,))), \"\", 'PWS Records (System Entry)'!$D$4)","v":""},{"$f":"IF(AND(ISBLANK(INDEX($G:$G,)), ISBLANK(INDEX($C:$C,))), \"\", 'PWS Records (System Entry)'!$D$3)","v":""},null,null,null,null,null,null,null,null,null,null,null,null,null,null,null,null,null,null,""]
[{"$f":"IF(AND(ISBLANK(INDEX($G:$G,)), ISBLANK(INDEX($C:$C,))), \"\", 'PWS Records (System Entry)'!$D$4)","v":""},{"$f":"IF(AND(ISBLANK(INDEX($G:$G,)), ISBLANK(INDEX($C:$C,))), \"\", 'PWS Records (System Entry)'!$D$3)","v":""},null,null,null,null,null,null,null,null,null,null,null,null,null,null,null,null,null,null,""]
[{"$f":"IF(AND(ISBLANK(INDEX($G:$G,)), ISBLANK(INDEX($C:$C,))), \"\", 'PWS Records (System Entry)'!$D$4)","v":""},{"$f":"IF(AND(ISBLANK(INDEX($G:$G,)), ISBLANK(INDEX($C:$C,))), \"\", 'PWS Records (System Entry)'!$D$3)","v":""},null,null,null,null,null,null,null,null,null,null,null,null,null,null,null,null,null,null,""]
[{"$f":"IF(AND(ISBLANK(INDEX($G:$G,)), ISBLANK(INDEX($C:$C,))), \"\", 'PWS Records (System Entry)'!$D$4)","v":""},{"$f":"IF(AND(ISBLANK(INDEX($G:$G,)), ISBLANK(INDEX($C:$C,))), \"\", 'PWS Records (System Entry)'!$D$3)","v":""},null,null,null,null,null,null,null,null,null,null,null,null,null,null,null,null,null,null,""]
[{"$f":"IF(AND(ISBLANK(INDEX($G:$G,)), ISBLANK(INDEX($C:$C,))), \"\", 'PWS Records (System Entry)'!$D$4)","v":""},{"$f":"IF(AND(ISBLANK(INDEX($G:$G,)), ISBLANK(INDEX($C:$C,))), \"\", 'PWS Records (System Entry)'!$D$3)","v":""},null,null,null,null,null,null,null,null,null,null,null,null,null,null,null,null,null,null,{"$f":"IF(AND(INDEX($K:$K,)=\"\", INDEX($L:$L,)=\"\", INDEX($M:$M,)=\"\", INDEX($Q:$Q,)=\"\", INDEX($R:$R,)=\"\"), \"\", IF(OR(INDEX($K:$K,)=\"Lead\",INDEX($Q:$Q,)=\"Lead\"),\"Lead\",IF(OR(AND(OR(INDEX($M:$M,)=\"Yes\", INDEX($M:$M,)=\"Don't Know\", INDEX($M:$M,)=\"\"), INDEX($Q:$Q,)=\"Galvanized Iron/Steel\"), AND(INDEX($K:$K,)=\"Unknown\", INDEX($M:$M,)=\"No\", INDEX($Q:$Q,)=\"Galvanized Iron/Steel\")), \"Galvanized Requiring Replacement\", IF(OR(AND(OR(INDEX($K:$K,)=\"Galvanized Iron/Steel\", INDEX($K:$K,)=\"Non-Lead - Copper\", INDEX($K:$K,)=\"Non-Lead - Plastic\", INDEX($K:$K,)=\"Non-Lead - Other\", INDEX($K:$K,)=\"Non-Lead - Material Unknown\", INDEX($K:$K,)=\"No System Owned Portion\"), OR(INDEX($Q:$Q,)=\"Galvanized Iron/Steel\", INDEX($Q:$Q,)=\"Non-Lead - Copper\", INDEX($Q:$Q,)=\"Non-Lead - Plastic\", INDEX($Q:$Q,)=\"Non-Lead - Other\", INDEX($Q:$Q,)=\"Non-Lead - Predictive Model\", INDEX($Q:$Q,)=\"No Customer Owned Portion\")), AND(OR( INDEX($K:$K,)=\"Galvanized Iron/Steel\", INDEX($K:$K,)=\"Non-Lead - Copper\", INDEX($K:$K,)=\"Non-Lead - Plastic\", INDEX($K:$K,)=\"Non-Lead - Other\", INDEX($K:$K,)=\"Non-Lead - Material Unknown\", INDEX($K:$K,)=\"No System Owned Portion\"), INDEX($M:$M,)=\"No\", INDEX($Q:$Q,)=\"Non-Lead - Material Unknown\")), \"Non-Lead\", \"Lead Status Unknown\"))))","v":""}]
[{"$f":"IF(AND(ISBLANK(INDEX($G:$G,)), ISBLANK(INDEX($C:$C,))), \"\", 'PWS Records (System Entry)'!$D$4)","v":""},{"$f":"IF(AND(ISBLANK(INDEX($G:$G,)), ISBLANK(INDEX($C:$C,))), \"\", 'PWS Records (System Entry)'!$D$3)","v":""},null,null,null,null,null,null,null,null,null,null,null,null,null,null,null,null,null,null,""]
[{"$f":"IF(AND(ISBLANK(INDEX($G:$G,)), ISBLANK(INDEX($C:$C,))), \"\", 'PWS Records (System Entry)'!$D$4)","v":""},{"$f":"IF(AND(ISBLANK(INDEX($G:$G,)), ISBLANK(INDEX($C:$C,))), \"\", 'PWS Records (System Entry)'!$D$3)","v":""},null,null,null,null,null,null,null,null,null,null,null,null,null,null,null,null,null,null,""]
[{"$f":"IF(AND(ISBLANK(INDEX($G:$G,)), ISBLANK(INDEX($C:$C,))), \"\", 'PWS Records (System Entry)'!$D$4)","v":""},{"$f":"IF(AND(ISBLANK(INDEX($G:$G,)), ISBLANK(INDEX($C:$C,))), \"\", 'PWS Records (System Entry)'!$D$3)","v":""},null,null,null,null,null,null,null,null,null,null,null,null,null,null,null,null,null,null,""]
[{"$f":"IF(AND(ISBLANK(INDEX($G:$G,)), ISBLANK(INDEX($C:$C,))), \"\", 'PWS Records (System Entry)'!$D$4)","v":""},{"$f":"IF(AND(ISBLANK(INDEX($G:$G,)), ISBLANK(INDEX($C:$C,))), \"\", 'PWS Records (System Entry)'!$D$3)","v":""},null,null,null,null,null,null,null,null,null,null,null,null,null,null,null,null,null,null,""]
[{"$f":"IF(AND(ISBLANK(INDEX($G:$G,)), ISBLANK(INDEX($C:$C,))), \"\", 'PWS Records (System Entry)'!$D$4)","v":""},{"$f":"IF(AND(ISBLANK(INDEX($G:$G,)), ISBLANK(INDEX($C:$C,))), \"\", 'PWS Records (System Entry)'!$D$3)","v":""},null,null,null,null,null,null,null,null,null,null,null,null,null,null,null,null,null,null,""]
[{"$f":"IF(AND(ISBLANK(INDEX($G:$G,)), ISBLANK(INDEX($C:$C,))), \"\", 'PWS Records (System Entry)'!$D$4)","v":""},{"$f":"IF(AND(ISBLANK(INDEX($G:$G,)), ISBLANK(INDEX($C:$C,))), \"\", 'PWS Records (System Entry)'!$D$3)","v":""},null,null,null,null,null,null,null,null,null,null,null,null,null,null,null,null,null,null,""]
[{"$f":"IF(AND(ISBLANK(INDEX($G:$G,)), ISBLANK(INDEX($C:$C,))), \"\", 'PWS Records (System Entry)'!$D$4)","v":""},{"$f":"IF(AND(ISBLANK(INDEX($G:$G,)), ISBLANK(INDEX($C:$C,))), \"\", 'PWS Records (System Entry)'!$D$3)","v":""},null,null,null,null,null,null,null,null,null,null,null,null,null,null,null,null,null,null,""]
[{"$f":"IF(AND(ISBLANK(INDEX($G:$G,)), ISBLANK(INDEX($C:$C,))), \"\", 'PWS Records (System Entry)'!$D$4)","v":""},{"$f":"IF(AND(ISBLANK(INDEX($G:$G,)), ISBLANK(INDEX($C:$C,))), \"\", 'PWS Records (System Entry)'!$D$3)","v":""},null,null,null,null,null,null,null,null,null,null,null,null,null,null,null,null,null,null,""]
[{"$f":"IF(AND(ISBLANK(INDEX($G:$G,)), ISBLANK(INDEX($C:$C,))), \"\", 'PWS Records (System Entry)'!$D$4)","v":""},{"$f":"IF(AND(ISBLANK(INDEX($G:$G,)), ISBLANK(INDEX($C:$C,))), \"\", 'PWS Records (System Entry)'!$D$3)","v":""},null,null,null,null,null,null,null,null,null,null,null,null,null,null,null,null,null,null,""]
[{"$f":"IF(AND(ISBLANK(INDEX($G:$G,)), ISBLANK(INDEX($C:$C,))), \"\", 'PWS Records (System Entry)'!$D$4)","v":""},{"$f":"IF(AND(ISBLANK(INDEX($G:$G,)), ISBLANK(INDEX($C:$C,))), \"\", 'PWS Records (System Entry)'!$D$3)","v":""},null,null,null,null,null,null,null,null,null,null,null,null,null,null,null,null,null,null,""]
[{"$f":"IF(AND(ISBLANK(INDEX($G:$G,)), ISBLANK(INDEX($C:$C,))), \"\", 'PWS Records (System Entry)'!$D$4)","v":""},{"$f":"IF(AND(ISBLANK(INDEX($G:$G,)), ISBLANK(INDEX($C:$C,))), \"\", 'PWS Records (System Entry)'!$D$3)","v":""},null,null,null,null,null,null,null,null,null,null,null,null,null,null,null,null,null,null,""]
[{"$f":"IF(AND(ISBLANK(INDEX($G:$G,)), ISBLANK(INDEX($C:$C,))), \"\", 'PWS Records (System Entry)'!$D$4)","v":""},{"$f":"IF(AND(ISBLANK(INDEX($G:$G,)), ISBLANK(INDEX($C:$C,))), \"\", 'PWS Records (System Entry)'!$D$3)","v":""},null,null,null,null,null,null,null,null,null,null,null,null,null,null,null,null,null,null,""]
[{"$f":"IF(AND(ISBLANK(INDEX($G:$G,)), ISBLANK(INDEX($C:$C,))), \"\", 'PWS Records (System Entry)'!$D$4)","v":""},{"$f":"IF(AND(ISBLANK(INDEX($G:$G,)), ISBLANK(INDEX($C:$C,))), \"\", 'PWS Records (System Entry)'!$D$3)","v":""},null,null,null,null,null,null,null,null,null,null,null,null,null,null,null,null,null,null,""]
[{"$f":"IF(AND(ISBLANK(INDEX($G:$G,)), ISBLANK(INDEX($C:$C,))), \"\", 'PWS Records (System Entry)'!$D$4)","v":""},{"$f":"IF(AND(ISBLANK(INDEX($G:$G,)), ISBLANK(INDEX($C:$C,))), \"\", 'PWS Records (System Entry)'!$D$3)","v":""},null,null,null,null,null,null,null,null,null,null,null,null,null,null,null,null,null,null,""]
[{"$f":"IF(AND(ISBLANK(INDEX($G:$G,)), ISBLANK(INDEX($C:$C,))), \"\", 'PWS Records (System Entry)'!$D$4)","v":""},{"$f":"IF(AND(ISBLANK(INDEX($G:$G,)), ISBLANK(INDEX($C:$C,))), \"\", 'PWS Records (System Entry)'!$D$3)","v":""},null,null,null,null,null,null,null,null,null,null,null,null,null,null,null,null,null,null,""]
[{"$f":"IF(AND(ISBLANK(INDEX($G:$G,)), ISBLANK(INDEX($C:$C,))), \"\", 'PWS Records (System Entry)'!$D$4)","v":""},{"$f":"IF(AND(ISBLANK(INDEX($G:$G,)), ISBLANK(INDEX($C:$C,))), \"\", 'PWS Records (System Entry)'!$D$3)","v":""},null,null,null,null,null,null,null,null,null,null,null,null,null,null,null,null,null,null,""]
[{"$f":"IF(AND(ISBLANK(INDEX($G:$G,)), ISBLANK(INDEX($C:$C,))), \"\", 'PWS Records (System Entry)'!$D$4)","v":""},{"$f":"IF(AND(ISBLANK(INDEX($G:$G,)), ISBLANK(INDEX($C:$C,))), \"\", 'PWS Records (System Entry)'!$D$3)","v":""},null,null,null,null,null,null,null,null,null,null,null,null,null,null,null,null,null,null,""]
[{"$f":"IF(AND(ISBLANK(INDEX($G:$G,)), ISBLANK(INDEX($C:$C,))), \"\", 'PWS Records (System Entry)'!$D$4)","v":""},{"$f":"IF(AND(ISBLANK(INDEX($G:$G,)), ISBLANK(INDEX($C:$C,))), \"\", 'PWS Records (System Entry)'!$D$3)","v":""},null,null,null,null,null,null,null,null,null,null,null,null,null,null,null,null,null,null,""]
[{"$f":"IF(AND(ISBLANK(INDEX($G:$G,)), ISBLANK(INDEX($C:$C,))), \"\", 'PWS Records (System Entry)'!$D$4)","v":""},{"$f":"IF(AND(ISBLANK(INDEX($G:$G,)), ISBLANK(INDEX($C:$C,))), \"\", 'PWS Records (System Entry)'!$D$3)","v":""},null,null,null,null,null,null,null,null,null,null,null,null,null,null,null,null,null,null,""]
[{"$f":"IF(AND(ISBLANK(INDEX($G:$G,)), ISBLANK(INDEX($C:$C,))), \"\", 'PWS Records (System Entry)'!$D$4)","v":""},{"$f":"IF(AND(ISBLANK(INDEX($G:$G,)), ISBLANK(INDEX($C:$C,))), \"\", 'PWS Records (System Entry)'!$D$3)","v":""},null,null,null,null,null,null,null,null,null,null,null,null,null,null,null,null,null,null,""]
[{"$f":"IF(AND(ISBLANK(INDEX($G:$G,)), ISBLANK(INDEX($C:$C,))), \"\", 'PWS Records (System Entry)'!$D$4)","v":""},{"$f":"IF(AND(ISBLANK(INDEX($G:$G,)), ISBLANK(INDEX($C:$C,))), \"\", 'PWS Records (System Entry)'!$D$3)","v":""},null,null,null,null,null,null,null,null,null,null,null,null,null,null,null,null,null,null,""]
[{"$f":"IF(AND(ISBLANK(INDEX($G:$G,)), ISBLANK(INDEX($C:$C,))), \"\", 'PWS Records (System Entry)'!$D$4)","v":""},{"$f":"IF(AND(ISBLANK(INDEX($G:$G,)), ISBLANK(INDEX($C:$C,))), \"\", 'PWS Records (System Entry)'!$D$3)","v":""},null,null,null,null,null,null,null,null,null,null,null,null,null,null,null,null,null,null,""]
[{"$f":"IF(AND(ISBLANK(INDEX($G:$G,)), ISBLANK(INDEX($C:$C,))), \"\", 'PWS Records (System Entry)'!$D$4)","v":""},{"$f":"IF(AND(ISBLANK(INDEX($G:$G,)), ISBLANK(INDEX($C:$C,))), \"\", 'PWS Records (System Entry)'!$D$3)","v":""},null,null,null,null,null,null,null,null,null,null,null,null,null,null,null,null,null,null,""]
[{"$f":"IF(AND(ISBLANK(INDEX($G:$G,)), ISBLANK(INDEX($C:$C,))), \"\", 'PWS Records (System Entry)'!$D$4)","v":""},{"$f":"IF(AND(ISBLANK(INDEX($G:$G,)), ISBLANK(INDEX($C:$C,))), \"\", 'PWS Records (System Entry)'!$D$3)","v":""},null,null,null,null,null,null,null,null,null,null,null,null,null,null,null,null,null,null,""]
[{"$f":"IF(AND(ISBLANK(INDEX($G:$G,)), ISBLANK(INDEX($C:$C,))), \"\", 'PWS Records (System Entry)'!$D$4)","v":""},{"$f":"IF(AND(ISBLANK(INDEX($G:$G,)), ISBLANK(INDEX($C:$C,))), \"\", 'PWS Records (System Entry)'!$D$3)","v":""},null,null,null,null,null,null,null,null,null,null,null,null,null,null,null,null,null,null,""]
[{"$f":"IF(AND(ISBLANK(INDEX($G:$G,)), ISBLANK(INDEX($C:$C,))), \"\", 'PWS Records (System Entry)'!$D$4)","v":""},{"$f":"IF(AND(ISBLANK(INDEX($G:$G,)), ISBLANK(INDEX($C:$C,))), \"\", 'PWS Records (System Entry)'!$D$3)","v":""},null,null,null,null,null,null,null,null,null,null,null,null,null,null,null,null,null,null,""]
[{"$f":"IF(AND(ISBLANK(INDEX($G:$G,)), ISBLANK(INDEX($C:$C,))), \"\", 'PWS Records (System Entry)'!$D$4)","v":""},{"$f":"IF(AND(ISBLANK(INDEX($G:$G,)), ISBLANK(INDEX($C:$C,))), \"\", 'PWS Records (System Entry)'!$D$3)","v":""},null,null,null,null,null,null,null,null,null,null,null,null,null,null,null,null,null,null,""]
[{"$f":"IF(AND(ISBLANK(INDEX($G:$G,)), ISBLANK(INDEX($C:$C,))), \"\", 'PWS Records (System Entry)'!$D$4)","v":""},{"$f":"IF(AND(ISBLANK(INDEX($G:$G,)), ISBLANK(INDEX($C:$C,))), \"\", 'PWS Records (System Entry)'!$D$3)","v":""},null,null,null,null,null,null,null,null,null,null,null,null,null,null,null,null,null,null,""]
[{"$f":"IF(AND(ISBLANK(INDEX($G:$G,)), ISBLANK(INDEX($C:$C,))), \"\", 'PWS Records (System Entry)'!$D$4)","v":""},{"$f":"IF(AND(ISBLANK(INDEX($G:$G,)), ISBLANK(INDEX($C:$C,))), \"\", 'PWS Records (System Entry)'!$D$3)","v":""},null,null,null,null,null,null,null,null,null,null,null,null,null,null,null,null,null,null,""]
[{"$f":"IF(AND(ISBLANK(INDEX($G:$G,)), ISBLANK(INDEX($C:$C,))), \"\", 'PWS Records (System Entry)'!$D$4)","v":""},{"$f":"IF(AND(ISBLANK(INDEX($G:$G,)), ISBLANK(INDEX($C:$C,))), \"\", 'PWS Records (System Entry)'!$D$3)","v":""},null,null,null,null,null,null,null,null,null,null,null,null,null,null,null,null,null,null,""]
[{"$f":"IF(AND(ISBLANK(INDEX($G:$G,)), ISBLANK(INDEX($C:$C,))), \"\", 'PWS Records (System Entry)'!$D$4)","v":""},{"$f":"IF(AND(ISBLANK(INDEX($G:$G,)), ISBLANK(INDEX($C:$C,))), \"\", 'PWS Records (System Entry)'!$D$3)","v":""},null,null,null,null,null,null,null,null,null,null,null,null,null,null,null,null,null,null,""]
[{"$f":"IF(AND(ISBLANK(INDEX($G:$G,)), ISBLANK(INDEX($C:$C,))), \"\", 'PWS Records (System Entry)'!$D$4)","v":""},{"$f":"IF(AND(ISBLANK(INDEX($G:$G,)), ISBLANK(INDEX($C:$C,))), \"\", 'PWS Records (System Entry)'!$D$3)","v":""},null,null,null,null,null,null,null,null,null,null,null,null,null,null,null,null,null,null,""]
[{"$f":"IF(AND(ISBLANK(INDEX($G:$G,)), ISBLANK(INDEX($C:$C,))), \"\", 'PWS Records (System Entry)'!$D$4)","v":""},{"$f":"IF(AND(ISBLANK(INDEX($G:$G,)), ISBLANK(INDEX($C:$C,))), \"\", 'PWS Records (System Entry)'!$D$3)","v":""},null,null,null,null,null,null,null,null,null,null,null,null,null,null,null,null,null,null,""]
[{"$f":"IF(AND(ISBLANK(INDEX($G:$G,)), ISBLANK(INDEX($C:$C,))), \"\", 'PWS Records (System Entry)'!$D$4)","v":""},{"$f":"IF(AND(ISBLANK(INDEX($G:$G,)), ISBLANK(INDEX($C:$C,))), \"\", 'PWS Records (System Entry)'!$D$3)","v":""},null,null,null,null,null,null,null,null,null,null,null,null,null,null,null,null,null,null,""]
[{"$f":"IF(AND(ISBLANK(INDEX($G:$G,)), ISBLANK(INDEX($C:$C,))), \"\", 'PWS Records (System Entry)'!$D$4)","v":""},{"$f":"IF(AND(ISBLANK(INDEX($G:$G,)), ISBLANK(INDEX($C:$C,))), \"\", 'PWS Records (System Entry)'!$D$3)","v":""},null,null,null,null,null,null,null,null,null,null,null,null,null,null,null,null,null,null,""]
[{"$f":"IF(AND(ISBLANK(INDEX($G:$G,)), ISBLANK(INDEX($C:$C,))), \"\", 'PWS Records (System Entry)'!$D$4)","v":""},{"$f":"IF(AND(ISBLANK(INDEX($G:$G,)), ISBLANK(INDEX($C:$C,))), \"\", 'PWS Records (System Entry)'!$D$3)","v":""},null,null,null,null,null,null,null,null,null,null,null,null,null,null,null,null,null,null,""]
[{"$f":"IF(AND(ISBLANK(INDEX($G:$G,)), ISBLANK(INDEX($C:$C,))), \"\", 'PWS Records (System Entry)'!$D$4)","v":""},{"$f":"IF(AND(ISBLANK(INDEX($G:$G,)), ISBLANK(INDEX($C:$C,))), \"\", 'PWS Records (System Entry)'!$D$3)","v":""},null,null,null,null,null,null,null,null,null,null,null,null,null,null,null,null,null,null,""]
[{"$f":"IF(AND(ISBLANK(INDEX($G:$G,)), ISBLANK(INDEX($C:$C,))), \"\", 'PWS Records (System Entry)'!$D$4)","v":""},{"$f":"IF(AND(ISBLANK(INDEX($G:$G,)), ISBLANK(INDEX($C:$C,))), \"\", 'PWS Records (System Entry)'!$D$3)","v":""},null,null,null,null,null,null,null,null,null,null,null,null,null,null,null,null,null,null,""]
[{"$f":"IF(AND(ISBLANK(INDEX($G:$G,)), ISBLANK(INDEX($C:$C,))), \"\", 'PWS Records (System Entry)'!$D$4)","v":""},{"$f":"IF(AND(ISBLANK(INDEX($G:$G,)), ISBLANK(INDEX($C:$C,))), \"\", 'PWS Records (System Entry)'!$D$3)","v":""},null,null,null,null,null,null,null,null,null,null,null,null,null,null,null,null,null,null,""]
[{"$f":"IF(AND(ISBLANK(INDEX($G:$G,)), ISBLANK(INDEX($C:$C,))), \"\", 'PWS Records (System Entry)'!$D$4)","v":""},{"$f":"IF(AND(ISBLANK(INDEX($G:$G,)), ISBLANK(INDEX($C:$C,))), \"\", 'PWS Records (System Entry)'!$D$3)","v":""},null,null,null,null,null,null,null,null,null,null,null,null,null,null,null,null,null,null,""]
[{"$f":"IF(AND(ISBLANK(INDEX($G:$G,)), ISBLANK(INDEX($C:$C,))), \"\", 'PWS Records (System Entry)'!$D$4)","v":""},{"$f":"IF(AND(ISBLANK(INDEX($G:$G,)), ISBLANK(INDEX($C:$C,))), \"\", 'PWS Records (System Entry)'!$D$3)","v":""},null,null,null,null,null,null,null,null,null,null,null,null,null,null,null,null,null,null,""]
[{"$f":"IF(AND(ISBLANK(INDEX($G:$G,)), ISBLANK(INDEX($C:$C,))), \"\", 'PWS Records (System Entry)'!$D$4)","v":""},{"$f":"IF(AND(ISBLANK(INDEX($G:$G,)), ISBLANK(INDEX($C:$C,))), \"\", 'PWS Records (System Entry)'!$D$3)","v":""},null,null,null,null,null,null,null,null,null,null,null,null,null,null,null,null,null,null,""]
[{"$f":"IF(AND(ISBLANK(INDEX($G:$G,)), ISBLANK(INDEX($C:$C,))), \"\", 'PWS Records (System Entry)'!$D$4)","v":""},{"$f":"IF(AND(ISBLANK(INDEX($G:$G,)), ISBLANK(INDEX($C:$C,))), \"\", 'PWS Records (System Entry)'!$D$3)","v":""},null,null,null,null,null,null,null,null,null,null,null,null,null,null,null,null,null,null,""]
[{"$f":"IF(AND(ISBLANK(INDEX($G:$G,)), ISBLANK(INDEX($C:$C,))), \"\", 'PWS Records (System Entry)'!$D$4)","v":""},{"$f":"IF(AND(ISBLANK(INDEX($G:$G,)), ISBLANK(INDEX($C:$C,))), \"\", 'PWS Records (System Entry)'!$D$3)","v":""},null,null,null,null,null,null,null,null,null,null,null,null,null,null,null,null,null,null,""]
[{"$f":"IF(AND(ISBLANK(INDEX($G:$G,)), ISBLANK(INDEX($C:$C,))), \"\", 'PWS Records (System Entry)'!$D$4)","v":""},{"$f":"IF(AND(ISBLANK(INDEX($G:$G,)), ISBLANK(INDEX($C:$C,))), \"\", 'PWS Records (System Entry)'!$D$3)","v":""},null,null,null,null,null,null,null,null,null,null,null,null,null,null,null,null,null,null,""]
[{"$f":"IF(AND(ISBLANK(INDEX($G:$G,)), ISBLANK(INDEX($C:$C,))), \"\", 'PWS Records (System Entry)'!$D$4)","v":""},{"$f":"IF(AND(ISBLANK(INDEX($G:$G,)), ISBLANK(INDEX($C:$C,))), \"\", 'PWS Records (System Entry)'!$D$3)","v":""},null,null,null,null,null,null,null,null,null,null,null,null,null,null,null,null,null,null,""]
[{"$f":"IF(AND(ISBLANK(INDEX($G:$G,)), ISBLANK(INDEX($C:$C,))), \"\", 'PWS Records (System Entry)'!$D$4)","v":""},{"$f":"IF(AND(ISBLANK(INDEX($G:$G,)), ISBLANK(INDEX($C:$C,))), \"\", 'PWS Records (System Entry)'!$D$3)","v":""},null,null,null,null,null,null,null,null,null,null,null,null,null,null,null,null,null,null,""]
[{"$f":"IF(AND(ISBLANK(INDEX($G:$G,)), ISBLANK(INDEX($C:$C,))), \"\", 'PWS Records (System Entry)'!$D$4)","v":""},{"$f":"IF(AND(ISBLANK(INDEX($G:$G,)), ISBLANK(INDEX($C:$C,))), \"\", 'PWS Records (System Entry)'!$D$3)","v":""},null,null,null,null,null,null,null,null,null,null,null,null,null,null,null,null,null,null,""]
[{"$f":"IF(AND(ISBLANK(INDEX($G:$G,)), ISBLANK(INDEX($C:$C,))), \"\", 'PWS Records (System Entry)'!$D$4)","v":""},{"$f":"IF(AND(ISBLANK(INDEX($G:$G,)), ISBLANK(INDEX($C:$C,))), \"\", 'PWS Records (System Entry)'!$D$3)","v":""},null,null,null,null,null,null,null,null,null,null,null,null,null,null,null,null,null,null,""]
[{"$f":"IF(AND(ISBLANK(INDEX($G:$G,)), ISBLANK(INDEX($C:$C,))), \"\", 'PWS Records (System Entry)'!$D$4)","v":""},{"$f":"IF(AND(ISBLANK(INDEX($G:$G,)), ISBLANK(INDEX($C:$C,))), \"\", 'PWS Records (System Entry)'!$D$3)","v":""},null,null,null,null,null,null,null,null,null,null,null,null,null,null,null,null,null,null,""]
[{"$f":"IF(AND(ISBLANK(INDEX($G:$G,)), ISBLANK(INDEX($C:$C,))), \"\", 'PWS Records (System Entry)'!$D$4)","v":""},{"$f":"IF(AND(ISBLANK(INDEX($G:$G,)), ISBLANK(INDEX($C:$C,))), \"\", 'PWS Records (System Entry)'!$D$3)","v":""},null,null,null,null,null,null,null,null,null,null,null,null,null,null,null,null,null,null,""]
[{"$f":"IF(AND(ISBLANK(INDEX($G:$G,)), ISBLANK(INDEX($C:$C,))), \"\", 'PWS Records (System Entry)'!$D$4)","v":""},{"$f":"IF(AND(ISBLANK(INDEX($G:$G,)), ISBLANK(INDEX($C:$C,))), \"\", 'PWS Records (System Entry)'!$D$3)","v":""},null,null,null,null,null,null,null,null,null,null,null,null,null,null,null,null,null,null,""]
[{"$f":"IF(AND(ISBLANK(INDEX($G:$G,)), ISBLANK(INDEX($C:$C,))), \"\", 'PWS Records (System Entry)'!$D$4)","v":""},{"$f":"IF(AND(ISBLANK(INDEX($G:$G,)), ISBLANK(INDEX($C:$C,))), \"\", 'PWS Records (System Entry)'!$D$3)","v":""},null,null,null,null,null,null,null,null,null,null,null,null,null,null,null,null,null,null,""]
[{"$f":"IF(AND(ISBLANK(INDEX($G:$G,)), ISBLANK(INDEX($C:$C,))), \"\", 'PWS Records (System Entry)'!$D$4)","v":""},{"$f":"IF(AND(ISBLANK(INDEX($G:$G,)), ISBLANK(INDEX($C:$C,))), \"\", 'PWS Records (System Entry)'!$D$3)","v":""},null,null,null,null,null,null,null,null,null,null,null,null,null,null,null,null,null,null,""]
[{"$f":"IF(AND(ISBLANK(INDEX($G:$G,)), ISBLANK(INDEX($C:$C,))), \"\", 'PWS Records (System Entry)'!$D$4)","v":""},{"$f":"IF(AND(ISBLANK(INDEX($G:$G,)), ISBLANK(INDEX($C:$C,))), \"\", 'PWS Records (System Entry)'!$D$3)","v":""},null,null,null,null,null,null,null,null,null,null,null,null,null,null,null,null,null,null,""]
[{"$f":"IF(AND(ISBLANK(INDEX($G:$G,)), ISBLANK(INDEX($C:$C,))), \"\", 'PWS Records (System Entry)'!$D$4)","v":""},{"$f":"IF(AND(ISBLANK(INDEX($G:$G,)), ISBLANK(INDEX($C:$C,))), \"\", 'PWS Records (System Entry)'!$D$3)","v":""},null,null,null,null,null,null,null,null,null,null,null,null,null,null,null,null,null,null,""]
[{"$f":"IF(AND(ISBLANK(INDEX($G:$G,)), ISBLANK(INDEX($C:$C,))), \"\", 'PWS Records (System Entry)'!$D$4)","v":""},{"$f":"IF(AND(ISBLANK(INDEX($G:$G,)), ISBLANK(INDEX($C:$C,))), \"\", 'PWS Records (System Entry)'!$D$3)","v":""},null,null,null,null,null,null,null,null,null,null,null,null,null,null,null,null,null,null,""]
[{"$f":"IF(AND(ISBLANK(INDEX($G:$G,)), ISBLANK(INDEX($C:$C,))), \"\", 'PWS Records (System Entry)'!$D$4)","v":""},{"$f":"IF(AND(ISBLANK(INDEX($G:$G,)), ISBLANK(INDEX($C:$C,))), \"\", 'PWS Records (System Entry)'!$D$3)","v":""},null,null,null,null,null,null,null,null,null,null,null,null,null,null,null,null,null,null,""]
[{"$f":"IF(AND(ISBLANK(INDEX($G:$G,)), ISBLANK(INDEX($C:$C,))), \"\", 'PWS Records (System Entry)'!$D$4)","v":""},{"$f":"IF(AND(ISBLANK(INDEX($G:$G,)), ISBLANK(INDEX($C:$C,))), \"\", 'PWS Records (System Entry)'!$D$3)","v":""},null,null,null,null,null,null,null,null,null,null,null,null,null,null,null,null,null,null,""]
[{"$f":"IF(AND(ISBLANK(INDEX($G:$G,)), ISBLANK(INDEX($C:$C,))), \"\", 'PWS Records (System Entry)'!$D$4)","v":""},{"$f":"IF(AND(ISBLANK(INDEX($G:$G,)), ISBLANK(INDEX($C:$C,))), \"\", 'PWS Records (System Entry)'!$D$3)","v":""},null,null,null,null,null,null,null,null,null,null,null,null,null,null,null,null,null,null,""]
[{"$f":"IF(AND(ISBLANK(INDEX($G:$G,)), ISBLANK(INDEX($C:$C,))), \"\", 'PWS Records (System Entry)'!$D$4)","v":""},{"$f":"IF(AND(ISBLANK(INDEX($G:$G,)), ISBLANK(INDEX($C:$C,))), \"\", 'PWS Records (System Entry)'!$D$3)","v":""},null,null,null,null,null,null,null,null,null,null,null,null,null,null,null,null,null,null,""]
[{"$f":"IF(AND(ISBLANK(INDEX($G:$G,)), ISBLANK(INDEX($C:$C,))), \"\", 'PWS Records (System Entry)'!$D$4)","v":""},{"$f":"IF(AND(ISBLANK(INDEX($G:$G,)), ISBLANK(INDEX($C:$C,))), \"\", 'PWS Records (System Entry)'!$D$3)","v":""},null,null,null,null,null,null,null,null,null,null,null,null,null,null,null,null,null,null,""]
[{"$f":"IF(AND(ISBLANK(INDEX($G:$G,)), ISBLANK(INDEX($C:$C,))), \"\", 'PWS Records (System Entry)'!$D$4)","v":""},{"$f":"IF(AND(ISBLANK(INDEX($G:$G,)), ISBLANK(INDEX($C:$C,))), \"\", 'PWS Records (System Entry)'!$D$3)","v":""},null,null,null,null,null,null,null,null,null,null,null,null,null,null,null,null,null,null,""]
[{"$f":"IF(AND(ISBLANK(INDEX($G:$G,)), ISBLANK(INDEX($C:$C,))), \"\", 'PWS Records (System Entry)'!$D$4)","v":""},{"$f":"IF(AND(ISBLANK(INDEX($G:$G,)), ISBLANK(INDEX($C:$C,))), \"\", 'PWS Records (System Entry)'!$D$3)","v":""},null,null,null,null,null,null,null,null,null,null,null,null,null,null,null,null,null,null,{"$f":"IF(AND(INDEX($K:$K,)=\"\", INDEX($L:$L,)=\"\", INDEX($M:$M,)=\"\", INDEX($Q:$Q,)=\"\", INDEX($R:$R,)=\"\"), \"\", IF(OR(INDEX($K:$K,)=\"Lead\",INDEX($Q:$Q,)=\"Lead\"),\"Lead\",IF(OR(AND(OR(INDEX($M:$M,)=\"Yes\", INDEX($M:$M,)=\"Don't Know\", INDEX($M:$M,)=\"\"), INDEX($Q:$Q,)=\"Galvanized Iron/Steel\"), AND(INDEX($K:$K,)=\"Unknown\", INDEX($M:$M,)=\"No\", INDEX($Q:$Q,)=\"Galvanized Iron/Steel\")), \"Galvanized Requiring Replacement\", IF(OR(AND(OR(INDEX($K:$K,)=\"Galvanized Iron/Steel\", INDEX($K:$K,)=\"Non-Lead - Copper\", INDEX($K:$K,)=\"Non-Lead - Plastic\", INDEX($K:$K,)=\"Non-Lead - Other\", INDEX($K:$K,)=\"Non-Lead - Material Unknown\", INDEX($K:$K,)=\"No System Owned Portion\"), OR(INDEX($Q:$Q,)=\"Galvanized Iron/Steel\", INDEX($Q:$Q,)=\"Non-Lead - Copper\", INDEX($Q:$Q,)=\"Non-Lead - Plastic\", INDEX($Q:$Q,)=\"Non-Lead - Other\", INDEX($Q:$Q,)=\"Non-Lead - Predictive Model\", INDEX($Q:$Q,)=\"No Customer Owned Portion\")), AND(OR( INDEX($K:$K,)=\"Galvanized Iron/Steel\", INDEX($K:$K,)=\"Non-Lead - Copper\", INDEX($K:$K,)=\"Non-Lead - Plastic\", INDEX($K:$K,)=\"Non-Lead - Other\", INDEX($K:$K,)=\"Non-Lead - Material Unknown\", INDEX($K:$K,)=\"No System Owned Portion\"), INDEX($M:$M,)=\"No\", INDEX($Q:$Q,)=\"Non-Lead - Material Unknown\")), \"Non-Lead\", \"Lead Status Unknown\"))))","v":""}]
[{"$f":"IF(AND(ISBLANK(INDEX($G:$G,)), ISBLANK(INDEX($C:$C,))), \"\", 'PWS Records (System Entry)'!$D$4)","v":""},{"$f":"IF(AND(ISBLANK(INDEX($G:$G,)), ISBLANK(INDEX($C:$C,))), \"\", 'PWS Records (System Entry)'!$D$3)","v":""},null,null,null,null,null,null,null,null,null,null,null,null,null,null,null,null,null,null,""]
[{"$f":"IF(AND(ISBLANK(INDEX($G:$G,)), ISBLANK(INDEX($C:$C,))), \"\", 'PWS Records (System Entry)'!$D$4)","v":""},{"$f":"IF(AND(ISBLANK(INDEX($G:$G,)), ISBLANK(INDEX($C:$C,))), \"\", 'PWS Records (System Entry)'!$D$3)","v":""},null,null,null,null,null,null,null,null,null,null,null,null,null,null,null,null,null,null,""]
[{"$f":"IF(AND(ISBLANK(INDEX($G:$G,)), ISBLANK(INDEX($C:$C,))), \"\", 'PWS Records (System Entry)'!$D$4)","v":""},{"$f":"IF(AND(ISBLANK(INDEX($G:$G,)), ISBLANK(INDEX($C:$C,))), \"\", 'PWS Records (System Entry)'!$D$3)","v":""},null,null,null,null,null,null,null,null,null,null,null,null,null,null,null,null,null,null,""]
[{"$f":"IF(AND(ISBLANK(INDEX($G:$G,)), ISBLANK(INDEX($C:$C,))), \"\", 'PWS Records (System Entry)'!$D$4)","v":""},{"$f":"IF(AND(ISBLANK(INDEX($G:$G,)), ISBLANK(INDEX($C:$C,))), \"\", 'PWS Records (System Entry)'!$D$3)","v":""},null,null,null,null,null,null,null,null,null,null,null,null,null,null,null,null,null,null,""]
[{"$f":"IF(AND(ISBLANK(INDEX($G:$G,)), ISBLANK(INDEX($C:$C,))), \"\", 'PWS Records (System Entry)'!$D$4)","v":""},{"$f":"IF(AND(ISBLANK(INDEX($G:$G,)), ISBLANK(INDEX($C:$C,))), \"\", 'PWS Records (System Entry)'!$D$3)","v":""},null,null,null,null,null,null,null,null,null,null,null,null,null,null,null,null,null,null,""]
[{"$f":"IF(AND(ISBLANK(INDEX($G:$G,)), ISBLANK(INDEX($C:$C,))), \"\", 'PWS Records (System Entry)'!$D$4)","v":""},{"$f":"IF(AND(ISBLANK(INDEX($G:$G,)), ISBLANK(INDEX($C:$C,))), \"\", 'PWS Records (System Entry)'!$D$3)","v":""},null,null,null,null,null,null,null,null,null,null,null,null,null,null,null,null,null,null,""]
[{"$f":"IF(AND(ISBLANK(INDEX($G:$G,)), ISBLANK(INDEX($C:$C,))), \"\", 'PWS Records (System Entry)'!$D$4)","v":""},{"$f":"IF(AND(ISBLANK(INDEX($G:$G,)), ISBLANK(INDEX($C:$C,))), \"\", 'PWS Records (System Entry)'!$D$3)","v":""},null,null,null,null,null,null,null,null,null,null,null,null,null,null,null,null,null,null,""]
[{"$f":"IF(AND(ISBLANK(INDEX($G:$G,)), ISBLANK(INDEX($C:$C,))), \"\", 'PWS Records (System Entry)'!$D$4)","v":""},{"$f":"IF(AND(ISBLANK(INDEX($G:$G,)), ISBLANK(INDEX($C:$C,))), \"\", 'PWS Records (System Entry)'!$D$3)","v":""},null,null,null,null,null,null,null,null,null,null,null,null,null,null,null,null,null,null,""]
[{"$f":"IF(AND(ISBLANK(INDEX($G:$G,)), ISBLANK(INDEX($C:$C,))), \"\", 'PWS Records (System Entry)'!$D$4)","v":""},{"$f":"IF(AND(ISBLANK(INDEX($G:$G,)), ISBLANK(INDEX($C:$C,))), \"\", 'PWS Records (System Entry)'!$D$3)","v":""},null,null,null,null,null,null,null,null,null,null,null,null,null,null,null,null,null,null,""]
[{"$f":"IF(AND(ISBLANK(INDEX($G:$G,)), ISBLANK(INDEX($C:$C,))), \"\", 'PWS Records (System Entry)'!$D$4)","v":""},{"$f":"IF(AND(ISBLANK(INDEX($G:$G,)), ISBLANK(INDEX($C:$C,))), \"\", 'PWS Records (System Entry)'!$D$3)","v":""},null,null,null,null,null,null,null,null,null,null,null,null,null,null,null,null,null,null,""]
[{"$f":"IF(AND(ISBLANK(INDEX($G:$G,)), ISBLANK(INDEX($C:$C,))), \"\", 'PWS Records (System Entry)'!$D$4)","v":""},{"$f":"IF(AND(ISBLANK(INDEX($G:$G,)), ISBLANK(INDEX($C:$C,))), \"\", 'PWS Records (System Entry)'!$D$3)","v":""},null,null,null,null,null,null,null,null,null,null,null,null,null,null,null,null,null,null,""]
[{"$f":"IF(AND(ISBLANK(INDEX($G:$G,)), ISBLANK(INDEX($C:$C,))), \"\", 'PWS Records (System Entry)'!$D$4)","v":""},{"$f":"IF(AND(ISBLANK(INDEX($G:$G,)), ISBLANK(INDEX($C:$C,))), \"\", 'PWS Records (System Entry)'!$D$3)","v":""},null,null,null,null,null,null,null,null,null,null,null,null,null,null,null,null,null,null,""]
[{"$f":"IF(AND(ISBLANK(INDEX($G:$G,)), ISBLANK(INDEX($C:$C,))), \"\", 'PWS Records (System Entry)'!$D$4)","v":""},{"$f":"IF(AND(ISBLANK(INDEX($G:$G,)), ISBLANK(INDEX($C:$C,))), \"\", 'PWS Records (System Entry)'!$D$3)","v":""},null,null,null,null,null,null,null,null,null,null,null,null,null,null,null,null,null,null,""]
[{"$f":"IF(AND(ISBLANK(INDEX($G:$G,)), ISBLANK(INDEX($C:$C,))), \"\", 'PWS Records (System Entry)'!$D$4)","v":""},{"$f":"IF(AND(ISBLANK(INDEX($G:$G,)), ISBLANK(INDEX($C:$C,))), \"\", 'PWS Records (System Entry)'!$D$3)","v":""},null,null,null,null,null,null,null,null,null,null,null,null,null,null,null,null,null,null,""]
[{"$f":"IF(AND(ISBLANK(INDEX($G:$G,)), ISBLANK(INDEX($C:$C,))), \"\", 'PWS Records (System Entry)'!$D$4)","v":""},{"$f":"IF(AND(ISBLANK(INDEX($G:$G,)), ISBLANK(INDEX($C:$C,))), \"\", 'PWS Records (System Entry)'!$D$3)","v":""},null,null,null,null,null,null,null,null,null,null,null,null,null,null,null,null,null,null,""]
[{"$f":"IF(AND(ISBLANK(INDEX($G:$G,)), ISBLANK(INDEX($C:$C,))), \"\", 'PWS Records (System Entry)'!$D$4)","v":""},{"$f":"IF(AND(ISBLANK(INDEX($G:$G,)), ISBLANK(INDEX($C:$C,))), \"\", 'PWS Records (System Entry)'!$D$3)","v":""},null,null,null,null,null,null,null,null,null,null,null,null,null,null,null,null,null,null,""]
[{"$f":"IF(AND(ISBLANK(INDEX($G:$G,)), ISBLANK(INDEX($C:$C,))), \"\", 'PWS Records (System Entry)'!$D$4)","v":""},{"$f":"IF(AND(ISBLANK(INDEX($G:$G,)), ISBLANK(INDEX($C:$C,))), \"\", 'PWS Records (System Entry)'!$D$3)","v":""},null,null,null,null,null,null,null,null,null,null,null,null,null,null,null,null,null,null,""]
[{"$f":"IF(AND(ISBLANK(INDEX($G:$G,)), ISBLANK(INDEX($C:$C,))), \"\", 'PWS Records (System Entry)'!$D$4)","v":""},{"$f":"IF(AND(ISBLANK(INDEX($G:$G,)), ISBLANK(INDEX($C:$C,))), \"\", 'PWS Records (System Entry)'!$D$3)","v":""},null,null,null,null,null,null,null,null,null,null,null,null,null,null,null,null,null,null,""]
[{"$f":"IF(AND(ISBLANK(INDEX($G:$G,)), ISBLANK(INDEX($C:$C,))), \"\", 'PWS Records (System Entry)'!$D$4)","v":""},{"$f":"IF(AND(ISBLANK(INDEX($G:$G,)), ISBLANK(INDEX($C:$C,))), \"\", 'PWS Records (System Entry)'!$D$3)","v":""},null,null,null,null,null,null,null,null,null,null,null,null,null,null,null,null,null,null,""]
[{"$f":"IF(AND(ISBLANK(INDEX($G:$G,)), ISBLANK(INDEX($C:$C,))), \"\", 'PWS Records (System Entry)'!$D$4)","v":""},{"$f":"IF(AND(ISBLANK(INDEX($G:$G,)), ISBLANK(INDEX($C:$C,))), \"\", 'PWS Records (System Entry)'!$D$3)","v":""},null,null,null,null,null,null,null,null,null,null,null,null,null,null,null,null,null,null,""]
[{"$f":"IF(AND(ISBLANK(INDEX($G:$G,)), ISBLANK(INDEX($C:$C,))), \"\", 'PWS Records (System Entry)'!$D$4)","v":""},{"$f":"IF(AND(ISBLANK(INDEX($G:$G,)), ISBLANK(INDEX($C:$C,))), \"\", 'PWS Records (System Entry)'!$D$3)","v":""},null,null,null,null,null,null,null,null,null,null,null,null,null,null,null,null,null,null,""]
[{"$f":"IF(AND(ISBLANK(INDEX($G:$G,)), ISBLANK(INDEX($C:$C,))), \"\", 'PWS Records (System Entry)'!$D$4)","v":""},{"$f":"IF(AND(ISBLANK(INDEX($G:$G,)), ISBLANK(INDEX($C:$C,))), \"\", 'PWS Records (System Entry)'!$D$3)","v":""},null,null,null,null,null,null,null,null,null,null,null,null,null,null,null,null,null,null,""]
[{"$f":"IF(AND(ISBLANK(INDEX($G:$G,)), ISBLANK(INDEX($C:$C,))), \"\", 'PWS Records (System Entry)'!$D$4)","v":""},{"$f":"IF(AND(ISBLANK(INDEX($G:$G,)), ISBLANK(INDEX($C:$C,))), \"\", 'PWS Records (System Entry)'!$D$3)","v":""},null,null,null,null,null,null,null,null,null,null,null,null,null,null,null,null,null,null,""]
[{"$f":"IF(AND(ISBLANK(INDEX($G:$G,)), ISBLANK(INDEX($C:$C,))), \"\", 'PWS Records (System Entry)'!$D$4)","v":""},{"$f":"IF(AND(ISBLANK(INDEX($G:$G,)), ISBLANK(INDEX($C:$C,))), \"\", 'PWS Records (System Entry)'!$D$3)","v":""},null,null,null,null,null,null,null,null,null,null,null,null,null,null,null,null,null,null,""]
[{"$f":"IF(AND(ISBLANK(INDEX($G:$G,)), ISBLANK(INDEX($C:$C,))), \"\", 'PWS Records (System Entry)'!$D$4)","v":""},{"$f":"IF(AND(ISBLANK(INDEX($G:$G,)), ISBLANK(INDEX($C:$C,))), \"\", 'PWS Records (System Entry)'!$D$3)","v":""},null,null,null,null,null,null,null,null,null,null,null,null,null,null,null,null,null,null,""]
[{"$f":"IF(AND(ISBLANK(INDEX($G:$G,)), ISBLANK(INDEX($C:$C,))), \"\", 'PWS Records (System Entry)'!$D$4)","v":""},{"$f":"IF(AND(ISBLANK(INDEX($G:$G,)), ISBLANK(INDEX($C:$C,))), \"\", 'PWS Records (System Entry)'!$D$3)","v":""},null,null,null,null,null,null,null,null,null,null,null,null,null,null,null,null,null,null,""]
[{"$f":"IF(AND(ISBLANK(INDEX($G:$G,)), ISBLANK(INDEX($C:$C,))), \"\", 'PWS Records (System Entry)'!$D$4)","v":""},{"$f":"IF(AND(ISBLANK(INDEX($G:$G,)), ISBLANK(INDEX($C:$C,))), \"\", 'PWS Records (System Entry)'!$D$3)","v":""},null,null,null,null,null,null,null,null,null,null,null,null,null,null,null,null,null,null,""]
[{"$f":"IF(AND(ISBLANK(INDEX($G:$G,)), ISBLANK(INDEX($C:$C,))), \"\", 'PWS Records (System Entry)'!$D$4)","v":""},{"$f":"IF(AND(ISBLANK(INDEX($G:$G,)), ISBLANK(INDEX($C:$C,))), \"\", 'PWS Records (System Entry)'!$D$3)","v":""},null,null,null,null,null,null,null,null,null,null,null,null,null,null,null,null,null,null,""]
[{"$f":"IF(AND(ISBLANK(INDEX($G:$G,)), ISBLANK(INDEX($C:$C,))), \"\", 'PWS Records (System Entry)'!$D$4)","v":""},{"$f":"IF(AND(ISBLANK(INDEX($G:$G,)), ISBLANK(INDEX($C:$C,))), \"\", 'PWS Records (System Entry)'!$D$3)","v":""},null,null,null,null,null,null,null,null,null,null,null,null,null,null,null,null,null,null,""]
[{"$f":"IF(AND(ISBLANK(INDEX($G:$G,)), ISBLANK(INDEX($C:$C,))), \"\", 'PWS Records (System Entry)'!$D$4)","v":""},{"$f":"IF(AND(ISBLANK(INDEX($G:$G,)), ISBLANK(INDEX($C:$C,))), \"\", 'PWS Records (System Entry)'!$D$3)","v":""},null,null,null,null,null,null,null,null,null,null,null,null,null,null,null,null,null,null,""]
[{"$f":"IF(AND(ISBLANK(INDEX($G:$G,)), ISBLANK(INDEX($C:$C,))), \"\", 'PWS Records (System Entry)'!$D$4)","v":""},{"$f":"IF(AND(ISBLANK(INDEX($G:$G,)), ISBLANK(INDEX($C:$C,))), \"\", 'PWS Records (System Entry)'!$D$3)","v":""},null,null,null,null,null,null,null,null,null,null,null,null,null,null,null,null,null,null,""]
[{"$f":"IF(AND(ISBLANK(INDEX($G:$G,)), ISBLANK(INDEX($C:$C,))), \"\", 'PWS Records (System Entry)'!$D$4)","v":""},{"$f":"IF(AND(ISBLANK(INDEX($G:$G,)), ISBLANK(INDEX($C:$C,))), \"\", 'PWS Records (System Entry)'!$D$3)","v":""},null,null,null,null,null,null,null,null,null,null,null,null,null,null,null,null,null,null,""]
[{"$f":"IF(AND(ISBLANK(INDEX($G:$G,)), ISBLANK(INDEX($C:$C,))), \"\", 'PWS Records (System Entry)'!$D$4)","v":""},{"$f":"IF(AND(ISBLANK(INDEX($G:$G,)), ISBLANK(INDEX($C:$C,))), \"\", 'PWS Records (System Entry)'!$D$3)","v":""},null,null,null,null,null,null,null,null,null,null,null,null,null,null,null,null,null,null,""]
[{"$f":"IF(AND(ISBLANK(INDEX($G:$G,)), ISBLANK(INDEX($C:$C,))), \"\", 'PWS Records (System Entry)'!$D$4)","v":""},{"$f":"IF(AND(ISBLANK(INDEX($G:$G,)), ISBLANK(INDEX($C:$C,))), \"\", 'PWS Records (System Entry)'!$D$3)","v":""},null,null,null,null,null,null,null,null,null,null,null,null,null,null,null,null,null,null,""]
[{"$f":"IF(AND(ISBLANK(INDEX($G:$G,)), ISBLANK(INDEX($C:$C,))), \"\", 'PWS Records (System Entry)'!$D$4)","v":""},{"$f":"IF(AND(ISBLANK(INDEX($G:$G,)), ISBLANK(INDEX($C:$C,))), \"\", 'PWS Records (System Entry)'!$D$3)","v":""},null,null,null,null,null,null,null,null,null,null,null,null,null,null,null,null,null,null,""]
[{"$f":"IF(AND(ISBLANK(INDEX($G:$G,)), ISBLANK(INDEX($C:$C,))), \"\", 'PWS Records (System Entry)'!$D$4)","v":""},{"$f":"IF(AND(ISBLANK(INDEX($G:$G,)), ISBLANK(INDEX($C:$C,))), \"\", 'PWS Records (System Entry)'!$D$3)","v":""},null,null,null,null,null,null,null,null,null,null,null,null,null,null,null,null,null,null,""]
[{"$f":"IF(AND(ISBLANK(INDEX($G:$G,)), ISBLANK(INDEX($C:$C,))), \"\", 'PWS Records (System Entry)'!$D$4)","v":""},{"$f":"IF(AND(ISBLANK(INDEX($G:$G,)), ISBLANK(INDEX($C:$C,))), \"\", 'PWS Records (System Entry)'!$D$3)","v":""},null,null,null,null,null,null,null,null,null,null,null,null,null,null,null,null,null,null,""]
[{"$f":"IF(AND(ISBLANK(INDEX($G:$G,)), ISBLANK(INDEX($C:$C,))), \"\", 'PWS Records (System Entry)'!$D$4)","v":""},{"$f":"IF(AND(ISBLANK(INDEX($G:$G,)), ISBLANK(INDEX($C:$C,))), \"\", 'PWS Records (System Entry)'!$D$3)","v":""},null,null,null,null,null,null,null,null,null,null,null,null,null,null,null,null,null,null,""]
[{"$f":"IF(AND(ISBLANK(INDEX($G:$G,)), ISBLANK(INDEX($C:$C,))), \"\", 'PWS Records (System Entry)'!$D$4)","v":""},{"$f":"IF(AND(ISBLANK(INDEX($G:$G,)), ISBLANK(INDEX($C:$C,))), \"\", 'PWS Records (System Entry)'!$D$3)","v":""},null,null,null,null,null,null,null,null,null,null,null,null,null,null,null,null,null,null,""]
[{"$f":"IF(AND(ISBLANK(INDEX($G:$G,)), ISBLANK(INDEX($C:$C,))), \"\", 'PWS Records (System Entry)'!$D$4)","v":""},{"$f":"IF(AND(ISBLANK(INDEX($G:$G,)), ISBLANK(INDEX($C:$C,))), \"\", 'PWS Records (System Entry)'!$D$3)","v":""},null,null,null,null,null,null,null,null,null,null,null,null,null,null,null,null,null,null,""]
[{"$f":"IF(AND(ISBLANK(INDEX($G:$G,)), ISBLANK(INDEX($C:$C,))), \"\", 'PWS Records (System Entry)'!$D$4)","v":""},{"$f":"IF(AND(ISBLANK(INDEX($G:$G,)), ISBLANK(INDEX($C:$C,))), \"\", 'PWS Records (System Entry)'!$D$3)","v":""},null,null,null,null,null,null,null,null,null,null,null,null,null,null,null,null,null,null,""]
[{"$f":"IF(AND(ISBLANK(INDEX($G:$G,)), ISBLANK(INDEX($C:$C,))), \"\", 'PWS Records (System Entry)'!$D$4)","v":""},{"$f":"IF(AND(ISBLANK(INDEX($G:$G,)), ISBLANK(INDEX($C:$C,))), \"\", 'PWS Records (System Entry)'!$D$3)","v":""},null,null,null,null,null,null,null,null,null,null,null,null,null,null,null,null,null,null,""]
[{"$f":"IF(AND(ISBLANK(INDEX($G:$G,)), ISBLANK(INDEX($C:$C,))), \"\", 'PWS Records (System Entry)'!$D$4)","v":""},{"$f":"IF(AND(ISBLANK(INDEX($G:$G,)), ISBLANK(INDEX($C:$C,))), \"\", 'PWS Records (System Entry)'!$D$3)","v":""},null,null,null,null,null,null,null,null,null,null,null,null,null,null,null,null,null,null,""]
[{"$f":"IF(AND(ISBLANK(INDEX($G:$G,)), ISBLANK(INDEX($C:$C,))), \"\", 'PWS Records (System Entry)'!$D$4)","v":""},{"$f":"IF(AND(ISBLANK(INDEX($G:$G,)), ISBLANK(INDEX($C:$C,))), \"\", 'PWS Records (System Entry)'!$D$3)","v":""},null,null,null,null,null,null,null,null,null,null,null,null,null,null,null,null,null,null,""]
[{"$f":"IF(AND(ISBLANK(INDEX($G:$G,)), ISBLANK(INDEX($C:$C,))), \"\", 'PWS Records (System Entry)'!$D$4)","v":""},{"$f":"IF(AND(ISBLANK(INDEX($G:$G,)), ISBLANK(INDEX($C:$C,))), \"\", 'PWS Records (System Entry)'!$D$3)","v":""},null,null,null,null,null,null,null,null,null,null,null,null,null,null,null,null,null,null,""]
[{"$f":"IF(AND(ISBLANK(INDEX($G:$G,)), ISBLANK(INDEX($C:$C,))), \"\", 'PWS Records (System Entry)'!$D$4)","v":""},{"$f":"IF(AND(ISBLANK(INDEX($G:$G,)), ISBLANK(INDEX($C:$C,))), \"\", 'PWS Records (System Entry)'!$D$3)","v":""},null,null,null,null,null,null,null,null,null,null,null,null,null,null,null,null,null,null,""]
[{"$f":"IF(AND(ISBLANK(INDEX($G:$G,)), ISBLANK(INDEX($C:$C,))), \"\", 'PWS Records (System Entry)'!$D$4)","v":""},{"$f":"IF(AND(ISBLANK(INDEX($G:$G,)), ISBLANK(INDEX($C:$C,))), \"\", 'PWS Records (System Entry)'!$D$3)","v":""},null,null,null,null,null,null,null,null,null,null,null,null,null,null,null,null,null,null,""]
[{"$f":"IF(AND(ISBLANK(INDEX($G:$G,)), ISBLANK(INDEX($C:$C,))), \"\", 'PWS Records (System Entry)'!$D$4)","v":""},{"$f":"IF(AND(ISBLANK(INDEX($G:$G,)), ISBLANK(INDEX($C:$C,))), \"\", 'PWS Records (System Entry)'!$D$3)","v":""},null,null,null,null,null,null,null,null,null,null,null,null,null,null,null,null,null,null,""]
[{"$f":"IF(AND(ISBLANK(INDEX($G:$G,)), ISBLANK(INDEX($C:$C,))), \"\", 'PWS Records (System Entry)'!$D$4)","v":""},{"$f":"IF(AND(ISBLANK(INDEX($G:$G,)), ISBLANK(INDEX($C:$C,))), \"\", 'PWS Records (System Entry)'!$D$3)","v":""},null,null,null,null,null,null,null,null,null,null,null,null,null,null,null,null,null,null,""]
[{"$f":"IF(AND(ISBLANK(INDEX($G:$G,)), ISBLANK(INDEX($C:$C,))), \"\", 'PWS Records (System Entry)'!$D$4)","v":""},{"$f":"IF(AND(ISBLANK(INDEX($G:$G,)), ISBLANK(INDEX($C:$C,))), \"\", 'PWS Records (System Entry)'!$D$3)","v":""},null,null,null,null,null,null,null,null,null,null,null,null,null,null,null,null,null,null,""]
[{"$f":"IF(AND(ISBLANK(INDEX($G:$G,)), ISBLANK(INDEX($C:$C,))), \"\", 'PWS Records (System Entry)'!$D$4)","v":""},{"$f":"IF(AND(ISBLANK(INDEX($G:$G,)), ISBLANK(INDEX($C:$C,))), \"\", 'PWS Records (System Entry)'!$D$3)","v":""},null,null,null,null,null,null,null,null,null,null,null,null,null,null,null,null,null,null,""]
[{"$f":"IF(AND(ISBLANK(INDEX($G:$G,)), ISBLANK(INDEX($C:$C,))), \"\", 'PWS Records (System Entry)'!$D$4)","v":""},{"$f":"IF(AND(ISBLANK(INDEX($G:$G,)), ISBLANK(INDEX($C:$C,))), \"\", 'PWS Records (System Entry)'!$D$3)","v":""},null,null,null,null,null,null,null,null,null,null,null,null,null,null,null,null,null,null,""]
[{"$f":"IF(AND(ISBLANK(INDEX($G:$G,)), ISBLANK(INDEX($C:$C,))), \"\", 'PWS Records (System Entry)'!$D$4)","v":""},{"$f":"IF(AND(ISBLANK(INDEX($G:$G,)), ISBLANK(INDEX($C:$C,))), \"\", 'PWS Records (System Entry)'!$D$3)","v":""},null,null,null,null,null,null,null,null,null,null,null,null,null,null,null,null,null,null,""]
[{"$f":"IF(AND(ISBLANK(INDEX($G:$G,)), ISBLANK(INDEX($C:$C,))), \"\", 'PWS Records (System Entry)'!$D$4)","v":""},{"$f":"IF(AND(ISBLANK(INDEX($G:$G,)), ISBLANK(INDEX($C:$C,))), \"\", 'PWS Records (System Entry)'!$D$3)","v":""},null,null,null,null,null,null,null,null,null,null,null,null,null,null,null,null,null,null,""]
[{"$f":"IF(AND(ISBLANK(INDEX($G:$G,)), ISBLANK(INDEX($C:$C,))), \"\", 'PWS Records (System Entry)'!$D$4)","v":""},{"$f":"IF(AND(ISBLANK(INDEX($G:$G,)), ISBLANK(INDEX($C:$C,))), \"\", 'PWS Records (System Entry)'!$D$3)","v":""},null,null,null,null,null,null,null,null,null,null,null,null,null,null,null,null,null,null,""]
[{"$f":"IF(AND(ISBLANK(INDEX($G:$G,)), ISBLANK(INDEX($C:$C,))), \"\", 'PWS Records (System Entry)'!$D$4)","v":""},{"$f":"IF(AND(ISBLANK(INDEX($G:$G,)), ISBLANK(INDEX($C:$C,))), \"\", 'PWS Records (System Entry)'!$D$3)","v":""},null,null,null,null,null,null,null,null,null,null,null,null,null,null,null,null,null,null,""]
[{"$f":"IF(AND(ISBLANK(INDEX($G:$G,)), ISBLANK(INDEX($C:$C,))), \"\", 'PWS Records (System Entry)'!$D$4)","v":""},{"$f":"IF(AND(ISBLANK(INDEX($G:$G,)), ISBLANK(INDEX($C:$C,))), \"\", 'PWS Records (System Entry)'!$D$3)","v":""},null,null,null,null,null,null,null,null,null,null,null,null,null,null,null,null,null,null,""]
[{"$f":"IF(AND(ISBLANK(INDEX($G:$G,)), ISBLANK(INDEX($C:$C,))), \"\", 'PWS Records (System Entry)'!$D$4)","v":""},{"$f":"IF(AND(ISBLANK(INDEX($G:$G,)), ISBLANK(INDEX($C:$C,))), \"\", 'PWS Records (System Entry)'!$D$3)","v":""},null,null,null,null,null,null,null,null,null,null,null,null,null,null,null,null,null,null,""]
[{"$f":"IF(AND(ISBLANK(INDEX($G:$G,)), ISBLANK(INDEX($C:$C,))), \"\", 'PWS Records (System Entry)'!$D$4)","v":""},{"$f":"IF(AND(ISBLANK(INDEX($G:$G,)), ISBLANK(INDEX($C:$C,))), \"\", 'PWS Records (System Entry)'!$D$3)","v":""},null,null,null,null,null,null,null,null,null,null,null,null,null,null,null,null,null,null,""]
[{"$f":"IF(AND(ISBLANK(INDEX($G:$G,)), ISBLANK(INDEX($C:$C,))), \"\", 'PWS Records (System Entry)'!$D$4)","v":""},{"$f":"IF(AND(ISBLANK(INDEX($G:$G,)), ISBLANK(INDEX($C:$C,))), \"\", 'PWS Records (System Entry)'!$D$3)","v":""},null,null,null,null,null,null,null,null,null,null,null,null,null,null,null,null,null,null,""]
[{"$f":"IF(AND(ISBLANK(INDEX($G:$G,)), ISBLANK(INDEX($C:$C,))), \"\", 'PWS Records (System Entry)'!$D$4)","v":""},{"$f":"IF(AND(ISBLANK(INDEX($G:$G,)), ISBLANK(INDEX($C:$C,))), \"\", 'PWS Records (System Entry)'!$D$3)","v":""},null,null,null,null,null,null,null,null,null,null,null,null,null,null,null,null,null,null,""]
[{"$f":"IF(AND(ISBLANK(INDEX($G:$G,)), ISBLANK(INDEX($C:$C,))), \"\", 'PWS Records (System Entry)'!$D$4)","v":""},{"$f":"IF(AND(ISBLANK(INDEX($G:$G,)), ISBLANK(INDEX($C:$C,))), \"\", 'PWS Records (System Entry)'!$D$3)","v":""},null,null,null,null,null,null,null,null,null,null,null,null,null,null,null,null,null,null,""]
[{"$f":"IF(AND(ISBLANK(INDEX($G:$G,)), ISBLANK(INDEX($C:$C,))), \"\", 'PWS Records (System Entry)'!$D$4)","v":""},{"$f":"IF(AND(ISBLANK(INDEX($G:$G,)), ISBLANK(INDEX($C:$C,))), \"\", 'PWS Records (System Entry)'!$D$3)","v":""},null,null,null,null,null,null,null,null,null,null,null,null,null,null,null,null,null,null,""]
[{"$f":"IF(AND(ISBLANK(INDEX($G:$G,)), ISBLANK(INDEX($C:$C,))), \"\", 'PWS Records (System Entry)'!$D$4)","v":""},{"$f":"IF(AND(ISBLANK(INDEX($G:$G,)), ISBLANK(INDEX($C:$C,))), \"\", 'PWS Records (System Entry)'!$D$3)","v":""},null,null,null,null,null,null,null,null,null,null,null,null,null,null,null,null,null,null,{"$f":"IF(AND(INDEX($K:$K,)=\"\", INDEX($L:$L,)=\"\", INDEX($M:$M,)=\"\", INDEX($Q:$Q,)=\"\", INDEX($R:$R,)=\"\"), \"\", IF(OR(INDEX($K:$K,)=\"Lead\",INDEX($Q:$Q,)=\"Lead\"),\"Lead\",IF(OR(AND(OR(INDEX($M:$M,)=\"Yes\", INDEX($M:$M,)=\"Don't Know\", INDEX($M:$M,)=\"\"), INDEX($Q:$Q,)=\"Galvanized Iron/Steel\"), AND(INDEX($K:$K,)=\"Unknown\", INDEX($M:$M,)=\"No\", INDEX($Q:$Q,)=\"Galvanized Iron/Steel\")), \"Galvanized Requiring Replacement\", IF(OR(AND(OR(INDEX($K:$K,)=\"Galvanized Iron/Steel\", INDEX($K:$K,)=\"Non-Lead - Copper\", INDEX($K:$K,)=\"Non-Lead - Plastic\", INDEX($K:$K,)=\"Non-Lead - Other\", INDEX($K:$K,)=\"Non-Lead - Material Unknown\", INDEX($K:$K,)=\"No System Owned Portion\"), OR(INDEX($Q:$Q,)=\"Galvanized Iron/Steel\", INDEX($Q:$Q,)=\"Non-Lead - Copper\", INDEX($Q:$Q,)=\"Non-Lead - Plastic\", INDEX($Q:$Q,)=\"Non-Lead - Other\", INDEX($Q:$Q,)=\"Non-Lead - Predictive Model\", INDEX($Q:$Q,)=\"No Customer Owned Portion\")), AND(OR( INDEX($K:$K,)=\"Galvanized Iron/Steel\", INDEX($K:$K,)=\"Non-Lead - Copper\", INDEX($K:$K,)=\"Non-Lead - Plastic\", INDEX($K:$K,)=\"Non-Lead - Other\", INDEX($K:$K,)=\"Non-Lead - Material Unknown\", INDEX($K:$K,)=\"No System Owned Portion\"), INDEX($M:$M,)=\"No\", INDEX($Q:$Q,)=\"Non-Lead - Material Unknown\")), \"Non-Lead\", \"Lead Status Unknown\"))))","v":""}]
[{"$f":"IF(AND(ISBLANK(INDEX($G:$G,)), ISBLANK(INDEX($C:$C,))), \"\", 'PWS Records (System Entry)'!$D$4)","v":""},{"$f":"IF(AND(ISBLANK(INDEX($G:$G,)), ISBLANK(INDEX($C:$C,))), \"\", 'PWS Records (System Entry)'!$D$3)","v":""},null,null,null,null,null,null,null,null,null,null,null,null,null,null,null,null,null,null,""]
[{"$f":"IF(AND(ISBLANK(INDEX($G:$G,)), ISBLANK(INDEX($C:$C,))), \"\", 'PWS Records (System Entry)'!$D$4)","v":""},{"$f":"IF(AND(ISBLANK(INDEX($G:$G,)), ISBLANK(INDEX($C:$C,))), \"\", 'PWS Records (System Entry)'!$D$3)","v":""},null,null,null,null,null,null,null,null,null,null,null,null,null,null,null,null,null,null,""]
[{"$f":"IF(AND(ISBLANK(INDEX($G:$G,)), ISBLANK(INDEX($C:$C,))), \"\", 'PWS Records (System Entry)'!$D$4)","v":""},{"$f":"IF(AND(ISBLANK(INDEX($G:$G,)), ISBLANK(INDEX($C:$C,))), \"\", 'PWS Records (System Entry)'!$D$3)","v":""},null,null,null,null,null,null,null,null,null,null,null,null,null,null,null,null,null,null,""]
[{"$f":"IF(AND(ISBLANK(INDEX($G:$G,)), ISBLANK(INDEX($C:$C,))), \"\", 'PWS Records (System Entry)'!$D$4)","v":""},{"$f":"IF(AND(ISBLANK(INDEX($G:$G,)), ISBLANK(INDEX($C:$C,))), \"\", 'PWS Records (System Entry)'!$D$3)","v":""},null,null,null,null,null,null,null,null,null,null,null,null,null,null,null,null,null,null,""]
[{"$f":"IF(AND(ISBLANK(INDEX($G:$G,)), ISBLANK(INDEX($C:$C,))), \"\", 'PWS Records (System Entry)'!$D$4)","v":""},{"$f":"IF(AND(ISBLANK(INDEX($G:$G,)), ISBLANK(INDEX($C:$C,))), \"\", 'PWS Records (System Entry)'!$D$3)","v":""},null,null,null,null,null,null,null,null,null,null,null,null,null,null,null,null,null,null,""]
[{"$f":"IF(AND(ISBLANK(INDEX($G:$G,)), ISBLANK(INDEX($C:$C,))), \"\", 'PWS Records (System Entry)'!$D$4)","v":""},{"$f":"IF(AND(ISBLANK(INDEX($G:$G,)), ISBLANK(INDEX($C:$C,))), \"\", 'PWS Records (System Entry)'!$D$3)","v":""},null,null,null,null,null,null,null,null,null,null,null,null,null,null,null,null,null,null,""]
[{"$f":"IF(AND(ISBLANK(INDEX($G:$G,)), ISBLANK(INDEX($C:$C,))), \"\", 'PWS Records (System Entry)'!$D$4)","v":""},{"$f":"IF(AND(ISBLANK(INDEX($G:$G,)), ISBLANK(INDEX($C:$C,))), \"\", 'PWS Records (System Entry)'!$D$3)","v":""},null,null,null,null,null,null,null,null,null,null,null,null,null,null,null,null,null,null,""]
[{"$f":"IF(AND(ISBLANK(INDEX($G:$G,)), ISBLANK(INDEX($C:$C,))), \"\", 'PWS Records (System Entry)'!$D$4)","v":""},{"$f":"IF(AND(ISBLANK(INDEX($G:$G,)), ISBLANK(INDEX($C:$C,))), \"\", 'PWS Records (System Entry)'!$D$3)","v":""},null,null,null,null,null,null,null,null,null,null,null,null,null,null,null,null,null,null,""]
[{"$f":"IF(AND(ISBLANK(INDEX($G:$G,)), ISBLANK(INDEX($C:$C,))), \"\", 'PWS Records (System Entry)'!$D$4)","v":""},{"$f":"IF(AND(ISBLANK(INDEX($G:$G,)), ISBLANK(INDEX($C:$C,))), \"\", 'PWS Records (System Entry)'!$D$3)","v":""},null,null,null,null,null,null,null,null,null,null,null,null,null,null,null,null,null,null,""]
[{"$f":"IF(AND(ISBLANK(INDEX($G:$G,)), ISBLANK(INDEX($C:$C,))), \"\", 'PWS Records (System Entry)'!$D$4)","v":""},{"$f":"IF(AND(ISBLANK(INDEX($G:$G,)), ISBLANK(INDEX($C:$C,))), \"\", 'PWS Records (System Entry)'!$D$3)","v":""},null,null,null,null,null,null,null,null,null,null,null,null,null,null,null,null,null,null,""]
[{"$f":"IF(AND(ISBLANK(INDEX($G:$G,)), ISBLANK(INDEX($C:$C,))), \"\", 'PWS Records (System Entry)'!$D$4)","v":""},{"$f":"IF(AND(ISBLANK(INDEX($G:$G,)), ISBLANK(INDEX($C:$C,))), \"\", 'PWS Records (System Entry)'!$D$3)","v":""},null,null,null,null,null,null,null,null,null,null,null,null,null,null,null,null,null,null,""]
[{"$f":"IF(AND(ISBLANK(INDEX($G:$G,)), ISBLANK(INDEX($C:$C,))), \"\", 'PWS Records (System Entry)'!$D$4)","v":""},{"$f":"IF(AND(ISBLANK(INDEX($G:$G,)), ISBLANK(INDEX($C:$C,))), \"\", 'PWS Records (System Entry)'!$D$3)","v":""},null,null,null,null,null,null,null,null,null,null,null,null,null,null,null,null,null,null,""]
[{"$f":"IF(AND(ISBLANK(INDEX($G:$G,)), ISBLANK(INDEX($C:$C,))), \"\", 'PWS Records (System Entry)'!$D$4)","v":""},{"$f":"IF(AND(ISBLANK(INDEX($G:$G,)), ISBLANK(INDEX($C:$C,))), \"\", 'PWS Records (System Entry)'!$D$3)","v":""},null,null,null,null,null,null,null,null,null,null,null,null,null,null,null,null,null,null,""]
[{"$f":"IF(AND(ISBLANK(INDEX($G:$G,)), ISBLANK(INDEX($C:$C,))), \"\", 'PWS Records (System Entry)'!$D$4)","v":""},{"$f":"IF(AND(ISBLANK(INDEX($G:$G,)), ISBLANK(INDEX($C:$C,))), \"\", 'PWS Records (System Entry)'!$D$3)","v":""},null,null,null,null,null,null,null,null,null,null,null,null,null,null,null,null,null,null,""]
[{"$f":"IF(AND(ISBLANK(INDEX($G:$G,)), ISBLANK(INDEX($C:$C,))), \"\", 'PWS Records (System Entry)'!$D$4)","v":""},{"$f":"IF(AND(ISBLANK(INDEX($G:$G,)), ISBLANK(INDEX($C:$C,))), \"\", 'PWS Records (System Entry)'!$D$3)","v":""},null,null,null,null,null,null,null,null,null,null,null,null,null,null,null,null,null,null,""]
[{"$f":"IF(AND(ISBLANK(INDEX($G:$G,)), ISBLANK(INDEX($C:$C,))), \"\", 'PWS Records (System Entry)'!$D$4)","v":""},{"$f":"IF(AND(ISBLANK(INDEX($G:$G,)), ISBLANK(INDEX($C:$C,))), \"\", 'PWS Records (System Entry)'!$D$3)","v":""},null,null,null,null,null,null,null,null,null,null,null,null,null,null,null,null,null,null,""]
[{"$f":"IF(AND(ISBLANK(INDEX($G:$G,)), ISBLANK(INDEX($C:$C,))), \"\", 'PWS Records (System Entry)'!$D$4)","v":""},{"$f":"IF(AND(ISBLANK(INDEX($G:$G,)), ISBLANK(INDEX($C:$C,))), \"\", 'PWS Records (System Entry)'!$D$3)","v":""},null,null,null,null,null,null,null,null,null,null,null,null,null,null,null,null,null,null,""]
[{"$f":"IF(AND(ISBLANK(INDEX($G:$G,)), ISBLANK(INDEX($C:$C,))), \"\", 'PWS Records (System Entry)'!$D$4)","v":""},{"$f":"IF(AND(ISBLANK(INDEX($G:$G,)), ISBLANK(INDEX($C:$C,))), \"\", 'PWS Records (System Entry)'!$D$3)","v":""},null,null,null,null,null,null,null,null,null,null,null,null,null,null,null,null,null,null,""]
[{"$f":"IF(AND(ISBLANK(INDEX($G:$G,)), ISBLANK(INDEX($C:$C,))), \"\", 'PWS Records (System Entry)'!$D$4)","v":""},{"$f":"IF(AND(ISBLANK(INDEX($G:$G,)), ISBLANK(INDEX($C:$C,))), \"\", 'PWS Records (System Entry)'!$D$3)","v":""},null,null,null,null,null,null,null,null,null,null,null,null,null,null,null,null,null,null,""]
[{"$f":"IF(AND(ISBLANK(INDEX($G:$G,)), ISBLANK(INDEX($C:$C,))), \"\", 'PWS Records (System Entry)'!$D$4)","v":""},{"$f":"IF(AND(ISBLANK(INDEX($G:$G,)), ISBLANK(INDEX($C:$C,))), \"\", 'PWS Records (System Entry)'!$D$3)","v":""},null,null,null,null,null,null,null,null,null,null,null,null,null,null,null,null,null,null,""]
[{"$f":"IF(AND(ISBLANK(INDEX($G:$G,)), ISBLANK(INDEX($C:$C,))), \"\", 'PWS Records (System Entry)'!$D$4)","v":""},{"$f":"IF(AND(ISBLANK(INDEX($G:$G,)), ISBLANK(INDEX($C:$C,))), \"\", 'PWS Records (System Entry)'!$D$3)","v":""},null,null,null,null,null,null,null,null,null,null,null,null,null,null,null,null,null,null,""]
[{"$f":"IF(AND(ISBLANK(INDEX($G:$G,)), ISBLANK(INDEX($C:$C,))), \"\", 'PWS Records (System Entry)'!$D$4)","v":""},{"$f":"IF(AND(ISBLANK(INDEX($G:$G,)), ISBLANK(INDEX($C:$C,))), \"\", 'PWS Records (System Entry)'!$D$3)","v":""},null,null,null,null,null,null,null,null,null,null,null,null,null,null,null,null,null,null,""]
[{"$f":"IF(AND(ISBLANK(INDEX($G:$G,)), ISBLANK(INDEX($C:$C,))), \"\", 'PWS Records (System Entry)'!$D$4)","v":""},{"$f":"IF(AND(ISBLANK(INDEX($G:$G,)), ISBLANK(INDEX($C:$C,))), \"\", 'PWS Records (System Entry)'!$D$3)","v":""},null,null,null,null,null,null,null,null,null,null,null,null,null,null,null,null,null,null,""]
[{"$f":"IF(AND(ISBLANK(INDEX($G:$G,)), ISBLANK(INDEX($C:$C,))), \"\", 'PWS Records (System Entry)'!$D$4)","v":""},{"$f":"IF(AND(ISBLANK(INDEX($G:$G,)), ISBLANK(INDEX($C:$C,))), \"\", 'PWS Records (System Entry)'!$D$3)","v":""},null,null,null,null,null,null,null,null,null,null,null,null,null,null,null,null,null,null,""]
[{"$f":"IF(AND(ISBLANK(INDEX($G:$G,)), ISBLANK(INDEX($C:$C,))), \"\", 'PWS Records (System Entry)'!$D$4)","v":""},{"$f":"IF(AND(ISBLANK(INDEX($G:$G,)), ISBLANK(INDEX($C:$C,))), \"\", 'PWS Records (System Entry)'!$D$3)","v":""},null,null,null,null,null,null,null,null,null,null,null,null,null,null,null,null,null,null,""]
[{"$f":"IF(AND(ISBLANK(INDEX($G:$G,)), ISBLANK(INDEX($C:$C,))), \"\", 'PWS Records (System Entry)'!$D$4)","v":""},{"$f":"IF(AND(ISBLANK(INDEX($G:$G,)), ISBLANK(INDEX($C:$C,))), \"\", 'PWS Records (System Entry)'!$D$3)","v":""},null,null,null,null,null,null,null,null,null,null,null,null,null,null,null,null,null,null,""]
[{"$f":"IF(AND(ISBLANK(INDEX($G:$G,)), ISBLANK(INDEX($C:$C,))), \"\", 'PWS Records (System Entry)'!$D$4)","v":""},{"$f":"IF(AND(ISBLANK(INDEX($G:$G,)), ISBLANK(INDEX($C:$C,))), \"\", 'PWS Records (System Entry)'!$D$3)","v":""},null,null,null,null,null,null,null,null,null,null,null,null,null,null,null,null,null,null,""]
[{"$f":"IF(AND(ISBLANK(INDEX($G:$G,)), ISBLANK(INDEX($C:$C,))), \"\", 'PWS Records (System Entry)'!$D$4)","v":""},{"$f":"IF(AND(ISBLANK(INDEX($G:$G,)), ISBLANK(INDEX($C:$C,))), \"\", 'PWS Records (System Entry)'!$D$3)","v":""},null,null,null,null,null,null,null,null,null,null,null,null,null,null,null,null,null,null,""]
[{"$f":"IF(AND(ISBLANK(INDEX($G:$G,)), ISBLANK(INDEX($C:$C,))), \"\", 'PWS Records (System Entry)'!$D$4)","v":""},{"$f":"IF(AND(ISBLANK(INDEX($G:$G,)), ISBLANK(INDEX($C:$C,))), \"\", 'PWS Records (System Entry)'!$D$3)","v":""},null,null,null,null,null,null,null,null,null,null,null,null,null,null,null,null,null,null,""]
[{"$f":"IF(AND(ISBLANK(INDEX($G:$G,)), ISBLANK(INDEX($C:$C,))), \"\", 'PWS Records (System Entry)'!$D$4)","v":""},{"$f":"IF(AND(ISBLANK(INDEX($G:$G,)), ISBLANK(INDEX($C:$C,))), \"\", 'PWS Records (System Entry)'!$D$3)","v":""},null,null,null,null,null,null,null,null,null,null,null,null,null,null,null,null,null,null,""]
[{"$f":"IF(AND(ISBLANK(INDEX($G:$G,)), ISBLANK(INDEX($C:$C,))), \"\", 'PWS Records (System Entry)'!$D$4)","v":""},{"$f":"IF(AND(ISBLANK(INDEX($G:$G,)), ISBLANK(INDEX($C:$C,))), \"\", 'PWS Records (System Entry)'!$D$3)","v":""},null,null,null,null,null,null,null,null,null,null,null,null,null,null,null,null,null,null,""]
[{"$f":"IF(AND(ISBLANK(INDEX($G:$G,)), ISBLANK(INDEX($C:$C,))), \"\", 'PWS Records (System Entry)'!$D$4)","v":""},{"$f":"IF(AND(ISBLANK(INDEX($G:$G,)), ISBLANK(INDEX($C:$C,))), \"\", 'PWS Records (System Entry)'!$D$3)","v":""},null,null,null,null,null,null,null,null,null,null,null,null,null,null,null,null,null,null,""]
[{"$f":"IF(AND(ISBLANK(INDEX($G:$G,)), ISBLANK(INDEX($C:$C,))), \"\", 'PWS Records (System Entry)'!$D$4)","v":""},{"$f":"IF(AND(ISBLANK(INDEX($G:$G,)), ISBLANK(INDEX($C:$C,))), \"\", 'PWS Records (System Entry)'!$D$3)","v":""},null,null,null,null,null,null,null,null,null,null,null,null,null,null,null,null,null,null,""]
[{"$f":"IF(AND(ISBLANK(INDEX($G:$G,)), ISBLANK(INDEX($C:$C,))), \"\", 'PWS Records (System Entry)'!$D$4)","v":""},{"$f":"IF(AND(ISBLANK(INDEX($G:$G,)), ISBLANK(INDEX($C:$C,))), \"\", 'PWS Records (System Entry)'!$D$3)","v":""},null,null,null,null,null,null,null,null,null,null,null,null,null,null,null,null,null,null,""]
[{"$f":"IF(AND(ISBLANK(INDEX($G:$G,)), ISBLANK(INDEX($C:$C,))), \"\", 'PWS Records (System Entry)'!$D$4)","v":""},{"$f":"IF(AND(ISBLANK(INDEX($G:$G,)), ISBLANK(INDEX($C:$C,))), \"\", 'PWS Records (System Entry)'!$D$3)","v":""},null,null,null,null,null,null,null,null,null,null,null,null,null,null,null,null,null,null,""]
[{"$f":"IF(AND(ISBLANK(INDEX($G:$G,)), ISBLANK(INDEX($C:$C,))), \"\", 'PWS Records (System Entry)'!$D$4)","v":""},{"$f":"IF(AND(ISBLANK(INDEX($G:$G,)), ISBLANK(INDEX($C:$C,))), \"\", 'PWS Records (System Entry)'!$D$3)","v":""},null,null,null,null,null,null,null,null,null,null,null,null,null,null,null,null,null,null,""]
[{"$f":"IF(AND(ISBLANK(INDEX($G:$G,)), ISBLANK(INDEX($C:$C,))), \"\", 'PWS Records (System Entry)'!$D$4)","v":""},{"$f":"IF(AND(ISBLANK(INDEX($G:$G,)), ISBLANK(INDEX($C:$C,))), \"\", 'PWS Records (System Entry)'!$D$3)","v":""},null,null,null,null,null,null,null,null,null,null,null,null,null,null,null,null,null,null,""]
[{"$f":"IF(AND(ISBLANK(INDEX($G:$G,)), ISBLANK(INDEX($C:$C,))), \"\", 'PWS Records (System Entry)'!$D$4)","v":""},{"$f":"IF(AND(ISBLANK(INDEX($G:$G,)), ISBLANK(INDEX($C:$C,))), \"\", 'PWS Records (System Entry)'!$D$3)","v":""},null,null,null,null,null,null,null,null,null,null,null,null,null,null,null,null,null,null,""]
[{"$f":"IF(AND(ISBLANK(INDEX($G:$G,)), ISBLANK(INDEX($C:$C,))), \"\", 'PWS Records (System Entry)'!$D$4)","v":""},{"$f":"IF(AND(ISBLANK(INDEX($G:$G,)), ISBLANK(INDEX($C:$C,))), \"\", 'PWS Records (System Entry)'!$D$3)","v":""},null,null,null,null,null,null,null,null,null,null,null,null,null,null,null,null,null,null,""]
[{"$f":"IF(AND(ISBLANK(INDEX($G:$G,)), ISBLANK(INDEX($C:$C,))), \"\", 'PWS Records (System Entry)'!$D$4)","v":""},{"$f":"IF(AND(ISBLANK(INDEX($G:$G,)), ISBLANK(INDEX($C:$C,))), \"\", 'PWS Records (System Entry)'!$D$3)","v":""},null,null,null,null,null,null,null,null,null,null,null,null,null,null,null,null,null,null,""]
[{"$f":"IF(AND(ISBLANK(INDEX($G:$G,)), ISBLANK(INDEX($C:$C,))), \"\", 'PWS Records (System Entry)'!$D$4)","v":""},{"$f":"IF(AND(ISBLANK(INDEX($G:$G,)), ISBLANK(INDEX($C:$C,))), \"\", 'PWS Records (System Entry)'!$D$3)","v":""},null,null,null,null,null,null,null,null,null,null,null,null,null,null,null,null,null,null,""]
[{"$f":"IF(AND(ISBLANK(INDEX($G:$G,)), ISBLANK(INDEX($C:$C,))), \"\", 'PWS Records (System Entry)'!$D$4)","v":""},{"$f":"IF(AND(ISBLANK(INDEX($G:$G,)), ISBLANK(INDEX($C:$C,))), \"\", 'PWS Records (System Entry)'!$D$3)","v":""},null,null,null,null,null,null,null,null,null,null,null,null,null,null,null,null,null,null,""]
[{"$f":"IF(AND(ISBLANK(INDEX($G:$G,)), ISBLANK(INDEX($C:$C,))), \"\", 'PWS Records (System Entry)'!$D$4)","v":""},{"$f":"IF(AND(ISBLANK(INDEX($G:$G,)), ISBLANK(INDEX($C:$C,))), \"\", 'PWS Records (System Entry)'!$D$3)","v":""},null,null,null,null,null,null,null,null,null,null,null,null,null,null,null,null,null,null,""]
[{"$f":"IF(AND(ISBLANK(INDEX($G:$G,)), ISBLANK(INDEX($C:$C,))), \"\", 'PWS Records (System Entry)'!$D$4)","v":""},{"$f":"IF(AND(ISBLANK(INDEX($G:$G,)), ISBLANK(INDEX($C:$C,))), \"\", 'PWS Records (System Entry)'!$D$3)","v":""},null,null,null,null,null,null,null,null,null,null,null,null,null,null,null,null,null,null,""]
[{"$f":"IF(AND(ISBLANK(INDEX($G:$G,)), ISBLANK(INDEX($C:$C,))), \"\", 'PWS Records (System Entry)'!$D$4)","v":""},{"$f":"IF(AND(ISBLANK(INDEX($G:$G,)), ISBLANK(INDEX($C:$C,))), \"\", 'PWS Records (System Entry)'!$D$3)","v":""},null,null,null,null,null,null,null,null,null,null,null,null,null,null,null,null,null,null,""]
[{"$f":"IF(AND(ISBLANK(INDEX($G:$G,)), ISBLANK(INDEX($C:$C,))), \"\", 'PWS Records (System Entry)'!$D$4)","v":""},{"$f":"IF(AND(ISBLANK(INDEX($G:$G,)), ISBLANK(INDEX($C:$C,))), \"\", 'PWS Records (System Entry)'!$D$3)","v":""},null,null,null,null,null,null,null,null,null,null,null,null,null,null,null,null,null,null,""]
[{"$f":"IF(AND(ISBLANK(INDEX($G:$G,)), ISBLANK(INDEX($C:$C,))), \"\", 'PWS Records (System Entry)'!$D$4)","v":""},{"$f":"IF(AND(ISBLANK(INDEX($G:$G,)), ISBLANK(INDEX($C:$C,))), \"\", 'PWS Records (System Entry)'!$D$3)","v":""},null,null,null,null,null,null,null,null,null,null,null,null,null,null,null,null,null,null,""]
[{"$f":"IF(AND(ISBLANK(INDEX($G:$G,)), ISBLANK(INDEX($C:$C,))), \"\", 'PWS Records (System Entry)'!$D$4)","v":""},{"$f":"IF(AND(ISBLANK(INDEX($G:$G,)), ISBLANK(INDEX($C:$C,))), \"\", 'PWS Records (System Entry)'!$D$3)","v":""},null,null,null,null,null,null,null,null,null,null,null,null,null,null,null,null,null,null,""]
[{"$f":"IF(AND(ISBLANK(INDEX($G:$G,)), ISBLANK(INDEX($C:$C,))), \"\", 'PWS Records (System Entry)'!$D$4)","v":""},{"$f":"IF(AND(ISBLANK(INDEX($G:$G,)), ISBLANK(INDEX($C:$C,))), \"\", 'PWS Records (System Entry)'!$D$3)","v":""},null,null,null,null,null,null,null,null,null,null,null,null,null,null,null,null,null,null,""]
[{"$f":"IF(AND(ISBLANK(INDEX($G:$G,)), ISBLANK(INDEX($C:$C,))), \"\", 'PWS Records (System Entry)'!$D$4)","v":""},{"$f":"IF(AND(ISBLANK(INDEX($G:$G,)), ISBLANK(INDEX($C:$C,))), \"\", 'PWS Records (System Entry)'!$D$3)","v":""},null,null,null,null,null,null,null,null,null,null,null,null,null,null,null,null,null,null,""]
[{"$f":"IF(AND(ISBLANK(INDEX($G:$G,)), ISBLANK(INDEX($C:$C,))), \"\", 'PWS Records (System Entry)'!$D$4)","v":""},{"$f":"IF(AND(ISBLANK(INDEX($G:$G,)), ISBLANK(INDEX($C:$C,))), \"\", 'PWS Records (System Entry)'!$D$3)","v":""},null,null,null,null,null,null,null,null,null,null,null,null,null,null,null,null,null,null,""]
[{"$f":"IF(AND(ISBLANK(INDEX($G:$G,)), ISBLANK(INDEX($C:$C,))), \"\", 'PWS Records (System Entry)'!$D$4)","v":""},{"$f":"IF(AND(ISBLANK(INDEX($G:$G,)), ISBLANK(INDEX($C:$C,))), \"\", 'PWS Records (System Entry)'!$D$3)","v":""},null,null,null,null,null,null,null,null,null,null,null,null,null,null,null,null,null,null,""]
[{"$f":"IF(AND(ISBLANK(INDEX($G:$G,)), ISBLANK(INDEX($C:$C,))), \"\", 'PWS Records (System Entry)'!$D$4)","v":""},{"$f":"IF(AND(ISBLANK(INDEX($G:$G,)), ISBLANK(INDEX($C:$C,))), \"\", 'PWS Records (System Entry)'!$D$3)","v":""},null,null,null,null,null,null,null,null,null,null,null,null,null,null,null,null,null,null,""]
[{"$f":"IF(AND(ISBLANK(INDEX($G:$G,)), ISBLANK(INDEX($C:$C,))), \"\", 'PWS Records (System Entry)'!$D$4)","v":""},{"$f":"IF(AND(ISBLANK(INDEX($G:$G,)), ISBLANK(INDEX($C:$C,))), \"\", 'PWS Records (System Entry)'!$D$3)","v":""},null,null,null,null,null,null,null,null,null,null,null,null,null,null,null,null,null,null,""]
[{"$f":"IF(AND(ISBLANK(INDEX($G:$G,)), ISBLANK(INDEX($C:$C,))), \"\", 'PWS Records (System Entry)'!$D$4)","v":""},{"$f":"IF(AND(ISBLANK(INDEX($G:$G,)), ISBLANK(INDEX($C:$C,))), \"\", 'PWS Records (System Entry)'!$D$3)","v":""},null,null,null,null,null,null,null,null,null,null,null,null,null,null,null,null,null,null,""]
[{"$f":"IF(AND(ISBLANK(INDEX($G:$G,)), ISBLANK(INDEX($C:$C,))), \"\", 'PWS Records (System Entry)'!$D$4)","v":""},{"$f":"IF(AND(ISBLANK(INDEX($G:$G,)), ISBLANK(INDEX($C:$C,))), \"\", 'PWS Records (System Entry)'!$D$3)","v":""},null,null,null,null,null,null,null,null,null,null,null,null,null,null,null,null,null,null,""]
[{"$f":"IF(AND(ISBLANK(INDEX($G:$G,)), ISBLANK(INDEX($C:$C,))), \"\", 'PWS Records (System Entry)'!$D$4)","v":""},{"$f":"IF(AND(ISBLANK(INDEX($G:$G,)), ISBLANK(INDEX($C:$C,))), \"\", 'PWS Records (System Entry)'!$D$3)","v":""},null,null,null,null,null,null,null,null,null,null,null,null,null,null,null,null,null,null,""]
[{"$f":"IF(AND(ISBLANK(INDEX($G:$G,)), ISBLANK(INDEX($C:$C,))), \"\", 'PWS Records (System Entry)'!$D$4)","v":""},{"$f":"IF(AND(ISBLANK(INDEX($G:$G,)), ISBLANK(INDEX($C:$C,))), \"\", 'PWS Records (System Entry)'!$D$3)","v":""},null,null,null,null,null,null,null,null,null,null,null,null,null,null,null,null,null,null,""]
[{"$f":"IF(AND(ISBLANK(INDEX($G:$G,)), ISBLANK(INDEX($C:$C,))), \"\", 'PWS Records (System Entry)'!$D$4)","v":""},{"$f":"IF(AND(ISBLANK(INDEX($G:$G,)), ISBLANK(INDEX($C:$C,))), \"\", 'PWS Records (System Entry)'!$D$3)","v":""},null,null,null,null,null,null,null,null,null,null,null,null,null,null,null,null,null,null,""]
[{"$f":"IF(AND(ISBLANK(INDEX($G:$G,)), ISBLANK(INDEX($C:$C,))), \"\", 'PWS Records (System Entry)'!$D$4)","v":""},{"$f":"IF(AND(ISBLANK(INDEX($G:$G,)), ISBLANK(INDEX($C:$C,))), \"\", 'PWS Records (System Entry)'!$D$3)","v":""},null,null,null,null,null,null,null,null,null,null,null,null,null,null,null,null,null,null,""]
[{"$f":"IF(AND(ISBLANK(INDEX($G:$G,)), ISBLANK(INDEX($C:$C,))), \"\", 'PWS Records (System Entry)'!$D$4)","v":""},{"$f":"IF(AND(ISBLANK(INDEX($G:$G,)), ISBLANK(INDEX($C:$C,))), \"\", 'PWS Records (System Entry)'!$D$3)","v":""},null,null,null,null,null,null,null,null,null,null,null,null,null,null,null,null,null,null,""]
[{"$f":"IF(AND(ISBLANK(INDEX($G:$G,)), ISBLANK(INDEX($C:$C,))), \"\", 'PWS Records (System Entry)'!$D$4)","v":""},{"$f":"IF(AND(ISBLANK(INDEX($G:$G,)), ISBLANK(INDEX($C:$C,))), \"\", 'PWS Records (System Entry)'!$D$3)","v":""},null,null,null,null,null,null,null,null,null,null,null,null,null,null,null,null,null,null,""]
[{"$f":"IF(AND(ISBLANK(INDEX($G:$G,)), ISBLANK(INDEX($C:$C,))), \"\", 'PWS Records (System Entry)'!$D$4)","v":""},{"$f":"IF(AND(ISBLANK(INDEX($G:$G,)), ISBLANK(INDEX($C:$C,))), \"\", 'PWS Records (System Entry)'!$D$3)","v":""},null,null,null,null,null,null,null,null,null,null,null,null,null,null,null,null,null,null,""]
[{"$f":"IF(AND(ISBLANK(INDEX($G:$G,)), ISBLANK(INDEX($C:$C,))), \"\", 'PWS Records (System Entry)'!$D$4)","v":""},{"$f":"IF(AND(ISBLANK(INDEX($G:$G,)), ISBLANK(INDEX($C:$C,))), \"\", 'PWS Records (System Entry)'!$D$3)","v":""},null,null,null,null,null,null,null,null,null,null,null,null,null,null,null,null,null,null,{"$f":"IF(AND(INDEX($K:$K,)=\"\", INDEX($L:$L,)=\"\", INDEX($M:$M,)=\"\", INDEX($Q:$Q,)=\"\", INDEX($R:$R,)=\"\"), \"\", IF(OR(INDEX($K:$K,)=\"Lead\",INDEX($Q:$Q,)=\"Lead\"),\"Lead\",IF(OR(AND(OR(INDEX($M:$M,)=\"Yes\", INDEX($M:$M,)=\"Don't Know\", INDEX($M:$M,)=\"\"), INDEX($Q:$Q,)=\"Galvanized Iron/Steel\"), AND(INDEX($K:$K,)=\"Unknown\", INDEX($M:$M,)=\"No\", INDEX($Q:$Q,)=\"Galvanized Iron/Steel\")), \"Galvanized Requiring Replacement\", IF(OR(AND(OR(INDEX($K:$K,)=\"Galvanized Iron/Steel\", INDEX($K:$K,)=\"Non-Lead - Copper\", INDEX($K:$K,)=\"Non-Lead - Plastic\", INDEX($K:$K,)=\"Non-Lead - Other\", INDEX($K:$K,)=\"Non-Lead - Material Unknown\", INDEX($K:$K,)=\"No System Owned Portion\"), OR(INDEX($Q:$Q,)=\"Galvanized Iron/Steel\", INDEX($Q:$Q,)=\"Non-Lead - Copper\", INDEX($Q:$Q,)=\"Non-Lead - Plastic\", INDEX($Q:$Q,)=\"Non-Lead - Other\", INDEX($Q:$Q,)=\"Non-Lead - Predictive Model\", INDEX($Q:$Q,)=\"No Customer Owned Portion\")), AND(OR( INDEX($K:$K,)=\"Galvanized Iron/Steel\", INDEX($K:$K,)=\"Non-Lead - Copper\", INDEX($K:$K,)=\"Non-Lead - Plastic\", INDEX($K:$K,)=\"Non-Lead - Other\", INDEX($K:$K,)=\"Non-Lead - Material Unknown\", INDEX($K:$K,)=\"No System Owned Portion\"), INDEX($M:$M,)=\"No\", INDEX($Q:$Q,)=\"Non-Lead - Material Unknown\")), \"Non-Lead\", \"Lead Status Unknown\"))))","v":""}]
[{"$f":"IF(AND(ISBLANK(INDEX($G:$G,)), ISBLANK(INDEX($C:$C,))), \"\", 'PWS Records (System Entry)'!$D$4)","v":""},{"$f":"IF(AND(ISBLANK(INDEX($G:$G,)), ISBLANK(INDEX($C:$C,))), \"\", 'PWS Records (System Entry)'!$D$3)","v":""},null,null,null,null,null,null,null,null,null,null,null,null,null,null,null,null,null,null,""]
[{"$f":"IF(AND(ISBLANK(INDEX($G:$G,)), ISBLANK(INDEX($C:$C,))), \"\", 'PWS Records (System Entry)'!$D$4)","v":""},{"$f":"IF(AND(ISBLANK(INDEX($G:$G,)), ISBLANK(INDEX($C:$C,))), \"\", 'PWS Records (System Entry)'!$D$3)","v":""},null,null,null,null,null,null,null,null,null,null,null,null,null,null,null,null,null,null,""]
[{"$f":"IF(AND(ISBLANK(INDEX($G:$G,)), ISBLANK(INDEX($C:$C,))), \"\", 'PWS Records (System Entry)'!$D$4)","v":""},{"$f":"IF(AND(ISBLANK(INDEX($G:$G,)), ISBLANK(INDEX($C:$C,))), \"\", 'PWS Records (System Entry)'!$D$3)","v":""},null,null,null,null,null,null,null,null,null,null,null,null,null,null,null,null,null,null,""]
[{"$f":"IF(AND(ISBLANK(INDEX($G:$G,)), ISBLANK(INDEX($C:$C,))), \"\", 'PWS Records (System Entry)'!$D$4)","v":""},{"$f":"IF(AND(ISBLANK(INDEX($G:$G,)), ISBLANK(INDEX($C:$C,))), \"\", 'PWS Records (System Entry)'!$D$3)","v":""},null,null,null,null,null,null,null,null,null,null,null,null,null,null,null,null,null,null,""]
[{"$f":"IF(AND(ISBLANK(INDEX($G:$G,)), ISBLANK(INDEX($C:$C,))), \"\", 'PWS Records (System Entry)'!$D$4)","v":""},{"$f":"IF(AND(ISBLANK(INDEX($G:$G,)), ISBLANK(INDEX($C:$C,))), \"\", 'PWS Records (System Entry)'!$D$3)","v":""},null,null,null,null,null,null,null,null,null,null,null,null,null,null,null,null,null,null,""]
[{"$f":"IF(AND(ISBLANK(INDEX($G:$G,)), ISBLANK(INDEX($C:$C,))), \"\", 'PWS Records (System Entry)'!$D$4)","v":""},{"$f":"IF(AND(ISBLANK(INDEX($G:$G,)), ISBLANK(INDEX($C:$C,))), \"\", 'PWS Records (System Entry)'!$D$3)","v":""},null,null,null,null,null,null,null,null,null,null,null,null,null,null,null,null,null,null,""]
[{"$f":"IF(AND(ISBLANK(INDEX($G:$G,)), ISBLANK(INDEX($C:$C,))), \"\", 'PWS Records (System Entry)'!$D$4)","v":""},{"$f":"IF(AND(ISBLANK(INDEX($G:$G,)), ISBLANK(INDEX($C:$C,))), \"\", 'PWS Records (System Entry)'!$D$3)","v":""},null,null,null,null,null,null,null,null,null,null,null,null,null,null,null,null,null,null,""]
[{"$f":"IF(AND(ISBLANK(INDEX($G:$G,)), ISBLANK(INDEX($C:$C,))), \"\", 'PWS Records (System Entry)'!$D$4)","v":""},{"$f":"IF(AND(ISBLANK(INDEX($G:$G,)), ISBLANK(INDEX($C:$C,))), \"\", 'PWS Records (System Entry)'!$D$3)","v":""},null,null,null,null,null,null,null,null,null,null,null,null,null,null,null,null,null,null,""]
[{"$f":"IF(AND(ISBLANK(INDEX($G:$G,)), ISBLANK(INDEX($C:$C,))), \"\", 'PWS Records (System Entry)'!$D$4)","v":""},{"$f":"IF(AND(ISBLANK(INDEX($G:$G,)), ISBLANK(INDEX($C:$C,))), \"\", 'PWS Records (System Entry)'!$D$3)","v":""},null,null,null,null,null,null,null,null,null,null,null,null,null,null,null,null,null,null,""]
[{"$f":"IF(AND(ISBLANK(INDEX($G:$G,)), ISBLANK(INDEX($C:$C,))), \"\", 'PWS Records (System Entry)'!$D$4)","v":""},{"$f":"IF(AND(ISBLANK(INDEX($G:$G,)), ISBLANK(INDEX($C:$C,))), \"\", 'PWS Records (System Entry)'!$D$3)","v":""},null,null,null,null,null,null,null,null,null,null,null,null,null,null,null,null,null,null,""]
[{"$f":"IF(AND(ISBLANK(INDEX($G:$G,)), ISBLANK(INDEX($C:$C,))), \"\", 'PWS Records (System Entry)'!$D$4)","v":""},{"$f":"IF(AND(ISBLANK(INDEX($G:$G,)), ISBLANK(INDEX($C:$C,))), \"\", 'PWS Records (System Entry)'!$D$3)","v":""},null,null,null,null,null,null,null,null,null,null,null,null,null,null,null,null,null,null,""]
[{"$f":"IF(AND(ISBLANK(INDEX($G:$G,)), ISBLANK(INDEX($C:$C,))), \"\", 'PWS Records (System Entry)'!$D$4)","v":""},{"$f":"IF(AND(ISBLANK(INDEX($G:$G,)), ISBLANK(INDEX($C:$C,))), \"\", 'PWS Records (System Entry)'!$D$3)","v":""},null,null,null,null,null,null,null,null,null,null,null,null,null,null,null,null,null,null,""]
[{"$f":"IF(AND(ISBLANK(INDEX($G:$G,)), ISBLANK(INDEX($C:$C,))), \"\", 'PWS Records (System Entry)'!$D$4)","v":""},{"$f":"IF(AND(ISBLANK(INDEX($G:$G,)), ISBLANK(INDEX($C:$C,))), \"\", 'PWS Records (System Entry)'!$D$3)","v":""},null,null,null,null,null,null,null,null,null,null,null,null,null,null,null,null,null,null,""]
[{"$f":"IF(AND(ISBLANK(INDEX($G:$G,)), ISBLANK(INDEX($C:$C,))), \"\", 'PWS Records (System Entry)'!$D$4)","v":""},{"$f":"IF(AND(ISBLANK(INDEX($G:$G,)), ISBLANK(INDEX($C:$C,))), \"\", 'PWS Records (System Entry)'!$D$3)","v":""},null,null,null,null,null,null,null,null,null,null,null,null,null,null,null,null,null,null,""]
[{"$f":"IF(AND(ISBLANK(INDEX($G:$G,)), ISBLANK(INDEX($C:$C,))), \"\", 'PWS Records (System Entry)'!$D$4)","v":""},{"$f":"IF(AND(ISBLANK(INDEX($G:$G,)), ISBLANK(INDEX($C:$C,))), \"\", 'PWS Records (System Entry)'!$D$3)","v":""},null,null,null,null,null,null,null,null,null,null,null,null,null,null,null,null,null,null,""]
[{"$f":"IF(AND(ISBLANK(INDEX($G:$G,)), ISBLANK(INDEX($C:$C,))), \"\", 'PWS Records (System Entry)'!$D$4)","v":""},{"$f":"IF(AND(ISBLANK(INDEX($G:$G,)), ISBLANK(INDEX($C:$C,))), \"\", 'PWS Records (System Entry)'!$D$3)","v":""},null,null,null,null,null,null,null,null,null,null,null,null,null,null,null,null,null,null,""]
[{"$f":"IF(AND(ISBLANK(INDEX($G:$G,)), ISBLANK(INDEX($C:$C,))), \"\", 'PWS Records (System Entry)'!$D$4)","v":""},{"$f":"IF(AND(ISBLANK(INDEX($G:$G,)), ISBLANK(INDEX($C:$C,))), \"\", 'PWS Records (System Entry)'!$D$3)","v":""},null,null,null,null,null,null,null,null,null,null,null,null,null,null,null,null,null,null,""]
[{"$f":"IF(AND(ISBLANK(INDEX($G:$G,)), ISBLANK(INDEX($C:$C,))), \"\", 'PWS Records (System Entry)'!$D$4)","v":""},{"$f":"IF(AND(ISBLANK(INDEX($G:$G,)), ISBLANK(INDEX($C:$C,))), \"\", 'PWS Records (System Entry)'!$D$3)","v":""},null,null,null,null,null,null,null,null,null,null,null,null,null,null,null,null,null,null,""]
[{"$f":"IF(AND(ISBLANK(INDEX($G:$G,)), ISBLANK(INDEX($C:$C,))), \"\", 'PWS Records (System Entry)'!$D$4)","v":""},{"$f":"IF(AND(ISBLANK(INDEX($G:$G,)), ISBLANK(INDEX($C:$C,))), \"\", 'PWS Records (System Entry)'!$D$3)","v":""},null,null,null,null,null,null,null,null,null,null,null,null,null,null,null,null,null,null,""]
[{"$f":"IF(AND(ISBLANK(INDEX($G:$G,)), ISBLANK(INDEX($C:$C,))), \"\", 'PWS Records (System Entry)'!$D$4)","v":""},{"$f":"IF(AND(ISBLANK(INDEX($G:$G,)), ISBLANK(INDEX($C:$C,))), \"\", 'PWS Records (System Entry)'!$D$3)","v":""},null,null,null,null,null,null,null,null,null,null,null,null,null,null,null,null,null,null,""]
[{"$f":"IF(AND(ISBLANK(INDEX($G:$G,)), ISBLANK(INDEX($C:$C,))), \"\", 'PWS Records (System Entry)'!$D$4)","v":""},{"$f":"IF(AND(ISBLANK(INDEX($G:$G,)), ISBLANK(INDEX($C:$C,))), \"\", 'PWS Records (System Entry)'!$D$3)","v":""},null,null,null,null,null,null,null,null,null,null,null,null,null,null,null,null,null,null,""]
[{"$f":"IF(AND(ISBLANK(INDEX($G:$G,)), ISBLANK(INDEX($C:$C,))), \"\", 'PWS Records (System Entry)'!$D$4)","v":""},{"$f":"IF(AND(ISBLANK(INDEX($G:$G,)), ISBLANK(INDEX($C:$C,))), \"\", 'PWS Records (System Entry)'!$D$3)","v":""},null,null,null,null,null,null,null,null,null,null,null,null,null,null,null,null,null,null,""]
[{"$f":"IF(AND(ISBLANK(INDEX($G:$G,)), ISBLANK(INDEX($C:$C,))), \"\", 'PWS Records (System Entry)'!$D$4)","v":""},{"$f":"IF(AND(ISBLANK(INDEX($G:$G,)), ISBLANK(INDEX($C:$C,))), \"\", 'PWS Records (System Entry)'!$D$3)","v":""},null,null,null,null,null,null,null,null,null,null,null,null,null,null,null,null,null,null,""]
[{"$f":"IF(AND(ISBLANK(INDEX($G:$G,)), ISBLANK(INDEX($C:$C,))), \"\", 'PWS Records (System Entry)'!$D$4)","v":""},{"$f":"IF(AND(ISBLANK(INDEX($G:$G,)), ISBLANK(INDEX($C:$C,))), \"\", 'PWS Records (System Entry)'!$D$3)","v":""},null,null,null,null,null,null,null,null,null,null,null,null,null,null,null,null,null,null,""]
[{"$f":"IF(AND(ISBLANK(INDEX($G:$G,)), ISBLANK(INDEX($C:$C,))), \"\", 'PWS Records (System Entry)'!$D$4)","v":""},{"$f":"IF(AND(ISBLANK(INDEX($G:$G,)), ISBLANK(INDEX($C:$C,))), \"\", 'PWS Records (System Entry)'!$D$3)","v":""},null,null,null,null,null,null,null,null,null,null,null,null,null,null,null,null,null,null,""]
[{"$f":"IF(AND(ISBLANK(INDEX($G:$G,)), ISBLANK(INDEX($C:$C,))), \"\", 'PWS Records (System Entry)'!$D$4)","v":""},{"$f":"IF(AND(ISBLANK(INDEX($G:$G,)), ISBLANK(INDEX($C:$C,))), \"\", 'PWS Records (System Entry)'!$D$3)","v":""},null,null,null,null,null,null,null,null,null,null,null,null,null,null,null,null,null,null,""]
[{"$f":"IF(AND(ISBLANK(INDEX($G:$G,)), ISBLANK(INDEX($C:$C,))), \"\", 'PWS Records (System Entry)'!$D$4)","v":""},{"$f":"IF(AND(ISBLANK(INDEX($G:$G,)), ISBLANK(INDEX($C:$C,))), \"\", 'PWS Records (System Entry)'!$D$3)","v":""},null,null,null,null,null,null,null,null,null,null,null,null,null,null,null,null,null,null,""]
[{"$f":"IF(AND(ISBLANK(INDEX($G:$G,)), ISBLANK(INDEX($C:$C,))), \"\", 'PWS Records (System Entry)'!$D$4)","v":""},{"$f":"IF(AND(ISBLANK(INDEX($G:$G,)), ISBLANK(INDEX($C:$C,))), \"\", 'PWS Records (System Entry)'!$D$3)","v":""},null,null,null,null,null,null,null,null,null,null,null,null,null,null,null,null,null,null,""]
[{"$f":"IF(AND(ISBLANK(INDEX($G:$G,)), ISBLANK(INDEX($C:$C,))), \"\", 'PWS Records (System Entry)'!$D$4)","v":""},{"$f":"IF(AND(ISBLANK(INDEX($G:$G,)), ISBLANK(INDEX($C:$C,))), \"\", 'PWS Records (System Entry)'!$D$3)","v":""},null,null,null,null,null,null,null,null,null,null,null,null,null,null,null,null,null,null,""]
[{"$f":"IF(AND(ISBLANK(INDEX($G:$G,)), ISBLANK(INDEX($C:$C,))), \"\", 'PWS Records (System Entry)'!$D$4)","v":""},{"$f":"IF(AND(ISBLANK(INDEX($G:$G,)), ISBLANK(INDEX($C:$C,))), \"\", 'PWS Records (System Entry)'!$D$3)","v":""},null,null,null,null,null,null,null,null,null,null,null,null,null,null,null,null,null,null,""]
[{"$f":"IF(AND(ISBLANK(INDEX($G:$G,)), ISBLANK(INDEX($C:$C,))), \"\", 'PWS Records (System Entry)'!$D$4)","v":""},{"$f":"IF(AND(ISBLANK(INDEX($G:$G,)), ISBLANK(INDEX($C:$C,))), \"\", 'PWS Records (System Entry)'!$D$3)","v":""},null,null,null,null,null,null,null,null,null,null,null,null,null,null,null,null,null,null,""]
[{"$f":"IF(AND(ISBLANK(INDEX($G:$G,)), ISBLANK(INDEX($C:$C,))), \"\", 'PWS Records (System Entry)'!$D$4)","v":""},{"$f":"IF(AND(ISBLANK(INDEX($G:$G,)), ISBLANK(INDEX($C:$C,))), \"\", 'PWS Records (System Entry)'!$D$3)","v":""},null,null,null,null,null,null,null,null,null,null,null,null,null,null,null,null,null,null,""]
[{"$f":"IF(AND(ISBLANK(INDEX($G:$G,)), ISBLANK(INDEX($C:$C,))), \"\", 'PWS Records (System Entry)'!$D$4)","v":""},{"$f":"IF(AND(ISBLANK(INDEX($G:$G,)), ISBLANK(INDEX($C:$C,))), \"\", 'PWS Records (System Entry)'!$D$3)","v":""},null,null,null,null,null,null,null,null,null,null,null,null,null,null,null,null,null,null,""]
[{"$f":"IF(AND(ISBLANK(INDEX($G:$G,)), ISBLANK(INDEX($C:$C,))), \"\", 'PWS Records (System Entry)'!$D$4)","v":""},{"$f":"IF(AND(ISBLANK(INDEX($G:$G,)), ISBLANK(INDEX($C:$C,))), \"\", 'PWS Records (System Entry)'!$D$3)","v":""},null,null,null,null,null,null,null,null,null,null,null,null,null,null,null,null,null,null,""]
[{"$f":"IF(AND(ISBLANK(INDEX($G:$G,)), ISBLANK(INDEX($C:$C,))), \"\", 'PWS Records (System Entry)'!$D$4)","v":""},{"$f":"IF(AND(ISBLANK(INDEX($G:$G,)), ISBLANK(INDEX($C:$C,))), \"\", 'PWS Records (System Entry)'!$D$3)","v":""},null,null,null,null,null,null,null,null,null,null,null,null,null,null,null,null,null,null,""]
[{"$f":"IF(AND(ISBLANK(INDEX($G:$G,)), ISBLANK(INDEX($C:$C,))), \"\", 'PWS Records (System Entry)'!$D$4)","v":""},{"$f":"IF(AND(ISBLANK(INDEX($G:$G,)), ISBLANK(INDEX($C:$C,))), \"\", 'PWS Records (System Entry)'!$D$3)","v":""},null,null,null,null,null,null,null,null,null,null,null,null,null,null,null,null,null,null,""]
[{"$f":"IF(AND(ISBLANK(INDEX($G:$G,)), ISBLANK(INDEX($C:$C,))), \"\", 'PWS Records (System Entry)'!$D$4)","v":""},{"$f":"IF(AND(ISBLANK(INDEX($G:$G,)), ISBLANK(INDEX($C:$C,))), \"\", 'PWS Records (System Entry)'!$D$3)","v":""},null,null,null,null,null,null,null,null,null,null,null,null,null,null,null,null,null,null,""]
[{"$f":"IF(AND(ISBLANK(INDEX($G:$G,)), ISBLANK(INDEX($C:$C,))), \"\", 'PWS Records (System Entry)'!$D$4)","v":""},{"$f":"IF(AND(ISBLANK(INDEX($G:$G,)), ISBLANK(INDEX($C:$C,))), \"\", 'PWS Records (System Entry)'!$D$3)","v":""},null,null,null,null,null,null,null,null,null,null,null,null,null,null,null,null,null,null,""]
[{"$f":"IF(AND(ISBLANK(INDEX($G:$G,)), ISBLANK(INDEX($C:$C,))), \"\", 'PWS Records (System Entry)'!$D$4)","v":""},{"$f":"IF(AND(ISBLANK(INDEX($G:$G,)), ISBLANK(INDEX($C:$C,))), \"\", 'PWS Records (System Entry)'!$D$3)","v":""},null,null,null,null,null,null,null,null,null,null,null,null,null,null,null,null,null,null,""]
[{"$f":"IF(AND(ISBLANK(INDEX($G:$G,)), ISBLANK(INDEX($C:$C,))), \"\", 'PWS Records (System Entry)'!$D$4)","v":""},{"$f":"IF(AND(ISBLANK(INDEX($G:$G,)), ISBLANK(INDEX($C:$C,))), \"\", 'PWS Records (System Entry)'!$D$3)","v":""},null,null,null,null,null,null,null,null,null,null,null,null,null,null,null,null,null,null,""]
[{"$f":"IF(AND(ISBLANK(INDEX($G:$G,)), ISBLANK(INDEX($C:$C,))), \"\", 'PWS Records (System Entry)'!$D$4)","v":""},{"$f":"IF(AND(ISBLANK(INDEX($G:$G,)), ISBLANK(INDEX($C:$C,))), \"\", 'PWS Records (System Entry)'!$D$3)","v":""},null,null,null,null,null,null,null,null,null,null,null,null,null,null,null,null,null,null,""]
[{"$f":"IF(AND(ISBLANK(INDEX($G:$G,)), ISBLANK(INDEX($C:$C,))), \"\", 'PWS Records (System Entry)'!$D$4)","v":""},{"$f":"IF(AND(ISBLANK(INDEX($G:$G,)), ISBLANK(INDEX($C:$C,))), \"\", 'PWS Records (System Entry)'!$D$3)","v":""},null,null,null,null,null,null,null,null,null,null,null,null,null,null,null,null,null,null,""]
[{"$f":"IF(AND(ISBLANK(INDEX($G:$G,)), ISBLANK(INDEX($C:$C,))), \"\", 'PWS Records (System Entry)'!$D$4)","v":""},{"$f":"IF(AND(ISBLANK(INDEX($G:$G,)), ISBLANK(INDEX($C:$C,))), \"\", 'PWS Records (System Entry)'!$D$3)","v":""},null,null,null,null,null,null,null,null,null,null,null,null,null,null,null,null,null,null,""]
[{"$f":"IF(AND(ISBLANK(INDEX($G:$G,)), ISBLANK(INDEX($C:$C,))), \"\", 'PWS Records (System Entry)'!$D$4)","v":""},{"$f":"IF(AND(ISBLANK(INDEX($G:$G,)), ISBLANK(INDEX($C:$C,))), \"\", 'PWS Records (System Entry)'!$D$3)","v":""},null,null,null,null,null,null,null,null,null,null,null,null,null,null,null,null,null,null,""]
[{"$f":"IF(AND(ISBLANK(INDEX($G:$G,)), ISBLANK(INDEX($C:$C,))), \"\", 'PWS Records (System Entry)'!$D$4)","v":""},{"$f":"IF(AND(ISBLANK(INDEX($G:$G,)), ISBLANK(INDEX($C:$C,))), \"\", 'PWS Records (System Entry)'!$D$3)","v":""},null,null,null,null,null,null,null,null,null,null,null,null,null,null,null,null,null,null,""]
[{"$f":"IF(AND(ISBLANK(INDEX($G:$G,)), ISBLANK(INDEX($C:$C,))), \"\", 'PWS Records (System Entry)'!$D$4)","v":""},{"$f":"IF(AND(ISBLANK(INDEX($G:$G,)), ISBLANK(INDEX($C:$C,))), \"\", 'PWS Records (System Entry)'!$D$3)","v":""},null,null,null,null,null,null,null,null,null,null,null,null,null,null,null,null,null,null,""]
[{"$f":"IF(AND(ISBLANK(INDEX($G:$G,)), ISBLANK(INDEX($C:$C,))), \"\", 'PWS Records (System Entry)'!$D$4)","v":""},{"$f":"IF(AND(ISBLANK(INDEX($G:$G,)), ISBLANK(INDEX($C:$C,))), \"\", 'PWS Records (System Entry)'!$D$3)","v":""},null,null,null,null,null,null,null,null,null,null,null,null,null,null,null,null,null,null,""]
[{"$f":"IF(AND(ISBLANK(INDEX($G:$G,)), ISBLANK(INDEX($C:$C,))), \"\", 'PWS Records (System Entry)'!$D$4)","v":""},{"$f":"IF(AND(ISBLANK(INDEX($G:$G,)), ISBLANK(INDEX($C:$C,))), \"\", 'PWS Records (System Entry)'!$D$3)","v":""},null,null,null,null,null,null,null,null,null,null,null,null,null,null,null,null,null,null,""]
[{"$f":"IF(AND(ISBLANK(INDEX($G:$G,)), ISBLANK(INDEX($C:$C,))), \"\", 'PWS Records (System Entry)'!$D$4)","v":""},{"$f":"IF(AND(ISBLANK(INDEX($G:$G,)), ISBLANK(INDEX($C:$C,))), \"\", 'PWS Records (System Entry)'!$D$3)","v":""},null,null,null,null,null,null,null,null,null,null,null,null,null,null,null,null,null,null,""]
[{"$f":"IF(AND(ISBLANK(INDEX($G:$G,)), ISBLANK(INDEX($C:$C,))), \"\", 'PWS Records (System Entry)'!$D$4)","v":""},{"$f":"IF(AND(ISBLANK(INDEX($G:$G,)), ISBLANK(INDEX($C:$C,))), \"\", 'PWS Records (System Entry)'!$D$3)","v":""},null,null,null,null,null,null,null,null,null,null,null,null,null,null,null,null,null,null,""]
[{"$f":"IF(AND(ISBLANK(INDEX($G:$G,)), ISBLANK(INDEX($C:$C,))), \"\", 'PWS Records (System Entry)'!$D$4)","v":""},{"$f":"IF(AND(ISBLANK(INDEX($G:$G,)), ISBLANK(INDEX($C:$C,))), \"\", 'PWS Records (System Entry)'!$D$3)","v":""},null,null,null,null,null,null,null,null,null,null,null,null,null,null,null,null,null,null,""]
[{"$f":"IF(AND(ISBLANK(INDEX($G:$G,)), ISBLANK(INDEX($C:$C,))), \"\", 'PWS Records (System Entry)'!$D$4)","v":""},{"$f":"IF(AND(ISBLANK(INDEX($G:$G,)), ISBLANK(INDEX($C:$C,))), \"\", 'PWS Records (System Entry)'!$D$3)","v":""},null,null,null,null,null,null,null,null,null,null,null,null,null,null,null,null,null,null,""]
[{"$f":"IF(AND(ISBLANK(INDEX($G:$G,)), ISBLANK(INDEX($C:$C,))), \"\", 'PWS Records (System Entry)'!$D$4)","v":""},{"$f":"IF(AND(ISBLANK(INDEX($G:$G,)), ISBLANK(INDEX($C:$C,))), \"\", 'PWS Records (System Entry)'!$D$3)","v":""},null,null,null,null,null,null,null,null,null,null,null,null,null,null,null,null,null,null,""]
[{"$f":"IF(AND(ISBLANK(INDEX($G:$G,)), ISBLANK(INDEX($C:$C,))), \"\", 'PWS Records (System Entry)'!$D$4)","v":""},{"$f":"IF(AND(ISBLANK(INDEX($G:$G,)), ISBLANK(INDEX($C:$C,))), \"\", 'PWS Records (System Entry)'!$D$3)","v":""},null,null,null,null,null,null,null,null,null,null,null,null,null,null,null,null,null,null,""]
[{"$f":"IF(AND(ISBLANK(INDEX($G:$G,)), ISBLANK(INDEX($C:$C,))), \"\", 'PWS Records (System Entry)'!$D$4)","v":""},{"$f":"IF(AND(ISBLANK(INDEX($G:$G,)), ISBLANK(INDEX($C:$C,))), \"\", 'PWS Records (System Entry)'!$D$3)","v":""},null,null,null,null,null,null,null,null,null,null,null,null,null,null,null,null,null,null,""]
[{"$f":"IF(AND(ISBLANK(INDEX($G:$G,)), ISBLANK(INDEX($C:$C,))), \"\", 'PWS Records (System Entry)'!$D$4)","v":""},{"$f":"IF(AND(ISBLANK(INDEX($G:$G,)), ISBLANK(INDEX($C:$C,))), \"\", 'PWS Records (System Entry)'!$D$3)","v":""},null,null,null,null,null,null,null,null,null,null,null,null,null,null,null,null,null,null,""]
[{"$f":"IF(AND(ISBLANK(INDEX($G:$G,)), ISBLANK(INDEX($C:$C,))), \"\", 'PWS Records (System Entry)'!$D$4)","v":""},{"$f":"IF(AND(ISBLANK(INDEX($G:$G,)), ISBLANK(INDEX($C:$C,))), \"\", 'PWS Records (System Entry)'!$D$3)","v":""},null,null,null,null,null,null,null,null,null,null,null,null,null,null,null,null,null,null,""]
[{"$f":"IF(AND(ISBLANK(INDEX($G:$G,)), ISBLANK(INDEX($C:$C,))), \"\", 'PWS Records (System Entry)'!$D$4)","v":""},{"$f":"IF(AND(ISBLANK(INDEX($G:$G,)), ISBLANK(INDEX($C:$C,))), \"\", 'PWS Records (System Entry)'!$D$3)","v":""},null,null,null,null,null,null,null,null,null,null,null,null,null,null,null,null,null,null,""]
[{"$f":"IF(AND(ISBLANK(INDEX($G:$G,)), ISBLANK(INDEX($C:$C,))), \"\", 'PWS Records (System Entry)'!$D$4)","v":""},{"$f":"IF(AND(ISBLANK(INDEX($G:$G,)), ISBLANK(INDEX($C:$C,))), \"\", 'PWS Records (System Entry)'!$D$3)","v":""},null,null,null,null,null,null,null,null,null,null,null,null,null,null,null,null,null,null,""]
[{"$f":"IF(AND(ISBLANK(INDEX($G:$G,)), ISBLANK(INDEX($C:$C,))), \"\", 'PWS Records (System Entry)'!$D$4)","v":""},{"$f":"IF(AND(ISBLANK(INDEX($G:$G,)), ISBLANK(INDEX($C:$C,))), \"\", 'PWS Records (System Entry)'!$D$3)","v":""},null,null,null,null,null,null,null,null,null,null,null,null,null,null,null,null,null,null,""]
[{"$f":"IF(AND(ISBLANK(INDEX($G:$G,)), ISBLANK(INDEX($C:$C,))), \"\", 'PWS Records (System Entry)'!$D$4)","v":""},{"$f":"IF(AND(ISBLANK(INDEX($G:$G,)), ISBLANK(INDEX($C:$C,))), \"\", 'PWS Records (System Entry)'!$D$3)","v":""},null,null,null,null,null,null,null,null,null,null,null,null,null,null,null,null,null,null,""]
[{"$f":"IF(AND(ISBLANK(INDEX($G:$G,)), ISBLANK(INDEX($C:$C,))), \"\", 'PWS Records (System Entry)'!$D$4)","v":""},{"$f":"IF(AND(ISBLANK(INDEX($G:$G,)), ISBLANK(INDEX($C:$C,))), \"\", 'PWS Records (System Entry)'!$D$3)","v":""},null,null,null,null,null,null,null,null,null,null,null,null,null,null,null,null,null,null,""]
[{"$f":"IF(AND(ISBLANK(INDEX($G:$G,)), ISBLANK(INDEX($C:$C,))), \"\", 'PWS Records (System Entry)'!$D$4)","v":""},{"$f":"IF(AND(ISBLANK(INDEX($G:$G,)), ISBLANK(INDEX($C:$C,))), \"\", 'PWS Records (System Entry)'!$D$3)","v":""},null,null,null,null,null,null,null,null,null,null,null,null,null,null,null,null,null,null,""]
[{"$f":"IF(AND(ISBLANK(INDEX($G:$G,)), ISBLANK(INDEX($C:$C,))), \"\", 'PWS Records (System Entry)'!$D$4)","v":""},{"$f":"IF(AND(ISBLANK(INDEX($G:$G,)), ISBLANK(INDEX($C:$C,))), \"\", 'PWS Records (System Entry)'!$D$3)","v":""},null,null,null,null,null,null,null,null,null,null,null,null,null,null,null,null,null,null,{"$f":"IF(AND(INDEX($K:$K,)=\"\", INDEX($L:$L,)=\"\", INDEX($M:$M,)=\"\", INDEX($Q:$Q,)=\"\", INDEX($R:$R,)=\"\"), \"\", IF(OR(INDEX($K:$K,)=\"Lead\",INDEX($Q:$Q,)=\"Lead\"),\"Lead\",IF(OR(AND(OR(INDEX($M:$M,)=\"Yes\", INDEX($M:$M,)=\"Don't Know\", INDEX($M:$M,)=\"\"), INDEX($Q:$Q,)=\"Galvanized Iron/Steel\"), AND(INDEX($K:$K,)=\"Unknown\", INDEX($M:$M,)=\"No\", INDEX($Q:$Q,)=\"Galvanized Iron/Steel\")), \"Galvanized Requiring Replacement\", IF(OR(AND(OR(INDEX($K:$K,)=\"Galvanized Iron/Steel\", INDEX($K:$K,)=\"Non-Lead - Copper\", INDEX($K:$K,)=\"Non-Lead - Plastic\", INDEX($K:$K,)=\"Non-Lead - Other\", INDEX($K:$K,)=\"Non-Lead - Material Unknown\", INDEX($K:$K,)=\"No System Owned Portion\"), OR(INDEX($Q:$Q,)=\"Galvanized Iron/Steel\", INDEX($Q:$Q,)=\"Non-Lead - Copper\", INDEX($Q:$Q,)=\"Non-Lead - Plastic\", INDEX($Q:$Q,)=\"Non-Lead - Other\", INDEX($Q:$Q,)=\"Non-Lead - Predictive Model\", INDEX($Q:$Q,)=\"No Customer Owned Portion\")), AND(OR( INDEX($K:$K,)=\"Galvanized Iron/Steel\", INDEX($K:$K,)=\"Non-Lead - Copper\", INDEX($K:$K,)=\"Non-Lead - Plastic\", INDEX($K:$K,)=\"Non-Lead - Other\", INDEX($K:$K,)=\"Non-Lead - Material Unknown\", INDEX($K:$K,)=\"No System Owned Portion\"), INDEX($M:$M,)=\"No\", INDEX($Q:$Q,)=\"Non-Lead - Material Unknown\")), \"Non-Lead\", \"Lead Status Unknown\"))))","v":""}]
[{"$f":"IF(AND(ISBLANK(INDEX($G:$G,)), ISBLANK(INDEX($C:$C,))), \"\", 'PWS Records (System Entry)'!$D$4)","v":""},{"$f":"IF(AND(ISBLANK(INDEX($G:$G,)), ISBLANK(INDEX($C:$C,))), \"\", 'PWS Records (System Entry)'!$D$3)","v":""},null,null,null,null,null,null,null,null,null,null,null,null,null,null,null,null,null,null,""]
[{"$f":"IF(AND(ISBLANK(INDEX($G:$G,)), ISBLANK(INDEX($C:$C,))), \"\", 'PWS Records (System Entry)'!$D$4)","v":""},{"$f":"IF(AND(ISBLANK(INDEX($G:$G,)), ISBLANK(INDEX($C:$C,))), \"\", 'PWS Records (System Entry)'!$D$3)","v":""},null,null,null,null,null,null,null,null,null,null,null,null,null,null,null,null,null,null,""]
[{"$f":"IF(AND(ISBLANK(INDEX($G:$G,)), ISBLANK(INDEX($C:$C,))), \"\", 'PWS Records (System Entry)'!$D$4)","v":""},{"$f":"IF(AND(ISBLANK(INDEX($G:$G,)), ISBLANK(INDEX($C:$C,))), \"\", 'PWS Records (System Entry)'!$D$3)","v":""},null,null,null,null,null,null,null,null,null,null,null,null,null,null,null,null,null,null,""]
[{"$f":"IF(AND(ISBLANK(INDEX($G:$G,)), ISBLANK(INDEX($C:$C,))), \"\", 'PWS Records (System Entry)'!$D$4)","v":""},{"$f":"IF(AND(ISBLANK(INDEX($G:$G,)), ISBLANK(INDEX($C:$C,))), \"\", 'PWS Records (System Entry)'!$D$3)","v":""},null,null,null,null,null,null,null,null,null,null,null,null,null,null,null,null,null,null,""]
[{"$f":"IF(AND(ISBLANK(INDEX($G:$G,)), ISBLANK(INDEX($C:$C,))), \"\", 'PWS Records (System Entry)'!$D$4)","v":""},{"$f":"IF(AND(ISBLANK(INDEX($G:$G,)), ISBLANK(INDEX($C:$C,))), \"\", 'PWS Records (System Entry)'!$D$3)","v":""},null,null,null,null,null,null,null,null,null,null,null,null,null,null,null,null,null,null,""]
[{"$f":"IF(AND(ISBLANK(INDEX($G:$G,)), ISBLANK(INDEX($C:$C,))), \"\", 'PWS Records (System Entry)'!$D$4)","v":""},{"$f":"IF(AND(ISBLANK(INDEX($G:$G,)), ISBLANK(INDEX($C:$C,))), \"\", 'PWS Records (System Entry)'!$D$3)","v":""},null,null,null,null,null,null,null,null,null,null,null,null,null,null,null,null,null,null,""]
[{"$f":"IF(AND(ISBLANK(INDEX($G:$G,)), ISBLANK(INDEX($C:$C,))), \"\", 'PWS Records (System Entry)'!$D$4)","v":""},{"$f":"IF(AND(ISBLANK(INDEX($G:$G,)), ISBLANK(INDEX($C:$C,))), \"\", 'PWS Records (System Entry)'!$D$3)","v":""},null,null,null,null,null,null,null,null,null,null,null,null,null,null,null,null,null,null,""]
[{"$f":"IF(AND(ISBLANK(INDEX($G:$G,)), ISBLANK(INDEX($C:$C,))), \"\", 'PWS Records (System Entry)'!$D$4)","v":""},{"$f":"IF(AND(ISBLANK(INDEX($G:$G,)), ISBLANK(INDEX($C:$C,))), \"\", 'PWS Records (System Entry)'!$D$3)","v":""},null,null,null,null,null,null,null,null,null,null,null,null,null,null,null,null,null,null,""]
[{"$f":"IF(AND(ISBLANK(INDEX($G:$G,)), ISBLANK(INDEX($C:$C,))), \"\", 'PWS Records (System Entry)'!$D$4)","v":""},{"$f":"IF(AND(ISBLANK(INDEX($G:$G,)), ISBLANK(INDEX($C:$C,))), \"\", 'PWS Records (System Entry)'!$D$3)","v":""},null,null,null,null,null,null,null,null,null,null,null,null,null,null,null,null,null,null,""]
[{"$f":"IF(AND(ISBLANK(INDEX($G:$G,)), ISBLANK(INDEX($C:$C,))), \"\", 'PWS Records (System Entry)'!$D$4)","v":""},{"$f":"IF(AND(ISBLANK(INDEX($G:$G,)), ISBLANK(INDEX($C:$C,))), \"\", 'PWS Records (System Entry)'!$D$3)","v":""},null,null,null,null,null,null,null,null,null,null,null,null,null,null,null,null,null,null,""]
[{"$f":"IF(AND(ISBLANK(INDEX($G:$G,)), ISBLANK(INDEX($C:$C,))), \"\", 'PWS Records (System Entry)'!$D$4)","v":""},{"$f":"IF(AND(ISBLANK(INDEX($G:$G,)), ISBLANK(INDEX($C:$C,))), \"\", 'PWS Records (System Entry)'!$D$3)","v":""},null,null,null,null,null,null,null,null,null,null,null,null,null,null,null,null,null,null,""]
[{"$f":"IF(AND(ISBLANK(INDEX($G:$G,)), ISBLANK(INDEX($C:$C,))), \"\", 'PWS Records (System Entry)'!$D$4)","v":""},{"$f":"IF(AND(ISBLANK(INDEX($G:$G,)), ISBLANK(INDEX($C:$C,))), \"\", 'PWS Records (System Entry)'!$D$3)","v":""},null,null,null,null,null,null,null,null,null,null,null,null,null,null,null,null,null,null,""]
[{"$f":"IF(AND(ISBLANK(INDEX($G:$G,)), ISBLANK(INDEX($C:$C,))), \"\", 'PWS Records (System Entry)'!$D$4)","v":""},{"$f":"IF(AND(ISBLANK(INDEX($G:$G,)), ISBLANK(INDEX($C:$C,))), \"\", 'PWS Records (System Entry)'!$D$3)","v":""},null,null,null,null,null,null,null,null,null,null,null,null,null,null,null,null,null,null,""]
[{"$f":"IF(AND(ISBLANK(INDEX($G:$G,)), ISBLANK(INDEX($C:$C,))), \"\", 'PWS Records (System Entry)'!$D$4)","v":""},{"$f":"IF(AND(ISBLANK(INDEX($G:$G,)), ISBLANK(INDEX($C:$C,))), \"\", 'PWS Records (System Entry)'!$D$3)","v":""},null,null,null,null,null,null,null,null,null,null,null,null,null,null,null,null,null,null,""]
[{"$f":"IF(AND(ISBLANK(INDEX($G:$G,)), ISBLANK(INDEX($C:$C,))), \"\", 'PWS Records (System Entry)'!$D$4)","v":""},{"$f":"IF(AND(ISBLANK(INDEX($G:$G,)), ISBLANK(INDEX($C:$C,))), \"\", 'PWS Records (System Entry)'!$D$3)","v":""},null,null,null,null,null,null,null,null,null,null,null,null,null,null,null,null,null,null,""]
[{"$f":"IF(AND(ISBLANK(INDEX($G:$G,)), ISBLANK(INDEX($C:$C,))), \"\", 'PWS Records (System Entry)'!$D$4)","v":""},{"$f":"IF(AND(ISBLANK(INDEX($G:$G,)), ISBLANK(INDEX($C:$C,))), \"\", 'PWS Records (System Entry)'!$D$3)","v":""},null,null,null,null,null,null,null,null,null,null,null,null,null,null,null,null,null,null,""]
[{"$f":"IF(AND(ISBLANK(INDEX($G:$G,)), ISBLANK(INDEX($C:$C,))), \"\", 'PWS Records (System Entry)'!$D$4)","v":""},{"$f":"IF(AND(ISBLANK(INDEX($G:$G,)), ISBLANK(INDEX($C:$C,))), \"\", 'PWS Records (System Entry)'!$D$3)","v":""},null,null,null,null,null,null,null,null,null,null,null,null,null,null,null,null,null,null,""]
[{"$f":"IF(AND(ISBLANK(INDEX($G:$G,)), ISBLANK(INDEX($C:$C,))), \"\", 'PWS Records (System Entry)'!$D$4)","v":""},{"$f":"IF(AND(ISBLANK(INDEX($G:$G,)), ISBLANK(INDEX($C:$C,))), \"\", 'PWS Records (System Entry)'!$D$3)","v":""},null,null,null,null,null,null,null,null,null,null,null,null,null,null,null,null,null,null,""]
[{"$f":"IF(AND(ISBLANK(INDEX($G:$G,)), ISBLANK(INDEX($C:$C,))), \"\", 'PWS Records (System Entry)'!$D$4)","v":""},{"$f":"IF(AND(ISBLANK(INDEX($G:$G,)), ISBLANK(INDEX($C:$C,))), \"\", 'PWS Records (System Entry)'!$D$3)","v":""},null,null,null,null,null,null,null,null,null,null,null,null,null,null,null,null,null,null,""]
[{"$f":"IF(AND(ISBLANK(INDEX($G:$G,)), ISBLANK(INDEX($C:$C,))), \"\", 'PWS Records (System Entry)'!$D$4)","v":""},{"$f":"IF(AND(ISBLANK(INDEX($G:$G,)), ISBLANK(INDEX($C:$C,))), \"\", 'PWS Records (System Entry)'!$D$3)","v":""},null,null,null,null,null,null,null,null,null,null,null,null,null,null,null,null,null,null,""]
[{"$f":"IF(AND(ISBLANK(INDEX($G:$G,)), ISBLANK(INDEX($C:$C,))), \"\", 'PWS Records (System Entry)'!$D$4)","v":""},{"$f":"IF(AND(ISBLANK(INDEX($G:$G,)), ISBLANK(INDEX($C:$C,))), \"\", 'PWS Records (System Entry)'!$D$3)","v":""},null,null,null,null,null,null,null,null,null,null,null,null,null,null,null,null,null,null,""]
[{"$f":"IF(AND(ISBLANK(INDEX($G:$G,)), ISBLANK(INDEX($C:$C,))), \"\", 'PWS Records (System Entry)'!$D$4)","v":""},{"$f":"IF(AND(ISBLANK(INDEX($G:$G,)), ISBLANK(INDEX($C:$C,))), \"\", 'PWS Records (System Entry)'!$D$3)","v":""},null,null,null,null,null,null,null,null,null,null,null,null,null,null,null,null,null,null,""]
[{"$f":"IF(AND(ISBLANK(INDEX($G:$G,)), ISBLANK(INDEX($C:$C,))), \"\", 'PWS Records (System Entry)'!$D$4)","v":""},{"$f":"IF(AND(ISBLANK(INDEX($G:$G,)), ISBLANK(INDEX($C:$C,))), \"\", 'PWS Records (System Entry)'!$D$3)","v":""},null,null,null,null,null,null,null,null,null,null,null,null,null,null,null,null,null,null,""]
[{"$f":"IF(AND(ISBLANK(INDEX($G:$G,)), ISBLANK(INDEX($C:$C,))), \"\", 'PWS Records (System Entry)'!$D$4)","v":""},{"$f":"IF(AND(ISBLANK(INDEX($G:$G,)), ISBLANK(INDEX($C:$C,))), \"\", 'PWS Records (System Entry)'!$D$3)","v":""},null,null,null,null,null,null,null,null,null,null,null,null,null,null,null,null,null,null,""]
[{"$f":"IF(AND(ISBLANK(INDEX($G:$G,)), ISBLANK(INDEX($C:$C,))), \"\", 'PWS Records (System Entry)'!$D$4)","v":""},{"$f":"IF(AND(ISBLANK(INDEX($G:$G,)), ISBLANK(INDEX($C:$C,))), \"\", 'PWS Records (System Entry)'!$D$3)","v":""},null,null,null,null,null,null,null,null,null,null,null,null,null,null,null,null,null,null,""]
[{"$f":"IF(AND(ISBLANK(INDEX($G:$G,)), ISBLANK(INDEX($C:$C,))), \"\", 'PWS Records (System Entry)'!$D$4)","v":""},{"$f":"IF(AND(ISBLANK(INDEX($G:$G,)), ISBLANK(INDEX($C:$C,))), \"\", 'PWS Records (System Entry)'!$D$3)","v":""},null,null,null,null,null,null,null,null,null,null,null,null,null,null,null,null,null,null,""]
[{"$f":"IF(AND(ISBLANK(INDEX($G:$G,)), ISBLANK(INDEX($C:$C,))), \"\", 'PWS Records (System Entry)'!$D$4)","v":""},{"$f":"IF(AND(ISBLANK(INDEX($G:$G,)), ISBLANK(INDEX($C:$C,))), \"\", 'PWS Records (System Entry)'!$D$3)","v":""},null,null,null,null,null,null,null,null,null,null,null,null,null,null,null,null,null,null,""]
[{"$f":"IF(AND(ISBLANK(INDEX($G:$G,)), ISBLANK(INDEX($C:$C,))), \"\", 'PWS Records (System Entry)'!$D$4)","v":""},{"$f":"IF(AND(ISBLANK(INDEX($G:$G,)), ISBLANK(INDEX($C:$C,))), \"\", 'PWS Records (System Entry)'!$D$3)","v":""},null,null,null,null,null,null,null,null,null,null,null,null,null,null,null,null,null,null,""]
[{"$f":"IF(AND(ISBLANK(INDEX($G:$G,)), ISBLANK(INDEX($C:$C,))), \"\", 'PWS Records (System Entry)'!$D$4)","v":""},{"$f":"IF(AND(ISBLANK(INDEX($G:$G,)), ISBLANK(INDEX($C:$C,))), \"\", 'PWS Records (System Entry)'!$D$3)","v":""},null,null,null,null,null,null,null,null,null,null,null,null,null,null,null,null,null,null,""]
[{"$f":"IF(AND(ISBLANK(INDEX($G:$G,)), ISBLANK(INDEX($C:$C,))), \"\", 'PWS Records (System Entry)'!$D$4)","v":""},{"$f":"IF(AND(ISBLANK(INDEX($G:$G,)), ISBLANK(INDEX($C:$C,))), \"\", 'PWS Records (System Entry)'!$D$3)","v":""},null,null,null,null,null,null,null,null,null,null,null,null,null,null,null,null,null,null,""]
[{"$f":"IF(AND(ISBLANK(INDEX($G:$G,)), ISBLANK(INDEX($C:$C,))), \"\", 'PWS Records (System Entry)'!$D$4)","v":""},{"$f":"IF(AND(ISBLANK(INDEX($G:$G,)), ISBLANK(INDEX($C:$C,))), \"\", 'PWS Records (System Entry)'!$D$3)","v":""},null,null,null,null,null,null,null,null,null,null,null,null,null,null,null,null,null,null,""]
[{"$f":"IF(AND(ISBLANK(INDEX($G:$G,)), ISBLANK(INDEX($C:$C,))), \"\", 'PWS Records (System Entry)'!$D$4)","v":""},{"$f":"IF(AND(ISBLANK(INDEX($G:$G,)), ISBLANK(INDEX($C:$C,))), \"\", 'PWS Records (System Entry)'!$D$3)","v":""},null,null,null,null,null,null,null,null,null,null,null,null,null,null,null,null,null,null,""]
[{"$f":"IF(AND(ISBLANK(INDEX($G:$G,)), ISBLANK(INDEX($C:$C,))), \"\", 'PWS Records (System Entry)'!$D$4)","v":""},{"$f":"IF(AND(ISBLANK(INDEX($G:$G,)), ISBLANK(INDEX($C:$C,))), \"\", 'PWS Records (System Entry)'!$D$3)","v":""},null,null,null,null,null,null,null,null,null,null,null,null,null,null,null,null,null,null,""]
[{"$f":"IF(AND(ISBLANK(INDEX($G:$G,)), ISBLANK(INDEX($C:$C,))), \"\", 'PWS Records (System Entry)'!$D$4)","v":""},{"$f":"IF(AND(ISBLANK(INDEX($G:$G,)), ISBLANK(INDEX($C:$C,))), \"\", 'PWS Records (System Entry)'!$D$3)","v":""},null,null,null,null,null,null,null,null,null,null,null,null,null,null,null,null,null,null,""]
[{"$f":"IF(AND(ISBLANK(INDEX($G:$G,)), ISBLANK(INDEX($C:$C,))), \"\", 'PWS Records (System Entry)'!$D$4)","v":""},{"$f":"IF(AND(ISBLANK(INDEX($G:$G,)), ISBLANK(INDEX($C:$C,))), \"\", 'PWS Records (System Entry)'!$D$3)","v":""},null,null,null,null,null,null,null,null,null,null,null,null,null,null,null,null,null,null,""]
[{"$f":"IF(AND(ISBLANK(INDEX($G:$G,)), ISBLANK(INDEX($C:$C,))), \"\", 'PWS Records (System Entry)'!$D$4)","v":""},{"$f":"IF(AND(ISBLANK(INDEX($G:$G,)), ISBLANK(INDEX($C:$C,))), \"\", 'PWS Records (System Entry)'!$D$3)","v":""},null,null,null,null,null,null,null,null,null,null,null,null,null,null,null,null,null,null,""]
[{"$f":"IF(AND(ISBLANK(INDEX($G:$G,)), ISBLANK(INDEX($C:$C,))), \"\", 'PWS Records (System Entry)'!$D$4)","v":""},{"$f":"IF(AND(ISBLANK(INDEX($G:$G,)), ISBLANK(INDEX($C:$C,))), \"\", 'PWS Records (System Entry)'!$D$3)","v":""},null,null,null,null,null,null,null,null,null,null,null,null,null,null,null,null,null,null,""]
[{"$f":"IF(AND(ISBLANK(INDEX($G:$G,)), ISBLANK(INDEX($C:$C,))), \"\", 'PWS Records (System Entry)'!$D$4)","v":""},{"$f":"IF(AND(ISBLANK(INDEX($G:$G,)), ISBLANK(INDEX($C:$C,))), \"\", 'PWS Records (System Entry)'!$D$3)","v":""},null,null,null,null,null,null,null,null,null,null,null,null,null,null,null,null,null,null,""]
[{"$f":"IF(AND(ISBLANK(INDEX($G:$G,)), ISBLANK(INDEX($C:$C,))), \"\", 'PWS Records (System Entry)'!$D$4)","v":""},{"$f":"IF(AND(ISBLANK(INDEX($G:$G,)), ISBLANK(INDEX($C:$C,))), \"\", 'PWS Records (System Entry)'!$D$3)","v":""},null,null,null,null,null,null,null,null,null,null,null,null,null,null,null,null,null,null,""]
[{"$f":"IF(AND(ISBLANK(INDEX($G:$G,)), ISBLANK(INDEX($C:$C,))), \"\", 'PWS Records (System Entry)'!$D$4)","v":""},{"$f":"IF(AND(ISBLANK(INDEX($G:$G,)), ISBLANK(INDEX($C:$C,))), \"\", 'PWS Records (System Entry)'!$D$3)","v":""},null,null,null,null,null,null,null,null,null,null,null,null,null,null,null,null,null,null,""]
[{"$f":"IF(AND(ISBLANK(INDEX($G:$G,)), ISBLANK(INDEX($C:$C,))), \"\", 'PWS Records (System Entry)'!$D$4)","v":""},{"$f":"IF(AND(ISBLANK(INDEX($G:$G,)), ISBLANK(INDEX($C:$C,))), \"\", 'PWS Records (System Entry)'!$D$3)","v":""},null,null,null,null,null,null,null,null,null,null,null,null,null,null,null,null,null,null,""]
[{"$f":"IF(AND(ISBLANK(INDEX($G:$G,)), ISBLANK(INDEX($C:$C,))), \"\", 'PWS Records (System Entry)'!$D$4)","v":""},{"$f":"IF(AND(ISBLANK(INDEX($G:$G,)), ISBLANK(INDEX($C:$C,))), \"\", 'PWS Records (System Entry)'!$D$3)","v":""},null,null,null,null,null,null,null,null,null,null,null,null,null,null,null,null,null,null,""]
[{"$f":"IF(AND(ISBLANK(INDEX($G:$G,)), ISBLANK(INDEX($C:$C,))), \"\", 'PWS Records (System Entry)'!$D$4)","v":""},{"$f":"IF(AND(ISBLANK(INDEX($G:$G,)), ISBLANK(INDEX($C:$C,))), \"\", 'PWS Records (System Entry)'!$D$3)","v":""},null,null,null,null,null,null,null,null,null,null,null,null,null,null,null,null,null,null,""]
[{"$f":"IF(AND(ISBLANK(INDEX($G:$G,)), ISBLANK(INDEX($C:$C,))), \"\", 'PWS Records (System Entry)'!$D$4)","v":""},{"$f":"IF(AND(ISBLANK(INDEX($G:$G,)), ISBLANK(INDEX($C:$C,))), \"\", 'PWS Records (System Entry)'!$D$3)","v":""},null,null,null,null,null,null,null,null,null,null,null,null,null,null,null,null,null,null,""]
[{"$f":"IF(AND(ISBLANK(INDEX($G:$G,)), ISBLANK(INDEX($C:$C,))), \"\", 'PWS Records (System Entry)'!$D$4)","v":""},{"$f":"IF(AND(ISBLANK(INDEX($G:$G,)), ISBLANK(INDEX($C:$C,))), \"\", 'PWS Records (System Entry)'!$D$3)","v":""},null,null,null,null,null,null,null,null,null,null,null,null,null,null,null,null,null,null,""]
[{"$f":"IF(AND(ISBLANK(INDEX($G:$G,)), ISBLANK(INDEX($C:$C,))), \"\", 'PWS Records (System Entry)'!$D$4)","v":""},{"$f":"IF(AND(ISBLANK(INDEX($G:$G,)), ISBLANK(INDEX($C:$C,))), \"\", 'PWS Records (System Entry)'!$D$3)","v":""},null,null,null,null,null,null,null,null,null,null,null,null,null,null,null,null,null,null,""]
[{"$f":"IF(AND(ISBLANK(INDEX($G:$G,)), ISBLANK(INDEX($C:$C,))), \"\", 'PWS Records (System Entry)'!$D$4)","v":""},{"$f":"IF(AND(ISBLANK(INDEX($G:$G,)), ISBLANK(INDEX($C:$C,))), \"\", 'PWS Records (System Entry)'!$D$3)","v":""},null,null,null,null,null,null,null,null,null,null,null,null,null,null,null,null,null,null,""]
[{"$f":"IF(AND(ISBLANK(INDEX($G:$G,)), ISBLANK(INDEX($C:$C,))), \"\", 'PWS Records (System Entry)'!$D$4)","v":""},{"$f":"IF(AND(ISBLANK(INDEX($G:$G,)), ISBLANK(INDEX($C:$C,))), \"\", 'PWS Records (System Entry)'!$D$3)","v":""},null,null,null,null,null,null,null,null,null,null,null,null,null,null,null,null,null,null,""]
[{"$f":"IF(AND(ISBLANK(INDEX($G:$G,)), ISBLANK(INDEX($C:$C,))), \"\", 'PWS Records (System Entry)'!$D$4)","v":""},{"$f":"IF(AND(ISBLANK(INDEX($G:$G,)), ISBLANK(INDEX($C:$C,))), \"\", 'PWS Records (System Entry)'!$D$3)","v":""},null,null,null,null,null,null,null,null,null,null,null,null,null,null,null,null,null,null,""]
[{"$f":"IF(AND(ISBLANK(INDEX($G:$G,)), ISBLANK(INDEX($C:$C,))), \"\", 'PWS Records (System Entry)'!$D$4)","v":""},{"$f":"IF(AND(ISBLANK(INDEX($G:$G,)), ISBLANK(INDEX($C:$C,))), \"\", 'PWS Records (System Entry)'!$D$3)","v":""},null,null,null,null,null,null,null,null,null,null,null,null,null,null,null,null,null,null,""]
[{"$f":"IF(AND(ISBLANK(INDEX($G:$G,)), ISBLANK(INDEX($C:$C,))), \"\", 'PWS Records (System Entry)'!$D$4)","v":""},{"$f":"IF(AND(ISBLANK(INDEX($G:$G,)), ISBLANK(INDEX($C:$C,))), \"\", 'PWS Records (System Entry)'!$D$3)","v":""},null,null,null,null,null,null,null,null,null,null,null,null,null,null,null,null,null,null,""]
[{"$f":"IF(AND(ISBLANK(INDEX($G:$G,)), ISBLANK(INDEX($C:$C,))), \"\", 'PWS Records (System Entry)'!$D$4)","v":""},{"$f":"IF(AND(ISBLANK(INDEX($G:$G,)), ISBLANK(INDEX($C:$C,))), \"\", 'PWS Records (System Entry)'!$D$3)","v":""},null,null,null,null,null,null,null,null,null,null,null,null,null,null,null,null,null,null,""]
[{"$f":"IF(AND(ISBLANK(INDEX($G:$G,)), ISBLANK(INDEX($C:$C,))), \"\", 'PWS Records (System Entry)'!$D$4)","v":""},{"$f":"IF(AND(ISBLANK(INDEX($G:$G,)), ISBLANK(INDEX($C:$C,))), \"\", 'PWS Records (System Entry)'!$D$3)","v":""},null,null,null,null,null,null,null,null,null,null,null,null,null,null,null,null,null,null,""]
[{"$f":"IF(AND(ISBLANK(INDEX($G:$G,)), ISBLANK(INDEX($C:$C,))), \"\", 'PWS Records (System Entry)'!$D$4)","v":""},{"$f":"IF(AND(ISBLANK(INDEX($G:$G,)), ISBLANK(INDEX($C:$C,))), \"\", 'PWS Records (System Entry)'!$D$3)","v":""},null,null,null,null,null,null,null,null,null,null,null,null,null,null,null,null,null,null,""]
[{"$f":"IF(AND(ISBLANK(INDEX($G:$G,)), ISBLANK(INDEX($C:$C,))), \"\", 'PWS Records (System Entry)'!$D$4)","v":""},{"$f":"IF(AND(ISBLANK(INDEX($G:$G,)), ISBLANK(INDEX($C:$C,))), \"\", 'PWS Records (System Entry)'!$D$3)","v":""},null,null,null,null,null,null,null,null,null,null,null,null,null,null,null,null,null,null,""]
[{"$f":"IF(AND(ISBLANK(INDEX($G:$G,)), ISBLANK(INDEX($C:$C,))), \"\", 'PWS Records (System Entry)'!$D$4)","v":""},{"$f":"IF(AND(ISBLANK(INDEX($G:$G,)), ISBLANK(INDEX($C:$C,))), \"\", 'PWS Records (System Entry)'!$D$3)","v":""},null,null,null,null,null,null,null,null,null,null,null,null,null,null,null,null,null,null,""]
[{"$f":"IF(AND(ISBLANK(INDEX($G:$G,)), ISBLANK(INDEX($C:$C,))), \"\", 'PWS Records (System Entry)'!$D$4)","v":""},{"$f":"IF(AND(ISBLANK(INDEX($G:$G,)), ISBLANK(INDEX($C:$C,))), \"\", 'PWS Records (System Entry)'!$D$3)","v":""},null,null,null,null,null,null,null,null,null,null,null,null,null,null,null,null,null,null,""]
[{"$f":"IF(AND(ISBLANK(INDEX($G:$G,)), ISBLANK(INDEX($C:$C,))), \"\", 'PWS Records (System Entry)'!$D$4)","v":""},{"$f":"IF(AND(ISBLANK(INDEX($G:$G,)), ISBLANK(INDEX($C:$C,))), \"\", 'PWS Records (System Entry)'!$D$3)","v":""},null,null,null,null,null,null,null,null,null,null,null,null,null,null,null,null,null,null,""]
[{"$f":"IF(AND(ISBLANK(INDEX($G:$G,)), ISBLANK(INDEX($C:$C,))), \"\", 'PWS Records (System Entry)'!$D$4)","v":""},{"$f":"IF(AND(ISBLANK(INDEX($G:$G,)), ISBLANK(INDEX($C:$C,))), \"\", 'PWS Records (System Entry)'!$D$3)","v":""},null,null,null,null,null,null,null,null,null,null,null,null,null,null,null,null,null,null,""]
[{"$f":"IF(AND(ISBLANK(INDEX($G:$G,)), ISBLANK(INDEX($C:$C,))), \"\", 'PWS Records (System Entry)'!$D$4)","v":""},{"$f":"IF(AND(ISBLANK(INDEX($G:$G,)), ISBLANK(INDEX($C:$C,))), \"\", 'PWS Records (System Entry)'!$D$3)","v":""},null,null,null,null,null,null,null,null,null,null,null,null,null,null,null,null,null,null,""]
[{"$f":"IF(AND(ISBLANK(INDEX($G:$G,)), ISBLANK(INDEX($C:$C,))), \"\", 'PWS Records (System Entry)'!$D$4)","v":""},{"$f":"IF(AND(ISBLANK(INDEX($G:$G,)), ISBLANK(INDEX($C:$C,))), \"\", 'PWS Records (System Entry)'!$D$3)","v":""},null,null,null,null,null,null,null,null,null,null,null,null,null,null,null,null,null,null,""]
[{"$f":"IF(AND(ISBLANK(INDEX($G:$G,)), ISBLANK(INDEX($C:$C,))), \"\", 'PWS Records (System Entry)'!$D$4)","v":""},{"$f":"IF(AND(ISBLANK(INDEX($G:$G,)), ISBLANK(INDEX($C:$C,))), \"\", 'PWS Records (System Entry)'!$D$3)","v":""},null,null,null,null,null,null,null,null,null,null,null,null,null,null,null,null,null,null,""]
[{"$f":"IF(AND(ISBLANK(INDEX($G:$G,)), ISBLANK(INDEX($C:$C,))), \"\", 'PWS Records (System Entry)'!$D$4)","v":""},{"$f":"IF(AND(ISBLANK(INDEX($G:$G,)), ISBLANK(INDEX($C:$C,))), \"\", 'PWS Records (System Entry)'!$D$3)","v":""},null,null,null,null,null,null,null,null,null,null,null,null,null,null,null,null,null,null,""]
[{"$f":"IF(AND(ISBLANK(INDEX($G:$G,)), ISBLANK(INDEX($C:$C,))), \"\", 'PWS Records (System Entry)'!$D$4)","v":""},{"$f":"IF(AND(ISBLANK(INDEX($G:$G,)), ISBLANK(INDEX($C:$C,))), \"\", 'PWS Records (System Entry)'!$D$3)","v":""},null,null,null,null,null,null,null,null,null,null,null,null,null,null,null,null,null,null,{"$f":"IF(AND(INDEX($K:$K,)=\"\", INDEX($L:$L,)=\"\", INDEX($M:$M,)=\"\", INDEX($Q:$Q,)=\"\", INDEX($R:$R,)=\"\"), \"\", IF(OR(INDEX($K:$K,)=\"Lead\",INDEX($Q:$Q,)=\"Lead\"),\"Lead\",IF(OR(AND(OR(INDEX($M:$M,)=\"Yes\", INDEX($M:$M,)=\"Don't Know\", INDEX($M:$M,)=\"\"), INDEX($Q:$Q,)=\"Galvanized Iron/Steel\"), AND(INDEX($K:$K,)=\"Unknown\", INDEX($M:$M,)=\"No\", INDEX($Q:$Q,)=\"Galvanized Iron/Steel\")), \"Galvanized Requiring Replacement\", IF(OR(AND(OR(INDEX($K:$K,)=\"Galvanized Iron/Steel\", INDEX($K:$K,)=\"Non-Lead - Copper\", INDEX($K:$K,)=\"Non-Lead - Plastic\", INDEX($K:$K,)=\"Non-Lead - Other\", INDEX($K:$K,)=\"Non-Lead - Material Unknown\", INDEX($K:$K,)=\"No System Owned Portion\"), OR(INDEX($Q:$Q,)=\"Galvanized Iron/Steel\", INDEX($Q:$Q,)=\"Non-Lead - Copper\", INDEX($Q:$Q,)=\"Non-Lead - Plastic\", INDEX($Q:$Q,)=\"Non-Lead - Other\", INDEX($Q:$Q,)=\"Non-Lead - Predictive Model\", INDEX($Q:$Q,)=\"No Customer Owned Portion\")), AND(OR( INDEX($K:$K,)=\"Galvanized Iron/Steel\", INDEX($K:$K,)=\"Non-Lead - Copper\", INDEX($K:$K,)=\"Non-Lead - Plastic\", INDEX($K:$K,)=\"Non-Lead - Other\", INDEX($K:$K,)=\"Non-Lead - Material Unknown\", INDEX($K:$K,)=\"No System Owned Portion\"), INDEX($M:$M,)=\"No\", INDEX($Q:$Q,)=\"Non-Lead - Material Unknown\")), \"Non-Lead\", \"Lead Status Unknown\"))))","v":""}]
[{"$f":"IF(AND(ISBLANK(INDEX($G:$G,)), ISBLANK(INDEX($C:$C,))), \"\", 'PWS Records (System Entry)'!$D$4)","v":""},{"$f":"IF(AND(ISBLANK(INDEX($G:$G,)), ISBLANK(INDEX($C:$C,))), \"\", 'PWS Records (System Entry)'!$D$3)","v":""},null,null,null,null,null,null,null,null,null,null,null,null,null,null,null,null,null,null,""]
[{"$f":"IF(AND(ISBLANK(INDEX($G:$G,)), ISBLANK(INDEX($C:$C,))), \"\", 'PWS Records (System Entry)'!$D$4)","v":""},{"$f":"IF(AND(ISBLANK(INDEX($G:$G,)), ISBLANK(INDEX($C:$C,))), \"\", 'PWS Records (System Entry)'!$D$3)","v":""},null,null,null,null,null,null,null,null,null,null,null,null,null,null,null,null,null,null,""]
[{"$f":"IF(AND(ISBLANK(INDEX($G:$G,)), ISBLANK(INDEX($C:$C,))), \"\", 'PWS Records (System Entry)'!$D$4)","v":""},{"$f":"IF(AND(ISBLANK(INDEX($G:$G,)), ISBLANK(INDEX($C:$C,))), \"\", 'PWS Records (System Entry)'!$D$3)","v":""},null,null,null,null,null,null,null,null,null,null,null,null,null,null,null,null,null,null,""]
[{"$f":"IF(AND(ISBLANK(INDEX($G:$G,)), ISBLANK(INDEX($C:$C,))), \"\", 'PWS Records (System Entry)'!$D$4)","v":""},{"$f":"IF(AND(ISBLANK(INDEX($G:$G,)), ISBLANK(INDEX($C:$C,))), \"\", 'PWS Records (System Entry)'!$D$3)","v":""},null,null,null,null,null,null,null,null,null,null,null,null,null,null,null,null,null,null,""]
[{"$f":"IF(AND(ISBLANK(INDEX($G:$G,)), ISBLANK(INDEX($C:$C,))), \"\", 'PWS Records (System Entry)'!$D$4)","v":""},{"$f":"IF(AND(ISBLANK(INDEX($G:$G,)), ISBLANK(INDEX($C:$C,))), \"\", 'PWS Records (System Entry)'!$D$3)","v":""},null,null,null,null,null,null,null,null,null,null,null,null,null,null,null,null,null,null,""]
[{"$f":"IF(AND(ISBLANK(INDEX($G:$G,)), ISBLANK(INDEX($C:$C,))), \"\", 'PWS Records (System Entry)'!$D$4)","v":""},{"$f":"IF(AND(ISBLANK(INDEX($G:$G,)), ISBLANK(INDEX($C:$C,))), \"\", 'PWS Records (System Entry)'!$D$3)","v":""},null,null,null,null,null,null,null,null,null,null,null,null,null,null,null,null,null,null,""]
[{"$f":"IF(AND(ISBLANK(INDEX($G:$G,)), ISBLANK(INDEX($C:$C,))), \"\", 'PWS Records (System Entry)'!$D$4)","v":""},{"$f":"IF(AND(ISBLANK(INDEX($G:$G,)), ISBLANK(INDEX($C:$C,))), \"\", 'PWS Records (System Entry)'!$D$3)","v":""},null,null,null,null,null,null,null,null,null,null,null,null,null,null,null,null,null,null,""]
[{"$f":"IF(AND(ISBLANK(INDEX($G:$G,)), ISBLANK(INDEX($C:$C,))), \"\", 'PWS Records (System Entry)'!$D$4)","v":""},{"$f":"IF(AND(ISBLANK(INDEX($G:$G,)), ISBLANK(INDEX($C:$C,))), \"\", 'PWS Records (System Entry)'!$D$3)","v":""},null,null,null,null,null,null,null,null,null,null,null,null,null,null,null,null,null,null,""]
[{"$f":"IF(AND(ISBLANK(INDEX($G:$G,)), ISBLANK(INDEX($C:$C,))), \"\", 'PWS Records (System Entry)'!$D$4)","v":""},{"$f":"IF(AND(ISBLANK(INDEX($G:$G,)), ISBLANK(INDEX($C:$C,))), \"\", 'PWS Records (System Entry)'!$D$3)","v":""},null,null,null,null,null,null,null,null,null,null,null,null,null,null,null,null,null,null,""]
[{"$f":"IF(AND(ISBLANK(INDEX($G:$G,)), ISBLANK(INDEX($C:$C,))), \"\", 'PWS Records (System Entry)'!$D$4)","v":""},{"$f":"IF(AND(ISBLANK(INDEX($G:$G,)), ISBLANK(INDEX($C:$C,))), \"\", 'PWS Records (System Entry)'!$D$3)","v":""},null,null,null,null,null,null,null,null,null,null,null,null,null,null,null,null,null,null,""]
[{"$f":"IF(AND(ISBLANK(INDEX($G:$G,)), ISBLANK(INDEX($C:$C,))), \"\", 'PWS Records (System Entry)'!$D$4)","v":""},{"$f":"IF(AND(ISBLANK(INDEX($G:$G,)), ISBLANK(INDEX($C:$C,))), \"\", 'PWS Records (System Entry)'!$D$3)","v":""},null,null,null,null,null,null,null,null,null,null,null,null,null,null,null,null,null,null,""]
[{"$f":"IF(AND(ISBLANK(INDEX($G:$G,)), ISBLANK(INDEX($C:$C,))), \"\", 'PWS Records (System Entry)'!$D$4)","v":""},{"$f":"IF(AND(ISBLANK(INDEX($G:$G,)), ISBLANK(INDEX($C:$C,))), \"\", 'PWS Records (System Entry)'!$D$3)","v":""},null,null,null,null,null,null,null,null,null,null,null,null,null,null,null,null,null,null,""]
[{"$f":"IF(AND(ISBLANK(INDEX($G:$G,)), ISBLANK(INDEX($C:$C,))), \"\", 'PWS Records (System Entry)'!$D$4)","v":""},{"$f":"IF(AND(ISBLANK(INDEX($G:$G,)), ISBLANK(INDEX($C:$C,))), \"\", 'PWS Records (System Entry)'!$D$3)","v":""},null,null,null,null,null,null,null,null,null,null,null,null,null,null,null,null,null,null,""]
[{"$f":"IF(AND(ISBLANK(INDEX($G:$G,)), ISBLANK(INDEX($C:$C,))), \"\", 'PWS Records (System Entry)'!$D$4)","v":""},{"$f":"IF(AND(ISBLANK(INDEX($G:$G,)), ISBLANK(INDEX($C:$C,))), \"\", 'PWS Records (System Entry)'!$D$3)","v":""},null,null,null,null,null,null,null,null,null,null,null,null,null,null,null,null,null,null,""]
[{"$f":"IF(AND(ISBLANK(INDEX($G:$G,)), ISBLANK(INDEX($C:$C,))), \"\", 'PWS Records (System Entry)'!$D$4)","v":""},{"$f":"IF(AND(ISBLANK(INDEX($G:$G,)), ISBLANK(INDEX($C:$C,))), \"\", 'PWS Records (System Entry)'!$D$3)","v":""},null,null,null,null,null,null,null,null,null,null,null,null,null,null,null,null,null,null,""]
[{"$f":"IF(AND(ISBLANK(INDEX($G:$G,)), ISBLANK(INDEX($C:$C,))), \"\", 'PWS Records (System Entry)'!$D$4)","v":""},{"$f":"IF(AND(ISBLANK(INDEX($G:$G,)), ISBLANK(INDEX($C:$C,))), \"\", 'PWS Records (System Entry)'!$D$3)","v":""},null,null,null,null,null,null,null,null,null,null,null,null,null,null,null,null,null,null,""]
[{"$f":"IF(AND(ISBLANK(INDEX($G:$G,)), ISBLANK(INDEX($C:$C,))), \"\", 'PWS Records (System Entry)'!$D$4)","v":""},{"$f":"IF(AND(ISBLANK(INDEX($G:$G,)), ISBLANK(INDEX($C:$C,))), \"\", 'PWS Records (System Entry)'!$D$3)","v":""},null,null,null,null,null,null,null,null,null,null,null,null,null,null,null,null,null,null,""]
[{"$f":"IF(AND(ISBLANK(INDEX($G:$G,)), ISBLANK(INDEX($C:$C,))), \"\", 'PWS Records (System Entry)'!$D$4)","v":""},{"$f":"IF(AND(ISBLANK(INDEX($G:$G,)), ISBLANK(INDEX($C:$C,))), \"\", 'PWS Records (System Entry)'!$D$3)","v":""},null,null,null,null,null,null,null,null,null,null,null,null,null,null,null,null,null,null,""]
[{"$f":"IF(AND(ISBLANK(INDEX($G:$G,)), ISBLANK(INDEX($C:$C,))), \"\", 'PWS Records (System Entry)'!$D$4)","v":""},{"$f":"IF(AND(ISBLANK(INDEX($G:$G,)), ISBLANK(INDEX($C:$C,))), \"\", 'PWS Records (System Entry)'!$D$3)","v":""},null,null,null,null,null,null,null,null,null,null,null,null,null,null,null,null,null,null,""]
[{"$f":"IF(AND(ISBLANK(INDEX($G:$G,)), ISBLANK(INDEX($C:$C,))), \"\", 'PWS Records (System Entry)'!$D$4)","v":""},{"$f":"IF(AND(ISBLANK(INDEX($G:$G,)), ISBLANK(INDEX($C:$C,))), \"\", 'PWS Records (System Entry)'!$D$3)","v":""},null,null,null,null,null,null,null,null,null,null,null,null,null,null,null,null,null,null,""]
[{"$f":"IF(AND(ISBLANK(INDEX($G:$G,)), ISBLANK(INDEX($C:$C,))), \"\", 'PWS Records (System Entry)'!$D$4)","v":""},{"$f":"IF(AND(ISBLANK(INDEX($G:$G,)), ISBLANK(INDEX($C:$C,))), \"\", 'PWS Records (System Entry)'!$D$3)","v":""},null,null,null,null,null,null,null,null,null,null,null,null,null,null,null,null,null,null,""]
[{"$f":"IF(AND(ISBLANK(INDEX($G:$G,)), ISBLANK(INDEX($C:$C,))), \"\", 'PWS Records (System Entry)'!$D$4)","v":""},{"$f":"IF(AND(ISBLANK(INDEX($G:$G,)), ISBLANK(INDEX($C:$C,))), \"\", 'PWS Records (System Entry)'!$D$3)","v":""},null,null,null,null,null,null,null,null,null,null,null,null,null,null,null,null,null,null,""]
[{"$f":"IF(AND(ISBLANK(INDEX($G:$G,)), ISBLANK(INDEX($C:$C,))), \"\", 'PWS Records (System Entry)'!$D$4)","v":""},{"$f":"IF(AND(ISBLANK(INDEX($G:$G,)), ISBLANK(INDEX($C:$C,))), \"\", 'PWS Records (System Entry)'!$D$3)","v":""},null,null,null,null,null,null,null,null,null,null,null,null,null,null,null,null,null,null,""]
[{"$f":"IF(AND(ISBLANK(INDEX($G:$G,)), ISBLANK(INDEX($C:$C,))), \"\", 'PWS Records (System Entry)'!$D$4)","v":""},{"$f":"IF(AND(ISBLANK(INDEX($G:$G,)), ISBLANK(INDEX($C:$C,))), \"\", 'PWS Records (System Entry)'!$D$3)","v":""},null,null,null,null,null,null,null,null,null,null,null,null,null,null,null,null,null,null,""]
[{"$f":"IF(AND(ISBLANK(INDEX($G:$G,)), ISBLANK(INDEX($C:$C,))), \"\", 'PWS Records (System Entry)'!$D$4)","v":""},{"$f":"IF(AND(ISBLANK(INDEX($G:$G,)), ISBLANK(INDEX($C:$C,))), \"\", 'PWS Records (System Entry)'!$D$3)","v":""},null,null,null,null,null,null,null,null,null,null,null,null,null,null,null,null,null,null,""]
[{"$f":"IF(AND(ISBLANK(INDEX($G:$G,)), ISBLANK(INDEX($C:$C,))), \"\", 'PWS Records (System Entry)'!$D$4)","v":""},{"$f":"IF(AND(ISBLANK(INDEX($G:$G,)), ISBLANK(INDEX($C:$C,))), \"\", 'PWS Records (System Entry)'!$D$3)","v":""},null,null,null,null,null,null,null,null,null,null,null,null,null,null,null,null,null,null,""]
[{"$f":"IF(AND(ISBLANK(INDEX($G:$G,)), ISBLANK(INDEX($C:$C,))), \"\", 'PWS Records (System Entry)'!$D$4)","v":""},{"$f":"IF(AND(ISBLANK(INDEX($G:$G,)), ISBLANK(INDEX($C:$C,))), \"\", 'PWS Records (System Entry)'!$D$3)","v":""},null,null,null,null,null,null,null,null,null,null,null,null,null,null,null,null,null,null,""]
[{"$f":"IF(AND(ISBLANK(INDEX($G:$G,)), ISBLANK(INDEX($C:$C,))), \"\", 'PWS Records (System Entry)'!$D$4)","v":""},{"$f":"IF(AND(ISBLANK(INDEX($G:$G,)), ISBLANK(INDEX($C:$C,))), \"\", 'PWS Records (System Entry)'!$D$3)","v":""},null,null,null,null,null,null,null,null,null,null,null,null,null,null,null,null,null,null,""]
[{"$f":"IF(AND(ISBLANK(INDEX($G:$G,)), ISBLANK(INDEX($C:$C,))), \"\", 'PWS Records (System Entry)'!$D$4)","v":""},{"$f":"IF(AND(ISBLANK(INDEX($G:$G,)), ISBLANK(INDEX($C:$C,))), \"\", 'PWS Records (System Entry)'!$D$3)","v":""},null,null,null,null,null,null,null,null,null,null,null,null,null,null,null,null,null,null,""]
[{"$f":"IF(AND(ISBLANK(INDEX($G:$G,)), ISBLANK(INDEX($C:$C,))), \"\", 'PWS Records (System Entry)'!$D$4)","v":""},{"$f":"IF(AND(ISBLANK(INDEX($G:$G,)), ISBLANK(INDEX($C:$C,))), \"\", 'PWS Records (System Entry)'!$D$3)","v":""},null,null,null,null,null,null,null,null,null,null,null,null,null,null,null,null,null,null,""]
[{"$f":"IF(AND(ISBLANK(INDEX($G:$G,)), ISBLANK(INDEX($C:$C,))), \"\", 'PWS Records (System Entry)'!$D$4)","v":""},{"$f":"IF(AND(ISBLANK(INDEX($G:$G,)), ISBLANK(INDEX($C:$C,))), \"\", 'PWS Records (System Entry)'!$D$3)","v":""},null,null,null,null,null,null,null,null,null,null,null,null,null,null,null,null,null,null,""]
[{"$f":"IF(AND(ISBLANK(INDEX($G:$G,)), ISBLANK(INDEX($C:$C,))), \"\", 'PWS Records (System Entry)'!$D$4)","v":""},{"$f":"IF(AND(ISBLANK(INDEX($G:$G,)), ISBLANK(INDEX($C:$C,))), \"\", 'PWS Records (System Entry)'!$D$3)","v":""},null,null,null,null,null,null,null,null,null,null,null,null,null,null,null,null,null,null,""]
[{"$f":"IF(AND(ISBLANK(INDEX($G:$G,)), ISBLANK(INDEX($C:$C,))), \"\", 'PWS Records (System Entry)'!$D$4)","v":""},{"$f":"IF(AND(ISBLANK(INDEX($G:$G,)), ISBLANK(INDEX($C:$C,))), \"\", 'PWS Records (System Entry)'!$D$3)","v":""},null,null,null,null,null,null,null,null,null,null,null,null,null,null,null,null,null,null,""]
[{"$f":"IF(AND(ISBLANK(INDEX($G:$G,)), ISBLANK(INDEX($C:$C,))), \"\", 'PWS Records (System Entry)'!$D$4)","v":""},{"$f":"IF(AND(ISBLANK(INDEX($G:$G,)), ISBLANK(INDEX($C:$C,))), \"\", 'PWS Records (System Entry)'!$D$3)","v":""},null,null,null,null,null,null,null,null,null,null,null,null,null,null,null,null,null,null,""]
[{"$f":"IF(AND(ISBLANK(INDEX($G:$G,)), ISBLANK(INDEX($C:$C,))), \"\", 'PWS Records (System Entry)'!$D$4)","v":""},{"$f":"IF(AND(ISBLANK(INDEX($G:$G,)), ISBLANK(INDEX($C:$C,))), \"\", 'PWS Records (System Entry)'!$D$3)","v":""},null,null,null,null,null,null,null,null,null,null,null,null,null,null,null,null,null,null,""]
[{"$f":"IF(AND(ISBLANK(INDEX($G:$G,)), ISBLANK(INDEX($C:$C,))), \"\", 'PWS Records (System Entry)'!$D$4)","v":""},{"$f":"IF(AND(ISBLANK(INDEX($G:$G,)), ISBLANK(INDEX($C:$C,))), \"\", 'PWS Records (System Entry)'!$D$3)","v":""},null,null,null,null,null,null,null,null,null,null,null,null,null,null,null,null,null,null,""]
[{"$f":"IF(AND(ISBLANK(INDEX($G:$G,)), ISBLANK(INDEX($C:$C,))), \"\", 'PWS Records (System Entry)'!$D$4)","v":""},{"$f":"IF(AND(ISBLANK(INDEX($G:$G,)), ISBLANK(INDEX($C:$C,))), \"\", 'PWS Records (System Entry)'!$D$3)","v":""},null,null,null,null,null,null,null,null,null,null,null,null,null,null,null,null,null,null,""]
[{"$f":"IF(AND(ISBLANK(INDEX($G:$G,)), ISBLANK(INDEX($C:$C,))), \"\", 'PWS Records (System Entry)'!$D$4)","v":""},{"$f":"IF(AND(ISBLANK(INDEX($G:$G,)), ISBLANK(INDEX($C:$C,))), \"\", 'PWS Records (System Entry)'!$D$3)","v":""},null,null,null,null,null,null,null,null,null,null,null,null,null,null,null,null,null,null,""]
[{"$f":"IF(AND(ISBLANK(INDEX($G:$G,)), ISBLANK(INDEX($C:$C,))), \"\", 'PWS Records (System Entry)'!$D$4)","v":""},{"$f":"IF(AND(ISBLANK(INDEX($G:$G,)), ISBLANK(INDEX($C:$C,))), \"\", 'PWS Records (System Entry)'!$D$3)","v":""},null,null,null,null,null,null,null,null,null,null,null,null,null,null,null,null,null,null,""]
[{"$f":"IF(AND(ISBLANK(INDEX($G:$G,)), ISBLANK(INDEX($C:$C,))), \"\", 'PWS Records (System Entry)'!$D$4)","v":""},{"$f":"IF(AND(ISBLANK(INDEX($G:$G,)), ISBLANK(INDEX($C:$C,))), \"\", 'PWS Records (System Entry)'!$D$3)","v":""},null,null,null,null,null,null,null,null,null,null,null,null,null,null,null,null,null,null,""]
[{"$f":"IF(AND(ISBLANK(INDEX($G:$G,)), ISBLANK(INDEX($C:$C,))), \"\", 'PWS Records (System Entry)'!$D$4)","v":""},{"$f":"IF(AND(ISBLANK(INDEX($G:$G,)), ISBLANK(INDEX($C:$C,))), \"\", 'PWS Records (System Entry)'!$D$3)","v":""},null,null,null,null,null,null,null,null,null,null,null,null,null,null,null,null,null,null,""]
[{"$f":"IF(AND(ISBLANK(INDEX($G:$G,)), ISBLANK(INDEX($C:$C,))), \"\", 'PWS Records (System Entry)'!$D$4)","v":""},{"$f":"IF(AND(ISBLANK(INDEX($G:$G,)), ISBLANK(INDEX($C:$C,))), \"\", 'PWS Records (System Entry)'!$D$3)","v":""},null,null,null,null,null,null,null,null,null,null,null,null,null,null,null,null,null,null,""]
[{"$f":"IF(AND(ISBLANK(INDEX($G:$G,)), ISBLANK(INDEX($C:$C,))), \"\", 'PWS Records (System Entry)'!$D$4)","v":""},{"$f":"IF(AND(ISBLANK(INDEX($G:$G,)), ISBLANK(INDEX($C:$C,))), \"\", 'PWS Records (System Entry)'!$D$3)","v":""},null,null,null,null,null,null,null,null,null,null,null,null,null,null,null,null,null,null,""]
[{"$f":"IF(AND(ISBLANK(INDEX($G:$G,)), ISBLANK(INDEX($C:$C,))), \"\", 'PWS Records (System Entry)'!$D$4)","v":""},{"$f":"IF(AND(ISBLANK(INDEX($G:$G,)), ISBLANK(INDEX($C:$C,))), \"\", 'PWS Records (System Entry)'!$D$3)","v":""},null,null,null,null,null,null,null,null,null,null,null,null,null,null,null,null,null,null,""]
[{"$f":"IF(AND(ISBLANK(INDEX($G:$G,)), ISBLANK(INDEX($C:$C,))), \"\", 'PWS Records (System Entry)'!$D$4)","v":""},{"$f":"IF(AND(ISBLANK(INDEX($G:$G,)), ISBLANK(INDEX($C:$C,))), \"\", 'PWS Records (System Entry)'!$D$3)","v":""},null,null,null,null,null,null,null,null,null,null,null,null,null,null,null,null,null,null,""]
[{"$f":"IF(AND(ISBLANK(INDEX($G:$G,)), ISBLANK(INDEX($C:$C,))), \"\", 'PWS Records (System Entry)'!$D$4)","v":""},{"$f":"IF(AND(ISBLANK(INDEX($G:$G,)), ISBLANK(INDEX($C:$C,))), \"\", 'PWS Records (System Entry)'!$D$3)","v":""},null,null,null,null,null,null,null,null,null,null,null,null,null,null,null,null,null,null,""]
[{"$f":"IF(AND(ISBLANK(INDEX($G:$G,)), ISBLANK(INDEX($C:$C,))), \"\", 'PWS Records (System Entry)'!$D$4)","v":""},{"$f":"IF(AND(ISBLANK(INDEX($G:$G,)), ISBLANK(INDEX($C:$C,))), \"\", 'PWS Records (System Entry)'!$D$3)","v":""},null,null,null,null,null,null,null,null,null,null,null,null,null,null,null,null,null,null,""]
[{"$f":"IF(AND(ISBLANK(INDEX($G:$G,)), ISBLANK(INDEX($C:$C,))), \"\", 'PWS Records (System Entry)'!$D$4)","v":""},{"$f":"IF(AND(ISBLANK(INDEX($G:$G,)), ISBLANK(INDEX($C:$C,))), \"\", 'PWS Records (System Entry)'!$D$3)","v":""},null,null,null,null,null,null,null,null,null,null,null,null,null,null,null,null,null,null,""]
[{"$f":"IF(AND(ISBLANK(INDEX($G:$G,)), ISBLANK(INDEX($C:$C,))), \"\", 'PWS Records (System Entry)'!$D$4)","v":""},{"$f":"IF(AND(ISBLANK(INDEX($G:$G,)), ISBLANK(INDEX($C:$C,))), \"\", 'PWS Records (System Entry)'!$D$3)","v":""},null,null,null,null,null,null,null,null,null,null,null,null,null,null,null,null,null,null,""]
[{"$f":"IF(AND(ISBLANK(INDEX($G:$G,)), ISBLANK(INDEX($C:$C,))), \"\", 'PWS Records (System Entry)'!$D$4)","v":""},{"$f":"IF(AND(ISBLANK(INDEX($G:$G,)), ISBLANK(INDEX($C:$C,))), \"\", 'PWS Records (System Entry)'!$D$3)","v":""},null,null,null,null,null,null,null,null,null,null,null,null,null,null,null,null,null,null,""]
[{"$f":"IF(AND(ISBLANK(INDEX($G:$G,)), ISBLANK(INDEX($C:$C,))), \"\", 'PWS Records (System Entry)'!$D$4)","v":""},{"$f":"IF(AND(ISBLANK(INDEX($G:$G,)), ISBLANK(INDEX($C:$C,))), \"\", 'PWS Records (System Entry)'!$D$3)","v":""},null,null,null,null,null,null,null,null,null,null,null,null,null,null,null,null,null,null,""]
[{"$f":"IF(AND(ISBLANK(INDEX($G:$G,)), ISBLANK(INDEX($C:$C,))), \"\", 'PWS Records (System Entry)'!$D$4)","v":""},{"$f":"IF(AND(ISBLANK(INDEX($G:$G,)), ISBLANK(INDEX($C:$C,))), \"\", 'PWS Records (System Entry)'!$D$3)","v":""},null,null,null,null,null,null,null,null,null,null,null,null,null,null,null,null,null,null,""]
[{"$f":"IF(AND(ISBLANK(INDEX($G:$G,)), ISBLANK(INDEX($C:$C,))), \"\", 'PWS Records (System Entry)'!$D$4)","v":""},{"$f":"IF(AND(ISBLANK(INDEX($G:$G,)), ISBLANK(INDEX($C:$C,))), \"\", 'PWS Records (System Entry)'!$D$3)","v":""},null,null,null,null,null,null,null,null,null,null,null,null,null,null,null,null,null,null,""]
[{"$f":"IF(AND(ISBLANK(INDEX($G:$G,)), ISBLANK(INDEX($C:$C,))), \"\", 'PWS Records (System Entry)'!$D$4)","v":""},{"$f":"IF(AND(ISBLANK(INDEX($G:$G,)), ISBLANK(INDEX($C:$C,))), \"\", 'PWS Records (System Entry)'!$D$3)","v":""},null,null,null,null,null,null,null,null,null,null,null,null,null,null,null,null,null,null,""]
[{"$f":"IF(AND(ISBLANK(INDEX($G:$G,)), ISBLANK(INDEX($C:$C,))), \"\", 'PWS Records (System Entry)'!$D$4)","v":""},{"$f":"IF(AND(ISBLANK(INDEX($G:$G,)), ISBLANK(INDEX($C:$C,))), \"\", 'PWS Records (System Entry)'!$D$3)","v":""},null,null,null,null,null,null,null,null,null,null,null,null,null,null,null,null,null,null,""]
[{"$f":"IF(AND(ISBLANK(INDEX($G:$G,)), ISBLANK(INDEX($C:$C,))), \"\", 'PWS Records (System Entry)'!$D$4)","v":""},{"$f":"IF(AND(ISBLANK(INDEX($G:$G,)), ISBLANK(INDEX($C:$C,))), \"\", 'PWS Records (System Entry)'!$D$3)","v":""},null,null,null,null,null,null,null,null,null,null,null,null,null,null,null,null,null,null,""]
[{"$f":"IF(AND(ISBLANK(INDEX($G:$G,)), ISBLANK(INDEX($C:$C,))), \"\", 'PWS Records (System Entry)'!$D$4)","v":""},{"$f":"IF(AND(ISBLANK(INDEX($G:$G,)), ISBLANK(INDEX($C:$C,))), \"\", 'PWS Records (System Entry)'!$D$3)","v":""},null,null,null,null,null,null,null,null,null,null,null,null,null,null,null,null,null,null,""]
[{"$f":"IF(AND(ISBLANK(INDEX($G:$G,)), ISBLANK(INDEX($C:$C,))), \"\", 'PWS Records (System Entry)'!$D$4)","v":""},{"$f":"IF(AND(ISBLANK(INDEX($G:$G,)), ISBLANK(INDEX($C:$C,))), \"\", 'PWS Records (System Entry)'!$D$3)","v":""},null,null,null,null,null,null,null,null,null,null,null,null,null,null,null,null,null,null,""]
[{"$f":"IF(AND(ISBLANK(INDEX($G:$G,)), ISBLANK(INDEX($C:$C,))), \"\", 'PWS Records (System Entry)'!$D$4)","v":""},{"$f":"IF(AND(ISBLANK(INDEX($G:$G,)), ISBLANK(INDEX($C:$C,))), \"\", 'PWS Records (System Entry)'!$D$3)","v":""},null,null,null,null,null,null,null,null,null,null,null,null,null,null,null,null,null,null,""]
[{"$f":"IF(AND(ISBLANK(INDEX($G:$G,)), ISBLANK(INDEX($C:$C,))), \"\", 'PWS Records (System Entry)'!$D$4)","v":""},{"$f":"IF(AND(ISBLANK(INDEX($G:$G,)), ISBLANK(INDEX($C:$C,))), \"\", 'PWS Records (System Entry)'!$D$3)","v":""},null,null,null,null,null,null,null,null,null,null,null,null,null,null,null,null,null,null,""]
[{"$f":"IF(AND(ISBLANK(INDEX($G:$G,)), ISBLANK(INDEX($C:$C,))), \"\", 'PWS Records (System Entry)'!$D$4)","v":""},{"$f":"IF(AND(ISBLANK(INDEX($G:$G,)), ISBLANK(INDEX($C:$C,))), \"\", 'PWS Records (System Entry)'!$D$3)","v":""},null,null,null,null,null,null,null,null,null,null,null,null,null,null,null,null,null,null,""]
[{"$f":"IF(AND(ISBLANK(INDEX($G:$G,)), ISBLANK(INDEX($C:$C,))), \"\", 'PWS Records (System Entry)'!$D$4)","v":""},{"$f":"IF(AND(ISBLANK(INDEX($G:$G,)), ISBLANK(INDEX($C:$C,))), \"\", 'PWS Records (System Entry)'!$D$3)","v":""},null,null,null,null,null,null,null,null,null,null,null,null,null,null,null,null,null,null,""]
[{"$f":"IF(AND(ISBLANK(INDEX($G:$G,)), ISBLANK(INDEX($C:$C,))), \"\", 'PWS Records (System Entry)'!$D$4)","v":""},{"$f":"IF(AND(ISBLANK(INDEX($G:$G,)), ISBLANK(INDEX($C:$C,))), \"\", 'PWS Records (System Entry)'!$D$3)","v":""},null,null,null,null,null,null,null,null,null,null,null,null,null,null,null,null,null,null,""]
[{"$f":"IF(AND(ISBLANK(INDEX($G:$G,)), ISBLANK(INDEX($C:$C,))), \"\", 'PWS Records (System Entry)'!$D$4)","v":""},{"$f":"IF(AND(ISBLANK(INDEX($G:$G,)), ISBLANK(INDEX($C:$C,))), \"\", 'PWS Records (System Entry)'!$D$3)","v":""},null,null,null,null,null,null,null,null,null,null,null,null,null,null,null,null,null,null,{"$f":"IF(AND(INDEX($K:$K,)=\"\", INDEX($L:$L,)=\"\", INDEX($M:$M,)=\"\", INDEX($Q:$Q,)=\"\", INDEX($R:$R,)=\"\"), \"\", IF(OR(INDEX($K:$K,)=\"Lead\",INDEX($Q:$Q,)=\"Lead\"),\"Lead\",IF(OR(AND(OR(INDEX($M:$M,)=\"Yes\", INDEX($M:$M,)=\"Don't Know\", INDEX($M:$M,)=\"\"), INDEX($Q:$Q,)=\"Galvanized Iron/Steel\"), AND(INDEX($K:$K,)=\"Unknown\", INDEX($M:$M,)=\"No\", INDEX($Q:$Q,)=\"Galvanized Iron/Steel\")), \"Galvanized Requiring Replacement\", IF(OR(AND(OR(INDEX($K:$K,)=\"Galvanized Iron/Steel\", INDEX($K:$K,)=\"Non-Lead - Copper\", INDEX($K:$K,)=\"Non-Lead - Plastic\", INDEX($K:$K,)=\"Non-Lead - Other\", INDEX($K:$K,)=\"Non-Lead - Material Unknown\", INDEX($K:$K,)=\"No System Owned Portion\"), OR(INDEX($Q:$Q,)=\"Galvanized Iron/Steel\", INDEX($Q:$Q,)=\"Non-Lead - Copper\", INDEX($Q:$Q,)=\"Non-Lead - Plastic\", INDEX($Q:$Q,)=\"Non-Lead - Other\", INDEX($Q:$Q,)=\"Non-Lead - Predictive Model\", INDEX($Q:$Q,)=\"No Customer Owned Portion\")), AND(OR( INDEX($K:$K,)=\"Galvanized Iron/Steel\", INDEX($K:$K,)=\"Non-Lead - Copper\", INDEX($K:$K,)=\"Non-Lead - Plastic\", INDEX($K:$K,)=\"Non-Lead - Other\", INDEX($K:$K,)=\"Non-Lead - Material Unknown\", INDEX($K:$K,)=\"No System Owned Portion\"), INDEX($M:$M,)=\"No\", INDEX($Q:$Q,)=\"Non-Lead - Material Unknown\")), \"Non-Lead\", \"Lead Status Unknown\"))))","v":""}]
[{"$f":"IF(AND(ISBLANK(INDEX($G:$G,)), ISBLANK(INDEX($C:$C,))), \"\", 'PWS Records (System Entry)'!$D$4)","v":""},{"$f":"IF(AND(ISBLANK(INDEX($G:$G,)), ISBLANK(INDEX($C:$C,))), \"\", 'PWS Records (System Entry)'!$D$3)","v":""},null,null,null,null,null,null,null,null,null,null,null,null,null,null,null,null,null,null,""]
[{"$f":"IF(AND(ISBLANK(INDEX($G:$G,)), ISBLANK(INDEX($C:$C,))), \"\", 'PWS Records (System Entry)'!$D$4)","v":""},{"$f":"IF(AND(ISBLANK(INDEX($G:$G,)), ISBLANK(INDEX($C:$C,))), \"\", 'PWS Records (System Entry)'!$D$3)","v":""},null,null,null,null,null,null,null,null,null,null,null,null,null,null,null,null,null,null,""]
[{"$f":"IF(AND(ISBLANK(INDEX($G:$G,)), ISBLANK(INDEX($C:$C,))), \"\", 'PWS Records (System Entry)'!$D$4)","v":""},{"$f":"IF(AND(ISBLANK(INDEX($G:$G,)), ISBLANK(INDEX($C:$C,))), \"\", 'PWS Records (System Entry)'!$D$3)","v":""},null,null,null,null,null,null,null,null,null,null,null,null,null,null,null,null,null,null,""]
[{"$f":"IF(AND(ISBLANK(INDEX($G:$G,)), ISBLANK(INDEX($C:$C,))), \"\", 'PWS Records (System Entry)'!$D$4)","v":""},{"$f":"IF(AND(ISBLANK(INDEX($G:$G,)), ISBLANK(INDEX($C:$C,))), \"\", 'PWS Records (System Entry)'!$D$3)","v":""},null,null,null,null,null,null,null,null,null,null,null,null,null,null,null,null,null,null,""]
[{"$f":"IF(AND(ISBLANK(INDEX($G:$G,)), ISBLANK(INDEX($C:$C,))), \"\", 'PWS Records (System Entry)'!$D$4)","v":""},{"$f":"IF(AND(ISBLANK(INDEX($G:$G,)), ISBLANK(INDEX($C:$C,))), \"\", 'PWS Records (System Entry)'!$D$3)","v":""},null,null,null,null,null,null,null,null,null,null,null,null,null,null,null,null,null,null,""]
[{"$f":"IF(AND(ISBLANK(INDEX($G:$G,)), ISBLANK(INDEX($C:$C,))), \"\", 'PWS Records (System Entry)'!$D$4)","v":""},{"$f":"IF(AND(ISBLANK(INDEX($G:$G,)), ISBLANK(INDEX($C:$C,))), \"\", 'PWS Records (System Entry)'!$D$3)","v":""},null,null,null,null,null,null,null,null,null,null,null,null,null,null,null,null,null,null,""]
[{"$f":"IF(AND(ISBLANK(INDEX($G:$G,)), ISBLANK(INDEX($C:$C,))), \"\", 'PWS Records (System Entry)'!$D$4)","v":""},{"$f":"IF(AND(ISBLANK(INDEX($G:$G,)), ISBLANK(INDEX($C:$C,))), \"\", 'PWS Records (System Entry)'!$D$3)","v":""},null,null,null,null,null,null,null,null,null,null,null,null,null,null,null,null,null,null,""]
[{"$f":"IF(AND(ISBLANK(INDEX($G:$G,)), ISBLANK(INDEX($C:$C,))), \"\", 'PWS Records (System Entry)'!$D$4)","v":""},{"$f":"IF(AND(ISBLANK(INDEX($G:$G,)), ISBLANK(INDEX($C:$C,))), \"\", 'PWS Records (System Entry)'!$D$3)","v":""},null,null,null,null,null,null,null,null,null,null,null,null,null,null,null,null,null,null,""]
[{"$f":"IF(AND(ISBLANK(INDEX($G:$G,)), ISBLANK(INDEX($C:$C,))), \"\", 'PWS Records (System Entry)'!$D$4)","v":""},{"$f":"IF(AND(ISBLANK(INDEX($G:$G,)), ISBLANK(INDEX($C:$C,))), \"\", 'PWS Records (System Entry)'!$D$3)","v":""},null,null,null,null,null,null,null,null,null,null,null,null,null,null,null,null,null,null,""]
[{"$f":"IF(AND(ISBLANK(INDEX($G:$G,)), ISBLANK(INDEX($C:$C,))), \"\", 'PWS Records (System Entry)'!$D$4)","v":""},{"$f":"IF(AND(ISBLANK(INDEX($G:$G,)), ISBLANK(INDEX($C:$C,))), \"\", 'PWS Records (System Entry)'!$D$3)","v":""},null,null,null,null,null,null,null,null,null,null,null,null,null,null,null,null,null,null,""]
[{"$f":"IF(AND(ISBLANK(INDEX($G:$G,)), ISBLANK(INDEX($C:$C,))), \"\", 'PWS Records (System Entry)'!$D$4)","v":""},{"$f":"IF(AND(ISBLANK(INDEX($G:$G,)), ISBLANK(INDEX($C:$C,))), \"\", 'PWS Records (System Entry)'!$D$3)","v":""},null,null,null,null,null,null,null,null,null,null,null,null,null,null,null,null,null,null,""]
[{"$f":"IF(AND(ISBLANK(INDEX($G:$G,)), ISBLANK(INDEX($C:$C,))), \"\", 'PWS Records (System Entry)'!$D$4)","v":""},{"$f":"IF(AND(ISBLANK(INDEX($G:$G,)), ISBLANK(INDEX($C:$C,))), \"\", 'PWS Records (System Entry)'!$D$3)","v":""},null,null,null,null,null,null,null,null,null,null,null,null,null,null,null,null,null,null,""]
[{"$f":"IF(AND(ISBLANK(INDEX($G:$G,)), ISBLANK(INDEX($C:$C,))), \"\", 'PWS Records (System Entry)'!$D$4)","v":""},{"$f":"IF(AND(ISBLANK(INDEX($G:$G,)), ISBLANK(INDEX($C:$C,))), \"\", 'PWS Records (System Entry)'!$D$3)","v":""},null,null,null,null,null,null,null,null,null,null,null,null,null,null,null,null,null,null,""]
[{"$f":"IF(AND(ISBLANK(INDEX($G:$G,)), ISBLANK(INDEX($C:$C,))), \"\", 'PWS Records (System Entry)'!$D$4)","v":""},{"$f":"IF(AND(ISBLANK(INDEX($G:$G,)), ISBLANK(INDEX($C:$C,))), \"\", 'PWS Records (System Entry)'!$D$3)","v":""},null,null,null,null,null,null,null,null,null,null,null,null,null,null,null,null,null,null,""]
[{"$f":"IF(AND(ISBLANK(INDEX($G:$G,)), ISBLANK(INDEX($C:$C,))), \"\", 'PWS Records (System Entry)'!$D$4)","v":""},{"$f":"IF(AND(ISBLANK(INDEX($G:$G,)), ISBLANK(INDEX($C:$C,))), \"\", 'PWS Records (System Entry)'!$D$3)","v":""},null,null,null,null,null,null,null,null,null,null,null,null,null,null,null,null,null,null,""]
[{"$f":"IF(AND(ISBLANK(INDEX($G:$G,)), ISBLANK(INDEX($C:$C,))), \"\", 'PWS Records (System Entry)'!$D$4)","v":""},{"$f":"IF(AND(ISBLANK(INDEX($G:$G,)), ISBLANK(INDEX($C:$C,))), \"\", 'PWS Records (System Entry)'!$D$3)","v":""},null,null,null,null,null,null,null,null,null,null,null,null,null,null,null,null,null,null,""]
[{"$f":"IF(AND(ISBLANK(INDEX($G:$G,)), ISBLANK(INDEX($C:$C,))), \"\", 'PWS Records (System Entry)'!$D$4)","v":""},{"$f":"IF(AND(ISBLANK(INDEX($G:$G,)), ISBLANK(INDEX($C:$C,))), \"\", 'PWS Records (System Entry)'!$D$3)","v":""},null,null,null,null,null,null,null,null,null,null,null,null,null,null,null,null,null,null,""]
[{"$f":"IF(AND(ISBLANK(INDEX($G:$G,)), ISBLANK(INDEX($C:$C,))), \"\", 'PWS Records (System Entry)'!$D$4)","v":""},{"$f":"IF(AND(ISBLANK(INDEX($G:$G,)), ISBLANK(INDEX($C:$C,))), \"\", 'PWS Records (System Entry)'!$D$3)","v":""},null,null,null,null,null,null,null,null,null,null,null,null,null,null,null,null,null,null,""]
[{"$f":"IF(AND(ISBLANK(INDEX($G:$G,)), ISBLANK(INDEX($C:$C,))), \"\", 'PWS Records (System Entry)'!$D$4)","v":""},{"$f":"IF(AND(ISBLANK(INDEX($G:$G,)), ISBLANK(INDEX($C:$C,))), \"\", 'PWS Records (System Entry)'!$D$3)","v":""},null,null,null,null,null,null,null,null,null,null,null,null,null,null,null,null,null,null,""]
[{"$f":"IF(AND(ISBLANK(INDEX($G:$G,)), ISBLANK(INDEX($C:$C,))), \"\", 'PWS Records (System Entry)'!$D$4)","v":""},{"$f":"IF(AND(ISBLANK(INDEX($G:$G,)), ISBLANK(INDEX($C:$C,))), \"\", 'PWS Records (System Entry)'!$D$3)","v":""},null,null,null,null,null,null,null,null,null,null,null,null,null,null,null,null,null,null,""]
[{"$f":"IF(AND(ISBLANK(INDEX($G:$G,)), ISBLANK(INDEX($C:$C,))), \"\", 'PWS Records (System Entry)'!$D$4)","v":""},{"$f":"IF(AND(ISBLANK(INDEX($G:$G,)), ISBLANK(INDEX($C:$C,))), \"\", 'PWS Records (System Entry)'!$D$3)","v":""},null,null,null,null,null,null,null,null,null,null,null,null,null,null,null,null,null,null,""]
[{"$f":"IF(AND(ISBLANK(INDEX($G:$G,)), ISBLANK(INDEX($C:$C,))), \"\", 'PWS Records (System Entry)'!$D$4)","v":""},{"$f":"IF(AND(ISBLANK(INDEX($G:$G,)), ISBLANK(INDEX($C:$C,))), \"\", 'PWS Records (System Entry)'!$D$3)","v":""},null,null,null,null,null,null,null,null,null,null,null,null,null,null,null,null,null,null,""]
[{"$f":"IF(AND(ISBLANK(INDEX($G:$G,)), ISBLANK(INDEX($C:$C,))), \"\", 'PWS Records (System Entry)'!$D$4)","v":""},{"$f":"IF(AND(ISBLANK(INDEX($G:$G,)), ISBLANK(INDEX($C:$C,))), \"\", 'PWS Records (System Entry)'!$D$3)","v":""},null,null,null,null,null,null,null,null,null,null,null,null,null,null,null,null,null,null,""]
[{"$f":"IF(AND(ISBLANK(INDEX($G:$G,)), ISBLANK(INDEX($C:$C,))), \"\", 'PWS Records (System Entry)'!$D$4)","v":""},{"$f":"IF(AND(ISBLANK(INDEX($G:$G,)), ISBLANK(INDEX($C:$C,))), \"\", 'PWS Records (System Entry)'!$D$3)","v":""},null,null,null,null,null,null,null,null,null,null,null,null,null,null,null,null,null,null,""]
[{"$f":"IF(AND(ISBLANK(INDEX($G:$G,)), ISBLANK(INDEX($C:$C,))), \"\", 'PWS Records (System Entry)'!$D$4)","v":""},{"$f":"IF(AND(ISBLANK(INDEX($G:$G,)), ISBLANK(INDEX($C:$C,))), \"\", 'PWS Records (System Entry)'!$D$3)","v":""},null,null,null,null,null,null,null,null,null,null,null,null,null,null,null,null,null,null,""]
[{"$f":"IF(AND(ISBLANK(INDEX($G:$G,)), ISBLANK(INDEX($C:$C,))), \"\", 'PWS Records (System Entry)'!$D$4)","v":""},{"$f":"IF(AND(ISBLANK(INDEX($G:$G,)), ISBLANK(INDEX($C:$C,))), \"\", 'PWS Records (System Entry)'!$D$3)","v":""},null,null,null,null,null,null,null,null,null,null,null,null,null,null,null,null,null,null,""]
[{"$f":"IF(AND(ISBLANK(INDEX($G:$G,)), ISBLANK(INDEX($C:$C,))), \"\", 'PWS Records (System Entry)'!$D$4)","v":""},{"$f":"IF(AND(ISBLANK(INDEX($G:$G,)), ISBLANK(INDEX($C:$C,))), \"\", 'PWS Records (System Entry)'!$D$3)","v":""},null,null,null,null,null,null,null,null,null,null,null,null,null,null,null,null,null,null,""]
[{"$f":"IF(AND(ISBLANK(INDEX($G:$G,)), ISBLANK(INDEX($C:$C,))), \"\", 'PWS Records (System Entry)'!$D$4)","v":""},{"$f":"IF(AND(ISBLANK(INDEX($G:$G,)), ISBLANK(INDEX($C:$C,))), \"\", 'PWS Records (System Entry)'!$D$3)","v":""},null,null,null,null,null,null,null,null,null,null,null,null,null,null,null,null,null,null,""]
[{"$f":"IF(AND(ISBLANK(INDEX($G:$G,)), ISBLANK(INDEX($C:$C,))), \"\", 'PWS Records (System Entry)'!$D$4)","v":""},{"$f":"IF(AND(ISBLANK(INDEX($G:$G,)), ISBLANK(INDEX($C:$C,))), \"\", 'PWS Records (System Entry)'!$D$3)","v":""},null,null,null,null,null,null,null,null,null,null,null,null,null,null,null,null,null,null,""]
[{"$f":"IF(AND(ISBLANK(INDEX($G:$G,)), ISBLANK(INDEX($C:$C,))), \"\", 'PWS Records (System Entry)'!$D$4)","v":""},{"$f":"IF(AND(ISBLANK(INDEX($G:$G,)), ISBLANK(INDEX($C:$C,))), \"\", 'PWS Records (System Entry)'!$D$3)","v":""},null,null,null,null,null,null,null,null,null,null,null,null,null,null,null,null,null,null,""]
[{"$f":"IF(AND(ISBLANK(INDEX($G:$G,)), ISBLANK(INDEX($C:$C,))), \"\", 'PWS Records (System Entry)'!$D$4)","v":""},{"$f":"IF(AND(ISBLANK(INDEX($G:$G,)), ISBLANK(INDEX($C:$C,))), \"\", 'PWS Records (System Entry)'!$D$3)","v":""},null,null,null,null,null,null,null,null,null,null,null,null,null,null,null,null,null,null,""]
[{"$f":"IF(AND(ISBLANK(INDEX($G:$G,)), ISBLANK(INDEX($C:$C,))), \"\", 'PWS Records (System Entry)'!$D$4)","v":""},{"$f":"IF(AND(ISBLANK(INDEX($G:$G,)), ISBLANK(INDEX($C:$C,))), \"\", 'PWS Records (System Entry)'!$D$3)","v":""},null,null,null,null,null,null,null,null,null,null,null,null,null,null,null,null,null,null,""]
[{"$f":"IF(AND(ISBLANK(INDEX($G:$G,)), ISBLANK(INDEX($C:$C,))), \"\", 'PWS Records (System Entry)'!$D$4)","v":""},{"$f":"IF(AND(ISBLANK(INDEX($G:$G,)), ISBLANK(INDEX($C:$C,))), \"\", 'PWS Records (System Entry)'!$D$3)","v":""},null,null,null,null,null,null,null,null,null,null,null,null,null,null,null,null,null,null,""]
[{"$f":"IF(AND(ISBLANK(INDEX($G:$G,)), ISBLANK(INDEX($C:$C,))), \"\", 'PWS Records (System Entry)'!$D$4)","v":""},{"$f":"IF(AND(ISBLANK(INDEX($G:$G,)), ISBLANK(INDEX($C:$C,))), \"\", 'PWS Records (System Entry)'!$D$3)","v":""},null,null,null,null,null,null,null,null,null,null,null,null,null,null,null,null,null,null,""]
[{"$f":"IF(AND(ISBLANK(INDEX($G:$G,)), ISBLANK(INDEX($C:$C,))), \"\", 'PWS Records (System Entry)'!$D$4)","v":""},{"$f":"IF(AND(ISBLANK(INDEX($G:$G,)), ISBLANK(INDEX($C:$C,))), \"\", 'PWS Records (System Entry)'!$D$3)","v":""},null,null,null,null,null,null,null,null,null,null,null,null,null,null,null,null,null,null,""]
[{"$f":"IF(AND(ISBLANK(INDEX($G:$G,)), ISBLANK(INDEX($C:$C,))), \"\", 'PWS Records (System Entry)'!$D$4)","v":""},{"$f":"IF(AND(ISBLANK(INDEX($G:$G,)), ISBLANK(INDEX($C:$C,))), \"\", 'PWS Records (System Entry)'!$D$3)","v":""},null,null,null,null,null,null,null,null,null,null,null,null,null,null,null,null,null,null,""]
[{"$f":"IF(AND(ISBLANK(INDEX($G:$G,)), ISBLANK(INDEX($C:$C,))), \"\", 'PWS Records (System Entry)'!$D$4)","v":""},{"$f":"IF(AND(ISBLANK(INDEX($G:$G,)), ISBLANK(INDEX($C:$C,))), \"\", 'PWS Records (System Entry)'!$D$3)","v":""},null,null,null,null,null,null,null,null,null,null,null,null,null,null,null,null,null,null,""]
[{"$f":"IF(AND(ISBLANK(INDEX($G:$G,)), ISBLANK(INDEX($C:$C,))), \"\", 'PWS Records (System Entry)'!$D$4)","v":""},{"$f":"IF(AND(ISBLANK(INDEX($G:$G,)), ISBLANK(INDEX($C:$C,))), \"\", 'PWS Records (System Entry)'!$D$3)","v":""},null,null,null,null,null,null,null,null,null,null,null,null,null,null,null,null,null,null,""]
[{"$f":"IF(AND(ISBLANK(INDEX($G:$G,)), ISBLANK(INDEX($C:$C,))), \"\", 'PWS Records (System Entry)'!$D$4)","v":""},{"$f":"IF(AND(ISBLANK(INDEX($G:$G,)), ISBLANK(INDEX($C:$C,))), \"\", 'PWS Records (System Entry)'!$D$3)","v":""},null,null,null,null,null,null,null,null,null,null,null,null,null,null,null,null,null,null,""]
[{"$f":"IF(AND(ISBLANK(INDEX($G:$G,)), ISBLANK(INDEX($C:$C,))), \"\", 'PWS Records (System Entry)'!$D$4)","v":""},{"$f":"IF(AND(ISBLANK(INDEX($G:$G,)), ISBLANK(INDEX($C:$C,))), \"\", 'PWS Records (System Entry)'!$D$3)","v":""},null,null,null,null,null,null,null,null,null,null,null,null,null,null,null,null,null,null,""]
[{"$f":"IF(AND(ISBLANK(INDEX($G:$G,)), ISBLANK(INDEX($C:$C,))), \"\", 'PWS Records (System Entry)'!$D$4)","v":""},{"$f":"IF(AND(ISBLANK(INDEX($G:$G,)), ISBLANK(INDEX($C:$C,))), \"\", 'PWS Records (System Entry)'!$D$3)","v":""},null,null,null,null,null,null,null,null,null,null,null,null,null,null,null,null,null,null,""]
[{"$f":"IF(AND(ISBLANK(INDEX($G:$G,)), ISBLANK(INDEX($C:$C,))), \"\", 'PWS Records (System Entry)'!$D$4)","v":""},{"$f":"IF(AND(ISBLANK(INDEX($G:$G,)), ISBLANK(INDEX($C:$C,))), \"\", 'PWS Records (System Entry)'!$D$3)","v":""},null,null,null,null,null,null,null,null,null,null,null,null,null,null,null,null,null,null,""]
[{"$f":"IF(AND(ISBLANK(INDEX($G:$G,)), ISBLANK(INDEX($C:$C,))), \"\", 'PWS Records (System Entry)'!$D$4)","v":""},{"$f":"IF(AND(ISBLANK(INDEX($G:$G,)), ISBLANK(INDEX($C:$C,))), \"\", 'PWS Records (System Entry)'!$D$3)","v":""},null,null,null,null,null,null,null,null,null,null,null,null,null,null,null,null,null,null,""]
[{"$f":"IF(AND(ISBLANK(INDEX($G:$G,)), ISBLANK(INDEX($C:$C,))), \"\", 'PWS Records (System Entry)'!$D$4)","v":""},{"$f":"IF(AND(ISBLANK(INDEX($G:$G,)), ISBLANK(INDEX($C:$C,))), \"\", 'PWS Records (System Entry)'!$D$3)","v":""},null,null,null,null,null,null,null,null,null,null,null,null,null,null,null,null,null,null,""]
[{"$f":"IF(AND(ISBLANK(INDEX($G:$G,)), ISBLANK(INDEX($C:$C,))), \"\", 'PWS Records (System Entry)'!$D$4)","v":""},{"$f":"IF(AND(ISBLANK(INDEX($G:$G,)), ISBLANK(INDEX($C:$C,))), \"\", 'PWS Records (System Entry)'!$D$3)","v":""},null,null,null,null,null,null,null,null,null,null,null,null,null,null,null,null,null,null,""]
[{"$f":"IF(AND(ISBLANK(INDEX($G:$G,)), ISBLANK(INDEX($C:$C,))), \"\", 'PWS Records (System Entry)'!$D$4)","v":""},{"$f":"IF(AND(ISBLANK(INDEX($G:$G,)), ISBLANK(INDEX($C:$C,))), \"\", 'PWS Records (System Entry)'!$D$3)","v":""},null,null,null,null,null,null,null,null,null,null,null,null,null,null,null,null,null,null,""]
[{"$f":"IF(AND(ISBLANK(INDEX($G:$G,)), ISBLANK(INDEX($C:$C,))), \"\", 'PWS Records (System Entry)'!$D$4)","v":""},{"$f":"IF(AND(ISBLANK(INDEX($G:$G,)), ISBLANK(INDEX($C:$C,))), \"\", 'PWS Records (System Entry)'!$D$3)","v":""},null,null,null,null,null,null,null,null,null,null,null,null,null,null,null,null,null,null,""]
[{"$f":"IF(AND(ISBLANK(INDEX($G:$G,)), ISBLANK(INDEX($C:$C,))), \"\", 'PWS Records (System Entry)'!$D$4)","v":""},{"$f":"IF(AND(ISBLANK(INDEX($G:$G,)), ISBLANK(INDEX($C:$C,))), \"\", 'PWS Records (System Entry)'!$D$3)","v":""},null,null,null,null,null,null,null,null,null,null,null,null,null,null,null,null,null,null,""]
[{"$f":"IF(AND(ISBLANK(INDEX($G:$G,)), ISBLANK(INDEX($C:$C,))), \"\", 'PWS Records (System Entry)'!$D$4)","v":""},{"$f":"IF(AND(ISBLANK(INDEX($G:$G,)), ISBLANK(INDEX($C:$C,))), \"\", 'PWS Records (System Entry)'!$D$3)","v":""},null,null,null,null,null,null,null,null,null,null,null,null,null,null,null,null,null,null,""]
[{"$f":"IF(AND(ISBLANK(INDEX($G:$G,)), ISBLANK(INDEX($C:$C,))), \"\", 'PWS Records (System Entry)'!$D$4)","v":""},{"$f":"IF(AND(ISBLANK(INDEX($G:$G,)), ISBLANK(INDEX($C:$C,))), \"\", 'PWS Records (System Entry)'!$D$3)","v":""},null,null,null,null,null,null,null,null,null,null,null,null,null,null,null,null,null,null,""]
[{"$f":"IF(AND(ISBLANK(INDEX($G:$G,)), ISBLANK(INDEX($C:$C,))), \"\", 'PWS Records (System Entry)'!$D$4)","v":""},{"$f":"IF(AND(ISBLANK(INDEX($G:$G,)), ISBLANK(INDEX($C:$C,))), \"\", 'PWS Records (System Entry)'!$D$3)","v":""},null,null,null,null,null,null,null,null,null,null,null,null,null,null,null,null,null,null,""]
[{"$f":"IF(AND(ISBLANK(INDEX($G:$G,)), ISBLANK(INDEX($C:$C,))), \"\", 'PWS Records (System Entry)'!$D$4)","v":""},{"$f":"IF(AND(ISBLANK(INDEX($G:$G,)), ISBLANK(INDEX($C:$C,))), \"\", 'PWS Records (System Entry)'!$D$3)","v":""},null,null,null,null,null,null,null,null,null,null,null,null,null,null,null,null,null,null,""]
[{"$f":"IF(AND(ISBLANK(INDEX($G:$G,)), ISBLANK(INDEX($C:$C,))), \"\", 'PWS Records (System Entry)'!$D$4)","v":""},{"$f":"IF(AND(ISBLANK(INDEX($G:$G,)), ISBLANK(INDEX($C:$C,))), \"\", 'PWS Records (System Entry)'!$D$3)","v":""},null,null,null,null,null,null,null,null,null,null,null,null,null,null,null,null,null,null,""]
[{"$f":"IF(AND(ISBLANK(INDEX($G:$G,)), ISBLANK(INDEX($C:$C,))), \"\", 'PWS Records (System Entry)'!$D$4)","v":""},{"$f":"IF(AND(ISBLANK(INDEX($G:$G,)), ISBLANK(INDEX($C:$C,))), \"\", 'PWS Records (System Entry)'!$D$3)","v":""},null,null,null,null,null,null,null,null,null,null,null,null,null,null,null,null,null,null,""]
[{"$f":"IF(AND(ISBLANK(INDEX($G:$G,)), ISBLANK(INDEX($C:$C,))), \"\", 'PWS Records (System Entry)'!$D$4)","v":""},{"$f":"IF(AND(ISBLANK(INDEX($G:$G,)), ISBLANK(INDEX($C:$C,))), \"\", 'PWS Records (System Entry)'!$D$3)","v":""},null,null,null,null,null,null,null,null,null,null,null,null,null,null,null,null,null,null,""]
[{"$f":"IF(AND(ISBLANK(INDEX($G:$G,)), ISBLANK(INDEX($C:$C,))), \"\", 'PWS Records (System Entry)'!$D$4)","v":""},{"$f":"IF(AND(ISBLANK(INDEX($G:$G,)), ISBLANK(INDEX($C:$C,))), \"\", 'PWS Records (System Entry)'!$D$3)","v":""},null,null,null,null,null,null,null,null,null,null,null,null,null,null,null,null,null,null,""]
[{"$f":"IF(AND(ISBLANK(INDEX($G:$G,)), ISBLANK(INDEX($C:$C,))), \"\", 'PWS Records (System Entry)'!$D$4)","v":""},{"$f":"IF(AND(ISBLANK(INDEX($G:$G,)), ISBLANK(INDEX($C:$C,))), \"\", 'PWS Records (System Entry)'!$D$3)","v":""},null,null,null,null,null,null,null,null,null,null,null,null,null,null,null,null,null,null,""]
[{"$f":"IF(AND(ISBLANK(INDEX($G:$G,)), ISBLANK(INDEX($C:$C,))), \"\", 'PWS Records (System Entry)'!$D$4)","v":""},{"$f":"IF(AND(ISBLANK(INDEX($G:$G,)), ISBLANK(INDEX($C:$C,))), \"\", 'PWS Records (System Entry)'!$D$3)","v":""},null,null,null,null,null,null,null,null,null,null,null,null,null,null,null,null,null,null,""]
[{"$f":"IF(AND(ISBLANK(INDEX($G:$G,)), ISBLANK(INDEX($C:$C,))), \"\", 'PWS Records (System Entry)'!$D$4)","v":""},{"$f":"IF(AND(ISBLANK(INDEX($G:$G,)), ISBLANK(INDEX($C:$C,))), \"\", 'PWS Records (System Entry)'!$D$3)","v":""},null,null,null,null,null,null,null,null,null,null,null,null,null,null,null,null,null,null,""]
[{"$f":"IF(AND(ISBLANK(INDEX($G:$G,)), ISBLANK(INDEX($C:$C,))), \"\", 'PWS Records (System Entry)'!$D$4)","v":""},{"$f":"IF(AND(ISBLANK(INDEX($G:$G,)), ISBLANK(INDEX($C:$C,))), \"\", 'PWS Records (System Entry)'!$D$3)","v":""},null,null,null,null,null,null,null,null,null,null,null,null,null,null,null,null,null,null,""]
[{"$f":"IF(AND(ISBLANK(INDEX($G:$G,)), ISBLANK(INDEX($C:$C,))), \"\", 'PWS Records (System Entry)'!$D$4)","v":""},{"$f":"IF(AND(ISBLANK(INDEX($G:$G,)), ISBLANK(INDEX($C:$C,))), \"\", 'PWS Records (System Entry)'!$D$3)","v":""},null,null,null,null,null,null,null,null,null,null,null,null,null,null,null,null,null,null,""]
[{"$f":"IF(AND(ISBLANK(INDEX($G:$G,)), ISBLANK(INDEX($C:$C,))), \"\", 'PWS Records (System Entry)'!$D$4)","v":""},{"$f":"IF(AND(ISBLANK(INDEX($G:$G,)), ISBLANK(INDEX($C:$C,))), \"\", 'PWS Records (System Entry)'!$D$3)","v":""},null,null,null,null,null,null,null,null,null,null,null,null,null,null,null,null,null,null,""]
[{"$f":"IF(AND(ISBLANK(INDEX($G:$G,)), ISBLANK(INDEX($C:$C,))), \"\", 'PWS Records (System Entry)'!$D$4)","v":""},{"$f":"IF(AND(ISBLANK(INDEX($G:$G,)), ISBLANK(INDEX($C:$C,))), \"\", 'PWS Records (System Entry)'!$D$3)","v":""},null,null,null,null,null,null,null,null,null,null,null,null,null,null,null,null,null,null,""]
[{"$f":"IF(AND(ISBLANK(INDEX($G:$G,)), ISBLANK(INDEX($C:$C,))), \"\", 'PWS Records (System Entry)'!$D$4)","v":""},{"$f":"IF(AND(ISBLANK(INDEX($G:$G,)), ISBLANK(INDEX($C:$C,))), \"\", 'PWS Records (System Entry)'!$D$3)","v":""},null,null,null,null,null,null,null,null,null,null,null,null,null,null,null,null,null,null,{"$f":"IF(AND(INDEX($K:$K,)=\"\", INDEX($L:$L,)=\"\", INDEX($M:$M,)=\"\", INDEX($Q:$Q,)=\"\", INDEX($R:$R,)=\"\"), \"\", IF(OR(INDEX($K:$K,)=\"Lead\",INDEX($Q:$Q,)=\"Lead\"),\"Lead\",IF(OR(AND(OR(INDEX($M:$M,)=\"Yes\", INDEX($M:$M,)=\"Don't Know\", INDEX($M:$M,)=\"\"), INDEX($Q:$Q,)=\"Galvanized Iron/Steel\"), AND(INDEX($K:$K,)=\"Unknown\", INDEX($M:$M,)=\"No\", INDEX($Q:$Q,)=\"Galvanized Iron/Steel\")), \"Galvanized Requiring Replacement\", IF(OR(AND(OR(INDEX($K:$K,)=\"Galvanized Iron/Steel\", INDEX($K:$K,)=\"Non-Lead - Copper\", INDEX($K:$K,)=\"Non-Lead - Plastic\", INDEX($K:$K,)=\"Non-Lead - Other\", INDEX($K:$K,)=\"Non-Lead - Material Unknown\", INDEX($K:$K,)=\"No System Owned Portion\"), OR(INDEX($Q:$Q,)=\"Galvanized Iron/Steel\", INDEX($Q:$Q,)=\"Non-Lead - Copper\", INDEX($Q:$Q,)=\"Non-Lead - Plastic\", INDEX($Q:$Q,)=\"Non-Lead - Other\", INDEX($Q:$Q,)=\"Non-Lead - Predictive Model\", INDEX($Q:$Q,)=\"No Customer Owned Portion\")), AND(OR( INDEX($K:$K,)=\"Galvanized Iron/Steel\", INDEX($K:$K,)=\"Non-Lead - Copper\", INDEX($K:$K,)=\"Non-Lead - Plastic\", INDEX($K:$K,)=\"Non-Lead - Other\", INDEX($K:$K,)=\"Non-Lead - Material Unknown\", INDEX($K:$K,)=\"No System Owned Portion\"), INDEX($M:$M,)=\"No\", INDEX($Q:$Q,)=\"Non-Lead - Material Unknown\")), \"Non-Lead\", \"Lead Status Unknown\"))))","v":""}]
[{"$f":"IF(AND(ISBLANK(INDEX($G:$G,)), ISBLANK(INDEX($C:$C,))), \"\", 'PWS Records (System Entry)'!$D$4)","v":""},{"$f":"IF(AND(ISBLANK(INDEX($G:$G,)), ISBLANK(INDEX($C:$C,))), \"\", 'PWS Records (System Entry)'!$D$3)","v":""},null,null,null,null,null,null,null,null,null,null,null,null,null,null,null,null,null,null,""]
[{"$f":"IF(AND(ISBLANK(INDEX($G:$G,)), ISBLANK(INDEX($C:$C,))), \"\", 'PWS Records (System Entry)'!$D$4)","v":""},{"$f":"IF(AND(ISBLANK(INDEX($G:$G,)), ISBLANK(INDEX($C:$C,))), \"\", 'PWS Records (System Entry)'!$D$3)","v":""},null,null,null,null,null,null,null,null,null,null,null,null,null,null,null,null,null,null,""]
[{"$f":"IF(AND(ISBLANK(INDEX($G:$G,)), ISBLANK(INDEX($C:$C,))), \"\", 'PWS Records (System Entry)'!$D$4)","v":""},{"$f":"IF(AND(ISBLANK(INDEX($G:$G,)), ISBLANK(INDEX($C:$C,))), \"\", 'PWS Records (System Entry)'!$D$3)","v":""},null,null,null,null,null,null,null,null,null,null,null,null,null,null,null,null,null,null,""]
[{"$f":"IF(AND(ISBLANK(INDEX($G:$G,)), ISBLANK(INDEX($C:$C,))), \"\", 'PWS Records (System Entry)'!$D$4)","v":""},{"$f":"IF(AND(ISBLANK(INDEX($G:$G,)), ISBLANK(INDEX($C:$C,))), \"\", 'PWS Records (System Entry)'!$D$3)","v":""},null,null,null,null,null,null,null,null,null,null,null,null,null,null,null,null,null,null,""]
[{"$f":"IF(AND(ISBLANK(INDEX($G:$G,)), ISBLANK(INDEX($C:$C,))), \"\", 'PWS Records (System Entry)'!$D$4)","v":""},{"$f":"IF(AND(ISBLANK(INDEX($G:$G,)), ISBLANK(INDEX($C:$C,))), \"\", 'PWS Records (System Entry)'!$D$3)","v":""},null,null,null,null,null,null,null,null,null,null,null,null,null,null,null,null,null,null,""]
[{"$f":"IF(AND(ISBLANK(INDEX($G:$G,)), ISBLANK(INDEX($C:$C,))), \"\", 'PWS Records (System Entry)'!$D$4)","v":""},{"$f":"IF(AND(ISBLANK(INDEX($G:$G,)), ISBLANK(INDEX($C:$C,))), \"\", 'PWS Records (System Entry)'!$D$3)","v":""},null,null,null,null,null,null,null,null,null,null,null,null,null,null,null,null,null,null,""]
[{"$f":"IF(AND(ISBLANK(INDEX($G:$G,)), ISBLANK(INDEX($C:$C,))), \"\", 'PWS Records (System Entry)'!$D$4)","v":""},{"$f":"IF(AND(ISBLANK(INDEX($G:$G,)), ISBLANK(INDEX($C:$C,))), \"\", 'PWS Records (System Entry)'!$D$3)","v":""},null,null,null,null,null,null,null,null,null,null,null,null,null,null,null,null,null,null,""]
[{"$f":"IF(AND(ISBLANK(INDEX($G:$G,)), ISBLANK(INDEX($C:$C,))), \"\", 'PWS Records (System Entry)'!$D$4)","v":""},{"$f":"IF(AND(ISBLANK(INDEX($G:$G,)), ISBLANK(INDEX($C:$C,))), \"\", 'PWS Records (System Entry)'!$D$3)","v":""},null,null,null,null,null,null,null,null,null,null,null,null,null,null,null,null,null,null,""]
[{"$f":"IF(AND(ISBLANK(INDEX($G:$G,)), ISBLANK(INDEX($C:$C,))), \"\", 'PWS Records (System Entry)'!$D$4)","v":""},{"$f":"IF(AND(ISBLANK(INDEX($G:$G,)), ISBLANK(INDEX($C:$C,))), \"\", 'PWS Records (System Entry)'!$D$3)","v":""},null,null,null,null,null,null,null,null,null,null,null,null,null,null,null,null,null,null,""]
[{"$f":"IF(AND(ISBLANK(INDEX($G:$G,)), ISBLANK(INDEX($C:$C,))), \"\", 'PWS Records (System Entry)'!$D$4)","v":""},{"$f":"IF(AND(ISBLANK(INDEX($G:$G,)), ISBLANK(INDEX($C:$C,))), \"\", 'PWS Records (System Entry)'!$D$3)","v":""},null,null,null,null,null,null,null,null,null,null,null,null,null,null,null,null,null,null,""]
[{"$f":"IF(AND(ISBLANK(INDEX($G:$G,)), ISBLANK(INDEX($C:$C,))), \"\", 'PWS Records (System Entry)'!$D$4)","v":""},{"$f":"IF(AND(ISBLANK(INDEX($G:$G,)), ISBLANK(INDEX($C:$C,))), \"\", 'PWS Records (System Entry)'!$D$3)","v":""},null,null,null,null,null,null,null,null,null,null,null,null,null,null,null,null,null,null,""]
[{"$f":"IF(AND(ISBLANK(INDEX($G:$G,)), ISBLANK(INDEX($C:$C,))), \"\", 'PWS Records (System Entry)'!$D$4)","v":""},{"$f":"IF(AND(ISBLANK(INDEX($G:$G,)), ISBLANK(INDEX($C:$C,))), \"\", 'PWS Records (System Entry)'!$D$3)","v":""},null,null,null,null,null,null,null,null,null,null,null,null,null,null,null,null,null,null,""]
[{"$f":"IF(AND(ISBLANK(INDEX($G:$G,)), ISBLANK(INDEX($C:$C,))), \"\", 'PWS Records (System Entry)'!$D$4)","v":""},{"$f":"IF(AND(ISBLANK(INDEX($G:$G,)), ISBLANK(INDEX($C:$C,))), \"\", 'PWS Records (System Entry)'!$D$3)","v":""},null,null,null,null,null,null,null,null,null,null,null,null,null,null,null,null,null,null,""]

{"sheet":"Permitted Values","index":2,"n_rows":19,"n_cols":14,"rows_kept":19,"cut":false,"hidden":true,"merged":[]}
[]
[]
["Yes","Lead","Lead",null,1,"Initial Inventory","Single Family Residence",null,"Local Building/Plumbing Codes or Ordinances",null,"LA","Pre 1920",null,"Local Building/Plumbing Codes or Ordinances"]
["No","Galvanized Iron/Steel","Galvanized Iron/Steel",null,2,"Inventory Update","Multi Family Residence",null,"Construction Drawings/Maps",null,"AR","1921-1930",null,"Construction Drawings/Maps"]
["Don't Know","Non-Lead - Copper","Non-Lead - Copper",null,3,null,"School/Childcare  Facility",null,"Installation Date after Lead Ban",null,"TX","1931-1940",null,"Installation Date after Lead Ban"]
["Not Applicable","Non-Lead - Plastic","Non-Lead - Plastic",null,4,null,"Business/Public Building",null,"Installation Record (for example, tap card)",null,"MS","1941-1950",null,"Installation Record (for example, tap card)"]
[null,"Non-Lead - Other","Non-Lead - Other",null,5,null,"Other",null,"Service Line Repair/Replacement Record",null,null,"1951-1960",null,"Service Line Repair/Replacement Record"]
[null,"Non-Lead - Material Unknown","Non-Lead - Material Unknown",null,"Does not meet tiering criteria",null,null,null,"Service Line Diameter is Greater than 2 inches",null,null,"1961-1970",null,"Service Line Diameter is Greater than 2 inches"]
[null,"Unknown","Unknown",null,null,null,null,null,"Visual Inspection (for example, visual confirmation at meter pit)",null,null,"1971-1980",null,"Visual Inspection (for example, visual confirmation at meter pit)"]
["Select One","No System Owned Portion","No Customer Owned Portion",null,null,null,null,null,"Service Line Excavation",null,null,"1981-1988",null,"Service Line Excavation"]
["Community",null,"Not Applicable",null,null,null,null,null,"Statistical Analysis/Predictive Model",null,null,"Post lead ban of 1988",null,"Statistical Analysis/Predictive Model"]
["Non-Transient Non-Community",null,null,null,null,null,null,null,"Other (Describe in Comments Column (Column \"P\"))",null,null,null,null,"Other (Describe in Comments Column (Column \"T\"))"]
[null,null,null,null,null,null,null,null,"Not Applicable",null,null,null,null,"Not Applicable"]
[]
[]
[]
[]
[null,null,null,null,null,null,"Initial inventory"]
[null,null,null,null,null,null,"Inventory update"]

{"sheet":"SLs To Be Replaced (Auto Calc)","index":3,"n_rows":2,"n_cols":10,"rows_kept":2,"cut":false,"hidden":false,"merged":[]}
["PWSID\n(Autofill)","System Name\n(Autofill)","Street Address","City","State","Zip","Unique Service Line ID","System-Owned Service Line Material","Customer-Owned Service Line Material","Material Classification for the Entire Service Line\n(Autofill)"]
["LA1061014","MT. OLIVE WATERWORK DISTRICT","178 HOUSTON RD","Ruston","LA",71270,4384,"Non-Lead - Plastic","Lead","Lead"]

{"sheet":"SL Summary (Auto Calc)","index":4,"n_rows":5,"n_cols":5,"rows_kept":5,"cut":false,"hidden":false,"merged":[]}
["Record ID","PWS ID Number","Lead Service Line Classification","Reported Date","Current Number"]
[1,{"$f":"IF('PWS Records (System Entry)'!$D$4=\"\", \"\", 'PWS Records (System Entry)'!$D$4)","v":"LA1061014"},"Lead SL",{"$f":"IF('PWS Records (System Entry)'!$D$5=\"\", \"\", 'PWS Records (System Entry)'!$D$5)","v":"OCT. , 2024"},{"$f":"'PWS Records (System Entry)'!F48","v":1}]
[2,{"$f":"IF('PWS Records (System Entry)'!$D$4=\"\", \"\", 'PWS Records (System Entry)'!$D$4)","v":"LA1061014"},"Galvanized Requiring Replacement SL",{"$f":"IF('PWS Records (System Entry)'!$D$5=\"\", \"\", 'PWS Records (System Entry)'!$D$5)","v":"OCT. , 2024"},{"$f":"'PWS Records (System Entry)'!F49","v":0}]
[3,{"$f":"IF('PWS Records (System Entry)'!$D$4=\"\", \"\", 'PWS Records (System Entry)'!$D$4)","v":"LA1061014"},"Non-Lead SL",{"$f":"IF('PWS Records (System Entry)'!$D$5=\"\", \"\", 'PWS Records (System Entry)'!$D$5)","v":"OCT. , 2024"},{"$f":"'PWS Records (System Entry)'!F50","v":391}]
[4,{"$f":"IF('PWS Records (System Entry)'!$D$4=\"\", \"\", 'PWS Records (System Entry)'!$D$4)","v":"LA1061014"},"Lead Status Unknown SL",{"$f":"IF('PWS Records (System Entry)'!$D$5=\"\", \"\", 'PWS Records (System Entry)'!$D$5)","v":"OCT. , 2024"},{"$f":"'PWS Records (System Entry)'!F51","v":0}]